{"text_format":"1","workbook":"xlsx","n_sheets":4,"sheets":["Расчет","В производство","Соглашение","Лист1"],"not_rendered":{"charts":0,"images":0,"macros":1,"external_links":0,"defined_names":0,"comments":0,"pivot_tables":0},"unopened":[],"bounds":{"document_bytes":16777216,"sheet_cells":100000,"rows_first":2000,"rows_last":500,"rows_between":2000,"halvings":0,"cell_chars":16384,"cell_head_chars":4096},"cells_cut":0,"cells_raw":0,"read":"whole","date_system":"1900"}

{"sheet":"Расчет","index":0,"n_rows":2502,"n_cols":22,"rows_kept":2502,"cut":false,"hidden":false,"merged":[[11,16,11,17],[12,16,12,17],[7,14,7,15],[3,17,5,17],[0,13,0,17],[10,14,10,15],[11,14,11,15],[12,14,12,15],[7,16,7,17],[8,16,8,17],[9,16,9,17],[10,16,10,17],[1,17,2,17],[1,7,2,7],[1,8,2,8],[1,9,2,9],[8,14,8,15],[9,14,9,15],[1,15,2,15],[0,4,0,6],[1,0,2,0],[1,1,2,1],[1,2,2,2],[1,13,2,13],[1,14,2,14],[1,3,2,3],[1,4,2,4],[1,5,2,5],[1,20,1,21],[0,19,0,21],[0,0,0,3],[0,7,0,9],[0,10,0,12],[1,10,2,10],[1,6,2,6],[1,11,2,11],[1,12,2,12],[1,16,2,16]]}
["ЛДСП",null,null,null,"ПВХ 19х0.4",null,null,"ПВХ 19х2.0",null,null,"ПВХ 35х2.0",null,null,"Итог",null,null,null,null,null,"Цены на материал"]
["X","Y","Кол-во","Площадь","Х","Y","L mm","X","Y","L mm","X","Y","L mm","Общая S ЛДСП"," L ПВХ 19х0.4","L ПВХ 19х2.0","L ПВХ 35х2.0","Всего к оплате:",null,"ЛДСП",480]
[null,null,null,null,null,null,null,null,null,null,null,null,null,null,null,null,null,null,null,"ПВХ 19х0.4",27,30]
[null,null,null,{"$f":"A4*B4*C4/1000000","v":0},null,null,{"$f":"(E4*A4+F4*B4)*C4","v":0},null,null,{"$f":"(H4*A4+I4*B4)*C4","v":0},null,null,{"$f":"(K4*A4+L4*B4)*C4","v":0},{"$f":"SUM(D4:D2502)","v":0},{"$f":"SUM(G4:G2501)/1000","v":0},{"$f":"SUM(J4:J2501)/1000","v":0},{"$f":"SUM(M4:M2501)/1000","v":0},{"$f":"N6+O6+P6+Q6","v":0},null,"ПВХ 19х2.0",67,82]
[null,null,null,{"$f":"A5*B5*C5/1000000","v":0},null,null,{"$f":"(E5*A5+F5*B5)*C5","v":0},null,null,{"$f":"(H5*A5+I5*B5)*C5","v":0},null,null,{"$f":"(K5*A5+L5*B5)*C5","v":0},"Итого:","Итого:","Итого:","Итого:",null,null,"ПВХ 35х2.0",97,112]
[null,null,null,{"$f":"A6*B6*C6/1000000","v":0},null,null,0,null,null,0,null,null,0,{"$f":"N4*U2","v":0},{"$f":"Лист1!D6","v":0},{"$f":"Лист1!H6","v":0},{"$f":"Лист1!L6","v":0}]
[null,null,null,0,null,null,0,null,null,0,null,null,0]
[null,null,null,0,null,null,0,null,null,0,null,null,0,null,"Введите ФИО:"]
[null,null,null,0,null,null,0,null,null,0,null,null,0,null,"Введите: Соглашение №:"]
[null,null,null,0,null,null,0,null,null,0,null,null,0,null,"ЛДСП:"]
[null,null,null,0,null,null,0,null,null,0,null,null,0,null,"ПВХ 19х0.4:"]
[null,null,null,{"$f":"A12*B12*C12/1000000","v":0},null,null,0,null,null,0,null,null,0,null,"ПВХ 19х2.0:"]
[null,null,null,0,null,null,0,null,null,0,null,null,0,null,"ПВХ 35х2.0"]
[null,null,null,0,null,null,0,null,null,0,null,null,0]
[null,null,null,0,null,null,0,null,null,0,null,null,0]
[null,null,null,0,null,null,0,null,null,0,null,null,0]
[null,null,null,0,null,null,0,null,null,0,null,null,0]
[null,null,null,0,null,null,0,null,null,0,null,null,0]
[null,null,null,0,null,null,0,null,null,0,null,null,0]
[null,null,null,0,null,null,0,null,null,0,null,null,0]
[null,null,null,0,null,null,0,null,null,0,null,null,0]
[null,null,null,0,null,null,0,null,null,0,null,null,0]
[null,null,null,0,null,null,0,null,null,0,null,null,0]
[null,null,null,0,null,null,0,null,null,0,null,null,0]
[null,null,null,0,null,null,0,null,null,0,null,null,0]
[null,null,null,0,null,null,0,null,null,0,null,null,0]
[null,null,null,0,null,null,0,null,null,0,null,null,0]
[null,null,null,0,null,null,0,null,null,0,null,null,0]
[null,null,null,0,null,null,0,null,null,0,null,null,0]
[null,null,null,0,null,null,0,null,null,0,null,null,0]
[null,null,null,0,null,null,0,null,null,0,null,null,0]
[null,null,null,0,null,null,0,null,null,0,null,null,0]
[null,null,null,0,null,null,0,null,null,0,null,null,0]
[null,null,null,0,null,null,0,null,null,0,null,null,0]
[null,null,null,0,null,null,0,null,null,0,null,null,0]
[null,null,null,0,null,null,0,null,null,0,null,null,0]
[null,null,null,0,null,null,0,null,null,0,null,null,0]
[null,null,null,0,null,null,0,null,null,0,null,null,0]
[null,null,null,0,null,null,0,null,null,0,null,null,0]
[null,null,null,0,null,null,0,null,null,0,null,null,0]
[null,null,null,0,null,null,0,null,null,0,null,null,0]
[null,null,null,0,null,null,0,null,null,0,null,null,0]
[null,null,null,0,null,null,0,null,null,0,null,null,0]
[null,null,null,0,null,null,0,null,null,0,null,null,0]
[null,null,null,0,null,null,0,null,null,0,null,null,0]
[null,null,null,0,null,null,0,null,null,0,null,null,0]
[null,null,null,0,null,null,0,null,null,0,null,null,0]
[null,null,null,0,null,null,0,null,null,0,null,null,0]
[null,null,null,0,null,null,0,null,null,0,null,null,0]
[null,null,null,0,null,null,0,null,null,0,null,null,0]
[null,null,null,0,null,null,0,null,null,0,null,null,0]
[null,null,null,0,null,null,0,null,null,0,null,null,0]
[null,null,null,0,null,null,0,null,null,0,null,null,0]
[null,null,null,0,null,null,0,null,null,0,null,null,0]
[null,null,null,0,null,null,0,null,null,0,null,null,0]
[null,null,null,0,null,null,0,null,null,0,null,null,0]
[null,null,null,0,null,null,0,null,null,0,null,null,0]
[null,null,null,0,null,null,0,null,null,0,null,null,0]
[null,null,null,0,null,null,0,null,null,0,null,null,0]
[null,null,null,0,null,null,0,null,null,0,null,null,0]
[null,null,null,0,null,null,0,null,null,0,null,null,0]
[null,null,null,0,null,null,0,null,null,0,null,null,0]
[null,null,null,0,null,null,0,null,null,0,null,null,0]
[null,null,null,0,null,null,0,null,null,0,null,null,0]
[null,null,null,0,null,null,0,null,null,0,null,null,0]
[null,null,null,0,null,null,0,null,null,0,null,null,0]
[null,null,null,0,null,null,0,null,null,0,null,null,0]
[null,null,null,0,null,null,0,null,null,0,null,null,0]
[null,null,null,{"$f":"A69*B69*C69/1000000","v":0},null,null,{"$f":"(E69*A69+F69*B69)*C69","v":0},null,null,{"$f":"(H69*A69+I69*B69)*C69","v":0},null,null,{"$f":"(K69*A69+L69*B69)*C69","v":0}]
[null,null,null,0,null,null,0,null,null,0,null,null,0]
[null,null,null,0,null,null,0,null,null,0,null,null,0]
[null,null,null,0,null,null,0,null,null,0,null,null,0]
[null,null,null,0,null,null,0,null,null,0,null,null,0]
[null,null,null,0,null,null,0,null,null,0,null,null,0]
[null,null,null,0,null,null,0,null,null,0,null,null,0]
[null,null,null,0,null,null,0,null,null,0,null,null,0]
[null,null,null,0,null,null,0,null,null,0,null,null,0]
[null,null,null,0,null,null,0,null,null,0,null,null,0]
[null,null,null,0,null,null,0,null,null,0,null,null,0]
[null,null,null,0,null,null,0,null,null,0,null,null,0]
[null,null,null,0,null,null,0,null,null,0,null,null,0]
[null,null,null,0,null,null,0,null,null,0,null,null,0]
[null,null,null,0,null,null,0,null,null,0,null,null,0]
[null,null,null,0,null,null,0,null,null,0,null,null,0]
[null,null,null,0,null,null,0,null,null,0,null,null,0]
[null,null,null,0,null,null,0,null,null,0,null,null,0]
[null,null,null,0,null,null,0,null,null,0,null,null,0]
[null,null,null,0,null,null,0,null,null,0,null,null,0]
[null,null,null,0,null,null,0,null,null,0,null,null,0]
[null,null,null,0,null,null,0,null,null,0,null,null,0]
[null,null,null,0,null,null,0,null,null,0,null,null,0]
[null,null,null,0,null,null,0,null,null,0,null,null,0]
[null,null,null,0,null,null,0,null,null,0,null,null,0]
[null,null,null,0,null,null,0,null,null,0,null,null,0]
[null,null,null,0,null,null,0,null,null,0,null,null,0]
[null,null,null,0,null,null,0,null,null,0,null,null,0]
[null,null,null,0,null,null,0,null,null,0,null,null,0]
[null,null,null,0,null,null,0,null,null,0,null,null,0]
[null,null,null,0,null,null,0,null,null,0,null,null,0]
[null,null,null,0,null,null,0,null,null,0,null,null,0]
[null,null,null,0,null,null,0,null,null,0,null,null,0]
[null,null,null,0,null,null,0,null,null,0,null,null,0]
[null,null,null,0,null,null,0,null,null,0,null,null,0]
[null,null,null,0,null,null,0,null,null,0,null,null,0]
[null,null,null,0,null,null,0,null,null,0,null,null,0]
[null,null,null,0,null,null,0,null,null,0,null,null,0]
[null,null,null,0,null,null,0,null,null,0,null,null,0]
[null,null,null,0,null,null,0,null,null,0,null,null,0]
[null,null,null,0,null,null,0,null,null,0,null,null,0]
[null,null,null,0,null,null,0,null,null,0,null,null,0]
[null,null,null,0,null,null,0,null,null,0,null,null,0]
[null,null,null,0,null,null,0,null,null,0,null,null,0]
[null,null,null,0,null,null,0,null,null,0,null,null,0]
[null,null,null,0,null,null,0,null,null,0,null,null,0]
[null,null,null,0,null,null,0,null,null,0,null,null,0]
[null,null,null,0,null,null,0,null,null,0,null,null,0]
[null,null,null,0,null,null,0,null,null,0,null,null,0]
[null,null,null,0,null,null,0,null,null,0,null,null,0]
[null,null,null,0,null,null,0,null,null,0,null,null,0]
[null,null,null,0,null,null,0,null,null,0,null,null,0]
[null,null,null,0,null,null,0,null,null,0,null,null,0]
[null,null,null,0,null,null,0,null,null,0,null,null,0]
[null,null,null,0,null,null,0,null,null,0,null,null,0]
[null,null,null,0,null,null,0,null,null,0,null,null,0]
[null,null,null,0,null,null,0,null,null,0,null,null,0]
[null,null,null,0,null,null,0,null,null,0,null,null,0]
[null,null,null,0,null,null,0,null,null,0,null,null,0]
[null,null,null,0,null,null,0,null,null,0,null,null,0]
[null,null,null,0,null,null,0,null,null,0,null,null,0]
[null,null,null,0,null,null,0,null,null,0,null,null,0]
[null,null,null,0,null,null,0,null,null,0,null,null,0]
[null,null,null,0,null,null,0,null,null,0,null,null,0]
[null,null,null,{"$f":"A133*B133*C133/1000000","v":0},null,null,{"$f":"(E133*A133+F133*B133)*C133","v":0},null,null,{"$f":"(H133*A133+I133*B133)*C133","v":0},null,null,{"$f":"(K133*A133+L133*B133)*C133","v":0}]
[null,null,null,0,null,null,0,null,null,0,null,null,0]
[null,null,null,0,null,null,0,null,null,0,null,null,0]
[null,null,null,0,null,null,0,null,null,0,null,null,0]
[null,null,null,0,null,null,0,null,null,0,null,null,0]
[null,null,null,0,null,null,0,null,null,0,null,null,0]
[null,null,null,0,null,null,0,null,null,0,null,null,0]
[null,null,null,0,null,null,0,null,null,0,null,null,0]
[null,null,null,0,null,null,0,null,null,0,null,null,0]
[null,null,null,0,null,null,0,null,null,0,null,null,0]
[null,null,null,0,null,null,0,null,null,0,null,null,0]
[null,null,null,0,null,null,0,null,null,0,null,null,0]
[null,null,null,0,null,null,0,null,null,0,null,null,0]
[null,null,null,0,null,null,0,null,null,0,null,null,0]
[null,null,null,0,null,null,0,null,null,0,null,null,0]
[null,null,null,0,null,null,0,null,null,0,null,null,0]
[null,null,null,0,null,null,0,null,null,0,null,null,0]
[null,null,null,0,null,null,0,null,null,0,null,null,0]
[null,null,null,0,null,null,0,null,null,0,null,null,0]
[null,null,null,0,null,null,0,null,null,0,null,null,0]
[null,null,null,0,null,null,0,null,null,0,null,null,0]
[null,null,null,0,null,null,0,null,null,0,null,null,0]
[null,null,null,0,null,null,0,null,null,0,null,null,0]
[null,null,null,0,null,null,0,null,null,0,null,null,0]
[null,null,null,0,null,null,0,null,null,0,null,null,0]
[null,null,null,0,null,null,0,null,null,0,null,null,0]
[null,null,null,0,null,null,0,null,null,0,null,null,0]
[null,null,null,0,null,null,0,null,null,0,null,null,0]
[null,null,null,0,null,null,0,null,null,0,null,null,0]
[null,null,null,0,null,null,0,null,null,0,null,null,0]
[null,null,null,0,null,null,0,null,null,0,null,null,0]
[null,null,null,0,null,null,0,null,null,0,null,null,0]
[null,null,null,0,null,null,0,null,null,0,null,null,0]
[null,null,null,0,null,null,0,null,null,0,null,null,0]
[null,null,null,0,null,null,0,null,null,0,null,null,0]
[null,null,null,0,null,null,0,null,null,0,null,null,0]
[null,null,null,0,null,null,0,null,null,0,null,null,0]
[null,null,null,0,null,null,0,null,null,0,null,null,0]
[null,null,null,0,null,null,0,null,null,0,null,null,0]
[null,null,null,0,null,null,0,null,null,0,null,null,0]
[null,null,null,0,null,null,0,null,null,0,null,null,0]
[null,null,null,0,null,null,0,null,null,0,null,null,0]
[null,null,null,0,null,null,0,null,null,0,null,null,0]
[null,null,null,0,null,null,0,null,null,0,null,null,0]
[null,null,null,0,null,null,0,null,null,0,null,null,0]
[null,null,null,0,null,null,0,null,null,0,null,null,0]
[null,null,null,0,null,null,0,null,null,0,null,null,0]
[null,null,null,0,null,null,0,null,null,0,null,null,0]
[null,null,null,0,null,null,0,null,null,0,null,null,0]
[null,null,null,0,null,null,0,null,null,0,null,null,0]
[null,null,null,0,null,null,0,null,null,0,null,null,0]
[null,null,null,0,null,null,0,null,null,0,null,null,0]
[null,null,null,0,null,null,0,null,null,0,null,null,0]
[null,null,null,0,null,null,0,null,null,0,null,null,0]
[null,null,null,0,null,null,0,null,null,0,null,null,0]
[null,null,null,0,null,null,0,null,null,0,null,null,0]
[null,null,null,0,null,null,0,null,null,0,null,null,0]
[null,null,null,0,null,null,0,null,null,0,null,null,0]
[null,null,null,0,null,null,0,null,null,0,null,null,0]
[null,null,null,0,null,null,0,null,null,0,null,null,0]
[null,null,null,0,null,null,0,null,null,0,null,null,0]
[null,null,null,0,null,null,0,null,null,0,null,null,0]
[null,null,null,0,null,null,0,null,null,0,null,null,0]
[null,null,null,0,null,null,0,null,null,0,null,null,0]
[null,null,null,{"$f":"A197*B197*C197/1000000","v":0},null,null,{"$f":"(E197*A197+F197*B197)*C197","v":0},null,null,{"$f":"(H197*A197+I197*B197)*C197","v":0},null,null,{"$f":"(K197*A197+L197*B197)*C197","v":0}]
[null,null,null,0,null,null,0,null,null,0,null,null,0]
[null,null,null,0,null,null,0,null,null,0,null,null,0]
[null,null,null,0,null,null,0,null,null,0,null,null,0]
[null,null,null,0,null,null,0,null,null,0,null,null,0]
[null,null,null,0,null,null,0,null,null,0,null,null,0]
[null,null,null,0,null,null,0,null,null,0,null,null,0]
[null,null,null,0,null,null,0,null,null,0,null,null,0]
[null,null,null,0,null,null,0,null,null,0,null,null,0]
[null,null,null,0,null,null,0,null,null,0,null,null,0]
[null,null,null,0,null,null,0,null,null,0,null,null,0]
[null,null,null,0,null,null,0,null,null,0,null,null,0]
[null,null,null,0,null,null,0,null,null,0,null,null,0]
[null,null,null,0,null,null,0,null,null,0,null,null,0]
[null,null,null,0,null,null,0,null,null,0,null,null,0]
[null,null,null,0,null,null,0,null,null,0,null,null,0]
[null,null,null,0,null,null,0,null,null,0,null,null,0]
[null,null,null,0,null,null,0,null,null,0,null,null,0]
[null,null,null,0,null,null,0,null,null,0,null,null,0]
[null,null,null,0,null,null,0,null,null,0,null,null,0]
[null,null,null,0,null,null,0,null,null,0,null,null,0]
[null,null,null,0,null,null,0,null,null,0,null,null,0]
[null,null,null,0,null,null,0,null,null,0,null,null,0]
[null,null,null,0,null,null,0,null,null,0,null,null,0]
[null,null,null,0,null,null,0,null,null,0,null,null,0]
[null,null,null,0,null,null,0,null,null,0,null,null,0]
[null,null,null,0,null,null,0,null,null,0,null,null,0]
[null,null,null,0,null,null,0,null,null,0,null,null,0]
[null,null,null,0,null,null,0,null,null,0,null,null,0]
[null,null,null,0,null,null,0,null,null,0,null,null,0]
[null,null,null,0,null,null,0,null,null,0,null,null,0]
[null,null,null,0,null,null,0,null,null,0,null,null,0]
[null,null,null,0,null,null,0,null,null,0,null,null,0]
[null,null,null,0,null,null,0,null,null,0,null,null,0]
[null,null,null,0,null,null,0,null,null,0,null,null,0]
[null,null,null,0,null,null,0,null,null,0,null,null,0]
[null,null,null,0,null,null,0,null,null,0,null,null,0]
[null,null,null,0,null,null,0,null,null,0,null,null,0]
[null,null,null,0,null,null,0,null,null,0,null,null,0]
[null,null,null,0,null,null,0,null,null,0,null,null,0]
[null,null,null,0,null,null,0,null,null,0,null,null,0]
[null,null,null,0,null,null,0,null,null,0,null,null,0]
[null,null,null,0,null,null,0,null,null,0,null,null,0]
[null,null,null,0,null,null,0,null,null,0,null,null,0]
[null,null,null,0,null,null,0,null,null,0,null,null,0]
[null,null,null,0,null,null,0,null,null,0,null,null,0]
[null,null,null,0,null,null,0,null,null,0,null,null,0]
[null,null,null,0,null,null,0,null,null,0,null,null,0]
[null,null,null,0,null,null,0,null,null,0,null,null,0]
[null,null,null,0,null,null,0,null,null,0,null,null,0]
[null,null,null,0,null,null,0,null,null,0,null,null,0]
[null,null,null,0,null,null,0,null,null,0,null,null,0]
[null,null,null,0,null,null,0,null,null,0,null,null,0]
[null,null,null,0,null,null,0,null,null,0,null,null,0]
[null,null,null,0,null,null,0,null,null,0,null,null,0]
[null,null,null,0,null,null,0,null,null,0,null,null,0]
[null,null,null,0,null,null,0,null,null,0,null,null,0]
[null,null,null,0,null,null,0,null,null,0,null,null,0]
[null,null,null,0,null,null,0,null,null,0,null,null,0]
[null,null,null,0,null,null,0,null,null,0,null,null,0]
[null,null,null,0,null,null,0,null,null,0,null,null,0]
[null,null,null,0,null,null,0,null,null,0,null,null,0]
[null,null,null,0,null,null,0,null,null,0,null,null,0]
[null,null,null,0,null,null,0,null,null,0,null,null,0]
[null,null,null,{"$f":"A261*B261*C261/1000000","v":0},null,null,{"$f":"(E261*A261+F261*B261)*C261","v":0},null,null,{"$f":"(H261*A261+I261*B261)*C261","v":0},null,null,{"$f":"(K261*A261+L261*B261)*C261","v":0}]
[null,null,null,0,null,null,0,null,null,0,null,null,0]
[null,null,null,0,null,null,0,null,null,0,null,null,0]
[null,null,null,0,null,null,0,null,null,0,null,null,0]
[null,null,null,0,null,null,0,null,null,0,null,null,0]
[null,null,null,0,null,null,0,null,null,0,null,null,0]
[null,null,null,0,null,null,0,null,null,0,null,null,0]
[null,null,null,0,null,null,0,null,null,0,null,null,0]
[null,null,null,0,null,null,0,null,null,0,null,null,0]
[null,null,null,0,null,null,0,null,null,0,null,null,0]
[null,null,null,0,null,null,0,null,null,0,null,null,0]
[null,null,null,0,null,null,0,null,null,0,null,null,0]
[null,null,null,0,null,null,0,null,null,0,null,null,0]
[null,null,null,0,null,null,0,null,null,0,null,null,0]
[null,null,null,0,null,null,0,null,null,0,null,null,0]
[null,null,null,0,null,null,0,null,null,0,null,null,0]
[null,null,null,0,null,null,0,null,null,0,null,null,0]
[null,null,null,0,null,null,0,null,null,0,null,null,0]
[null,null,null,0,null,null,0,null,null,0,null,null,0]
[null,null,null,0,null,null,0,null,null,0,null,null,0]
[null,null,null,0,null,null,0,null,null,0,null,null,0]
[null,null,null,0,null,null,0,null,null,0,null,null,0]
[null,null,null,0,null,null,0,null,null,0,null,null,0]
[null,null,null,0,null,null,0,null,null,0,null,null,0]
[null,null,null,0,null,null,0,null,null,0,null,null,0]
[null,null,null,0,null,null,0,null,null,0,null,null,0]
[null,null,null,0,null,null,0,null,null,0,null,null,0]
[null,null,null,0,null,null,0,null,null,0,null,null,0]
[null,null,null,0,null,null,0,null,null,0,null,null,0]
[null,null,null,0,null,null,0,null,null,0,null,null,0]
[null,null,null,0,null,null,0,null,null,0,null,null,0]
[null,null,null,0,null,null,0,null,null,0,null,null,0]
[null,null,null,0,null,null,0,null,null,0,null,null,0]
[null,null,null,0,null,null,0,null,null,0,null,null,0]
[null,null,null,0,null,null,0,null,null,0,null,null,0]
[null,null,null,0,null,null,0,null,null,0,null,null,0]
[null,null,null,0,null,null,0,null,null,0,null,null,0]
[null,null,null,0,null,null,0,null,null,0,null,null,0]
[null,null,null,0,null,null,0,null,null,0,null,null,0]
[null,null,null,0,null,null,0,null,null,0,null,null,0]
[null,null,null,0,null,null,0,null,null,0,null,null,0]
[null,null,null,0,null,null,0,null,null,0,null,null,0]
[null,null,null,0,null,null,0,null,null,0,null,null,0]
[null,null,null,0,null,null,0,null,null,0,null,null,0]
[null,null,null,0,null,null,0,null,null,0,null,null,0]
[null,null,null,0,null,null,0,null,null,0,null,null,0]
[null,null,null,0,null,null,0,null,null,0,null,null,0]
[null,null,null,0,null,null,0,null,null,0,null,null,0]
[null,null,null,0,null,null,0,null,null,0,null,null,0]
[null,null,null,0,null,null,0,null,null,0,null,null,0]
[null,null,null,0,null,null,0,null,null,0,null,null,0]
[null,null,null,0,null,null,0,null,null,0,null,null,0]
[null,null,null,0,null,null,0,null,null,0,null,null,0]
[null,null,null,0,null,null,0,null,null,0,null,null,0]
[null,null,null,0,null,null,0,null,null,0,null,null,0]
[null,null,null,0,null,null,0,null,null,0,null,null,0]
[null,null,null,0,null,null,0,null,null,0,null,null,0]
[null,null,null,0,null,null,0,null,null,0,null,null,0]
[null,null,null,0,null,null,0,null,null,0,null,null,0]
[null,null,null,0,null,null,0,null,null,0,null,null,0]
[null,null,null,0,null,null,0,null,null,0,null,null,0]
[null,null,null,0,null,null,0,null,null,0,null,null,0]
[null,null,null,0,null,null,0,null,null,0,null,null,0]
[null,null,null,0,null,null,0,null,null,0,null,null,0]
[null,null,null,{"$f":"A325*B325*C325/1000000","v":0},null,null,{"$f":"(E325*A325+F325*B325)*C325","v":0},null,null,{"$f":"(H325*A325+I325*B325)*C325","v":0},null,null,{"$f":"(K325*A325+L325*B325)*C325","v":0}]
[null,null,null,0,null,null,0,null,null,0,null,null,0]
[null,null,null,0,null,null,0,null,null,0,null,null,0]
[null,null,null,0,null,null,0,null,null,0,null,null,0]
[null,null,null,0,null,null,0,null,null,0,null,null,0]
[null,null,null,0,null,null,0,null,null,0,null,null,0]
[null,null,null,0,null,null,0,null,null,0,null,null,0]
[null,null,null,0,null,null,0,null,null,0,null,null,0]
[null,null,null,0,null,null,0,null,null,0,null,null,0]
[null,null,null,0,null,null,0,null,null,0,null,null,0]
[null,null,null,0,null,null,0,null,null,0,null,null,0]
[null,null,null,0,null,null,0,null,null,0,null,null,0]
[null,null,null,0,null,null,0,null,null,0,null,null,0]
[null,null,null,0,null,null,0,null,null,0,null,null,0]
[null,null,null,0,null,null,0,null,null,0,null,null,0]
[null,null,null,0,null,null,0,null,null,0,null,null,0]
[null,null,null,0,null,null,0,null,null,0,null,null,0]
[null,null,null,0,null,null,0,null,null,0,null,null,0]
[null,null,null,0,null,null,0,null,null,0,null,null,0]
[null,null,null,0,null,null,0,null,null,0,null,null,0]
[null,null,null,0,null,null,0,null,null,0,null,null,0]
[null,null,null,0,null,null,0,null,null,0,null,null,0]
[null,null,null,0,null,null,0,null,null,0,null,null,0]
[null,null,null,0,null,null,0,null,null,0,null,null,0]
[null,null,null,0,null,null,0,null,null,0,null,null,0]
[null,null,null,0,null,null,0,null,null,0,null,null,0]
[null,null,null,0,null,null,0,null,null,0,null,null,0]
[null,null,null,0,null,null,0,null,null,0,null,null,0]
[null,null,null,0,null,null,0,null,null,0,null,null,0]
[null,null,null,0,null,null,0,null,null,0,null,null,0]
[null,null,null,0,null,null,0,null,null,0,null,null,0]
[null,null,null,0,null,null,0,null,null,0,null,null,0]
[null,null,null,0,null,null,0,null,null,0,null,null,0]
[null,null,null,0,null,null,0,null,null,0,null,null,0]
[null,null,null,0,null,null,0,null,null,0,null,null,0]
[null,null,null,0,null,null,0,null,null,0,null,null,0]
[null,null,null,0,null,null,0,null,null,0,null,null,0]
[null,null,null,0,null,null,0,null,null,0,null,null,0]
[null,null,null,0,null,null,0,null,null,0,null,null,0]
[null,null,null,0,null,null,0,null,null,0,null,null,0]
[null,null,null,0,null,null,0,null,null,0,null,null,0]
[null,null,null,0,null,null,0,null,null,0,null,null,0]
[null,null,null,0,null,null,0,null,null,0,null,null,0]
[null,null,null,0,null,null,0,null,null,0,null,null,0]
[null,null,null,0,null,null,0,null,null,0,null,null,0]
[null,null,null,0,null,null,0,null,null,0,null,null,0]
[null,null,null,0,null,null,0,null,null,0,null,null,0]
[null,null,null,0,null,null,0,null,null,0,null,null,0]
[null,null,null,0,null,null,0,null,null,0,null,null,0]
[null,null,null,0,null,null,0,null,null,0,null,null,0]
[null,null,null,0,null,null,0,null,null,0,null,null,0]
[null,null,null,0,null,null,0,null,null,0,null,null,0]
[null,null,null,0,null,null,0,null,null,0,null,null,0]
[null,null,null,0,null,null,0,null,null,0,null,null,0]
[null,null,null,0,null,null,0,null,null,0,null,null,0]
[null,null,null,0,null,null,0,null,null,0,null,null,0]
[null,null,null,0,null,null,0,null,null,0,null,null,0]
[null,null,null,0,null,null,0,null,null,0,null,null,0]
[null,null,null,0,null,null,0,null,null,0,null,null,0]
[null,null,null,0,null,null,0,null,null,0,null,null,0]
[null,null,null,0,null,null,0,null,null,0,null,null,0]
[null,null,null,0,null,null,0,null,null,0,null,null,0]
[null,null,null,0,null,null,0,null,null,0,null,null,0]
[null,null,null,0,null,null,0,null,null,0,null,null,0]
[null,null,null,{"$f":"A389*B389*C389/1000000","v":0},null,null,{"$f":"(E389*A389+F389*B389)*C389","v":0},null,null,{"$f":"(H389*A389+I389*B389)*C389","v":0},null,null,{"$f":"(K389*A389+L389*B389)*C389","v":0}]
[null,null,null,0,null,null,0,null,null,0,null,null,0]
[null,null,null,0,null,null,0,null,null,0,null,null,0]
[null,null,null,0,null,null,0,null,null,0,null,null,0]
[null,null,null,0,null,null,0,null,null,0,null,null,0]
[null,null,null,0,null,null,0,null,null,0,null,null,0]
[null,null,null,0,null,null,0,null,null,0,null,null,0]
[null,null,null,0,null,null,0,null,null,0,null,null,0]
[null,null,null,0,null,null,0,null,null,0,null,null,0]
[null,null,null,0,null,null,0,null,null,0,null,null,0]
[null,null,null,0,null,null,0,null,null,0,null,null,0]
[null,null,null,0,null,null,0,null,null,0,null,null,0]
[null,null,null,0,null,null,0,null,null,0,null,null,0]
[null,null,null,0,null,null,0,null,null,0,null,null,0]
[null,null,null,0,null,null,0,null,null,0,null,null,0]
[null,null,null,0,null,null,0,null,null,0,null,null,0]
[null,null,null,0,null,null,0,null,null,0,null,null,0]
[null,null,null,0,null,null,0,null,null,0,null,null,0]
[null,null,null,0,null,null,0,null,null,0,null,null,0]
[null,null,null,0,null,null,0,null,null,0,null,null,0]
[null,null,null,0,null,null,0,null,null,0,null,null,0]
[null,null,null,0,null,null,0,null,null,0,null,null,0]
[null,null,null,0,null,null,0,null,null,0,null,null,0]
[null,null,null,0,null,null,0,null,null,0,null,null,0]
[null,null,null,0,null,null,0,null,null,0,null,null,0]
[null,null,null,0,null,null,0,null,null,0,null,null,0]
[null,null,null,0,null,null,0,null,null,0,null,null,0]
[null,null,null,0,null,null,0,null,null,0,null,null,0]
[null,null,null,0,null,null,0,null,null,0,null,null,0]
[null,null,null,0,null,null,0,null,null,0,null,null,0]
[null,null,null,0,null,null,0,null,null,0,null,null,0]
[null,null,null,0,null,null,0,null,null,0,null,null,0]
[null,null,null,0,null,null,0,null,null,0,null,null,0]
[null,null,null,0,null,null,0,null,null,0,null,null,0]
[null,null,null,0,null,null,0,null,null,0,null,null,0]
[null,null,null,0,null,null,0,null,null,0,null,null,0]
[null,null,null,0,null,null,0,null,null,0,null,null,0]
[null,null,null,0,null,null,0,null,null,0,null,null,0]
[null,null,null,0,null,null,0,null,null,0,null,null,0]
[null,null,null,0,null,null,0,null,null,0,null,null,0]
[null,null,null,0,null,null,0,null,null,0,null,null,0]
[null,null,null,0,null,null,0,null,null,0,null,null,0]
[null,null,null,0,null,null,0,null,null,0,null,null,0]
[null,null,null,0,null,null,0,null,null,0,null,null,0]
[null,null,null,0,null,null,0,null,null,0,null,null,0]
[null,null,null,0,null,null,0,null,null,0,null,null,0]
[null,null,null,0,null,null,0,null,null,0,null,null,0]
[null,null,null,0,null,null,0,null,null,0,null,null,0]
[null,null,null,0,null,null,0,null,null,0,null,null,0]
[null,null,null,0,null,null,0,null,null,0,null,null,0]
[null,null,null,0,null,null,0,null,null,0,null,null,0]
[null,null,null,0,null,null,0,null,null,0,null,null,0]
[null,null,null,0,null,null,0,null,null,0,null,null,0]
[null,null,null,0,null,null,0,null,null,0,null,null,0]
[null,null,null,0,null,null,0,null,null,0,null,null,0]
[null,null,null,0,null,null,0,null,null,0,null,null,0]
[null,null,null,0,null,null,0,null,null,0,null,null,0]
[null,null,null,0,null,null,0,null,null,0,null,null,0]
[null,null,null,0,null,null,0,null,null,0,null,null,0]
[null,null,null,0,null,null,0,null,null,0,null,null,0]
[null,null,null,0,null,null,0,null,null,0,null,null,0]
[null,null,null,0,null,null,0,null,null,0,null,null,0]
[null,null,null,0,null,null,0,null,null,0,null,null,0]
[null,null,null,0,null,null,0,null,null,0,null,null,0]
[null,null,null,{"$f":"A453*B453*C453/1000000","v":0},null,null,{"$f":"(E453*A453+F453*B453)*C453","v":0},null,null,{"$f":"(H453*A453+I453*B453)*C453","v":0},null,null,{"$f":"(K453*A453+L453*B453)*C453","v":0}]
[null,null,null,0,null,null,0,null,null,0,null,null,0]
[null,null,null,0,null,null,0,null,null,0,null,null,0]
[null,null,null,0,null,null,0,null,null,0,null,null,0]
[null,null,null,0,null,null,0,null,null,0,null,null,0]
[null,null,null,0,null,null,0,null,null,0,null,null,0]
[null,null,null,0,null,null,0,null,null,0,null,null,0]
[null,null,null,0,null,null,0,null,null,0,null,null,0]
[null,null,null,0,null,null,0,null,null,0,null,null,0]
[null,null,null,0,null,null,0,null,null,0,null,null,0]
[null,null,null,0,null,null,0,null,null,0,null,null,0]
[null,null,null,0,null,null,0,null,null,0,null,null,0]
[null,null,null,0,null,null,0,null,null,0,null,null,0]
[null,null,null,0,null,null,0,null,null,0,null,null,0]
[null,null,null,0,null,null,0,null,null,0,null,null,0]
[null,null,null,0,null,null,0,null,null,0,null,null,0]
[null,null,null,0,null,null,0,null,null,0,null,null,0]
[null,null,null,0,null,null,0,null,null,0,null,null,0]
[null,null,null,0,null,null,0,null,null,0,null,null,0]
[null,null,null,0,null,null,0,null,null,0,null,null,0]
[null,null,null,0,null,null,0,null,null,0,null,null,0]
[null,null,null,0,null,null,0,null,null,0,null,null,0]
[null,null,null,0,null,null,0,null,null,0,null,null,0]
[null,null,null,0,null,null,0,null,null,0,null,null,0]
[null,null,null,0,null,null,0,null,null,0,null,null,0]
[null,null,null,0,null,null,0,null,null,0,null,null,0]
[null,null,null,0,null,null,0,null,null,0,null,null,0]
[null,null,null,0,null,null,0,null,null,0,null,null,0]
[null,null,null,0,null,null,0,null,null,0,null,null,0]
[null,null,null,0,null,null,0,null,null,0,null,null,0]
[null,null,null,0,null,null,0,null,null,0,null,null,0]
[null,null,null,0,null,null,0,null,null,0,null,null,0]
[null,null,null,0,null,null,0,null,null,0,null,null,0]
[null,null,null,0,null,null,0,null,null,0,null,null,0]
[null,null,null,0,null,null,0,null,null,0,null,null,0]
[null,null,null,0,null,null,0,null,null,0,null,null,0]
[null,null,null,0,null,null,0,null,null,0,null,null,0]
[null,null,null,0,null,null,0,null,null,0,null,null,0]
[null,null,null,0,null,null,0,null,null,0,null,null,0]
[null,null,null,0,null,null,0,null,null,0,null,null,0]
[null,null,null,0,null,null,0,null,null,0,null,null,0]
[null,null,null,0,null,null,0,null,null,0,null,null,0]
[null,null,null,0,null,null,0,null,null,0,null,null,0]
[null,null,null,0,null,null,0,null,null,0,null,null,0]
[null,null,null,0,null,null,0,null,null,0,null,null,0]
[null,null,null,0,null,null,0,null,null,0,null,null,0]
[null,null,null,0,null,null,0,null,null,0,null,null,0]
[null,null,null,0,null,null,0,null,null,0,null,null,0]
[null,null,null,0,null,null,0,null,null,0,null,null,0]
[null,null,null,0,null,null,0,null,null,0,null,null,0]
[null,null,null,0,null,null,0,null,null,0,null,null,0]
[null,null,null,0,null,null,0,null,null,0,null,null,0]
[null,null,null,0,null,null,0,null,null,0,null,null,0]
[null,null,null,0,null,null,0,null,null,0,null,null,0]
[null,null,null,0,null,null,0,null,null,0,null,null,0]
[null,null,null,0,null,null,0,null,null,0,null,null,0]
[null,null,null,0,null,null,0,null,null,0,null,null,0]
[null,null,null,0,null,null,0,null,null,0,null,null,0]
[null,null,null,0,null,null,0,null,null,0,null,null,0]
[null,null,null,0,null,null,0,null,null,0,null,null,0]
[null,null,null,0,null,null,0,null,null,0,null,null,0]
[null,null,null,0,null,null,0,null,null,0,null,null,0]
[null,null,null,0,null,null,0,null,null,0,null,null,0]
[null,null,null,0,null,null,0,null,null,0,null,null,0]
[null,null,null,{"$f":"A517*B517*C517/1000000","v":0},null,null,{"$f":"(E517*A517+F517*B517)*C517","v":0},null,null,{"$f":"(H517*A517+I517*B517)*C517","v":0},null,null,{"$f":"(K517*A517+L517*B517)*C517","v":0}]
[null,null,null,0,null,null,0,null,null,0,null,null,0]
[null,null,null,0,null,null,0,null,null,0,null,null,0]
[null,null,null,0,null,null,0,null,null,0,null,null,0]
[null,null,null,0,null,null,0,null,null,0,null,null,0]
[null,null,null,0,null,null,0,null,null,0,null,null,0]
[null,null,null,0,null,null,0,null,null,0,null,null,0]
[null,null,null,0,null,null,0,null,null,0,null,null,0]
[null,null,null,0,null,null,0,null,null,0,null,null,0]
[null,null,null,0,null,null,0,null,null,0,null,null,0]
[null,null,null,0,null,null,0,null,null,0,null,null,0]
[null,null,null,0,null,null,0,null,null,0,null,null,0]
[null,null,null,0,null,null,0,null,null,0,null,null,0]
[null,null,null,0,null,null,0,null,null,0,null,null,0]
[null,null,null,0,null,null,0,null,null,0,null,null,0]
[null,null,null,0,null,null,0,null,null,0,null,null,0]
[null,null,null,0,null,null,0,null,null,0,null,null,0]
[null,null,null,0,null,null,0,null,null,0,null,null,0]
[null,null,null,0,null,null,0,null,null,0,null,null,0]
[null,null,null,0,null,null,0,null,null,0,null,null,0]
[null,null,null,0,null,null,0,null,null,0,null,null,0]
[null,null,null,0,null,null,0,null,null,0,null,null,0]
[null,null,null,0,null,null,0,null,null,0,null,null,0]
[null,null,null,0,null,null,0,null,null,0,null,null,0]
[null,null,null,0,null,null,0,null,null,0,null,null,0]
[null,null,null,0,null,null,0,null,null,0,null,null,0]
[null,null,null,0,null,null,0,null,null,0,null,null,0]
[null,null,null,0,null,null,0,null,null,0,null,null,0]
[null,null,null,0,null,null,0,null,null,0,null,null,0]
[null,null,null,0,null,null,0,null,null,0,null,null,0]
[null,null,null,0,null,null,0,null,null,0,null,null,0]
[null,null,null,0,null,null,0,null,null,0,null,null,0]
[null,null,null,0,null,null,0,null,null,0,null,null,0]
[null,null,null,0,null,null,0,null,null,0,null,null,0]
[null,null,null,0,null,null,0,null,null,0,null,null,0]
[null,null,null,0,null,null,0,null,null,0,null,null,0]
[null,null,null,0,null,null,0,null,null,0,null,null,0]
[null,null,null,0,null,null,0,null,null,0,null,null,0]
[null,null,null,0,null,null,0,null,null,0,null,null,0]
[null,null,null,0,null,null,0,null,null,0,null,null,0]
[null,null,null,0,null,null,0,null,null,0,null,null,0]
[null,null,null,0,null,null,0,null,null,0,null,null,0]
[null,null,null,0,null,null,0,null,null,0,null,null,0]
[null,null,null,0,null,null,0,null,null,0,null,null,0]
[null,null,null,0,null,null,0,null,null,0,null,null,0]
[null,null,null,0,null,null,0,null,null,0,null,null,0]
[null,null,null,0,null,null,0,null,null,0,null,null,0]
[null,null,null,0,null,null,0,null,null,0,null,null,0]
[null,null,null,0,null,null,0,null,null,0,null,null,0]
[null,null,null,0,null,null,0,null,null,0,null,null,0]
[null,null,null,0,null,null,0,null,null,0,null,null,0]
[null,null,null,0,null,null,0,null,null,0,null,null,0]
[null,null,null,0,null,null,0,null,null,0,null,null,0]
[null,null,null,0,null,null,0,null,null,0,null,null,0]
[null,null,null,0,null,null,0,null,null,0,null,null,0]
[null,null,null,0,null,null,0,null,null,0,null,null,0]
[null,null,null,0,null,null,0,null,null,0,null,null,0]
[null,null,null,0,null,null,0,null,null,0,null,null,0]
[null,null,null,0,null,null,0,null,null,0,null,null,0]
[null,null,null,0,null,null,0,null,null,0,null,null,0]
[null,null,null,0,null,null,0,null,null,0,null,null,0]
[null,null,null,0,null,null,0,null,null,0,null,null,0]
[null,null,null,0,null,null,0,null,null,0,null,null,0]
[null,null,null,0,null,null,0,null,null,0,null,null,0]
[null,null,null,{"$f":"A581*B581*C581/1000000","v":0},null,null,{"$f":"(E581*A581+F581*B581)*C581","v":0},null,null,{"$f":"(H581*A581+I581*B581)*C581","v":0},null,null,{"$f":"(K581*A581+L581*B581)*C581","v":0}]
[null,null,null,0,null,null,0,null,null,0,null,null,0]
[null,null,null,0,null,null,0,null,null,0,null,null,0]
[null,null,null,0,null,null,0,null,null,0,null,null,0]
[null,null,null,0,null,null,0,null,null,0,null,null,0]
[null,null,null,0,null,null,0,null,null,0,null,null,0]
[null,null,null,0,null,null,0,null,null,0,null,null,0]
[null,null,null,0,null,null,0,null,null,0,null,null,0]
[null,null,null,0,null,null,0,null,null,0,null,null,0]
[null,null,null,0,null,null,0,null,null,0,null,null,0]
[null,null,null,0,null,null,0,null,null,0,null,null,0]
[null,null,null,0,null,null,0,null,null,0,null,null,0]
[null,null,null,0,null,null,0,null,null,0,null,null,0]
[null,null,null,0,null,null,0,null,null,0,null,null,0]
[null,null,null,0,null,null,0,null,null,0,null,null,0]
[null,null,null,0,null,null,0,null,null,0,null,null,0]
[null,null,null,0,null,null,0,null,null,0,null,null,0]
[null,null,null,0,null,null,0,null,null,0,null,null,0]
[null,null,null,0,null,null,0,null,null,0,null,null,0]
[null,null,null,0,null,null,0,null,null,0,null,null,0]
[null,null,null,0,null,null,0,null,null,0,null,null,0]
[null,null,null,0,null,null,0,null,null,0,null,null,0]
[null,null,null,0,null,null,0,null,null,0,null,null,0]
[null,null,null,0,null,null,0,null,null,0,null,null,0]
[null,null,null,0,null,null,0,null,null,0,null,null,0]
[null,null,null,0,null,null,0,null,null,0,null,null,0]
[null,null,null,0,null,null,0,null,null,0,null,null,0]
[null,null,null,0,null,null,0,null,null,0,null,null,0]
[null,null,null,0,null,null,0,null,null,0,null,null,0]
[null,null,null,0,null,null,0,null,null,0,null,null,0]
[null,null,null,0,null,null,0,null,null,0,null,null,0]
[null,null,null,0,null,null,0,null,null,0,null,null,0]
[null,null,null,0,null,null,0,null,null,0,null,null,0]
[null,null,null,0,null,null,0,null,null,0,null,null,0]
[null,null,null,0,null,null,0,null,null,0,null,null,0]
[null,null,null,0,null,null,0,null,null,0,null,null,0]
[null,null,null,0,null,null,0,null,null,0,null,null,0]
[null,null,null,0,null,null,0,null,null,0,null,null,0]
[null,null,null,0,null,null,0,null,null,0,null,null,0]
[null,null,null,0,null,null,0,null,null,0,null,null,0]
[null,null,null,0,null,null,0,null,null,0,null,null,0]
[null,null,null,0,null,null,0,null,null,0,null,null,0]
[null,null,null,0,null,null,0,null,null,0,null,null,0]
[null,null,null,0,null,null,0,null,null,0,null,null,0]
[null,null,null,0,null,null,0,null,null,0,null,null,0]
[null,null,null,0,null,null,0,null,null,0,null,null,0]
[null,null,null,0,null,null,0,null,null,0,null,null,0]
[null,null,null,0,null,null,0,null,null,0,null,null,0]
[null,null,null,0,null,null,0,null,null,0,null,null,0]
[null,null,null,0,null,null,0,null,null,0,null,null,0]
[null,null,null,0,null,null,0,null,null,0,null,null,0]
[null,null,null,0,null,null,0,null,null,0,null,null,0]
[null,null,null,0,null,null,0,null,null,0,null,null,0]
[null,null,null,0,null,null,0,null,null,0,null,null,0]
[null,null,null,0,null,null,0,null,null,0,null,null,0]
[null,null,null,0,null,null,0,null,null,0,null,null,0]
[null,null,null,0,null,null,0,null,null,0,null,null,0]
[null,null,null,0,null,null,0,null,null,0,null,null,0]
[null,null,null,0,null,null,0,null,null,0,null,null,0]
[null,null,null,0,null,null,0,null,null,0,null,null,0]
[null,null,null,0,null,null,0,null,null,0,null,null,0]
[null,null,null,0,null,null,0,null,null,0,null,null,0]
[null,null,null,0,null,null,0,null,null,0,null,null,0]
[null,null,null,0,null,null,0,null,null,0,null,null,0]
[null,null,null,{"$f":"A645*B645*C645/1000000","v":0},null,null,{"$f":"(E645*A645+F645*B645)*C645","v":0},null,null,{"$f":"(H645*A645+I645*B645)*C645","v":0},null,null,{"$f":"(K645*A645+L645*B645)*C645","v":0}]
[null,null,null,0,null,null,0,null,null,0,null,null,0]
[null,null,null,0,null,null,0,null,null,0,null,null,0]
[null,null,null,0,null,null,0,null,null,0,null,null,0]
[null,null,null,0,null,null,0,null,null,0,null,null,0]
[null,null,null,0,null,null,0,null,null,0,null,null,0]
[null,null,null,0,null,null,0,null,null,0,null,null,0]
[null,null,null,0,null,null,0,null,null,0,null,null,0]
[null,null,null,0,null,null,0,null,null,0,null,null,0]
[null,null,null,0,null,null,0,null,null,0,null,null,0]
[null,null,null,0,null,null,0,null,null,0,null,null,0]
[null,null,null,0,null,null,0,null,null,0,null,null,0]
[null,null,null,0,null,null,0,null,null,0,null,null,0]
[null,null,null,0,null,null,0,null,null,0,null,null,0]
[null,null,null,0,null,null,0,null,null,0,null,null,0]
[null,null,null,0,null,null,0,null,null,0,null,null,0]
[null,null,null,0,null,null,0,null,null,0,null,null,0]
[null,null,null,0,null,null,0,null,null,0,null,null,0]
[null,null,null,0,null,null,0,null,null,0,null,null,0]
[null,null,null,0,null,null,0,null,null,0,null,null,0]
[null,null,null,0,null,null,0,null,null,0,null,null,0]
[null,null,null,0,null,null,0,null,null,0,null,null,0]
[null,null,null,0,null,null,0,null,null,0,null,null,0]
[null,null,null,0,null,null,0,null,null,0,null,null,0]
[null,null,null,0,null,null,0,null,null,0,null,null,0]
[null,null,null,0,null,null,0,null,null,0,null,null,0]
[null,null,null,0,null,null,0,null,null,0,null,null,0]
[null,null,null,0,null,null,0,null,null,0,null,null,0]
[null,null,null,0,null,null,0,null,null,0,null,null,0]
[null,null,null,0,null,null,0,null,null,0,null,null,0]
[null,null,null,0,null,null,0,null,null,0,null,null,0]
[null,null,null,0,null,null,0,null,null,0,null,null,0]
[null,null,null,0,null,null,0,null,null,0,null,null,0]
[null,null,null,0,null,null,0,null,null,0,null,null,0]
[null,null,null,0,null,null,0,null,null,0,null,null,0]
[null,null,null,0,null,null,0,null,null,0,null,null,0]
[null,null,null,0,null,null,0,null,null,0,null,null,0]
[null,null,null,0,null,null,0,null,null,0,null,null,0]
[null,null,null,0,null,null,0,null,null,0,null,null,0]
[null,null,null,0,null,null,0,null,null,0,null,null,0]
[null,null,null,0,null,null,0,null,null,0,null,null,0]
[null,null,null,0,null,null,0,null,null,0,null,null,0]
[null,null,null,0,null,null,0,null,null,0,null,null,0]
[null,null,null,0,null,null,0,null,null,0,null,null,0]
[null,null,null,0,null,null,0,null,null,0,null,null,0]
[null,null,null,0,null,null,0,null,null,0,null,null,0]
[null,null,null,0,null,null,0,null,null,0,null,null,0]
[null,null,null,0,null,null,0,null,null,0,null,null,0]
[null,null,null,0,null,null,0,null,null,0,null,null,0]
[null,null,null,0,null,null,0,null,null,0,null,null,0]
[null,null,null,0,null,null,0,null,null,0,null,null,0]
[null,null,null,0,null,null,0,null,null,0,null,null,0]
[null,null,null,0,null,null,0,null,null,0,null,null,0]
[null,null,null,0,null,null,0,null,null,0,null,null,0]
[null,null,null,0,null,null,0,null,null,0,null,null,0]
[null,null,null,0,null,null,0,null,null,0,null,null,0]
[null,null,null,0,null,null,0,null,null,0,null,null,0]
[null,null,null,0,null,null,0,null,null,0,null,null,0]
[null,null,null,0,null,null,0,null,null,0,null,null,0]
[null,null,null,0,null,null,0,null,null,0,null,null,0]
[null,null,null,0,null,null,0,null,null,0,null,null,0]
[null,null,null,0,null,null,0,null,null,0,null,null,0]
[null,null,null,0,null,null,0,null,null,0,null,null,0]
[null,null,null,0,null,null,0,null,null,0,null,null,0]
[null,null,null,{"$f":"A709*B709*C709/1000000","v":0},null,null,{"$f":"(E709*A709+F709*B709)*C709","v":0},null,null,{"$f":"(H709*A709+I709*B709)*C709","v":0},null,null,{"$f":"(K709*A709+L709*B709)*C709","v":0}]
[null,null,null,0,null,null,0,null,null,0,null,null,0]
[null,null,null,0,null,null,0,null,null,0,null,null,0]
[null,null,null,0,null,null,0,null,null,0,null,null,0]
[null,null,null,0,null,null,0,null,null,0,null,null,0]
[null,null,null,0,null,null,0,null,null,0,null,null,0]
[null,null,null,0,null,null,0,null,null,0,null,null,0]
[null,null,null,0,null,null,0,null,null,0,null,null,0]
[null,null,null,0,null,null,0,null,null,0,null,null,0]
[null,null,null,0,null,null,0,null,null,0,null,null,0]
[null,null,null,0,null,null,0,null,null,0,null,null,0]
[null,null,null,0,null,null,0,null,null,0,null,null,0]
[null,null,null,0,null,null,0,null,null,0,null,null,0]
[null,null,null,0,null,null,0,null,null,0,null,null,0]
[null,null,null,0,null,null,0,null,null,0,null,null,0]
[null,null,null,0,null,null,0,null,null,0,null,null,0]
[null,null,null,0,null,null,0,null,null,0,null,null,0]
[null,null,null,0,null,null,0,null,null,0,null,null,0]
[null,null,null,0,null,null,0,null,null,0,null,null,0]
[null,null,null,0,null,null,0,null,null,0,null,null,0]
[null,null,null,0,null,null,0,null,null,0,null,null,0]
[null,null,null,0,null,null,0,null,null,0,null,null,0]
[null,null,null,0,null,null,0,null,null,0,null,null,0]
[null,null,null,0,null,null,0,null,null,0,null,null,0]
[null,null,null,0,null,null,0,null,null,0,null,null,0]
[null,null,null,0,null,null,0,null,null,0,null,null,0]
[null,null,null,0,null,null,0,null,null,0,null,null,0]
[null,null,null,0,null,null,0,null,null,0,null,null,0]
[null,null,null,0,null,null,0,null,null,0,null,null,0]
[null,null,null,0,null,null,0,null,null,0,null,null,0]
[null,null,null,0,null,null,0,null,null,0,null,null,0]
[null,null,null,0,null,null,0,null,null,0,null,null,0]
[null,null,null,0,null,null,0,null,null,0,null,null,0]
[null,null,null,0,null,null,0,null,null,0,null,null,0]
[null,null,null,0,null,null,0,null,null,0,null,null,0]
[null,null,null,0,null,null,0,null,null,0,null,null,0]
[null,null,null,0,null,null,0,null,null,0,null,null,0]
[null,null,null,0,null,null,0,null,null,0,null,null,0]
[null,null,null,0,null,null,0,null,null,0,null,null,0]
[null,null,null,0,null,null,0,null,null,0,null,null,0]
[null,null,null,0,null,null,0,null,null,0,null,null,0]
[null,null,null,0,null,null,0,null,null,0,null,null,0]
[null,null,null,0,null,null,0,null,null,0,null,null,0]
[null,null,null,0,null,null,0,null,null,0,null,null,0]
[null,null,null,0,null,null,0,null,null,0,null,null,0]
[null,null,null,0,null,null,0,null,null,0,null,null,0]
[null,null,null,0,null,null,0,null,null,0,null,null,0]
[null,null,null,0,null,null,0,null,null,0,null,null,0]
[null,null,null,0,null,null,0,null,null,0,null,null,0]
[null,null,null,0,null,null,0,null,null,0,null,null,0]
[null,null,null,0,null,null,0,null,null,0,null,null,0]
[null,null,null,0,null,null,0,null,null,0,null,null,0]
[null,null,null,0,null,null,0,null,null,0,null,null,0]
[null,null,null,0,null,null,0,null,null,0,null,null,0]
[null,null,null,0,null,null,0,null,null,0,null,null,0]
[null,null,null,0,null,null,0,null,null,0,null,null,0]
[null,null,null,0,null,null,0,null,null,0,null,null,0]
[null,null,null,0,null,null,0,null,null,0,null,null,0]
[null,null,null,0,null,null,0,null,null,0,null,null,0]
[null,null,null,0,null,null,0,null,null,0,null,null,0]
[null,null,null,0,null,null,0,null,null,0,null,null,0]
[null,null,null,0,null,null,0,null,null,0,null,null,0]
[null,null,null,0,null,null,0,null,null,0,null,null,0]
[null,null,null,0,null,null,0,null,null,0,null,null,0]
[null,null,null,{"$f":"A773*B773*C773/1000000","v":0},null,null,{"$f":"(E773*A773+F773*B773)*C773","v":0},null,null,{"$f":"(H773*A773+I773*B773)*C773","v":0},null,null,{"$f":"(K773*A773+L773*B773)*C773","v":0}]
[null,null,null,0,null,null,0,null,null,0,null,null,0]
[null,null,null,0,null,null,0,null,null,0,null,null,0]
[null,null,null,0,null,null,0,null,null,0,null,null,0]
[null,null,null,0,null,null,0,null,null,0,null,null,0]
[null,null,null,0,null,null,0,null,null,0,null,null,0]
[null,null,null,0,null,null,0,null,null,0,null,null,0]
[null,null,null,0,null,null,0,null,null,0,null,null,0]
[null,null,null,0,null,null,0,null,null,0,null,null,0]
[null,null,null,0,null,null,0,null,null,0,null,null,0]
[null,null,null,0,null,null,0,null,null,0,null,null,0]
[null,null,null,0,null,null,0,null,null,0,null,null,0]
[null,null,null,0,null,null,0,null,null,0,null,null,0]
[null,null,null,0,null,null,0,null,null,0,null,null,0]
[null,null,null,0,null,null,0,null,null,0,null,null,0]
[null,null,null,0,null,null,0,null,null,0,null,null,0]
[null,null,null,0,null,null,0,null,null,0,null,null,0]
[null,null,null,0,null,null,0,null,null,0,null,null,0]
[null,null,null,0,null,null,0,null,null,0,null,null,0]
[null,null,null,0,null,null,0,null,null,0,null,null,0]
[null,null,null,0,null,null,0,null,null,0,null,null,0]
[null,null,null,0,null,null,0,null,null,0,null,null,0]
[null,null,null,0,null,null,0,null,null,0,null,null,0]
[null,null,null,0,null,null,0,null,null,0,null,null,0]
[null,null,null,0,null,null,0,null,null,0,null,null,0]
[null,null,null,0,null,null,0,null,null,0,null,null,0]
[null,null,null,0,null,null,0,null,null,0,null,null,0]
[null,null,null,0,null,null,0,null,null,0,null,null,0]
[null,null,null,0,null,null,0,null,null,0,null,null,0]
[null,null,null,0,null,null,0,null,null,0,null,null,0]
[null,null,null,0,null,null,0,null,null,0,null,null,0]
[null,null,null,0,null,null,0,null,null,0,null,null,0]
[null,null,null,0,null,null,0,null,null,0,null,null,0]
[null,null,null,0,null,null,0,null,null,0,null,null,0]
[null,null,null,0,null,null,0,null,null,0,null,null,0]
[null,null,null,0,null,null,0,null,null,0,null,null,0]
[null,null,null,0,null,null,0,null,null,0,null,null,0]
[null,null,null,0,null,null,0,null,null,0,null,null,0]
[null,null,null,0,null,null,0,null,null,0,null,null,0]
[null,null,null,0,null,null,0,null,null,0,null,null,0]
[null,null,null,0,null,null,0,null,null,0,null,null,0]
[null,null,null,0,null,null,0,null,null,0,null,null,0]
[null,null,null,0,null,null,0,null,null,0,null,null,0]
[null,null,null,0,null,null,0,null,null,0,null,null,0]
[null,null,null,0,null,null,0,null,null,0,null,null,0]
[null,null,null,0,null,null,0,null,null,0,null,null,0]
[null,null,null,0,null,null,0,null,null,0,null,null,0]
[null,null,null,0,null,null,0,null,null,0,null,null,0]
[null,null,null,0,null,null,0,null,null,0,null,null,0]
[null,null,null,0,null,null,0,null,null,0,null,null,0]
[null,null,null,0,null,null,0,null,null,0,null,null,0]
[null,null,null,0,null,null,0,null,null,0,null,null,0]
[null,null,null,0,null,null,0,null,null,0,null,null,0]
[null,null,null,0,null,null,0,null,null,0,null,null,0]
[null,null,null,0,null,null,0,null,null,0,null,null,0]
[null,null,null,0,null,null,0,null,null,0,null,null,0]
[null,null,null,0,null,null,0,null,null,0,null,null,0]
[null,null,null,0,null,null,0,null,null,0,null,null,0]
[null,null,null,0,null,null,0,null,null,0,null,null,0]
[null,null,null,0,null,null,0,null,null,0,null,null,0]
[null,null,null,0,null,null,0,null,null,0,null,null,0]
[null,null,null,0,null,null,0,null,null,0,null,null,0]
[null,null,null,0,null,null,0,null,null,0,null,null,0]
[null,null,null,0,null,null,0,null,null,0,null,null,0]
[null,null,null,{"$f":"A837*B837*C837/1000000","v":0},null,null,{"$f":"(E837*A837+F837*B837)*C837","v":0},null,null,{"$f":"(H837*A837+I837*B837)*C837","v":0},null,null,{"$f":"(K837*A837+L837*B837)*C837","v":0}]
[null,null,null,0,null,null,0,null,null,0,null,null,0]
[null,null,null,0,null,null,0,null,null,0,null,null,0]
[null,null,null,0,null,null,0,null,null,0,null,null,0]
[null,null,null,0,null,null,0,null,null,0,null,null,0]
[null,null,null,0,null,null,0,null,null,0,null,null,0]
[null,null,null,0,null,null,0,null,null,0,null,null,0]
[null,null,null,0,null,null,0,null,null,0,null,null,0]
[null,null,null,0,null,null,0,null,null,0,null,null,0]
[null,null,null,0,null,null,0,null,null,0,null,null,0]
[null,null,null,0,null,null,0,null,null,0,null,null,0]
[null,null,null,0,null,null,0,null,null,0,null,null,0]
[null,null,null,0,null,null,0,null,null,0,null,null,0]
[null,null,null,0,null,null,0,null,null,0,null,null,0]
[null,null,null,0,null,null,0,null,null,0,null,null,0]
[null,null,null,0,null,null,0,null,null,0,null,null,0]
[null,null,null,0,null,null,0,null,null,0,null,null,0]
[null,null,null,0,null,null,0,null,null,0,null,null,0]
[null,null,null,0,null,null,0,null,null,0,null,null,0]
[null,null,null,0,null,null,0,null,null,0,null,null,0]
[null,null,null,0,null,null,0,null,null,0,null,null,0]
[null,null,null,0,null,null,0,null,null,0,null,null,0]
[null,null,null,0,null,null,0,null,null,0,null,null,0]
[null,null,null,0,null,null,0,null,null,0,null,null,0]
[null,null,null,0,null,null,0,null,null,0,null,null,0]
[null,null,null,0,null,null,0,null,null,0,null,null,0]
[null,null,null,0,null,null,0,null,null,0,null,null,0]
[null,null,null,0,null,null,0,null,null,0,null,null,0]
[null,null,null,0,null,null,0,null,null,0,null,null,0]
[null,null,null,0,null,null,0,null,null,0,null,null,0]
[null,null,null,0,null,null,0,null,null,0,null,null,0]
[null,null,null,0,null,null,0,null,null,0,null,null,0]
[null,null,null,0,null,null,0,null,null,0,null,null,0]
[null,null,null,0,null,null,0,null,null,0,null,null,0]
[null,null,null,0,null,null,0,null,null,0,null,null,0]
[null,null,null,0,null,null,0,null,null,0,null,null,0]
[null,null,null,0,null,null,0,null,null,0,null,null,0]
[null,null,null,0,null,null,0,null,null,0,null,null,0]
[null,null,null,0,null,null,0,null,null,0,null,null,0]
[null,null,null,0,null,null,0,null,null,0,null,null,0]
[null,null,null,0,null,null,0,null,null,0,null,null,0]
[null,null,null,0,null,null,0,null,null,0,null,null,0]
[null,null,null,0,null,null,0,null,null,0,null,null,0]
[null,null,null,0,null,null,0,null,null,0,null,null,0]
[null,null,null,0,null,null,0,null,null,0,null,null,0]
[null,null,null,0,null,null,0,null,null,0,null,null,0]
[null,null,null,0,null,null,0,null,null,0,null,null,0]
[null,null,null,0,null,null,0,null,null,0,null,null,0]
[null,null,null,0,null,null,0,null,null,0,null,null,0]
[null,null,null,0,null,null,0,null,null,0,null,null,0]
[null,null,null,0,null,null,0,null,null,0,null,null,0]
[null,null,null,0,null,null,0,null,null,0,null,null,0]
[null,null,null,0,null,null,0,null,null,0,null,null,0]
[null,null,null,0,null,null,0,null,null,0,null,null,0]
[null,null,null,0,null,null,0,null,null,0,null,null,0]
[null,null,null,0,null,null,0,null,null,0,null,null,0]
[null,null,null,0,null,null,0,null,null,0,null,null,0]
[null,null,null,0,null,null,0,null,null,0,null,null,0]
[null,null,null,0,null,null,0,null,null,0,null,null,0]
[null,null,null,0,null,null,0,null,null,0,null,null,0]
[null,null,null,0,null,null,0,null,null,0,null,null,0]
[null,null,null,0,null,null,0,null,null,0,null,null,0]
[null,null,null,0,null,null,0,null,null,0,null,null,0]
[null,null,null,0,null,null,0,null,null,0,null,null,0]
[null,null,null,{"$f":"A901*B901*C901/1000000","v":0},null,null,{"$f":"(E901*A901+F901*B901)*C901","v":0},null,null,{"$f":"(H901*A901+I901*B901)*C901","v":0},null,null,{"$f":"(K901*A901+L901*B901)*C901","v":0}]
[null,null,null,0,null,null,0,null,null,0,null,null,0]
[null,null,null,0,null,null,0,null,null,0,null,null,0]
[null,null,null,0,null,null,0,null,null,0,null,null,0]
[null,null,null,0,null,null,0,null,null,0,null,null,0]
[null,null,null,0,null,null,0,null,null,0,null,null,0]
[null,null,null,0,null,null,0,null,null,0,null,null,0]
[null,null,null,0,null,null,0,null,null,0,null,null,0]
[null,null,null,0,null,null,0,null,null,0,null,null,0]
[null,null,null,0,null,null,0,null,null,0,null,null,0]
[null,null,null,0,null,null,0,null,null,0,null,null,0]
[null,null,null,0,null,null,0,null,null,0,null,null,0]
[null,null,null,0,null,null,0,null,null,0,null,null,0]
[null,null,null,0,null,null,0,null,null,0,null,null,0]
[null,null,null,0,null,null,0,null,null,0,null,null,0]
[null,null,null,0,null,null,0,null,null,0,null,null,0]
[null,null,null,0,null,null,0,null,null,0,null,null,0]
[null,null,null,0,null,null,0,null,null,0,null,null,0]
[null,null,null,0,null,null,0,null,null,0,null,null,0]
[null,null,null,0,null,null,0,null,null,0,null,null,0]
[null,null,null,0,null,null,0,null,null,0,null,null,0]
[null,null,null,0,null,null,0,null,null,0,null,null,0]
[null,null,null,0,null,null,0,null,null,0,null,null,0]
[null,null,null,0,null,null,0,null,null,0,null,null,0]
[null,null,null,0,null,null,0,null,null,0,null,null,0]
[null,null,null,0,null,null,0,null,null,0,null,null,0]
[null,null,null,0,null,null,0,null,null,0,null,null,0]
[null,null,null,0,null,null,0,null,null,0,null,null,0]
[null,null,null,0,null,null,0,null,null,0,null,null,0]
[null,null,null,0,null,null,0,null,null,0,null,null,0]
[null,null,null,0,null,null,0,null,null,0,null,null,0]
[null,null,null,0,null,null,0,null,null,0,null,null,0]
[null,null,null,0,null,null,0,null,null,0,null,null,0]
[null,null,null,0,null,null,0,null,null,0,null,null,0]
[null,null,null,0,null,null,0,null,null,0,null,null,0]
[null,null,null,0,null,null,0,null,null,0,null,null,0]
[null,null,null,0,null,null,0,null,null,0,null,null,0]
[null,null,null,0,null,null,0,null,null,0,null,null,0]
[null,null,null,0,null,null,0,null,null,0,null,null,0]
[null,null,null,0,null,null,0,null,null,0,null,null,0]
[null,null,null,0,null,null,0,null,null,0,null,null,0]
[null,null,null,0,null,null,0,null,null,0,null,null,0]
[null,null,null,0,null,null,0,null,null,0,null,null,0]
[null,null,null,0,null,null,0,null,null,0,null,null,0]
[null,null,null,0,null,null,0,null,null,0,null,null,0]
[null,null,null,0,null,null,0,null,null,0,null,null,0]
[null,null,null,0,null,null,0,null,null,0,null,null,0]
[null,null,null,0,null,null,0,null,null,0,null,null,0]
[null,null,null,0,null,null,0,null,null,0,null,null,0]
[null,null,null,0,null,null,0,null,null,0,null,null,0]
[null,null,null,0,null,null,0,null,null,0,null,null,0]
[null,null,null,0,null,null,0,null,null,0,null,null,0]
[null,null,null,0,null,null,0,null,null,0,null,null,0]
[null,null,null,0,null,null,0,null,null,0,null,null,0]
[null,null,null,0,null,null,0,null,null,0,null,null,0]
[null,null,null,0,null,null,0,null,null,0,null,null,0]
[null,null,null,0,null,null,0,null,null,0,null,null,0]
[null,null,null,0,null,null,0,null,null,0,null,null,0]
[null,null,null,0,null,null,0,null,null,0,null,null,0]
[null,null,null,0,null,null,0,null,null,0,null,null,0]
[null,null,null,0,null,null,0,null,null,0,null,null,0]
[null,null,null,0,null,null,0,null,null,0,null,null,0]
[null,null,null,0,null,null,0,null,null,0,null,null,0]
[null,null,null,0,null,null,0,null,null,0,null,null,0]
[null,null,null,{"$f":"A965*B965*C965/1000000","v":0},null,null,{"$f":"(E965*A965+F965*B965)*C965","v":0},null,null,{"$f":"(H965*A965+I965*B965)*C965","v":0},null,null,{"$f":"(K965*A965+L965*B965)*C965","v":0}]
[null,null,null,0,null,null,0,null,null,0,null,null,0]
[null,null,null,0,null,null,0,null,null,0,null,null,0]
[null,null,null,0,null,null,0,null,null,0,null,null,0]
[null,null,null,0,null,null,0,null,null,0,null,null,0]
[null,null,null,0,null,null,0,null,null,0,null,null,0]
[null,null,null,0,null,null,0,null,null,0,null,null,0]
[null,null,null,0,null,null,0,null,null,0,null,null,0]
[null,null,null,0,null,null,0,null,null,0,null,null,0]
[null,null,null,0,null,null,0,null,null,0,null,null,0]
[null,null,null,0,null,null,0,null,null,0,null,null,0]
[null,null,null,0,null,null,0,null,null,0,null,null,0]
[null,null,null,0,null,null,0,null,null,0,null,null,0]
[null,null,null,0,null,null,0,null,null,0,null,null,0]
[null,null,null,0,null,null,0,null,null,0,null,null,0]
[null,null,null,0,null,null,0,null,null,0,null,null,0]
[null,null,null,0,null,null,0,null,null,0,null,null,0]
[null,null,null,0,null,null,0,null,null,0,null,null,0]
[null,null,null,0,null,null,0,null,null,0,null,null,0]
[null,null,null,0,null,null,0,null,null,0,null,null,0]
[null,null,null,0,null,null,0,null,null,0,null,null,0]
[null,null,null,0,null,null,0,null,null,0,null,null,0]
[null,null,null,0,null,null,0,null,null,0,null,null,0]
[null,null,null,0,null,null,0,null,null,0,null,null,0]
[null,null,null,0,null,null,0,null,null,0,null,null,0]
[null,null,null,0,null,null,0,null,null,0,null,null,0]
[null,null,null,0,null,null,0,null,null,0,null,null,0]
[null,null,null,0,null,null,0,null,null,0,null,null,0]
[null,null,null,0,null,null,0,null,null,0,null,null,0]
[null,null,null,0,null,null,0,null,null,0,null,null,0]
[null,null,null,0,null,null,0,null,null,0,null,null,0]
[null,null,null,0,null,null,0,null,null,0,null,null,0]
[null,null,null,0,null,null,0,null,null,0,null,null,0]
[null,null,null,0,null,null,0,null,null,0,null,null,0]
[null,null,null,0,null,null,0,null,null,0,null,null,0]
[null,null,null,0,null,null,0,null,null,0,null,null,0]
[null,null,null,0,null,null,0,null,null,0,null,null,0]
[null,null,null,0,null,null,0,null,null,0,null,null,0]
[null,null,null,0,null,null,0,null,null,0,null,null,0]
[null,null,null,0,null,null,0,null,null,0,null,null,0]
[null,null,null,0,null,null,0,null,null,0,null,null,0]
[null,null,null,0,null,null,0,null,null,0,null,null,0]
[null,null,null,0,null,null,0,null,null,0,null,null,0]
[null,null,null,0,null,null,0,null,null,0,null,null,0]
[null,null,null,0,null,null,0,null,null,0,null,null,0]
[null,null,null,0,null,null,0,null,null,0,null,null,0]
[null,null,null,0,null,null,0,null,null,0,null,null,0]
[null,null,null,0,null,null,0,null,null,0,null,null,0]
[null,null,null,0,null,null,0,null,null,0,null,null,0]
[null,null,null,0,null,null,0,null,null,0,null,null,0]
[null,null,null,0,null,null,0,null,null,0,null,null,0]
[null,null,null,0,null,null,0,null,null,0,null,null,0]
[null,null,null,0,null,null,0,null,null,0,null,null,0]
[null,null,null,0,null,null,0,null,null,0,null,null,0]
[null,null,null,0,null,null,0,null,null,0,null,null,0]
[null,null,null,0,null,null,0,null,null,0,null,null,0]
[null,null,null,0,null,null,0,null,null,0,null,null,0]
[null,null,null,0,null,null,0,null,null,0,null,null,0]
[null,null,null,0,null,null,0,null,null,0,null,null,0]
[null,null,null,0,null,null,0,null,null,0,null,null,0]
[null,null,null,0,null,null,0,null,null,0,null,null,0]
[null,null,null,0,null,null,0,null,null,0,null,null,0]
[null,null,null,0,null,null,0,null,null,0,null,null,0]
[null,null,null,0,null,null,0,null,null,0,null,null,0]
[null,null,null,{"$f":"A1029*B1029*C1029/1000000","v":0},null,null,{"$f":"(E1029*A1029+F1029*B1029)*C1029","v":0},null,null,{"$f":"(H1029*A1029+I1029*B1029)*C1029","v":0},null,null,{"$f":"(K1029*A1029+L1029*B1029)*C1029","v":0}]
[null,null,null,0,null,null,0,null,null,0,null,null,0]
[null,null,null,0,null,null,0,null,null,0,null,null,0]
[null,null,null,0,null,null,0,null,null,0,null,null,0]
[null,null,null,0,null,null,0,null,null,0,null,null,0]
[null,null,null,0,null,null,0,null,null,0,null,null,0]
[null,null,null,0,null,null,0,null,null,0,null,null,0]
[null,null,null,0,null,null,0,null,null,0,null,null,0]
[null,null,null,0,null,null,0,null,null,0,null,null,0]
[null,null,null,0,null,null,0,null,null,0,null,null,0]
[null,null,null,0,null,null,0,null,null,0,null,null,0]
[null,null,null,0,null,null,0,null,null,0,null,null,0]
[null,null,null,0,null,null,0,null,null,0,null,null,0]
[null,null,null,0,null,null,0,null,null,0,null,null,0]
[null,null,null,0,null,null,0,null,null,0,null,null,0]
[null,null,null,0,null,null,0,null,null,0,null,null,0]
[null,null,null,0,null,null,0,null,null,0,null,null,0]
[null,null,null,0,null,null,0,null,null,0,null,null,0]
[null,null,null,0,null,null,0,null,null,0,null,null,0]
[null,null,null,0,null,null,0,null,null,0,null,null,0]
[null,null,null,0,null,null,0,null,null,0,null,null,0]
[null,null,null,0,null,null,0,null,null,0,null,null,0]
[null,null,null,0,null,null,0,null,null,0,null,null,0]
[null,null,null,0,null,null,0,null,null,0,null,null,0]
[null,null,null,0,null,null,0,null,null,0,null,null,0]
[null,null,null,0,null,null,0,null,null,0,null,null,0]
[null,null,null,0,null,null,0,null,null,0,null,null,0]
[null,null,null,0,null,null,0,null,null,0,null,null,0]
[null,null,null,0,null,null,0,null,null,0,null,null,0]
[null,null,null,0,null,null,0,null,null,0,null,null,0]
[null,null,null,0,null,null,0,null,null,0,null,null,0]
[null,null,null,0,null,null,0,null,null,0,null,null,0]
[null,null,null,0,null,null,0,null,null,0,null,null,0]
[null,null,null,0,null,null,0,null,null,0,null,null,0]
[null,null,null,0,null,null,0,null,null,0,null,null,0]
[null,null,null,0,null,null,0,null,null,0,null,null,0]
[null,null,null,0,null,null,0,null,null,0,null,null,0]
[null,null,null,0,null,null,0,null,null,0,null,null,0]
[null,null,null,0,null,null,0,null,null,0,null,null,0]
[null,null,null,0,null,null,0,null,null,0,null,null,0]
[null,null,null,0,null,null,0,null,null,0,null,null,0]
[null,null,null,0,null,null,0,null,null,0,null,null,0]
[null,null,null,0,null,null,0,null,null,0,null,null,0]
[null,null,null,0,null,null,0,null,null,0,null,null,0]
[null,null,null,0,null,null,0,null,null,0,null,null,0]
[null,null,null,0,null,null,0,null,null,0,null,null,0]
[null,null,null,0,null,null,0,null,null,0,null,null,0]
[null,null,null,0,null,null,0,null,null,0,null,null,0]
[null,null,null,0,null,null,0,null,null,0,null,null,0]
[null,null,null,0,null,null,0,null,null,0,null,null,0]
[null,null,null,0,null,null,0,null,null,0,null,null,0]
[null,null,null,0,null,null,0,null,null,0,null,null,0]
[null,null,null,0,null,null,0,null,null,0,null,null,0]
[null,null,null,0,null,null,0,null,null,0,null,null,0]
[null,null,null,0,null,null,0,null,null,0,null,null,0]
[null,null,null,0,null,null,0,null,null,0,null,null,0]
[null,null,null,0,null,null,0,null,null,0,null,null,0]
[null,null,null,0,null,null,0,null,null,0,null,null,0]
[null,null,null,0,null,null,0,null,null,0,null,null,0]
[null,null,null,0,null,null,0,null,null,0,null,null,0]
[null,null,null,0,null,null,0,null,null,0,null,null,0]
[null,null,null,0,null,null,0,null,null,0,null,null,0]
[null,null,null,0,null,null,0,null,null,0,null,null,0]
[null,null,null,0,null,null,0,null,null,0,null,null,0]
[null,null,null,{"$f":"A1093*B1093*C1093/1000000","v":0},null,null,{"$f":"(E1093*A1093+F1093*B1093)*C1093","v":0},null,null,{"$f":"(H1093*A1093+I1093*B1093)*C1093","v":0},null,null,{"$f":"(K1093*A1093+L1093*B1093)*C1093","v":0}]
[null,null,null,0,null,null,0,null,null,0,null,null,0]
[null,null,null,0,null,null,0,null,null,0,null,null,0]
[null,null,null,0,null,null,0,null,null,0,null,null,0]
[null,null,null,0,null,null,0,null,null,0,null,null,0]
[null,null,null,0,null,null,0,null,null,0,null,null,0]
[null,null,null,0,null,null,0,null,null,0,null,null,0]
[null,null,null,0,null,null,0,null,null,0,null,null,0]
[null,null,null,0,null,null,0,null,null,0,null,null,0]
[null,null,null,0,null,null,0,null,null,0,null,null,0]
[null,null,null,0,null,null,0,null,null,0,null,null,0]
[null,null,null,0,null,null,0,null,null,0,null,null,0]
[null,null,null,0,null,null,0,null,null,0,null,null,0]
[null,null,null,0,null,null,0,null,null,0,null,null,0]
[null,null,null,0,null,null,0,null,null,0,null,null,0]
[null,null,null,0,null,null,0,null,null,0,null,null,0]
[null,null,null,0,null,null,0,null,null,0,null,null,0]
[null,null,null,0,null,null,0,null,null,0,null,null,0]
[null,null,null,0,null,null,0,null,null,0,null,null,0]
[null,null,null,0,null,null,0,null,null,0,null,null,0]
[null,null,null,0,null,null,0,null,null,0,null,null,0]
[null,null,null,0,null,null,0,null,null,0,null,null,0]
[null,null,null,0,null,null,0,null,null,0,null,null,0]
[null,null,null,0,null,null,0,null,null,0,null,null,0]
[null,null,null,0,null,null,0,null,null,0,null,null,0]
[null,null,null,0,null,null,0,null,null,0,null,null,0]
[null,null,null,0,null,null,0,null,null,0,null,null,0]
[null,null,null,0,null,null,0,null,null,0,null,null,0]
[null,null,null,0,null,null,0,null,null,0,null,null,0]
[null,null,null,0,null,null,0,null,null,0,null,null,0]
[null,null,null,0,null,null,0,null,null,0,null,null,0]
[null,null,null,0,null,null,0,null,null,0,null,null,0]
[null,null,null,0,null,null,0,null,null,0,null,null,0]
[null,null,null,0,null,null,0,null,null,0,null,null,0]
[null,null,null,0,null,null,0,null,null,0,null,null,0]
[null,null,null,0,null,null,0,null,null,0,null,null,0]
[null,null,null,0,null,null,0,null,null,0,null,null,0]
[null,null,null,0,null,null,0,null,null,0,null,null,0]
[null,null,null,0,null,null,0,null,null,0,null,null,0]
[null,null,null,0,null,null,0,null,null,0,null,null,0]
[null,null,null,0,null,null,0,null,null,0,null,null,0]
[null,null,null,0,null,null,0,null,null,0,null,null,0]
[null,null,null,0,null,null,0,null,null,0,null,null,0]
[null,null,null,0,null,null,0,null,null,0,null,null,0]
[null,null,null,0,null,null,0,null,null,0,null,null,0]
[null,null,null,0,null,null,0,null,null,0,null,null,0]
[null,null,null,0,null,null,0,null,null,0,null,null,0]
[null,null,null,0,null,null,0,null,null,0,null,null,0]
[null,null,null,0,null,null,0,null,null,0,null,null,0]
[null,null,null,0,null,null,0,null,null,0,null,null,0]
[null,null,null,0,null,null,0,null,null,0,null,null,0]
[null,null,null,0,null,null,0,null,null,0,null,null,0]
[null,null,null,0,null,null,0,null,null,0,null,null,0]
[null,null,null,0,null,null,0,null,null,0,null,null,0]
[null,null,null,0,null,null,0,null,null,0,null,null,0]
[null,null,null,0,null,null,0,null,null,0,null,null,0]
[null,null,null,0,null,null,0,null,null,0,null,null,0]
[null,null,null,0,null,null,0,null,null,0,null,null,0]
[null,null,null,0,null,null,0,null,null,0,null,null,0]
[null,null,null,0,null,null,0,null,null,0,null,null,0]
[null,null,null,0,null,null,0,null,null,0,null,null,0]
[null,null,null,0,null,null,0,null,null,0,null,null,0]
[null,null,null,0,null,null,0,null,null,0,null,null,0]
[null,null,null,0,null,null,0,null,null,0,null,null,0]
[null,null,null,{"$f":"A1157*B1157*C1157/1000000","v":0},null,null,{"$f":"(E1157*A1157+F1157*B1157)*C1157","v":0},null,null,{"$f":"(H1157*A1157+I1157*B1157)*C1157","v":0},null,null,{"$f":"(K1157*A1157+L1157*B1157)*C1157","v":0}]
[null,null,null,0,null,null,0,null,null,0,null,null,0]
[null,null,null,0,null,null,0,null,null,0,null,null,0]
[null,null,null,0,null,null,0,null,null,0,null,null,0]
[null,null,null,0,null,null,0,null,null,0,null,null,0]
[null,null,null,0,null,null,0,null,null,0,null,null,0]
[null,null,null,0,null,null,0,null,null,0,null,null,0]
[null,null,null,0,null,null,0,null,null,0,null,null,0]
[null,null,null,0,null,null,0,null,null,0,null,null,0]
[null,null,null,0,null,null,0,null,null,0,null,null,0]
[null,null,null,0,null,null,0,null,null,0,null,null,0]
[null,null,null,0,null,null,0,null,null,0,null,null,0]
[null,null,null,0,null,null,0,null,null,0,null,null,0]
[null,null,null,0,null,null,0,null,null,0,null,null,0]
[null,null,null,0,null,null,0,null,null,0,null,null,0]
[null,null,null,0,null,null,0,null,null,0,null,null,0]
[null,null,null,0,null,null,0,null,null,0,null,null,0]
[null,null,null,0,null,null,0,null,null,0,null,null,0]
[null,null,null,0,null,null,0,null,null,0,null,null,0]
[null,null,null,0,null,null,0,null,null,0,null,null,0]
[null,null,null,0,null,null,0,null,null,0,null,null,0]
[null,null,null,0,null,null,0,null,null,0,null,null,0]
[null,null,null,0,null,null,0,null,null,0,null,null,0]
[null,null,null,0,null,null,0,null,null,0,null,null,0]
[null,null,null,0,null,null,0,null,null,0,null,null,0]
[null,null,null,0,null,null,0,null,null,0,null,null,0]
[null,null,null,0,null,null,0,null,null,0,null,null,0]
[null,null,null,0,null,null,0,null,null,0,null,null,0]
[null,null,null,0,null,null,0,null,null,0,null,null,0]
[null,null,null,0,null,null,0,null,null,0,null,null,0]
[null,null,null,0,null,null,0,null,null,0,null,null,0]
[null,null,null,0,null,null,0,null,null,0,null,null,0]
[null,null,null,0,null,null,0,null,null,0,null,null,0]
[null,null,null,0,null,null,0,null,null,0,null,null,0]
[null,null,null,0,null,null,0,null,null,0,null,null,0]
[null,null,null,0,null,null,0,null,null,0,null,null,0]
[null,null,null,0,null,null,0,null,null,0,null,null,0]
[null,null,null,0,null,null,0,null,null,0,null,null,0]
[null,null,null,0,null,null,0,null,null,0,null,null,0]
[null,null,null,0,null,null,0,null,null,0,null,null,0]
[null,null,null,0,null,null,0,null,null,0,null,null,0]
[null,null,null,0,null,null,0,null,null,0,null,null,0]
[null,null,null,0,null,null,0,null,null,0,null,null,0]
[null,null,null,0,null,null,0,null,null,0,null,null,0]
[null,null,null,0,null,null,0,null,null,0,null,null,0]
[null,null,null,0,null,null,0,null,null,0,null,null,0]
[null,null,null,0,null,null,0,null,null,0,null,null,0]
[null,null,null,0,null,null,0,null,null,0,null,null,0]
[null,null,null,0,null,null,0,null,null,0,null,null,0]
[null,null,null,0,null,null,0,null,null,0,null,null,0]
[null,null,null,0,null,null,0,null,null,0,null,null,0]
[null,null,null,0,null,null,0,null,null,0,null,null,0]
[null,null,null,0,null,null,0,null,null,0,null,null,0]
[null,null,null,0,null,null,0,null,null,0,null,null,0]
[null,null,null,0,null,null,0,null,null,0,null,null,0]
[null,null,null,0,null,null,0,null,null,0,null,null,0]
[null,null,null,0,null,null,0,null,null,0,null,null,0]
[null,null,null,0,null,null,0,null,null,0,null,null,0]
[null,null,null,0,null,null,0,null,null,0,null,null,0]
[null,null,null,0,null,null,0,null,null,0,null,null,0]
[null,null,null,0,null,null,0,null,null,0,null,null,0]
[null,null,null,0,null,null,0,null,null,0,null,null,0]
[null,null,null,0,null,null,0,null,null,0,null,null,0]
[null,null,null,0,null,null,0,null,null,0,null,null,0]
[null,null,null,{"$f":"A1221*B1221*C1221/1000000","v":0},null,null,{"$f":"(E1221*A1221+F1221*B1221)*C1221","v":0},null,null,{"$f":"(H1221*A1221+I1221*B1221)*C1221","v":0},null,null,{"$f":"(K1221*A1221+L1221*B1221)*C1221","v":0}]
[null,null,null,0,null,null,0,null,null,0,null,null,0]
[null,null,null,0,null,null,0,null,null,0,null,null,0]
[null,null,null,0,null,null,0,null,null,0,null,null,0]
[null,null,null,0,null,null,0,null,null,0,null,null,0]
[null,null,null,0,null,null,0,null,null,0,null,null,0]
[null,null,null,0,null,null,0,null,null,0,null,null,0]
[null,null,null,0,null,null,0,null,null,0,null,null,0]
[null,null,null,0,null,null,0,null,null,0,null,null,0]
[null,null,null,0,null,null,0,null,null,0,null,null,0]
[null,null,null,0,null,null,0,null,null,0,null,null,0]
[null,null,null,0,null,null,0,null,null,0,null,null,0]
[null,null,null,0,null,null,0,null,null,0,null,null,0]
[null,null,null,0,null,null,0,null,null,0,null,null,0]
[null,null,null,0,null,null,0,null,null,0,null,null,0]
[null,null,null,0,null,null,0,null,null,0,null,null,0]
[null,null,null,0,null,null,0,null,null,0,null,null,0]
[null,null,null,0,null,null,0,null,null,0,null,null,0]
[null,null,null,0,null,null,0,null,null,0,null,null,0]
[null,null,null,0,null,null,0,null,null,0,null,null,0]
[null,null,null,0,null,null,0,null,null,0,null,null,0]
[null,null,null,0,null,null,0,null,null,0,null,null,0]
[null,null,null,0,null,null,0,null,null,0,null,null,0]
[null,null,null,0,null,null,0,null,null,0,null,null,0]
[null,null,null,0,null,null,0,null,null,0,null,null,0]
[null,null,null,0,null,null,0,null,null,0,null,null,0]
[null,null,null,0,null,null,0,null,null,0,null,null,0]
[null,null,null,0,null,null,0,null,null,0,null,null,0]
[null,null,null,0,null,null,0,null,null,0,null,null,0]
[null,null,null,0,null,null,0,null,null,0,null,null,0]
[null,null,null,0,null,null,0,null,null,0,null,null,0]
[null,null,null,0,null,null,0,null,null,0,null,null,0]
[null,null,null,0,null,null,0,null,null,0,null,null,0]
[null,null,null,0,null,null,0,null,null,0,null,null,0]
[null,null,null,0,null,null,0,null,null,0,null,null,0]
[null,null,null,0,null,null,0,null,null,0,null,null,0]
[null,null,null,0,null,null,0,null,null,0,null,null,0]
[null,null,null,0,null,null,0,null,null,0,null,null,0]
[null,null,null,0,null,null,0,null,null,0,null,null,0]
[null,null,null,0,null,null,0,null,null,0,null,null,0]
[null,null,null,0,null,null,0,null,null,0,null,null,0]
[null,null,null,0,null,null,0,null,null,0,null,null,0]
[null,null,null,0,null,null,0,null,null,0,null,null,0]
[null,null,null,0,null,null,0,null,null,0,null,null,0]
[null,null,null,0,null,null,0,null,null,0,null,null,0]
[null,null,null,0,null,null,0,null,null,0,null,null,0]
[null,null,null,0,null,null,0,null,null,0,null,null,0]
[null,null,null,0,null,null,0,null,null,0,null,null,0]
[null,null,null,0,null,null,0,null,null,0,null,null,0]
[null,null,null,0,null,null,0,null,null,0,null,null,0]
[null,null,null,0,null,null,0,null,null,0,null,null,0]
[null,null,null,0,null,null,0,null,null,0,null,null,0]
[null,null,null,0,null,null,0,null,null,0,null,null,0]
[null,null,null,0,null,null,0,null,null,0,null,null,0]
[null,null,null,0,null,null,0,null,null,0,null,null,0]
[null,null,null,0,null,null,0,null,null,0,null,null,0]
[null,null,null,0,null,null,0,null,null,0,null,null,0]
[null,null,null,0,null,null,0,null,null,0,null,null,0]
[null,null,null,0,null,null,0,null,null,0,null,null,0]
[null,null,null,0,null,null,0,null,null,0,null,null,0]
[null,null,null,0,null,null,0,null,null,0,null,null,0]
[null,null,null,0,null,null,0,null,null,0,null,null,0]
[null,null,null,0,null,null,0,null,null,0,null,null,0]
[null,null,null,0,null,null,0,null,null,0,null,null,0]
[null,null,null,{"$f":"A1285*B1285*C1285/1000000","v":0},null,null,{"$f":"(E1285*A1285+F1285*B1285)*C1285","v":0},null,null,{"$f":"(H1285*A1285+I1285*B1285)*C1285","v":0},null,null,{"$f":"(K1285*A1285+L1285*B1285)*C1285","v":0}]
[null,null,null,0,null,null,0,null,null,0,null,null,0]
[null,null,null,0,null,null,0,null,null,0,null,null,0]
[null,null,null,0,null,null,0,null,null,0,null,null,0]
[null,null,null,0,null,null,0,null,null,0,null,null,0]
[null,null,null,0,null,null,0,null,null,0,null,null,0]
[null,null,null,0,null,null,0,null,null,0,null,null,0]
[null,null,null,0,null,null,0,null,null,0,null,null,0]
[null,null,null,0,null,null,0,null,null,0,null,null,0]
[null,null,null,0,null,null,0,null,null,0,null,null,0]
[null,null,null,0,null,null,0,null,null,0,null,null,0]
[null,null,null,0,null,null,0,null,null,0,null,null,0]
[null,null,null,0,null,null,0,null,null,0,null,null,0]
[null,null,null,0,null,null,0,null,null,0,null,null,0]
[null,null,null,0,null,null,0,null,null,0,null,null,0]
[null,null,null,0,null,null,0,null,null,0,null,null,0]
[null,null,null,0,null,null,0,null,null,0,null,null,0]
[null,null,null,0,null,null,0,null,null,0,null,null,0]
[null,null,null,0,null,null,0,null,null,0,null,null,0]
[null,null,null,0,null,null,0,null,null,0,null,null,0]
[null,null,null,0,null,null,0,null,null,0,null,null,0]
[null,null,null,0,null,null,0,null,null,0,null,null,0]
[null,null,null,0,null,null,0,null,null,0,null,null,0]
[null,null,null,0,null,null,0,null,null,0,null,null,0]
[null,null,null,0,null,null,0,null,null,0,null,null,0]
[null,null,null,0,null,null,0,null,null,0,null,null,0]
[null,null,null,0,null,null,0,null,null,0,null,null,0]
[null,null,null,0,null,null,0,null,null,0,null,null,0]
[null,null,null,0,null,null,0,null,null,0,null,null,0]
[null,null,null,0,null,null,0,null,null,0,null,null,0]
[null,null,null,0,null,null,0,null,null,0,null,null,0]
[null,null,null,0,null,null,0,null,null,0,null,null,0]
[null,null,null,0,null,null,0,null,null,0,null,null,0]
[null,null,null,0,null,null,0,null,null,0,null,null,0]
[null,null,null,0,null,null,0,null,null,0,null,null,0]
[null,null,null,0,null,null,0,null,null,0,null,null,0]
[null,null,null,0,null,null,0,null,null,0,null,null,0]
[null,null,null,0,null,null,0,null,null,0,null,null,0]
[null,null,null,0,null,null,0,null,null,0,null,null,0]
[null,null,null,0,null,null,0,null,null,0,null,null,0]
[null,null,null,0,null,null,0,null,null,0,null,null,0]
[null,null,null,0,null,null,0,null,null,0,null,null,0]
[null,null,null,0,null,null,0,null,null,0,null,null,0]
[null,null,null,0,null,null,0,null,null,0,null,null,0]
[null,null,null,0,null,null,0,null,null,0,null,null,0]
[null,null,null,0,null,null,0,null,null,0,null,null,0]
[null,null,null,0,null,null,0,null,null,0,null,null,0]
[null,null,null,0,null,null,0,null,null,0,null,null,0]
[null,null,null,0,null,null,0,null,null,0,null,null,0]
[null,null,null,0,null,null,0,null,null,0,null,null,0]
[null,null,null,0,null,null,0,null,null,0,null,null,0]
[null,null,null,0,null,null,0,null,null,0,null,null,0]
[null,null,null,0,null,null,0,null,null,0,null,null,0]
[null,null,null,0,null,null,0,null,null,0,null,null,0]
[null,null,null,0,null,null,0,null,null,0,null,null,0]
[null,null,null,0,null,null,0,null,null,0,null,null,0]
[null,null,null,0,null,null,0,null,null,0,null,null,0]
[null,null,null,0,null,null,0,null,null,0,null,null,0]
[null,null,null,0,null,null,0,null,null,0,null,null,0]
[null,null,null,0,null,null,0,null,null,0,null,null,0]
[null,null,null,0,null,null,0,null,null,0,null,null,0]
[null,null,null,0,null,null,0,null,null,0,null,null,0]
[null,null,null,0,null,null,0,null,null,0,null,null,0]
[null,null,null,0,null,null,0,null,null,0,null,null,0]
[null,null,null,{"$f":"A1349*B1349*C1349/1000000","v":0},null,null,{"$f":"(E1349*A1349+F1349*B1349)*C1349","v":0},null,null,{"$f":"(H1349*A1349+I1349*B1349)*C1349","v":0},null,null,{"$f":"(K1349*A1349+L1349*B1349)*C1349","v":0}]
[null,null,null,0,null,null,0,null,null,0,null,null,0]
[null,null,null,0,null,null,0,null,null,0,null,null,0]
[null,null,null,0,null,null,0,null,null,0,null,null,0]
[null,null,null,0,null,null,0,null,null,0,null,null,0]
[null,null,null,0,null,null,0,null,null,0,null,null,0]
[null,null,null,0,null,null,0,null,null,0,null,null,0]
[null,null,null,0,null,null,0,null,null,0,null,null,0]
[null,null,null,0,null,null,0,null,null,0,null,null,0]
[null,null,null,0,null,null,0,null,null,0,null,null,0]
[null,null,null,0,null,null,0,null,null,0,null,null,0]
[null,null,null,0,null,null,0,null,null,0,null,null,0]
[null,null,null,0,null,null,0,null,null,0,null,null,0]
[null,null,null,0,null,null,0,null,null,0,null,null,0]
[null,null,null,0,null,null,0,null,null,0,null,null,0]
[null,null,null,0,null,null,0,null,null,0,null,null,0]
[null,null,null,0,null,null,0,null,null,0,null,null,0]
[null,null,null,0,null,null,0,null,null,0,null,null,0]
[null,null,null,0,null,null,0,null,null,0,null,null,0]
[null,null,null,0,null,null,0,null,null,0,null,null,0]
[null,null,null,0,null,null,0,null,null,0,null,null,0]
[null,null,null,0,null,null,0,null,null,0,null,null,0]
[null,null,null,0,null,null,0,null,null,0,null,null,0]
[null,null,null,0,null,null,0,null,null,0,null,null,0]
[null,null,null,0,null,null,0,null,null,0,null,null,0]
[null,null,null,0,null,null,0,null,null,0,null,null,0]
[null,null,null,0,null,null,0,null,null,0,null,null,0]
[null,null,null,0,null,null,0,null,null,0,null,null,0]
[null,null,null,0,null,null,0,null,null,0,null,null,0]
[null,null,null,0,null,null,0,null,null,0,null,null,0]
[null,null,null,0,null,null,0,null,null,0,null,null,0]
[null,null,null,0,null,null,0,null,null,0,null,null,0]
[null,null,null,0,null,null,0,null,null,0,null,null,0]
[null,null,null,0,null,null,0,null,null,0,null,null,0]
[null,null,null,0,null,null,0,null,null,0,null,null,0]
[null,null,null,0,null,null,0,null,null,0,null,null,0]
[null,null,null,0,null,null,0,null,null,0,null,null,0]
[null,null,null,0,null,null,0,null,null,0,null,null,0]
[null,null,null,0,null,null,0,null,null,0,null,null,0]
[null,null,null,0,null,null,0,null,null,0,null,null,0]
[null,null,null,0,null,null,0,null,null,0,null,null,0]
[null,null,null,0,null,null,0,null,null,0,null,null,0]
[null,null,null,0,null,null,0,null,null,0,null,null,0]
[null,null,null,0,null,null,0,null,null,0,null,null,0]
[null,null,null,0,null,null,0,null,null,0,null,null,0]
[null,null,null,0,null,null,0,null,null,0,null,null,0]
[null,null,null,0,null,null,0,null,null,0,null,null,0]
[null,null,null,0,null,null,0,null,null,0,null,null,0]
[null,null,null,0,null,null,0,null,null,0,null,null,0]
[null,null,null,0,null,null,0,null,null,0,null,null,0]
[null,null,null,0,null,null,0,null,null,0,null,null,0]
[null,null,null,0,null,null,0,null,null,0,null,null,0]
[null,null,null,0,null,null,0,null,null,0,null,null,0]
[null,null,null,0,null,null,0,null,null,0,null,null,0]
[null,null,null,0,null,null,0,null,null,0,null,null,0]
[null,null,null,0,null,null,0,null,null,0,null,null,0]
[null,null,null,0,null,null,0,null,null,0,null,null,0]
[null,null,null,0,null,null,0,null,null,0,null,null,0]
[null,null,null,0,null,null,0,null,null,0,null,null,0]
[null,null,null,0,null,null,0,null,null,0,null,null,0]
[null,null,null,0,null,null,0,null,null,0,null,null,0]
[null,null,null,0,null,null,0,null,null,0,null,null,0]
[null,null,null,0,null,null,0,null,null,0,null,null,0]
[null,null,null,0,null,null,0,null,null,0,null,null,0]
[null,null,null,{"$f":"A1413*B1413*C1413/1000000","v":0},null,null,{"$f":"(E1413*A1413+F1413*B1413)*C1413","v":0},null,null,{"$f":"(H1413*A1413+I1413*B1413)*C1413","v":0},null,null,{"$f":"(K1413*A1413+L1413*B1413)*C1413","v":0}]
[null,null,null,0,null,null,0,null,null,0,null,null,0]
[null,null,null,0,null,null,0,null,null,0,null,null,0]
[null,null,null,0,null,null,0,null,null,0,null,null,0]
[null,null,null,0,null,null,0,null,null,0,null,null,0]
[null,null,null,0,null,null,0,null,null,0,null,null,0]
[null,null,null,0,null,null,0,null,null,0,null,null,0]
[null,null,null,0,null,null,0,null,null,0,null,null,0]
[null,null,null,0,null,null,0,null,null,0,null,null,0]
[null,null,null,0,null,null,0,null,null,0,null,null,0]
[null,null,null,0,null,null,0,null,null,0,null,null,0]
[null,null,null,0,null,null,0,null,null,0,null,null,0]
[null,null,null,0,null,null,0,null,null,0,null,null,0]
[null,null,null,0,null,null,0,null,null,0,null,null,0]
[null,null,null,0,null,null,0,null,null,0,null,null,0]
[null,null,null,0,null,null,0,null,null,0,null,null,0]
[null,null,null,0,null,null,0,null,null,0,null,null,0]
[null,null,null,0,null,null,0,null,null,0,null,null,0]
[null,null,null,0,null,null,0,null,null,0,null,null,0]
[null,null,null,0,null,null,0,null,null,0,null,null,0]
[null,null,null,0,null,null,0,null,null,0,null,null,0]
[null,null,null,0,null,null,0,null,null,0,null,null,0]
[null,null,null,0,null,null,0,null,null,0,null,null,0]
[null,null,null,0,null,null,0,null,null,0,null,null,0]
[null,null,null,0,null,null,0,null,null,0,null,null,0]
[null,null,null,0,null,null,0,null,null,0,null,null,0]
[null,null,null,0,null,null,0,null,null,0,null,null,0]
[null,null,null,0,null,null,0,null,null,0,null,null,0]
[null,null,null,0,null,null,0,null,null,0,null,null,0]
[null,null,null,0,null,null,0,null,null,0,null,null,0]
[null,null,null,0,null,null,0,null,null,0,null,null,0]
[null,null,null,0,null,null,0,null,null,0,null,null,0]
[null,null,null,0,null,null,0,null,null,0,null,null,0]
[null,null,null,0,null,null,0,null,null,0,null,null,0]
[null,null,null,0,null,null,0,null,null,0,null,null,0]
[null,null,null,0,null,null,0,null,null,0,null,null,0]
[null,null,null,0,null,null,0,null,null,0,null,null,0]
[null,null,null,0,null,null,0,null,null,0,null,null,0]
[null,null,null,0,null,null,0,null,null,0,null,null,0]
[null,null,null,0,null,null,0,null,null,0,null,null,0]
[null,null,null,0,null,null,0,null,null,0,null,null,0]
[null,null,null,0,null,null,0,null,null,0,null,null,0]
[null,null,null,0,null,null,0,null,null,0,null,null,0]
[null,null,null,0,null,null,0,null,null,0,null,null,0]
[null,null,null,0,null,null,0,null,null,0,null,null,0]
[null,null,null,0,null,null,0,null,null,0,null,null,0]
[null,null,null,0,null,null,0,null,null,0,null,null,0]
[null,null,null,0,null,null,0,null,null,0,null,null,0]
[null,null,null,0,null,null,0,null,null,0,null,null,0]
[null,null,null,0,null,null,0,null,null,0,null,null,0]
[null,null,null,0,null,null,0,null,null,0,null,null,0]
[null,null,null,0,null,null,0,null,null,0,null,null,0]
[null,null,null,0,null,null,0,null,null,0,null,null,0]
[null,null,null,0,null,null,0,null,null,0,null,null,0]
[null,null,null,0,null,null,0,null,null,0,null,null,0]
[null,null,null,0,null,null,0,null,null,0,null,null,0]
[null,null,null,0,null,null,0,null,null,0,null,null,0]
[null,null,null,0,null,null,0,null,null,0,null,null,0]
[null,null,null,0,null,null,0,null,null,0,null,null,0]
[null,null,null,0,null,null,0,null,null,0,null,null,0]
[null,null,null,0,null,null,0,null,null,0,null,null,0]
[null,null,null,0,null,null,0,null,null,0,null,null,0]
[null,null,null,0,null,null,0,null,null,0,null,null,0]
[null,null,null,0,null,null,0,null,null,0,null,null,0]
[null,null,null,{"$f":"A1477*B1477*C1477/1000000","v":0},null,null,{"$f":"(E1477*A1477+F1477*B1477)*C1477","v":0},null,null,{"$f":"(H1477*A1477+I1477*B1477)*C1477","v":0},null,null,{"$f":"(K1477*A1477+L1477*B1477)*C1477","v":0}]
[null,null,null,0,null,null,0,null,null,0,null,null,0]
[null,null,null,0,null,null,0,null,null,0,null,null,0]
[null,null,null,0,null,null,0,null,null,0,null,null,0]
[null,null,null,0,null,null,0,null,null,0,null,null,0]
[null,null,null,0,null,null,0,null,null,0,null,null,0]
[null,null,null,0,null,null,0,null,null,0,null,null,0]
[null,null,null,0,null,null,0,null,null,0,null,null,0]
[null,null,null,0,null,null,0,null,null,0,null,null,0]
[null,null,null,0,null,null,0,null,null,0,null,null,0]
[null,null,null,0,null,null,0,null,null,0,null,null,0]
[null,null,null,0,null,null,0,null,null,0,null,null,0]
[null,null,null,0,null,null,0,null,null,0,null,null,0]
[null,null,null,0,null,null,0,null,null,0,null,null,0]
[null,null,null,0,null,null,0,null,null,0,null,null,0]
[null,null,null,0,null,null,0,null,null,0,null,null,0]
[null,null,null,0,null,null,0,null,null,0,null,null,0]
[null,null,null,0,null,null,0,null,null,0,null,null,0]
[null,null,null,0,null,null,0,null,null,0,null,null,0]
[null,null,null,0,null,null,0,null,null,0,null,null,0]
[null,null,null,0,null,null,0,null,null,0,null,null,0]
[null,null,null,0,null,null,0,null,null,0,null,null,0]
[null,null,null,0,null,null,0,null,null,0,null,null,0]
[null,null,null,0,null,null,0,null,null,0,null,null,0]
[null,null,null,0,null,null,0,null,null,0,null,null,0]
[null,null,null,0,null,null,0,null,null,0,null,null,0]
[null,null,null,0,null,null,0,null,null,0,null,null,0]
[null,null,null,0,null,null,0,null,null,0,null,null,0]
[null,null,null,0,null,null,0,null,null,0,null,null,0]
[null,null,null,0,null,null,0,null,null,0,null,null,0]
[null,null,null,0,null,null,0,null,null,0,null,null,0]
[null,null,null,0,null,null,0,null,null,0,null,null,0]
[null,null,null,0,null,null,0,null,null,0,null,null,0]
[null,null,null,0,null,null,0,null,null,0,null,null,0]
[null,null,null,0,null,null,0,null,null,0,null,null,0]
[null,null,null,0,null,null,0,null,null,0,null,null,0]
[null,null,null,0,null,null,0,null,null,0,null,null,0]
[null,null,null,0,null,null,0,null,null,0,null,null,0]
[null,null,null,0,null,null,0,null,null,0,null,null,0]
[null,null,null,0,null,null,0,null,null,0,null,null,0]
[null,null,null,0,null,null,0,null,null,0,null,null,0]
[null,null,null,0,null,null,0,null,null,0,null,null,0]
[null,null,null,0,null,null,0,null,null,0,null,null,0]
[null,null,null,0,null,null,0,null,null,0,null,null,0]
[null,null,null,0,null,null,0,null,null,0,null,null,0]
[null,null,null,0,null,null,0,null,null,0,null,null,0]
[null,null,null,0,null,null,0,null,null,0,null,null,0]
[null,null,null,0,null,null,0,null,null,0,null,null,0]
[null,null,null,0,null,null,0,null,null,0,null,null,0]
[null,null,null,0,null,null,0,null,null,0,null,null,0]
[null,null,null,0,null,null,0,null,null,0,null,null,0]
[null,null,null,0,null,null,0,null,null,0,null,null,0]
[null,null,null,0,null,null,0,null,null,0,null,null,0]
[null,null,null,0,null,null,0,null,null,0,null,null,0]
[null,null,null,0,null,null,0,null,null,0,null,null,0]
[null,null,null,0,null,null,0,null,null,0,null,null,0]
[null,null,null,0,null,null,0,null,null,0,null,null,0]
[null,null,null,0,null,null,0,null,null,0,null,null,0]
[null,null,null,0,null,null,0,null,null,0,null,null,0]
[null,null,null,0,null,null,0,null,null,0,null,null,0]
[null,null,null,0,null,null,0,null,null,0,null,null,0]
[null,null,null,0,null,null,0,null,null,0,null,null,0]
[null,null,null,0,null,null,0,null,null,0,null,null,0]
[null,null,null,0,null,null,0,null,null,0,null,null,0]
[null,null,null,{"$f":"A1541*B1541*C1541/1000000","v":0},null,null,{"$f":"(E1541*A1541+F1541*B1541)*C1541","v":0},null,null,{"$f":"(H1541*A1541+I1541*B1541)*C1541","v":0},null,null,{"$f":"(K1541*A1541+L1541*B1541)*C1541","v":0}]
[null,null,null,0,null,null,0,null,null,0,null,null,0]
[null,null,null,0,null,null,0,null,null,0,null,null,0]
[null,null,null,0,null,null,0,null,null,0,null,null,0]
[null,null,null,0,null,null,0,null,null,0,null,null,0]
[null,null,null,0,null,null,0,null,null,0,null,null,0]
[null,null,null,0,null,null,0,null,null,0,null,null,0]
[null,null,null,0,null,null,0,null,null,0,null,null,0]
[null,null,null,0,null,null,0,null,null,0,null,null,0]
[null,null,null,0,null,null,0,null,null,0,null,null,0]
[null,null,null,0,null,null,0,null,null,0,null,null,0]
[null,null,null,0,null,null,0,null,null,0,null,null,0]
[null,null,null,0,null,null,0,null,null,0,null,null,0]
[null,null,null,0,null,null,0,null,null,0,null,null,0]
[null,null,null,0,null,null,0,null,null,0,null,null,0]
[null,null,null,0,null,null,0,null,null,0,null,null,0]
[null,null,null,0,null,null,0,null,null,0,null,null,0]
[null,null,null,0,null,null,0,null,null,0,null,null,0]
[null,null,null,0,null,null,0,null,null,0,null,null,0]
[null,null,null,0,null,null,0,null,null,0,null,null,0]
[null,null,null,0,null,null,0,null,null,0,null,null,0]
[null,null,null,0,null,null,0,null,null,0,null,null,0]
[null,null,null,0,null,null,0,null,null,0,null,null,0]
[null,null,null,0,null,null,0,null,null,0,null,null,0]
[null,null,null,0,null,null,0,null,null,0,null,null,0]
[null,null,null,0,null,null,0,null,null,0,null,null,0]
[null,null,null,0,null,null,0,null,null,0,null,null,0]
[null,null,null,0,null,null,0,null,null,0,null,null,0]
[null,null,null,0,null,null,0,null,null,0,null,null,0]
[null,null,null,0,null,null,0,null,null,0,null,null,0]
[null,null,null,0,null,null,0,null,null,0,null,null,0]
[null,null,null,0,null,null,0,null,null,0,null,null,0]
[null,null,null,0,null,null,0,null,null,0,null,null,0]
[null,null,null,0,null,null,0,null,null,0,null,null,0]
[null,null,null,0,null,null,0,null,null,0,null,null,0]
[null,null,null,0,null,null,0,null,null,0,null,null,0]
[null,null,null,0,null,null,0,null,null,0,null,null,0]
[null,null,null,0,null,null,0,null,null,0,null,null,0]
[null,null,null,0,null,null,0,null,null,0,null,null,0]
[null,null,null,0,null,null,0,null,null,0,null,null,0]
[null,null,null,0,null,null,0,null,null,0,null,null,0]
[null,null,null,0,null,null,0,null,null,0,null,null,0]
[null,null,null,0,null,null,0,null,null,0,null,null,0]
[null,null,null,0,null,null,0,null,null,0,null,null,0]
[null,null,null,0,null,null,0,null,null,0,null,null,0]
[null,null,null,0,null,null,0,null,null,0,null,null,0]
[null,null,null,0,null,null,0,null,null,0,null,null,0]
[null,null,null,0,null,null,0,null,null,0,null,null,0]
[null,null,null,0,null,null,0,null,null,0,null,null,0]
[null,null,null,0,null,null,0,null,null,0,null,null,0]
[null,null,null,0,null,null,0,null,null,0,null,null,0]
[null,null,null,0,null,null,0,null,null,0,null,null,0]
[null,null,null,0,null,null,0,null,null,0,null,null,0]
[null,null,null,0,null,null,0,null,null,0,null,null,0]
[null,null,null,0,null,null,0,null,null,0,null,null,0]
[null,null,null,0,null,null,0,null,null,0,null,null,0]
[null,null,null,0,null,null,0,null,null,0,null,null,0]
[null,null,null,0,null,null,0,null,null,0,null,null,0]
[null,null,null,0,null,null,0,null,null,0,null,null,0]
[null,null,null,0,null,null,0,null,null,0,null,null,0]
[null,null,null,0,null,null,0,null,null,0,null,null,0]
[null,null,null,0,null,null,0,null,null,0,null,null,0]
[null,null,null,0,null,null,0,null,null,0,null,null,0]
[null,null,null,0,null,null,0,null,null,0,null,null,0]
[null,null,null,{"$f":"A1605*B1605*C1605/1000000","v":0},null,null,{"$f":"(E1605*A1605+F1605*B1605)*C1605","v":0},null,null,{"$f":"(H1605*A1605+I1605*B1605)*C1605","v":0},null,null,{"$f":"(K1605*A1605+L1605*B1605)*C1605","v":0}]
[null,null,null,0,null,null,0,null,null,0,null,null,0]
[null,null,null,0,null,null,0,null,null,0,null,null,0]
[null,null,null,0,null,null,0,null,null,0,null,null,0]
[null,null,null,0,null,null,0,null,null,0,null,null,0]
[null,null,null,0,null,null,0,null,null,0,null,null,0]
[null,null,null,0,null,null,0,null,null,0,null,null,0]
[null,null,null,0,null,null,0,null,null,0,null,null,0]
[null,null,null,0,null,null,0,null,null,0,null,null,0]
[null,null,null,0,null,null,0,null,null,0,null,null,0]
[null,null,null,0,null,null,0,null,null,0,null,null,0]
[null,null,null,0,null,null,0,null,null,0,null,null,0]
[null,null,null,0,null,null,0,null,null,0,null,null,0]
[null,null,null,0,null,null,0,null,null,0,null,null,0]
[null,null,null,0,null,null,0,null,null,0,null,null,0]
[null,null,null,0,null,null,0,null,null,0,null,null,0]
[null,null,null,0,null,null,0,null,null,0,null,null,0]
[null,null,null,0,null,null,0,null,null,0,null,null,0]
[null,null,null,0,null,null,0,null,null,0,null,null,0]
[null,null,null,0,null,null,0,null,null,0,null,null,0]
[null,null,null,0,null,null,0,null,null,0,null,null,0]
[null,null,null,0,null,null,0,null,null,0,null,null,0]
[null,null,null,0,null,null,0,null,null,0,null,null,0]
[null,null,null,0,null,null,0,null,null,0,null,null,0]
[null,null,null,0,null,null,0,null,null,0,null,null,0]
[null,null,null,0,null,null,0,null,null,0,null,null,0]
[null,null,null,0,null,null,0,null,null,0,null,null,0]
[null,null,null,0,null,null,0,null,null,0,null,null,0]
[null,null,null,0,null,null,0,null,null,0,null,null,0]
[null,null,null,0,null,null,0,null,null,0,null,null,0]
[null,null,null,0,null,null,0,null,null,0,null,null,0]
[null,null,null,0,null,null,0,null,null,0,null,null,0]
[null,null,null,0,null,null,0,null,null,0,null,null,0]
[null,null,null,0,null,null,0,null,null,0,null,null,0]
[null,null,null,0,null,null,0,null,null,0,null,null,0]
[null,null,null,0,null,null,0,null,null,0,null,null,0]
[null,null,null,0,null,null,0,null,null,0,null,null,0]
[null,null,null,0,null,null,0,null,null,0,null,null,0]
[null,null,null,0,null,null,0,null,null,0,null,null,0]
[null,null,null,0,null,null,0,null,null,0,null,null,0]
[null,null,null,0,null,null,0,null,null,0,null,null,0]
[null,null,null,0,null,null,0,null,null,0,null,null,0]
[null,null,null,0,null,null,0,null,null,0,null,null,0]
[null,null,null,0,null,null,0,null,null,0,null,null,0]
[null,null,null,0,null,null,0,null,null,0,null,null,0]
[null,null,null,0,null,null,0,null,null,0,null,null,0]
[null,null,null,0,null,null,0,null,null,0,null,null,0]
[null,null,null,0,null,null,0,null,null,0,null,null,0]
[null,null,null,0,null,null,0,null,null,0,null,null,0]
[null,null,null,0,null,null,0,null,null,0,null,null,0]
[null,null,null,0,null,null,0,null,null,0,null,null,0]
[null,null,null,0,null,null,0,null,null,0,null,null,0]
[null,null,null,0,null,null,0,null,null,0,null,null,0]
[null,null,null,0,null,null,0,null,null,0,null,null,0]
[null,null,null,0,null,null,0,null,null,0,null,null,0]
[null,null,null,0,null,null,0,null,null,0,null,null,0]
[null,null,null,0,null,null,0,null,null,0,null,null,0]
[null,null,null,0,null,null,0,null,null,0,null,null,0]
[null,null,null,0,null,null,0,null,null,0,null,null,0]
[null,null,null,0,null,null,0,null,null,0,null,null,0]
[null,null,null,0,null,null,0,null,null,0,null,null,0]
[null,null,null,0,null,null,0,null,null,0,null,null,0]
[null,null,null,0,null,null,0,null,null,0,null,null,0]
[null,null,null,0,null,null,0,null,null,0,null,null,0]
[null,null,null,{"$f":"A1669*B1669*C1669/1000000","v":0},null,null,{"$f":"(E1669*A1669+F1669*B1669)*C1669","v":0},null,null,{"$f":"(H1669*A1669+I1669*B1669)*C1669","v":0},null,null,{"$f":"(K1669*A1669+L1669*B1669)*C1669","v":0}]
[null,null,null,0,null,null,0,null,null,0,null,null,0]
[null,null,null,0,null,null,0,null,null,0,null,null,0]
[null,null,null,0,null,null,0,null,null,0,null,null,0]
[null,null,null,0,null,null,0,null,null,0,null,null,0]
[null,null,null,0,null,null,0,null,null,0,null,null,0]
[null,null,null,0,null,null,0,null,null,0,null,null,0]
[null,null,null,0,null,null,0,null,null,0,null,null,0]
[null,null,null,0,null,null,0,null,null,0,null,null,0]
[null,null,null,0,null,null,0,null,null,0,null,null,0]
[null,null,null,0,null,null,0,null,null,0,null,null,0]
[null,null,null,0,null,null,0,null,null,0,null,null,0]
[null,null,null,0,null,null,0,null,null,0,null,null,0]
[null,null,null,0,null,null,0,null,null,0,null,null,0]
[null,null,null,0,null,null,0,null,null,0,null,null,0]
[null,null,null,0,null,null,0,null,null,0,null,null,0]
[null,null,null,0,null,null,0,null,null,0,null,null,0]
[null,null,null,0,null,null,0,null,null,0,null,null,0]
[null,null,null,0,null,null,0,null,null,0,null,null,0]
[null,null,null,0,null,null,0,null,null,0,null,null,0]
[null,null,null,0,null,null,0,null,null,0,null,null,0]
[null,null,null,0,null,null,0,null,null,0,null,null,0]
[null,null,null,0,null,null,0,null,null,0,null,null,0]
[null,null,null,0,null,null,0,null,null,0,null,null,0]
[null,null,null,0,null,null,0,null,null,0,null,null,0]
[null,null,null,0,null,null,0,null,null,0,null,null,0]
[null,null,null,0,null,null,0,null,null,0,null,null,0]
[null,null,null,0,null,null,0,null,null,0,null,null,0]
[null,null,null,0,null,null,0,null,null,0,null,null,0]
[null,null,null,0,null,null,0,null,null,0,null,null,0]
[null,null,null,0,null,null,0,null,null,0,null,null,0]
[null,null,null,0,null,null,0,null,null,0,null,null,0]
[null,null,null,0,null,null,0,null,null,0,null,null,0]
[null,null,null,0,null,null,0,null,null,0,null,null,0]
[null,null,null,0,null,null,0,null,null,0,null,null,0]
[null,null,null,0,null,null,0,null,null,0,null,null,0]
[null,null,null,0,null,null,0,null,null,0,null,null,0]
[null,null,null,0,null,null,0,null,null,0,null,null,0]
[null,null,null,0,null,null,0,null,null,0,null,null,0]
[null,null,null,0,null,null,0,null,null,0,null,null,0]
[null,null,null,0,null,null,0,null,null,0,null,null,0]
[null,null,null,0,null,null,0,null,null,0,null,null,0]
[null,null,null,0,null,null,0,null,null,0,null,null,0]
[null,null,null,0,null,null,0,null,null,0,null,null,0]
[null,null,null,0,null,null,0,null,null,0,null,null,0]
[null,null,null,0,null,null,0,null,null,0,null,null,0]
[null,null,null,0,null,null,0,null,null,0,null,null,0]
[null,null,null,0,null,null,0,null,null,0,null,null,0]
[null,null,null,0,null,null,0,null,null,0,null,null,0]
[null,null,null,0,null,null,0,null,null,0,null,null,0]
[null,null,null,0,null,null,0,null,null,0,null,null,0]
[null,null,null,0,null,null,0,null,null,0,null,null,0]
[null,null,null,0,null,null,0,null,null,0,null,null,0]
[null,null,null,0,null,null,0,null,null,0,null,null,0]
[null,null,null,0,null,null,0,null,null,0,null,null,0]
[null,null,null,0,null,null,0,null,null,0,null,null,0]
[null,null,null,0,null,null,0,null,null,0,null,null,0]
[null,null,null,0,null,null,0,null,null,0,null,null,0]
[null,null,null,0,null,null,0,null,null,0,null,null,0]
[null,null,null,0,null,null,0,null,null,0,null,null,0]
[null,null,null,0,null,null,0,null,null,0,null,null,0]
[null,null,null,0,null,null,0,null,null,0,null,null,0]
[null,null,null,0,null,null,0,null,null,0,null,null,0]
[null,null,null,0,null,null,0,null,null,0,null,null,0]
[null,null,null,{"$f":"A1733*B1733*C1733/1000000","v":0},null,null,{"$f":"(E1733*A1733+F1733*B1733)*C1733","v":0},null,null,{"$f":"(H1733*A1733+I1733*B1733)*C1733","v":0},null,null,{"$f":"(K1733*A1733+L1733*B1733)*C1733","v":0}]
[null,null,null,0,null,null,0,null,null,0,null,null,0]
[null,null,null,0,null,null,0,null,null,0,null,null,0]
[null,null,null,0,null,null,0,null,null,0,null,null,0]
[null,null,null,0,null,null,0,null,null,0,null,null,0]
[null,null,null,0,null,null,0,null,null,0,null,null,0]
[null,null,null,0,null,null,0,null,null,0,null,null,0]
[null,null,null,0,null,null,0,null,null,0,null,null,0]
[null,null,null,0,null,null,0,null,null,0,null,null,0]
[null,null,null,0,null,null,0,null,null,0,null,null,0]
[null,null,null,0,null,null,0,null,null,0,null,null,0]
[null,null,null,0,null,null,0,null,null,0,null,null,0]
[null,null,null,0,null,null,0,null,null,0,null,null,0]
[null,null,null,0,null,null,0,null,null,0,null,null,0]
[null,null,null,0,null,null,0,null,null,0,null,null,0]
[null,null,null,0,null,null,0,null,null,0,null,null,0]
[null,null,null,0,null,null,0,null,null,0,null,null,0]
[null,null,null,0,null,null,0,null,null,0,null,null,0]
[null,null,null,0,null,null,0,null,null,0,null,null,0]
[null,null,null,0,null,null,0,null,null,0,null,null,0]
[null,null,null,0,null,null,0,null,null,0,null,null,0]
[null,null,null,0,null,null,0,null,null,0,null,null,0]
[null,null,null,0,null,null,0,null,null,0,null,null,0]
[null,null,null,0,null,null,0,null,null,0,null,null,0]
[null,null,null,0,null,null,0,null,null,0,null,null,0]
[null,null,null,0,null,null,0,null,null,0,null,null,0]
[null,null,null,0,null,null,0,null,null,0,null,null,0]
[null,null,null,0,null,null,0,null,null,0,null,null,0]
[null,null,null,0,null,null,0,null,null,0,null,null,0]
[null,null,null,0,null,null,0,null,null,0,null,null,0]
[null,null,null,0,null,null,0,null,null,0,null,null,0]
[null,null,null,0,null,null,0,null,null,0,null,null,0]
[null,null,null,0,null,null,0,null,null,0,null,null,0]
[null,null,null,0,null,null,0,null,null,0,null,null,0]
[null,null,null,0,null,null,0,null,null,0,null,null,0]
[null,null,null,0,null,null,0,null,null,0,null,null,0]
[null,null,null,0,null,null,0,null,null,0,null,null,0]
[null,null,null,0,null,null,0,null,null,0,null,null,0]
[null,null,null,0,null,null,0,null,null,0,null,null,0]
[null,null,null,0,null,null,0,null,null,0,null,null,0]
[null,null,null,0,null,null,0,null,null,0,null,null,0]
[null,null,null,0,null,null,0,null,null,0,null,null,0]
[null,null,null,0,null,null,0,null,null,0,null,null,0]
[null,null,null,0,null,null,0,null,null,0,null,null,0]
[null,null,null,0,null,null,0,null,null,0,null,null,0]
[null,null,null,0,null,null,0,null,null,0,null,null,0]
[null,null,null,0,null,null,0,null,null,0,null,null,0]
[null,null,null,0,null,null,0,null,null,0,null,null,0]
[null,null,null,0,null,null,0,null,null,0,null,null,0]
[null,null,null,0,null,null,0,null,null,0,null,null,0]
[null,null,null,0,null,null,0,null,null,0,null,null,0]
[null,null,null,0,null,null,0,null,null,0,null,null,0]
[null,null,null,0,null,null,0,null,null,0,null,null,0]
[null,null,null,0,null,null,0,null,null,0,null,null,0]
[null,null,null,0,null,null,0,null,null,0,null,null,0]
[null,null,null,0,null,null,0,null,null,0,null,null,0]
[null,null,null,0,null,null,0,null,null,0,null,null,0]
[null,null,null,0,null,null,0,null,null,0,null,null,0]
[null,null,null,0,null,null,0,null,null,0,null,null,0]
[null,null,null,0,null,null,0,null,null,0,null,null,0]
[null,null,null,0,null,null,0,null,null,0,null,null,0]
[null,null,null,0,null,null,0,null,null,0,null,null,0]
[null,null,null,0,null,null,0,null,null,0,null,null,0]
[null,null,null,0,null,null,0,null,null,0,null,null,0]
[null,null,null,{"$f":"A1797*B1797*C1797/1000000","v":0},null,null,{"$f":"(E1797*A1797+F1797*B1797)*C1797","v":0},null,null,{"$f":"(H1797*A1797+I1797*B1797)*C1797","v":0},null,null,{"$f":"(K1797*A1797+L1797*B1797)*C1797","v":0}]
[null,null,null,0,null,null,0,null,null,0,null,null,0]
[null,null,null,0,null,null,0,null,null,0,null,null,0]
[null,null,null,0,null,null,0,null,null,0,null,null,0]
[null,null,null,0,null,null,0,null,null,0,null,null,0]
[null,null,null,0,null,null,0,null,null,0,null,null,0]
[null,null,null,0,null,null,0,null,null,0,null,null,0]
[null,null,null,0,null,null,0,null,null,0,null,null,0]
[null,null,null,0,null,null,0,null,null,0,null,null,0]
[null,null,null,0,null,null,0,null,null,0,null,null,0]
[null,null,null,0,null,null,0,null,null,0,null,null,0]
[null,null,null,0,null,null,0,null,null,0,null,null,0]
[null,null,null,0,null,null,0,null,null,0,null,null,0]
[null,null,null,0,null,null,0,null,null,0,null,null,0]
[null,null,null,0,null,null,0,null,null,0,null,null,0]
[null,null,null,0,null,null,0,null,null,0,null,null,0]
[null,null,null,0,null,null,0,null,null,0,null,null,0]
[null,null,null,0,null,null,0,null,null,0,null,null,0]
[null,null,null,0,null,null,0,null,null,0,null,null,0]
[null,null,null,0,null,null,0,null,null,0,null,null,0]
[null,null,null,0,null,null,0,null,null,0,null,null,0]
[null,null,null,0,null,null,0,null,null,0,null,null,0]
[null,null,null,0,null,null,0,null,null,0,null,null,0]
[null,null,null,0,null,null,0,null,null,0,null,null,0]
[null,null,null,0,null,null,0,null,null,0,null,null,0]
[null,null,null,0,null,null,0,null,null,0,null,null,0]
[null,null,null,0,null,null,0,null,null,0,null,null,0]
[null,null,null,0,null,null,0,null,null,0,null,null,0]
[null,null,null,0,null,null,0,null,null,0,null,null,0]
[null,null,null,0,null,null,0,null,null,0,null,null,0]
[null,null,null,0,null,null,0,null,null,0,null,null,0]
[null,null,null,0,null,null,0,null,null,0,null,null,0]
[null,null,null,0,null,null,0,null,null,0,null,null,0]
[null,null,null,0,null,null,0,null,null,0,null,null,0]
[null,null,null,0,null,null,0,null,null,0,null,null,0]
[null,null,null,0,null,null,0,null,null,0,null,null,0]
[null,null,null,0,null,null,0,null,null,0,null,null,0]
[null,null,null,0,null,null,0,null,null,0,null,null,0]
[null,null,null,0,null,null,0,null,null,0,null,null,0]
[null,null,null,0,null,null,0,null,null,0,null,null,0]
[null,null,null,0,null,null,0,null,null,0,null,null,0]
[null,null,null,0,null,null,0,null,null,0,null,null,0]
[null,null,null,0,null,null,0,null,null,0,null,null,0]
[null,null,null,0,null,null,0,null,null,0,null,null,0]
[null,null,null,0,null,null,0,null,null,0,null,null,0]
[null,null,null,0,null,null,0,null,null,0,null,null,0]
[null,null,null,0,null,null,0,null,null,0,null,null,0]
[null,null,null,0,null,null,0,null,null,0,null,null,0]
[null,null,null,0,null,null,0,null,null,0,null,null,0]
[null,null,null,0,null,null,0,null,null,0,null,null,0]
[null,null,null,0,null,null,0,null,null,0,null,null,0]
[null,null,null,0,null,null,0,null,null,0,null,null,0]
[null,null,null,0,null,null,0,null,null,0,null,null,0]
[null,null,null,0,null,null,0,null,null,0,null,null,0]
[null,null,null,0,null,null,0,null,null,0,null,null,0]
[null,null,null,0,null,null,0,null,null,0,null,null,0]
[null,null,null,0,null,null,0,null,null,0,null,null,0]
[null,null,null,0,null,null,0,null,null,0,null,null,0]
[null,null,null,0,null,null,0,null,null,0,null,null,0]
[null,null,null,0,null,null,0,null,null,0,null,null,0]
[null,null,null,0,null,null,0,null,null,0,null,null,0]
[null,null,null,0,null,null,0,null,null,0,null,null,0]
[null,null,null,0,null,null,0,null,null,0,null,null,0]
[null,null,null,0,null,null,0,null,null,0,null,null,0]
[null,null,null,{"$f":"A1861*B1861*C1861/1000000","v":0},null,null,{"$f":"(E1861*A1861+F1861*B1861)*C1861","v":0},null,null,{"$f":"(H1861*A1861+I1861*B1861)*C1861","v":0},null,null,{"$f":"(K1861*A1861+L1861*B1861)*C1861","v":0}]
[null,null,null,0,null,null,0,null,null,0,null,null,0]
[null,null,null,0,null,null,0,null,null,0,null,null,0]
[null,null,null,0,null,null,0,null,null,0,null,null,0]
[null,null,null,0,null,null,0,null,null,0,null,null,0]
[null,null,null,0,null,null,0,null,null,0,null,null,0]
[null,null,null,0,null,null,0,null,null,0,null,null,0]
[null,null,null,0,null,null,0,null,null,0,null,null,0]
[null,null,null,0,null,null,0,null,null,0,null,null,0]
[null,null,null,0,null,null,0,null,null,0,null,null,0]
[null,null,null,0,null,null,0,null,null,0,null,null,0]
[null,null,null,0,null,null,0,null,null,0,null,null,0]
[null,null,null,0,null,null,0,null,null,0,null,null,0]
[null,null,null,0,null,null,0,null,null,0,null,null,0]
[null,null,null,0,null,null,0,null,null,0,null,null,0]
[null,null,null,0,null,null,0,null,null,0,null,null,0]
[null,null,null,0,null,null,0,null,null,0,null,null,0]
[null,null,null,0,null,null,0,null,null,0,null,null,0]
[null,null,null,0,null,null,0,null,null,0,null,null,0]
[null,null,null,0,null,null,0,null,null,0,null,null,0]
[null,null,null,0,null,null,0,null,null,0,null,null,0]
[null,null,null,0,null,null,0,null,null,0,null,null,0]
[null,null,null,0,null,null,0,null,null,0,null,null,0]
[null,null,null,0,null,null,0,null,null,0,null,null,0]
[null,null,null,0,null,null,0,null,null,0,null,null,0]
[null,null,null,0,null,null,0,null,null,0,null,null,0]
[null,null,null,0,null,null,0,null,null,0,null,null,0]
[null,null,null,0,null,null,0,null,null,0,null,null,0]
[null,null,null,0,null,null,0,null,null,0,null,null,0]
[null,null,null,0,null,null,0,null,null,0,null,null,0]
[null,null,null,0,null,null,0,null,null,0,null,null,0]
[null,null,null,0,null,null,0,null,null,0,null,null,0]
[null,null,null,0,null,null,0,null,null,0,null,null,0]
[null,null,null,0,null,null,0,null,null,0,null,null,0]
[null,null,null,0,null,null,0,null,null,0,null,null,0]
[null,null,null,0,null,null,0,null,null,0,null,null,0]
[null,null,null,0,null,null,0,null,null,0,null,null,0]
[null,null,null,0,null,null,0,null,null,0,null,null,0]
[null,null,null,0,null,null,0,null,null,0,null,null,0]
[null,null,null,0,null,null,0,null,null,0,null,null,0]
[null,null,null,0,null,null,0,null,null,0,null,null,0]
[null,null,null,0,null,null,0,null,null,0,null,null,0]
[null,null,null,0,null,null,0,null,null,0,null,null,0]
[null,null,null,0,null,null,0,null,null,0,null,null,0]
[null,null,null,0,null,null,0,null,null,0,null,null,0]
[null,null,null,0,null,null,0,null,null,0,null,null,0]
[null,null,null,0,null,null,0,null,null,0,null,null,0]
[null,null,null,0,null,null,0,null,null,0,null,null,0]
[null,null,null,0,null,null,0,null,null,0,null,null,0]
[null,null,null,0,null,null,0,null,null,0,null,null,0]
[null,null,null,0,null,null,0,null,null,0,null,null,0]
[null,null,null,0,null,null,0,null,null,0,null,null,0]
[null,null,null,0,null,null,0,null,null,0,null,null,0]
[null,null,null,0,null,null,0,null,null,0,null,null,0]
[null,null,null,0,null,null,0,null,null,0,null,null,0]
[null,null,null,0,null,null,0,null,null,0,null,null,0]
[null,null,null,0,null,null,0,null,null,0,null,null,0]
[null,null,null,0,null,null,0,null,null,0,null,null,0]
[null,null,null,0,null,null,0,null,null,0,null,null,0]
[null,null,null,0,null,null,0,null,null,0,null,null,0]
[null,null,null,0,null,null,0,null,null,0,null,null,0]
[null,null,null,0,null,null,0,null,null,0,null,null,0]
[null,null,null,0,null,null,0,null,null,0,null,null,0]
[null,null,null,0,null,null,0,null,null,0,null,null,0]
[null,null,null,{"$f":"A1925*B1925*C1925/1000000","v":0},null,null,{"$f":"(E1925*A1925+F1925*B1925)*C1925","v":0},null,null,{"$f":"(H1925*A1925+I1925*B1925)*C1925","v":0},null,null,{"$f":"(K1925*A1925+L1925*B1925)*C1925","v":0}]
[null,null,null,0,null,null,0,null,null,0,null,null,0]
[null,null,null,0,null,null,0,null,null,0,null,null,0]
[null,null,null,0,null,null,0,null,null,0,null,null,0]
[null,null,null,0,null,null,0,null,null,0,null,null,0]
[null,null,null,0,null,null,0,null,null,0,null,null,0]
[null,null,null,0,null,null,0,null,null,0,null,null,0]
[null,null,null,0,null,null,0,null,null,0,null,null,0]
[null,null,null,0,null,null,0,null,null,0,null,null,0]
[null,null,null,0,null,null,0,null,null,0,null,null,0]
[null,null,null,0,null,null,0,null,null,0,null,null,0]
[null,null,null,0,null,null,0,null,null,0,null,null,0]
[null,null,null,0,null,null,0,null,null,0,null,null,0]
[null,null,null,0,null,null,0,null,null,0,null,null,0]
[null,null,null,0,null,null,0,null,null,0,null,null,0]
[null,null,null,0,null,null,0,null,null,0,null,null,0]
[null,null,null,0,null,null,0,null,null,0,null,null,0]
[null,null,null,0,null,null,0,null,null,0,null,null,0]
[null,null,null,0,null,null,0,null,null,0,null,null,0]
[null,null,null,0,null,null,0,null,null,0,null,null,0]
[null,null,null,0,null,null,0,null,null,0,null,null,0]
[null,null,null,0,null,null,0,null,null,0,null,null,0]
[null,null,null,0,null,null,0,null,null,0,null,null,0]
[null,null,null,0,null,null,0,null,null,0,null,null,0]
[null,null,null,0,null,null,0,null,null,0,null,null,0]
[null,null,null,0,null,null,0,null,null,0,null,null,0]
[null,null,null,0,null,null,0,null,null,0,null,null,0]
[null,null,null,0,null,null,0,null,null,0,null,null,0]
[null,null,null,0,null,null,0,null,null,0,null,null,0]
[null,null,null,0,null,null,0,null,null,0,null,null,0]
[null,null,null,0,null,null,0,null,null,0,null,null,0]
[null,null,null,0,null,null,0,null,null,0,null,null,0]
[null,null,null,0,null,null,0,null,null,0,null,null,0]
[null,null,null,0,null,null,0,null,null,0,null,null,0]
[null,null,null,0,null,null,0,null,null,0,null,null,0]
[null,null,null,0,null,null,0,null,null,0,null,null,0]
[null,null,null,0,null,null,0,null,null,0,null,null,0]
[null,null,null,0,null,null,0,null,null,0,null,null,0]
[null,null,null,0,null,null,0,null,null,0,null,null,0]
[null,null,null,0,null,null,0,null,null,0,null,null,0]
[null,null,null,0,null,null,0,null,null,0,null,null,0]
[null,null,null,0,null,null,0,null,null,0,null,null,0]
[null,null,null,0,null,null,0,null,null,0,null,null,0]
[null,null,null,0,null,null,0,null,null,0,null,null,0]
[null,null,null,0,null,null,0,null,null,0,null,null,0]
[null,null,null,0,null,null,0,null,null,0,null,null,0]
[null,null,null,0,null,null,0,null,null,0,null,null,0]
[null,null,null,0,null,null,0,null,null,0,null,null,0]
[null,null,null,0,null,null,0,null,null,0,null,null,0]
[null,null,null,0,null,null,0,null,null,0,null,null,0]
[null,null,null,0,null,null,0,null,null,0,null,null,0]
[null,null,null,0,null,null,0,null,null,0,null,null,0]
[null,null,null,0,null,null,0,null,null,0,null,null,0]
[null,null,null,0,null,null,0,null,null,0,null,null,0]
[null,null,null,0,null,null,0,null,null,0,null,null,0]
[null,null,null,0,null,null,0,null,null,0,null,null,0]
[null,null,null,0,null,null,0,null,null,0,null,null,0]
[null,null,null,0,null,null,0,null,null,0,null,null,0]
[null,null,null,0,null,null,0,null,null,0,null,null,0]
[null,null,null,0,null,null,0,null,null,0,null,null,0]
[null,null,null,0,null,null,0,null,null,0,null,null,0]
[null,null,null,0,null,null,0,null,null,0,null,null,0]
[null,null,null,0,null,null,0,null,null,0,null,null,0]
[null,null,null,0,null,null,0,null,null,0,null,null,0]
[null,null,null,{"$f":"A1989*B1989*C1989/1000000","v":0},null,null,{"$f":"(E1989*A1989+F1989*B1989)*C1989","v":0},null,null,{"$f":"(H1989*A1989+I1989*B1989)*C1989","v":0},null,null,{"$f":"(K1989*A1989+L1989*B1989)*C1989","v":0}]
[null,null,null,0,null,null,0,null,null,0,null,null,0]
[null,null,null,0,null,null,0,null,null,0,null,null,0]
[null,null,null,0,null,null,0,null,null,0,null,null,0]
[null,null,null,0,null,null,0,null,null,0,null,null,0]
[null,null,null,0,null,null,0,null,null,0,null,null,0]
[null,null,null,0,null,null,0,null,null,0,null,null,0]
[null,null,null,0,null,null,0,null,null,0,null,null,0]
[null,null,null,0,null,null,0,null,null,0,null,null,0]
[null,null,null,0,null,null,0,null,null,0,null,null,0]
[null,null,null,0,null,null,0,null,null,0,null,null,0]
[null,null,null,0,null,null,0,null,null,0,null,null,0]
[null,null,null,0,null,null,0,null,null,0,null,null,0]
[null,null,null,0,null,null,0,null,null,0,null,null,0]
[null,null,null,0,null,null,0,null,null,0,null,null,0]
[null,null,null,0,null,null,0,null,null,0,null,null,0]
[null,null,null,0,null,null,0,null,null,0,null,null,0]
[null,null,null,0,null,null,0,null,null,0,null,null,0]
[null,null,null,0,null,null,0,null,null,0,null,null,0]
[null,null,null,0,null,null,0,null,null,0,null,null,0]
[null,null,null,0,null,null,0,null,null,0,null,null,0]
[null,null,null,0,null,null,0,null,null,0,null,null,0]
[null,null,null,0,null,null,0,null,null,0,null,null,0]
[null,null,null,0,null,null,0,null,null,0,null,null,0]
[null,null,null,0,null,null,0,null,null,0,null,null,0]
[null,null,null,0,null,null,0,null,null,0,null,null,0]
[null,null,null,0,null,null,0,null,null,0,null,null,0]
[null,null,null,0,null,null,0,null,null,0,null,null,0]
[null,null,null,0,null,null,0,null,null,0,null,null,0]
[null,null,null,0,null,null,0,null,null,0,null,null,0]
[null,null,null,0,null,null,0,null,null,0,null,null,0]
[null,null,null,0,null,null,0,null,null,0,null,null,0]
[null,null,null,0,null,null,0,null,null,0,null,null,0]
[null,null,null,0,null,null,0,null,null,0,null,null,0]
[null,null,null,0,null,null,0,null,null,0,null,null,0]
[null,null,null,0,null,null,0,null,null,0,null,null,0]
[null,null,null,0,null,null,0,null,null,0,null,null,0]
[null,null,null,0,null,null,0,null,null,0,null,null,0]
[null,null,null,0,null,null,0,null,null,0,null,null,0]
[null,null,null,0,null,null,0,null,null,0,null,null,0]
[null,null,null,0,null,null,0,null,null,0,null,null,0]
[null,null,null,0,null,null,0,null,null,0,null,null,0]
[null,null,null,0,null,null,0,null,null,0,null,null,0]
[null,null,null,0,null,null,0,null,null,0,null,null,0]
[null,null,null,0,null,null,0,null,null,0,null,null,0]
[null,null,null,0,null,null,0,null,null,0,null,null,0]
[null,null,null,0,null,null,0,null,null,0,null,null,0]
[null,null,null,0,null,null,0,null,null,0,null,null,0]
[null,null,null,0,null,null,0,null,null,0,null,null,0]
[null,null,null,0,null,null,0,null,null,0,null,null,0]
[null,null,null,0,null,null,0,null,null,0,null,null,0]
[null,null,null,0,null,null,0,null,null,0,null,null,0]
[null,null,null,0,null,null,0,null,null,0,null,null,0]
[null,null,null,0,null,null,0,null,null,0,null,null,0]
[null,null,null,0,null,null,0,null,null,0,null,null,0]
[null,null,null,0,null,null,0,null,null,0,null,null,0]
[null,null,null,0,null,null,0,null,null,0,null,null,0]
[null,null,null,0,null,null,0,null,null,0,null,null,0]
[null,null,null,0,null,null,0,null,null,0,null,null,0]
[null,null,null,0,null,null,0,null,null,0,null,null,0]
[null,null,null,0,null,null,0,null,null,0,null,null,0]
[null,null,null,0,null,null,0,null,null,0,null,null,0]
[null,null,null,0,null,null,0,null,null,0,null,null,0]
[null,null,null,0,null,null,0,null,null,0,null,null,0]
[null,null,null,{"$f":"A2053*B2053*C2053/1000000","v":0},null,null,{"$f":"(E2053*A2053+F2053*B2053)*C2053","v":0},null,null,{"$f":"(H2053*A2053+I2053*B2053)*C2053","v":0},null,null,{"$f":"(K2053*A2053+L2053*B2053)*C2053","v":0}]
[null,null,null,0,null,null,0,null,null,0,null,null,0]
[null,null,null,0,null,null,0,null,null,0,null,null,0]
[null,null,null,0,null,null,0,null,null,0,null,null,0]
[null,null,null,0,null,null,0,null,null,0,null,null,0]
[null,null,null,0,null,null,0,null,null,0,null,null,0]
[null,null,null,0,null,null,0,null,null,0,null,null,0]
[null,null,null,0,null,null,0,null,null,0,null,null,0]
[null,null,null,0,null,null,0,null,null,0,null,null,0]
[null,null,null,0,null,null,0,null,null,0,null,null,0]
[null,null,null,0,null,null,0,null,null,0,null,null,0]
[null,null,null,0,null,null,0,null,null,0,null,null,0]
[null,null,null,0,null,null,0,null,null,0,null,null,0]
[null,null,null,0,null,null,0,null,null,0,null,null,0]
[null,null,null,0,null,null,0,null,null,0,null,null,0]
[null,null,null,0,null,null,0,null,null,0,null,null,0]
[null,null,null,0,null,null,0,null,null,0,null,null,0]
[null,null,null,0,null,null,0,null,null,0,null,null,0]
[null,null,null,0,null,null,0,null,null,0,null,null,0]
[null,null,null,0,null,null,0,null,null,0,null,null,0]
[null,null,null,0,null,null,0,null,null,0,null,null,0]
[null,null,null,0,null,null,0,null,null,0,null,null,0]
[null,null,null,0,null,null,0,null,null,0,null,null,0]
[null,null,null,0,null,null,0,null,null,0,null,null,0]
[null,null,null,0,null,null,0,null,null,0,null,null,0]
[null,null,null,0,null,null,0,null,null,0,null,null,0]
[null,null,null,0,null,null,0,null,null,0,null,null,0]
[null,null,null,0,null,null,0,null,null,0,null,null,0]
[null,null,null,0,null,null,0,null,null,0,null,null,0]
[null,null,null,0,null,null,0,null,null,0,null,null,0]
[null,null,null,0,null,null,0,null,null,0,null,null,0]
[null,null,null,0,null,null,0,null,null,0,null,null,0]
[null,null,null,0,null,null,0,null,null,0,null,null,0]
[null,null,null,0,null,null,0,null,null,0,null,null,0]
[null,null,null,0,null,null,0,null,null,0,null,null,0]
[null,null,null,0,null,null,0,null,null,0,null,null,0]
[null,null,null,0,null,null,0,null,null,0,null,null,0]
[null,null,null,0,null,null,0,null,null,0,null,null,0]
[null,null,null,0,null,null,0,null,null,0,null,null,0]
[null,null,null,0,null,null,0,null,null,0,null,null,0]
[null,null,null,0,null,null,0,null,null,0,null,null,0]
[null,null,null,0,null,null,0,null,null,0,null,null,0]
[null,null,null,0,null,null,0,null,null,0,null,null,0]
[null,null,null,0,null,null,0,null,null,0,null,null,0]
[null,null,null,0,null,null,0,null,null,0,null,null,0]
[null,null,null,0,null,null,0,null,null,0,null,null,0]
[null,null,null,0,null,null,0,null,null,0,null,null,0]
[null,null,null,0,null,null,0,null,null,0,null,null,0]
[null,null,null,0,null,null,0,null,null,0,null,null,0]
[null,null,null,0,null,null,0,null,null,0,null,null,0]
[null,null,null,0,null,null,0,null,null,0,null,null,0]
[null,null,null,0,null,null,0,null,null,0,null,null,0]
[null,null,null,0,null,null,0,null,null,0,null,null,0]
[null,null,null,0,null,null,0,null,null,0,null,null,0]
[null,null,null,0,null,null,0,null,null,0,null,null,0]
[null,null,null,0,null,null,0,null,null,0,null,null,0]
[null,null,null,0,null,null,0,null,null,0,null,null,0]
[null,null,null,0,null,null,0,null,null,0,null,null,0]
[null,null,null,0,null,null,0,null,null,0,null,null,0]
[null,null,null,0,null,null,0,null,null,0,null,null,0]
[null,null,null,0,null,null,0,null,null,0,null,null,0]
[null,null,null,0,null,null,0,null,null,0,null,null,0]
[null,null,null,0,null,null,0,null,null,0,null,null,0]
[null,null,null,0,null,null,0,null,null,0,null,null,0]
[null,null,null,{"$f":"A2117*B2117*C2117/1000000","v":0},null,null,{"$f":"(E2117*A2117+F2117*B2117)*C2117","v":0},null,null,{"$f":"(H2117*A2117+I2117*B2117)*C2117","v":0},null,null,{"$f":"(K2117*A2117+L2117*B2117)*C2117","v":0}]
[null,null,null,0,null,null,0,null,null,0,null,null,0]
[null,null,null,0,null,null,0,null,null,0,null,null,0]
[null,null,null,0,null,null,0,null,null,0,null,null,0]
[null,null,null,0,null,null,0,null,null,0,null,null,0]
[null,null,null,0,null,null,0,null,null,0,null,null,0]
[null,null,null,0,null,null,0,null,null,0,null,null,0]
[null,null,null,0,null,null,0,null,null,0,null,null,0]
[null,null,null,0,null,null,0,null,null,0,null,null,0]
[null,null,null,0,null,null,0,null,null,0,null,null,0]
[null,null,null,0,null,null,0,null,null,0,null,null,0]
[null,null,null,0,null,null,0,null,null,0,null,null,0]
[null,null,null,0,null,null,0,null,null,0,null,null,0]
[null,null,null,0,null,null,0,null,null,0,null,null,0]
[null,null,null,0,null,null,0,null,null,0,null,null,0]
[null,null,null,0,null,null,0,null,null,0,null,null,0]
[null,null,null,0,null,null,0,null,null,0,null,null,0]
[null,null,null,0,null,null,0,null,null,0,null,null,0]
[null,null,null,0,null,null,0,null,null,0,null,null,0]
[null,null,null,0,null,null,0,null,null,0,null,null,0]
[null,null,null,0,null,null,0,null,null,0,null,null,0]
[null,null,null,0,null,null,0,null,null,0,null,null,0]
[null,null,null,0,null,null,0,null,null,0,null,null,0]
[null,null,null,0,null,null,0,null,null,0,null,null,0]
[null,null,null,0,null,null,0,null,null,0,null,null,0]
[null,null,null,0,null,null,0,null,null,0,null,null,0]
[null,null,null,0,null,null,0,null,null,0,null,null,0]
[null,null,null,0,null,null,0,null,null,0,null,null,0]
[null,null,null,0,null,null,0,null,null,0,null,null,0]
[null,null,null,0,null,null,0,null,null,0,null,null,0]
[null,null,null,0,null,null,0,null,null,0,null,null,0]
[null,null,null,0,null,null,0,null,null,0,null,null,0]
[null,null,null,0,null,null,0,null,null,0,null,null,0]
[null,null,null,0,null,null,0,null,null,0,null,null,0]
[null,null,null,0,null,null,0,null,null,0,null,null,0]
[null,null,null,0,null,null,0,null,null,0,null,null,0]
[null,null,null,0,null,null,0,null,null,0,null,null,0]
[null,null,null,0,null,null,0,null,null,0,null,null,0]
[null,null,null,0,null,null,0,null,null,0,null,null,0]
[null,null,null,0,null,null,0,null,null,0,null,null,0]
[null,null,null,0,null,null,0,null,null,0,null,null,0]
[null,null,null,0,null,null,0,null,null,0,null,null,0]
[null,null,null,0,null,null,0,null,null,0,null,null,0]
[null,null,null,0,null,null,0,null,null,0,null,null,0]
[null,null,null,0,null,null,0,null,null,0,null,null,0]
[null,null,null,0,null,null,0,null,null,0,null,null,0]
[null,null,null,0,null,null,0,null,null,0,null,null,0]
[null,null,null,0,null,null,0,null,null,0,null,null,0]
[null,null,null,0,null,null,0,null,null,0,null,null,0]
[null,null,null,0,null,null,0,null,null,0,null,null,0]
[null,null,null,0,null,null,0,null,null,0,null,null,0]
[null,null,null,0,null,null,0,null,null,0,null,null,0]
[null,null,null,0,null,null,0,null,null,0,null,null,0]
[null,null,null,0,null,null,0,null,null,0,null,null,0]
[null,null,null,0,null,null,0,null,null,0,null,null,0]
[null,null,null,0,null,null,0,null,null,0,null,null,0]
[null,null,null,0,null,null,0,null,null,0,null,null,0]
[null,null,null,0,null,null,0,null,null,0,null,null,0]
[null,null,null,0,null,null,0,null,null,0,null,null,0]
[null,null,null,0,null,null,0,null,null,0,null,null,0]
[null,null,null,0,null,null,0,null,null,0,null,null,0]
[null,null,null,0,null,null,0,null,null,0,null,null,0]
[null,null,null,0,null,null,0,null,null,0,null,null,0]
[null,null,null,0,null,null,0,null,null,0,null,null,0]
[null,null,null,{"$f":"A2181*B2181*C2181/1000000","v":0},null,null,{"$f":"(E2181*A2181+F2181*B2181)*C2181","v":0},null,null,{"$f":"(H2181*A2181+I2181*B2181)*C2181","v":0},null,null,{"$f":"(K2181*A2181+L2181*B2181)*C2181","v":0}]
[null,null,null,0,null,null,0,null,null,0,null,null,0]
[null,null,null,0,null,null,0,null,null,0,null,null,0]
[null,null,null,0,null,null,0,null,null,0,null,null,0]
[null,null,null,0,null,null,0,null,null,0,null,null,0]
[null,null,null,0,null,null,0,null,null,0,null,null,0]
[null,null,null,0,null,null,0,null,null,0,null,null,0]
[null,null,null,0,null,null,0,null,null,0,null,null,0]
[null,null,null,0,null,null,0,null,null,0,null,null,0]
[null,null,null,0,null,null,0,null,null,0,null,null,0]
[null,null,null,0,null,null,0,null,null,0,null,null,0]
[null,null,null,0,null,null,0,null,null,0,null,null,0]
[null,null,null,0,null,null,0,null,null,0,null,null,0]
[null,null,null,0,null,null,0,null,null,0,null,null,0]
[null,null,null,0,null,null,0,null,null,0,null,null,0]
[null,null,null,0,null,null,0,null,null,0,null,null,0]
[null,null,null,0,null,null,0,null,null,0,null,null,0]
[null,null,null,0,null,null,0,null,null,0,null,null,0]
[null,null,null,0,null,null,0,null,null,0,null,null,0]
[null,null,null,0,null,null,0,null,null,0,null,null,0]
[null,null,null,0,null,null,0,null,null,0,null,null,0]
[null,null,null,0,null,null,0,null,null,0,null,null,0]
[null,null,null,0,null,null,0,null,null,0,null,null,0]
[null,null,null,0,null,null,0,null,null,0,null,null,0]
[null,null,null,0,null,null,0,null,null,0,null,null,0]
[null,null,null,0,null,null,0,null,null,0,null,null,0]
[null,null,null,0,null,null,0,null,null,0,null,null,0]
[null,null,null,0,null,null,0,null,null,0,null,null,0]
[null,null,null,0,null,null,0,null,null,0,null,null,0]
[null,null,null,0,null,null,0,null,null,0,null,null,0]
[null,null,null,0,null,null,0,null,null,0,null,null,0]
[null,null,null,0,null,null,0,null,null,0,null,null,0]
[null,null,null,0,null,null,0,null,null,0,null,null,0]
[null,null,null,0,null,null,0,null,null,0,null,null,0]
[null,null,null,0,null,null,0,null,null,0,null,null,0]
[null,null,null,0,null,null,0,null,null,0,null,null,0]
[null,null,null,0,null,null,0,null,null,0,null,null,0]
[null,null,null,0,null,null,0,null,null,0,null,null,0]
[null,null,null,0,null,null,0,null,null,0,null,null,0]
[null,null,null,0,null,null,0,null,null,0,null,null,0]
[null,null,null,0,null,null,0,null,null,0,null,null,0]
[null,null,null,0,null,null,0,null,null,0,null,null,0]
[null,null,null,0,null,null,0,null,null,0,null,null,0]
[null,null,null,0,null,null,0,null,null,0,null,null,0]
[null,null,null,0,null,null,0,null,null,0,null,null,0]
[null,null,null,0,null,null,0,null,null,0,null,null,0]
[null,null,null,0,null,null,0,null,null,0,null,null,0]
[null,null,null,0,null,null,0,null,null,0,null,null,0]
[null,null,null,0,null,null,0,null,null,0,null,null,0]
[null,null,null,0,null,null,0,null,null,0,null,null,0]
[null,null,null,0,null,null,0,null,null,0,null,null,0]
[null,null,null,0,null,null,0,null,null,0,null,null,0]
[null,null,null,0,null,null,0,null,null,0,null,null,0]
[null,null,null,0,null,null,0,null,null,0,null,null,0]
[null,null,null,0,null,null,0,null,null,0,null,null,0]
[null,null,null,0,null,null,0,null,null,0,null,null,0]
[null,null,null,0,null,null,0,null,null,0,null,null,0]
[null,null,null,0,null,null,0,null,null,0,null,null,0]
[null,null,null,0,null,null,0,null,null,0,null,null,0]
[null,null,null,0,null,null,0,null,null,0,null,null,0]
[null,null,null,0,null,null,0,null,null,0,null,null,0]
[null,null,null,0,null,null,0,null,null,0,null,null,0]
[null,null,null,0,null,null,0,null,null,0,null,null,0]
[null,null,null,0,null,null,0,null,null,0,null,null,0]
[null,null,null,{"$f":"A2245*B2245*C2245/1000000","v":0},null,null,{"$f":"(E2245*A2245+F2245*B2245)*C2245","v":0},null,null,{"$f":"(H2245*A2245+I2245*B2245)*C2245","v":0},null,null,{"$f":"(K2245*A2245+L2245*B2245)*C2245","v":0}]
[null,null,null,0,null,null,0,null,null,0,null,null,0]
[null,null,null,0,null,null,0,null,null,0,null,null,0]
[null,null,null,0,null,null,0,null,null,0,null,null,0]
[null,null,null,0,null,null,0,null,null,0,null,null,0]
[null,null,null,0,null,null,0,null,null,0,null,null,0]
[null,null,null,0,null,null,0,null,null,0,null,null,0]
[null,null,null,0,null,null,0,null,null,0,null,null,0]
[null,null,null,0,null,null,0,null,null,0,null,null,0]
[null,null,null,0,null,null,0,null,null,0,null,null,0]
[null,null,null,0,null,null,0,null,null,0,null,null,0]
[null,null,null,0,null,null,0,null,null,0,null,null,0]
[null,null,null,0,null,null,0,null,null,0,null,null,0]
[null,null,null,0,null,null,0,null,null,0,null,null,0]
[null,null,null,0,null,null,0,null,null,0,null,null,0]
[null,null,null,0,null,null,0,null,null,0,null,null,0]
[null,null,null,0,null,null,0,null,null,0,null,null,0]
[null,null,null,0,null,null,0,null,null,0,null,null,0]
[null,null,null,0,null,null,0,null,null,0,null,null,0]
[null,null,null,0,null,null,0,null,null,0,null,null,0]
[null,null,null,0,null,null,0,null,null,0,null,null,0]
[null,null,null,0,null,null,0,null,null,0,null,null,0]
[null,null,null,0,null,null,0,null,null,0,null,null,0]
[null,null,null,0,null,null,0,null,null,0,null,null,0]
[null,null,null,0,null,null,0,null,null,0,null,null,0]
[null,null,null,0,null,null,0,null,null,0,null,null,0]
[null,null,null,0,null,null,0,null,null,0,null,null,0]
[null,null,null,0,null,null,0,null,null,0,null,null,0]
[null,null,null,0,null,null,0,null,null,0,null,null,0]
[null,null,null,0,null,null,0,null,null,0,null,null,0]
[null,null,null,0,null,null,0,null,null,0,null,null,0]
[null,null,null,0,null,null,0,null,null,0,null,null,0]
[null,null,null,0,null,null,0,null,null,0,null,null,0]
[null,null,null,0,null,null,0,null,null,0,null,null,0]
[null,null,null,0,null,null,0,null,null,0,null,null,0]
[null,null,null,0,null,null,0,null,null,0,null,null,0]
[null,null,null,0,null,null,0,null,null,0,null,null,0]
[null,null,null,0,null,null,0,null,null,0,null,null,0]
[null,null,null,0,null,null,0,null,null,0,null,null,0]
[null,null,null,0,null,null,0,null,null,0,null,null,0]
[null,null,null,0,null,null,0,null,null,0,null,null,0]
[null,null,null,0,null,null,0,null,null,0,null,null,0]
[null,null,null,0,null,null,0,null,null,0,null,null,0]
[null,null,null,0,null,null,0,null,null,0,null,null,0]
[null,null,null,0,null,null,0,null,null,0,null,null,0]
[null,null,null,0,null,null,0,null,null,0,null,null,0]
[null,null,null,0,null,null,0,null,null,0,null,null,0]
[null,null,null,0,null,null,0,null,null,0,null,null,0]
[null,null,null,0,null,null,0,null,null,0,null,null,0]
[null,null,null,0,null,null,0,null,null,0,null,null,0]
[null,null,null,0,null,null,0,null,null,0,null,null,0]
[null,null,null,0,null,null,0,null,null,0,null,null,0]
[null,null,null,0,null,null,0,null,null,0,null,null,0]
[null,null,null,0,null,null,0,null,null,0,null,null,0]
[null,null,null,0,null,null,0,null,null,0,null,null,0]
[null,null,null,0,null,null,0,null,null,0,null,null,0]
[null,null,null,0,null,null,0,null,null,0,null,null,0]
[null,null,null,0,null,null,0,null,null,0,null,null,0]
[null,null,null,0,null,null,0,null,null,0,null,null,0]
[null,null,null,0,null,null,0,null,null,0,null,null,0]
[null,null,null,0,null,null,0,null,null,0,null,null,0]
[null,null,null,0,null,null,0,null,null,0,null,null,0]
[null,null,null,0,null,null,0,null,null,0,null,null,0]
[null,null,null,0,null,null,0,null,null,0,null,null,0]
[null,null,null,{"$f":"A2309*B2309*C2309/1000000","v":0},null,null,{"$f":"(E2309*A2309+F2309*B2309)*C2309","v":0},null,null,{"$f":"(H2309*A2309+I2309*B2309)*C2309","v":0},null,null,{"$f":"(K2309*A2309+L2309*B2309)*C2309","v":0}]
[null,null,null,0,null,null,0,null,null,0,null,null,0]
[null,null,null,0,null,null,0,null,null,0,null,null,0]
[null,null,null,0,null,null,0,null,null,0,null,null,0]
[null,null,null,0,null,null,0,null,null,0,null,null,0]
[null,null,null,0,null,null,0,null,null,0,null,null,0]
[null,null,null,0,null,null,0,null,null,0,null,null,0]
[null,null,null,0,null,null,0,null,null,0,null,null,0]
[null,null,null,0,null,null,0,null,null,0,null,null,0]
[null,null,null,0,null,null,0,null,null,0,null,null,0]
[null,null,null,0,null,null,0,null,null,0,null,null,0]
[null,null,null,0,null,null,0,null,null,0,null,null,0]
[null,null,null,0,null,null,0,null,null,0,null,null,0]
[null,null,null,0,null,null,0,null,null,0,null,null,0]
[null,null,null,0,null,null,0,null,null,0,null,null,0]
[null,null,null,0,null,null,0,null,null,0,null,null,0]
[null,null,null,0,null,null,0,null,null,0,null,null,0]
[null,null,null,0,null,null,0,null,null,0,null,null,0]
[null,null,null,0,null,null,0,null,null,0,null,null,0]
[null,null,null,0,null,null,0,null,null,0,null,null,0]
[null,null,null,0,null,null,0,null,null,0,null,null,0]
[null,null,null,0,null,null,0,null,null,0,null,null,0]
[null,null,null,0,null,null,0,null,null,0,null,null,0]
[null,null,null,0,null,null,0,null,null,0,null,null,0]
[null,null,null,0,null,null,0,null,null,0,null,null,0]
[null,null,null,0,null,null,0,null,null,0,null,null,0]
[null,null,null,0,null,null,0,null,null,0,null,null,0]
[null,null,null,0,null,null,0,null,null,0,null,null,0]
[null,null,null,0,null,null,0,null,null,0,null,null,0]
[null,null,null,0,null,null,0,null,null,0,null,null,0]
[null,null,null,0,null,null,0,null,null,0,null,null,0]
[null,null,null,0,null,null,0,null,null,0,null,null,0]
[null,null,null,0,null,null,0,null,null,0,null,null,0]
[null,null,null,0,null,null,0,null,null,0,null,null,0]
[null,null,null,0,null,null,0,null,null,0,null,null,0]
[null,null,null,0,null,null,0,null,null,0,null,null,0]
[null,null,null,0,null,null,0,null,null,0,null,null,0]
[null,null,null,0,null,null,0,null,null,0,null,null,0]
[null,null,null,0,null,null,0,null,null,0,null,null,0]
[null,null,null,0,null,null,0,null,null,0,null,null,0]
[null,null,null,0,null,null,0,null,null,0,null,null,0]
[null,null,null,0,null,null,0,null,null,0,null,null,0]
[null,null,null,0,null,null,0,null,null,0,null,null,0]
[null,null,null,0,null,null,0,null,null,0,null,null,0]
[null,null,null,0,null,null,0,null,null,0,null,null,0]
[null,null,null,0,null,null,0,null,null,0,null,null,0]
[null,null,null,0,null,null,0,null,null,0,null,null,0]
[null,null,null,0,null,null,0,null,null,0,null,null,0]
[null,null,null,0,null,null,0,null,null,0,null,null,0]
[null,null,null,0,null,null,0,null,null,0,null,null,0]
[null,null,null,0,null,null,0,null,null,0,null,null,0]
[null,null,null,0,null,null,0,null,null,0,null,null,0]
[null,null,null,0,null,null,0,null,null,0,null,null,0]
[null,null,null,0,null,null,0,null,null,0,null,null,0]
[null,null,null,0,null,null,0,null,null,0,null,null,0]
[null,null,null,0,null,null,0,null,null,0,null,null,0]
[null,null,null,0,null,null,0,null,null,0,null,null,0]
[null,null,null,0,null,null,0,null,null,0,null,null,0]
[null,null,null,0,null,null,0,null,null,0,null,null,0]
[null,null,null,0,null,null,0,null,null,0,null,null,0]
[null,null,null,0,null,null,0,null,null,0,null,null,0]
[null,null,null,0,null,null,0,null,null,0,null,null,0]
[null,null,null,0,null,null,0,null,null,0,null,null,0]
[null,null,null,0,null,null,0,null,null,0,null,null,0]
[null,null,null,{"$f":"A2373*B2373*C2373/1000000","v":0},null,null,{"$f":"(E2373*A2373+F2373*B2373)*C2373","v":0},null,null,{"$f":"(H2373*A2373+I2373*B2373)*C2373","v":0},null,null,{"$f":"(K2373*A2373+L2373*B2373)*C2373","v":0}]
[null,null,null,0,null,null,0,null,null,0,null,null,0]
[null,null,null,0,null,null,0,null,null,0,null,null,0]
[null,null,null,0,null,null,0,null,null,0,null,null,0]
[null,null,null,0,null,null,0,null,null,0,null,null,0]
[null,null,null,0,null,null,0,null,null,0,null,null,0]
[null,null,null,0,null,null,0,null,null,0,null,null,0]
[null,null,null,0,null,null,0,null,null,0,null,null,0]
[null,null,null,0,null,null,0,null,null,0,null,null,0]
[null,null,null,0,null,null,0,null,null,0,null,null,0]
[null,null,null,0,null,null,0,null,null,0,null,null,0]
[null,null,null,0,null,null,0,null,null,0,null,null,0]
[null,null,null,0,null,null,0,null,null,0,null,null,0]
[null,null,null,0,null,null,0,null,null,0,null,null,0]
[null,null,null,0,null,null,0,null,null,0,null,null,0]
[null,null,null,0,null,null,0,null,null,0,null,null,0]
[null,null,null,0,null,null,0,null,null,0,null,null,0]
[null,null,null,0,null,null,0,null,null,0,null,null,0]
[null,null,null,0,null,null,0,null,null,0,null,null,0]
[null,null,null,0,null,null,0,null,null,0,null,null,0]
[null,null,null,0,null,null,0,null,null,0,null,null,0]
[null,null,null,0,null,null,0,null,null,0,null,null,0]
[null,null,null,0,null,null,0,null,null,0,null,null,0]
[null,null,null,0,null,null,0,null,null,0,null,null,0]
[null,null,null,0,null,null,0,null,null,0,null,null,0]
[null,null,null,0,null,null,0,null,null,0,null,null,0]
[null,null,null,0,null,null,0,null,null,0,null,null,0]
[null,null,null,0,null,null,0,null,null,0,null,null,0]
[null,null,null,0,null,null,0,null,null,0,null,null,0]
[null,null,null,0,null,null,0,null,null,0,null,null,0]
[null,null,null,0,null,null,0,null,null,0,null,null,0]
[null,null,null,0,null,null,0,null,null,0,null,null,0]
[null,null,null,0,null,null,0,null,null,0,null,null,0]
[null,null,null,0,null,null,0,null,null,0,null,null,0]
[null,null,null,0,null,null,0,null,null,0,null,null,0]
[null,null,null,0,null,null,0,null,null,0,null,null,0]
[null,null,null,0,null,null,0,null,null,0,null,null,0]
[null,null,null,0,null,null,0,null,null,0,null,null,0]
[null,null,null,0,null,null,0,null,null,0,null,null,0]
[null,null,null,0,null,null,0,null,null,0,null,null,0]
[null,null,null,0,null,null,0,null,null,0,null,null,0]
[null,null,null,0,null,null,0,null,null,0,null,null,0]
[null,null,null,0,null,null,0,null,null,0,null,null,0]
[null,null,null,0,null,null,0,null,null,0,null,null,0]
[null,null,null,0,null,null,0,null,null,0,null,null,0]
[null,null,null,0,null,null,0,null,null,0,null,null,0]
[null,null,null,0,null,null,0,null,null,0,null,null,0]
[null,null,null,0,null,null,0,null,null,0,null,null,0]
[null,null,null,0,null,null,0,null,null,0,null,null,0]
[null,null,null,0,null,null,0,null,null,0,null,null,0]
[null,null,null,0,null,null,0,null,null,0,null,null,0]
[null,null,null,0,null,null,0,null,null,0,null,null,0]
[null,null,null,0,null,null,0,null,null,0,null,null,0]
[null,null,null,0,null,null,0,null,null,0,null,null,0]
[null,null,null,0,null,null,0,null,null,0,null,null,0]
[null,null,null,0,null,null,0,null,null,0,null,null,0]
[null,null,null,0,null,null,0,null,null,0,null,null,0]
[null,null,null,0,null,null,0,null,null,0,null,null,0]
[null,null,null,0,null,null,0,null,null,0,null,null,0]
[null,null,null,0,null,null,0,null,null,0,null,null,0]
[null,null,null,0,null,null,0,null,null,0,null,null,0]
[null,null,null,0,null,null,0,null,null,0,null,null,0]
[null,null,null,0,null,null,0,null,null,0,null,null,0]
[null,null,null,0,null,null,0,null,null,0,null,null,0]
[null,null,null,{"$f":"A2437*B2437*C2437/1000000","v":0},null,null,{"$f":"(E2437*A2437+F2437*B2437)*C2437","v":0},null,null,{"$f":"(H2437*A2437+I2437*B2437)*C2437","v":0},null,null,{"$f":"(K2437*A2437+L2437*B2437)*C2437","v":0}]
[null,null,null,0,null,null,0,null,null,0,null,null,0]
[null,null,null,0,null,null,0,null,null,0,null,null,0]
[null,null,null,0,null,null,0,null,null,0,null,null,0]
[null,null,null,0,null,null,0,null,null,0,null,null,0]
[null,null,null,0,null,null,0,null,null,0,null,null,0]
[null,null,null,0,null,null,0,null,null,0,null,null,0]
[null,null,null,0,null,null,0,null,null,0,null,null,0]
[null,null,null,0,null,null,0,null,null,0,null,null,0]
[null,null,null,0,null,null,0,null,null,0,null,null,0]
[null,null,null,0,null,null,0,null,null,0,null,null,0]
[null,null,null,0,null,null,0,null,null,0,null,null,0]
[null,null,null,0,null,null,0,null,null,0,null,null,0]
[null,null,null,0,null,null,0,null,null,0,null,null,0]
[null,null,null,0,null,null,0,null,null,0,null,null,0]
[null,null,null,0,null,null,0,null,null,0,null,null,0]
[null,null,null,0,null,null,0,null,null,0,null,null,0]
[null,null,null,0,null,null,0,null,null,0,null,null,0]
[null,null,null,0,null,null,0,null,null,0,null,null,0]
[null,null,null,0,null,null,0,null,null,0,null,null,0]
[null,null,null,0,null,null,0,null,null,0,null,null,0]
[null,null,null,0,null,null,0,null,null,0,null,null,0]
[null,null,null,0,null,null,0,null,null,0,null,null,0]
[null,null,null,0,null,null,0,null,null,0,null,null,0]
[null,null,null,0,null,null,0,null,null,0,null,null,0]
[null,null,null,0,null,null,0,null,null,0,null,null,0]
[null,null,null,0,null,null,0,null,null,0,null,null,0]
[null,null,null,0,null,null,0,null,null,0,null,null,0]
[null,null,null,0,null,null,0,null,null,0,null,null,0]
[null,null,null,0,null,null,0,null,null,0,null,null,0]
[null,null,null,0,null,null,0,null,null,0,null,null,0]
[null,null,null,0,null,null,0,null,null,0,null,null,0]
[null,null,null,0,null,null,0,null,null,0,null,null,0]
[null,null,null,0,null,null,0,null,null,0,null,null,0]
[null,null,null,0,null,null,0,null,null,0,null,null,0]
[null,null,null,0,null,null,0,null,null,0,null,null,0]
[null,null,null,0,null,null,0,null,null,0,null,null,0]
[null,null,null,0,null,null,0,null,null,0,null,null,0]
[null,null,null,0,null,null,0,null,null,0,null,null,0]
[null,null,null,0,null,null,0,null,null,0,null,null,0]
[null,null,null,0,null,null,0,null,null,0,null,null,0]
[null,null,null,0,null,null,0,null,null,0,null,null,0]
[null,null,null,0,null,null,0,null,null,0,null,null,0]
[null,null,null,0,null,null,0,null,null,0,null,null,0]
[null,null,null,0,null,null,0,null,null,0,null,null,0]
[null,null,null,0,null,null,0,null,null,0,null,null,0]
[null,null,null,0,null,null,0,null,null,0,null,null,0]
[null,null,null,0,null,null,0,null,null,0,null,null,0]
[null,null,null,0,null,null,0,null,null,0,null,null,0]
[null,null,null,0,null,null,0,null,null,0,null,null,0]
[null,null,null,0,null,null,0,null,null,0,null,null,0]
[null,null,null,0,null,null,0,null,null,0,null,null,0]
[null,null,null,0,null,null,0,null,null,0,null,null,0]
[null,null,null,0,null,null,0,null,null,0,null,null,0]
[null,null,null,0,null,null,0,null,null,0,null,null,0]
[null,null,null,0,null,null,0,null,null,0,null,null,0]
[null,null,null,0,null,null,0,null,null,0,null,null,0]
[null,null,null,0,null,null,0,null,null,0,null,null,0]
[null,null,null,0,null,null,0,null,null,0,null,null,0]
[null,null,null,0,null,null,0,null,null,0,null,null,0]
[null,null,null,0,null,null,0,null,null,0,null,null,0]
[null,null,null,0,null,null,0,null,null,0,null,null,0]
[null,null,null,0,null,null,0,null,null,0,null,null,0]
[null,null,null,0,null,null,0,null,null,0,null,null,0]
[null,null,null,{"$f":"A2501*B2501*C2501/1000000","v":0},null,null,{"$f":"(E2501*A2501+F2501*B2501)*C2501","v":0},null,null,{"$f":"(H2501*A2501+I2501*B2501)*C2501","v":0},null,null,{"$f":"(K2501*A2501+L2501*B2501)*C2501","v":0}]
[null,null,null,{"$f":"A2502*B2502*C2502/1000000","v":0},null,null,{"$f":"(E2502*A2502+F2502*B2502)*C2502","v":0},null,null,{"$f":"(H2502*A2502+I2502*B2502)*C2502","v":0},null,null,{"$f":"(K2502*A2502+L2502*B2502)*C2502","v":0}]

{"sheet":"В производство","index":1,"n_rows":12,"n_cols":12,"rows_kept":12,"cut":false,"hidden":false,"merged":[[1,8,1,9],[1,1,1,3],[2,1,2,3],[2,4,2,5],[2,6,2,7],[2,8,2,9],[1,0,3,0],[4,11,4,12],[5,11,5,12],[0,0,0,4],[0,5,0,6],[0,9,0,12],[2,11,2,12],[3,11,3,12],[1,4,1,5],[1,6,1,7]]}
["Приложение к соглашению №:",null,null,null,null,{"$f":"Расчет!Q9","v":0},null,null,"ФИО:",{"$f":"Расчет!Q8","v":0}]
["№ п/п",{"$f":"Расчет!N4","v":0},null,null,{"$f":"Расчет!O4","v":0},null,{"$f":"Расчет!P4","v":0},null,{"$f":"Расчет!Q4","v":0}]
[null,"ЛДСП",null,null,"ПВХ 19x04",null,"ПВХ 19x2.0",null,"ПВХ 35х2.0",null,"ЛДСП",{"$f":"Расчет!Q10","v":0}]
[null,"X","Y","Кол-во","X","Y","X","Y","X","Y","19х0.4",{"$f":"Расчет!Q11","v":0}]
[1,712,542,1,null,null,2,2,null,null,"19х2.0",{"$f":"Расчет!Q12","v":0}]
[2,712,116,1,null,null,2,2,null,null,"35х2.0",{"$f":"Расчет!Q13","v":0}]
[3,712,322,1,null,null,2,2]
[4,442,172,1,null,null,2,2]
[5,442,532,1,null,null,2,2]
[6,392,142,1,null,null,2,2]
[]
[null,null,"Подпись заказчика__________________"]

{"sheet":"Соглашение","index":2,"n_rows":0,"n_cols":0,"rows_kept":0,"cut":false,"hidden":false,"merged":[]}

{"sheet":"Лист1","index":3,"n_rows":2495,"n_cols":12,"rows_kept":2495,"cut":false,"hidden":false,"merged":[[0,0,0,3],[0,4,0,7],[0,8,0,11]]}
["ПВХ 19х0.4",null,null,null,"ПВХ 19х2.0",null,null,null,"ПВХ 35х2.0"]
[">=2000","<2000",">=","<","больше","меньше","больше","меньше","больше","меньше","больше","меньше"]
[{"$f":"IF(OR(Расчет!A4>=2000,Расчет!B4>=2000),Расчет!G4,0)","v":0},{"$f":"IF(AND(Расчет!A4<2000,Расчет!B4<2000),Расчет!G4,0)","v":0},{"$f":"SUM(A3:A2495)/1000","v":0},{"$f":"SUM(B3:B2495)/1000","v":0},{"$f":"IF(OR(Расчет!A4>=2000,Расчет!B4>=2000),Расчет!J4,0)","v":0},{"$f":"IF(AND(Расчет!A4<2000,Расчет!B4<2000),Расчет!J4,0)","v":0},{"$f":"SUM(E3:E2495)/1000","v":0},{"$f":"SUM(F3:F2495)/1000","v":0},{"$f":"IF(OR(Расчет!A4>=2000,Расчет!B4>=2000),Расчет!M4,0)","v":0},{"$f":"IF(AND(Расчет!A4<2000,Расчет!B4<2000),Расчет!M4,0)","v":0},{"$f":"SUM(I3:I2495)/1000","v":0},{"$f":"SUM(J3:J2495)/1000","v":0}]
[{"$f":"IF(OR(Расчет!A5>=2000,Расчет!B5>=2000),Расчет!G5,0)","v":0},{"$f":"IF(AND(Расчет!A5<2000,Расчет!B5<2000),Расчет!G5,0)","v":0},{"$f":"C3*Расчет!V3","v":0},{"$f":"D3*Расчет!U3","v":0},{"$f":"IF(OR(Расчет!A5>=2000,Расчет!B5>=2000),Расчет!J5,0)","v":0},{"$f":"IF(AND(Расчет!A5<2000,Расчет!B5<2000),Расчет!J5,0)","v":0},{"$f":"G3*Расчет!V4","v":0},{"$f":"H3*Расчет!U4","v":0},{"$f":"IF(OR(Расчет!A5>=2000,Расчет!B5>=2000),Расчет!M5,0)","v":0},{"$f":"IF(AND(Расчет!A5<2000,Расчет!B5<2000),Расчет!M5,0)","v":0},{"$f":"K3*Расчет!V5","v":0},{"$f":"L3*Расчет!U5","v":0}]
[{"$f":"IF(OR(Расчет!A6>=2000,Расчет!B6>=2000),Расчет!G6,0)","v":0},{"$f":"IF(AND(Расчет!A6<2000,Расчет!B6<2000),Расчет!G6,0)","v":0},null,null,{"$f":"IF(OR(Расчет!A6>=2000,Расчет!B6>=2000),Расчет!J6,0)","v":0},{"$f":"IF(AND(Расчет!A6<2000,Расчет!B6<2000),Расчет!J6,0)","v":0},null,null,{"$f":"IF(OR(Расчет!A6>=2000,Расчет!B6>=2000),Расчет!M6,0)","v":0},{"$f":"IF(AND(Расчет!A6<2000,Расчет!B6<2000),Расчет!M6,0)","v":0}]
[{"$f":"IF(OR(Расчет!A7>=2000,Расчет!B7>=2000),Расчет!G7,0)","v":0},{"$f":"IF(AND(Расчет!A7<2000,Расчет!B7<2000),Расчет!G7,0)","v":0},null,{"$f":"C4+D4","v":0},{"$f":"IF(OR(Расчет!A7>=2000,Расчет!B7>=2000),Расчет!J7,0)","v":0},{"$f":"IF(AND(Расчет!A7<2000,Расчет!B7<2000),Расчет!J7,0)","v":0},null,{"$f":"G4+H4","v":0},{"$f":"IF(OR(Расчет!A7>=2000,Расчет!B7>=2000),Расчет!M7,0)","v":0},{"$f":"IF(AND(Расчет!A7<2000,Расчет!B7<2000),Расчет!M7,0)","v":0},null,{"$f":"SUM(K4+L4)","v":0}]
[{"$f":"IF(OR(Расчет!A8>=2000,Расчет!B8>=2000),Расчет!G8,0)","v":0},{"$f":"IF(AND(Расчет!A8<2000,Расчет!B8<2000),Расчет!G8,0)","v":0},null,null,{"$f":"IF(OR(Расчет!A8>=2000,Расчет!B8>=2000),Расчет!J8,0)","v":0},{"$f":"IF(AND(Расчет!A8<2000,Расчет!B8<2000),Расчет!J8,0)","v":0},null,null,{"$f":"IF(OR(Расчет!A8>=2000,Расчет!B8>=2000),Расчет!M8,0)","v":0},{"$f":"IF(AND(Расчет!A8<2000,Расчет!B8<2000),Расчет!M8,0)","v":0}]
[{"$f":"IF(OR(Расчет!A9>=2000,Расчет!B9>=2000),Расчет!G9,0)","v":0},{"$f":"IF(AND(Расчет!A9<2000,Расчет!B9<2000),Расчет!G9,0)","v":0},null,null,{"$f":"IF(OR(Расчет!A9>=2000,Расчет!B9>=2000),Расчет!J9,0)","v":0},{"$f":"IF(AND(Расчет!A9<2000,Расчет!B9<2000),Расчет!J9,0)","v":0},null,null,{"$f":"IF(OR(Расчет!A9>=2000,Расчет!B9>=2000),Расчет!M9,0)","v":0},{"$f":"IF(AND(Расчет!A9<2000,Расчет!B9<2000),Расчет!M9,0)","v":0}]
[{"$f":"IF(OR(Расчет!A10>=2000,Расчет!B10>=2000),Расчет!G10,0)","v":0},{"$f":"IF(AND(Расчет!A10<2000,Расчет!B10<2000),Расчет!G10,0)","v":0},null,null,{"$f":"IF(OR(Расчет!A10>=2000,Расчет!B10>=2000),Расчет!J10,0)","v":0},{"$f":"IF(AND(Расчет!A10<2000,Расчет!B10<2000),Расчет!J10,0)","v":0},null,null,{"$f":"IF(OR(Расчет!A10>=2000,Расчет!B10>=2000),Расчет!M10,0)","v":0},{"$f":"IF(AND(Расчет!A10<2000,Расчет!B10<2000),Расчет!M10,0)","v":0}]
[{"$f":"IF(OR(Расчет!A11>=2000,Расчет!B11>=2000),Расчет!G11,0)","v":0},{"$f":"IF(AND(Расчет!A11<2000,Расчет!B11<2000),Расчет!G11,0)","v":0},null,null,{"$f":"IF(OR(Расчет!A11>=2000,Расчет!B11>=2000),Расчет!J11,0)","v":0},{"$f":"IF(AND(Расчет!A11<2000,Расчет!B11<2000),Расчет!J11,0)","v":0},null,null,{"$f":"IF(OR(Расчет!A11>=2000,Расчет!B11>=2000),Расчет!M11,0)","v":0},{"$f":"IF(AND(Расчет!A11<2000,Расчет!B11<2000),Расчет!M11,0)","v":0}]
[{"$f":"IF(OR(Расчет!A12>=2000,Расчет!B12>=2000),Расчет!G12,0)","v":0},{"$f":"IF(AND(Расчет!A12<2000,Расчет!B12<2000),Расчет!G12,0)","v":0},null,null,{"$f":"IF(OR(Расчет!A12>=2000,Расчет!B12>=2000),Расчет!J12,0)","v":0},{"$f":"IF(AND(Расчет!A12<2000,Расчет!B12<2000),Расчет!J12,0)","v":0},null,null,{"$f":"IF(OR(Расчет!A12>=2000,Расчет!B12>=2000),Расчет!M12,0)","v":0},{"$f":"IF(AND(Расчет!A12<2000,Расчет!B12<2000),Расчет!M12,0)","v":0}]
[{"$f":"IF(OR(Расчет!A13>=2000,Расчет!B13>=2000),Расчет!G13,0)","v":0},{"$f":"IF(AND(Расчет!A13<2000,Расчет!B13<2000),Расчет!G13,0)","v":0},null,null,{"$f":"IF(OR(Расчет!A13>=2000,Расчет!B13>=2000),Расчет!J13,0)","v":0},{"$f":"IF(AND(Расчет!A13<2000,Расчет!B13<2000),Расчет!J13,0)","v":0},null,null,{"$f":"IF(OR(Расчет!A13>=2000,Расчет!B13>=2000),Расчет!M13,0)","v":0},{"$f":"IF(AND(Расчет!A13<2000,Расчет!B13<2000),Расчет!M13,0)","v":0}]
[{"$f":"IF(OR(Расчет!A14>=2000,Расчет!B14>=2000),Расчет!G14,0)","v":0},{"$f":"IF(AND(Расчет!A14<2000,Расчет!B14<2000),Расчет!G14,0)","v":0},null,null,{"$f":"IF(OR(Расчет!A14>=2000,Расчет!B14>=2000),Расчет!J14,0)","v":0},{"$f":"IF(AND(Расчет!A14<2000,Расчет!B14<2000),Расчет!J14,0)","v":0},null,null,{"$f":"IF(OR(Расчет!A14>=2000,Расчет!B14>=2000),Расчет!M14,0)","v":0},{"$f":"IF(AND(Расчет!A14<2000,Расчет!B14<2000),Расчет!M14,0)","v":0}]
[{"$f":"IF(OR(Расчет!A15>=2000,Расчет!B15>=2000),Расчет!G15,0)","v":0},{"$f":"IF(AND(Расчет!A15<2000,Расчет!B15<2000),Расчет!G15,0)","v":0},null,null,{"$f":"IF(OR(Расчет!A15>=2000,Расчет!B15>=2000),Расчет!J15,0)","v":0},{"$f":"IF(AND(Расчет!A15<2000,Расчет!B15<2000),Расчет!J15,0)","v":0},null,null,{"$f":"IF(OR(Расчет!A15>=2000,Расчет!B15>=2000),Расчет!M15,0)","v":0},{"$f":"IF(AND(Расчет!A15<2000,Расчет!B15<2000),Расчет!M15,0)","v":0}]
[{"$f":"IF(OR(Расчет!A16>=2000,Расчет!B16>=2000),Расчет!G16,0)","v":0},{"$f":"IF(AND(Расчет!A16<2000,Расчет!B16<2000),Расчет!G16,0)","v":0},null,null,{"$f":"IF(OR(Расчет!A16>=2000,Расчет!B16>=2000),Расчет!J16,0)","v":0},{"$f":"IF(AND(Расчет!A16<2000,Расчет!B16<2000),Расчет!J16,0)","v":0},null,null,{"$f":"IF(OR(Расчет!A16>=2000,Расчет!B16>=2000),Расчет!M16,0)","v":0},{"$f":"IF(AND(Расчет!A16<2000,Расчет!B16<2000),Расчет!M16,0)","v":0}]
[{"$f":"IF(OR(Расчет!A17>=2000,Расчет!B17>=2000),Расчет!G17,0)","v":0},{"$f":"IF(AND(Расчет!A17<2000,Расчет!B17<2000),Расчет!G17,0)","v":0},null,null,{"$f":"IF(OR(Расчет!A17>=2000,Расчет!B17>=2000),Расчет!J17,0)","v":0},{"$f":"IF(AND(Расчет!A17<2000,Расчет!B17<2000),Расчет!J17,0)","v":0},null,null,{"$f":"IF(OR(Расчет!A17>=2000,Расчет!B17>=2000),Расчет!M17,0)","v":0},{"$f":"IF(AND(Расчет!A17<2000,Расчет!B17<2000),Расчет!M17,0)","v":0}]
[{"$f":"IF(OR(Расчет!A18>=2000,Расчет!B18>=2000),Расчет!G18,0)","v":0},{"$f":"IF(AND(Расчет!A18<2000,Расчет!B18<2000),Расчет!G18,0)","v":0},null,null,{"$f":"IF(OR(Расчет!A18>=2000,Расчет!B18>=2000),Расчет!J18,0)","v":0},{"$f":"IF(AND(Расчет!A18<2000,Расчет!B18<2000),Расчет!J18,0)","v":0},null,null,{"$f":"IF(OR(Расчет!A18>=2000,Расчет!B18>=2000),Расчет!M18,0)","v":0},{"$f":"IF(AND(Расчет!A18<2000,Расчет!B18<2000),Расчет!M18,0)","v":0}]
[{"$f":"IF(OR(Расчет!A19>=2000,Расчет!B19>=2000),Расчет!G19,0)","v":0},{"$f":"IF(AND(Расчет!A19<2000,Расчет!B19<2000),Расчет!G19,0)","v":0},null,null,{"$f":"IF(OR(Расчет!A19>=2000,Расчет!B19>=2000),Расчет!J19,0)","v":0},{"$f":"IF(AND(Расчет!A19<2000,Расчет!B19<2000),Расчет!J19,0)","v":0},null,null,{"$f":"IF(OR(Расчет!A19>=2000,Расчет!B19>=2000),Расчет!M19,0)","v":0},{"$f":"IF(AND(Расчет!A19<2000,Расчет!B19<2000),Расчет!M19,0)","v":0}]
[{"$f":"IF(OR(Расчет!A20>=2000,Расчет!B20>=2000),Расчет!G20,0)","v":0},{"$f":"IF(AND(Расчет!A20<2000,Расчет!B20<2000),Расчет!G20,0)","v":0},null,null,{"$f":"IF(OR(Расчет!A20>=2000,Расчет!B20>=2000),Расчет!J20,0)","v":0},{"$f":"IF(AND(Расчет!A20<2000,Расчет!B20<2000),Расчет!J20,0)","v":0},null,null,{"$f":"IF(OR(Расчет!A20>=2000,Расчет!B20>=2000),Расчет!M20,0)","v":0},{"$f":"IF(AND(Расчет!A20<2000,Расчет!B20<2000),Расчет!M20,0)","v":0}]
[{"$f":"IF(OR(Расчет!A21>=2000,Расчет!B21>=2000),Расчет!G21,0)","v":0},{"$f":"IF(AND(Расчет!A21<2000,Расчет!B21<2000),Расчет!G21,0)","v":0},null,null,{"$f":"IF(OR(Расчет!A21>=2000,Расчет!B21>=2000),Расчет!J21,0)","v":0},{"$f":"IF(AND(Расчет!A21<2000,Расчет!B21<2000),Расчет!J21,0)","v":0},null,null,{"$f":"IF(OR(Расчет!A21>=2000,Расчет!B21>=2000),Расчет!M21,0)","v":0},{"$f":"IF(AND(Расчет!A21<2000,Расчет!B21<2000),Расчет!M21,0)","v":0}]
[{"$f":"IF(OR(Расчет!A22>=2000,Расчет!B22>=2000),Расчет!G22,0)","v":0},{"$f":"IF(AND(Расчет!A22<2000,Расчет!B22<2000),Расчет!G22,0)","v":0},null,null,{"$f":"IF(OR(Расчет!A22>=2000,Расчет!B22>=2000),Расчет!J22,0)","v":0},{"$f":"IF(AND(Расчет!A22<2000,Расчет!B22<2000),Расчет!J22,0)","v":0},null,null,{"$f":"IF(OR(Расчет!A22>=2000,Расчет!B22>=2000),Расчет!M22,0)","v":0},{"$f":"IF(AND(Расчет!A22<2000,Расчет!B22<2000),Расчет!M22,0)","v":0}]
[{"$f":"IF(OR(Расчет!A23>=2000,Расчет!B23>=2000),Расчет!G23,0)","v":0},{"$f":"IF(AND(Расчет!A23<2000,Расчет!B23<2000),Расчет!G23,0)","v":0},null,null,{"$f":"IF(OR(Расчет!A23>=2000,Расчет!B23>=2000),Расчет!J23,0)","v":0},{"$f":"IF(AND(Расчет!A23<2000,Расчет!B23<2000),Расчет!J23,0)","v":0},null,null,{"$f":"IF(OR(Расчет!A23>=2000,Расчет!B23>=2000),Расчет!M23,0)","v":0},{"$f":"IF(AND(Расчет!A23<2000,Расчет!B23<2000),Расчет!M23,0)","v":0}]
[{"$f":"IF(OR(Расчет!A24>=2000,Расчет!B24>=2000),Расчет!G24,0)","v":0},{"$f":"IF(AND(Расчет!A24<2000,Расчет!B24<2000),Расчет!G24,0)","v":0},null,null,{"$f":"IF(OR(Расчет!A24>=2000,Расчет!B24>=2000),Расчет!J24,0)","v":0},{"$f":"IF(AND(Расчет!A24<2000,Расчет!B24<2000),Расчет!J24,0)","v":0},null,null,{"$f":"IF(OR(Расчет!A24>=2000,Расчет!B24>=2000),Расчет!M24,0)","v":0},{"$f":"IF(AND(Расчет!A24<2000,Расчет!B24<2000),Расчет!M24,0)","v":0}]
[{"$f":"IF(OR(Расчет!A25>=2000,Расчет!B25>=2000),Расчет!G25,0)","v":0},{"$f":"IF(AND(Расчет!A25<2000,Расчет!B25<2000),Расчет!G25,0)","v":0},null,null,{"$f":"IF(OR(Расчет!A25>=2000,Расчет!B25>=2000),Расчет!J25,0)","v":0},{"$f":"IF(AND(Расчет!A25<2000,Расчет!B25<2000),Расчет!J25,0)","v":0},null,null,{"$f":"IF(OR(Расчет!A25>=2000,Расчет!B25>=2000),Расчет!M25,0)","v":0},{"$f":"IF(AND(Расчет!A25<2000,Расчет!B25<2000),Расчет!M25,0)","v":0}]
[{"$f":"IF(OR(Расчет!A26>=2000,Расчет!B26>=2000),Расчет!G26,0)","v":0},{"$f":"IF(AND(Расчет!A26<2000,Расчет!B26<2000),Расчет!G26,0)","v":0},null,null,{"$f":"IF(OR(Расчет!A26>=2000,Расчет!B26>=2000),Расчет!J26,0)","v":0},{"$f":"IF(AND(Расчет!A26<2000,Расчет!B26<2000),Расчет!J26,0)","v":0},null,null,{"$f":"IF(OR(Расчет!A26>=2000,Расчет!B26>=2000),Расчет!M26,0)","v":0},{"$f":"IF(AND(Расчет!A26<2000,Расчет!B26<2000),Расчет!M26,0)","v":0}]
[{"$f":"IF(OR(Расчет!A27>=2000,Расчет!B27>=2000),Расчет!G27,0)","v":0},{"$f":"IF(AND(Расчет!A27<2000,Расчет!B27<2000),Расчет!G27,0)","v":0},null,null,{"$f":"IF(OR(Расчет!A27>=2000,Расчет!B27>=2000),Расчет!J27,0)","v":0},{"$f":"IF(AND(Расчет!A27<2000,Расчет!B27<2000),Расчет!J27,0)","v":0},null,null,{"$f":"IF(OR(Расчет!A27>=2000,Расчет!B27>=2000),Расчет!M27,0)","v":0},{"$f":"IF(AND(Расчет!A27<2000,Расчет!B27<2000),Расчет!M27,0)","v":0}]
[{"$f":"IF(OR(Расчет!A28>=2000,Расчет!B28>=2000),Расчет!G28,0)","v":0},{"$f":"IF(AND(Расчет!A28<2000,Расчет!B28<2000),Расчет!G28,0)","v":0},null,null,{"$f":"IF(OR(Расчет!A28>=2000,Расчет!B28>=2000),Расчет!J28,0)","v":0},{"$f":"IF(AND(Расчет!A28<2000,Расчет!B28<2000),Расчет!J28,0)","v":0},null,null,{"$f":"IF(OR(Расчет!A28>=2000,Расчет!B28>=2000),Расчет!M28,0)","v":0},{"$f":"IF(AND(Расчет!A28<2000,Расчет!B28<2000),Расчет!M28,0)","v":0}]
[{"$f":"IF(OR(Расчет!A29>=2000,Расчет!B29>=2000),Расчет!G29,0)","v":0},{"$f":"IF(AND(Расчет!A29<2000,Расчет!B29<2000),Расчет!G29,0)","v":0},null,null,{"$f":"IF(OR(Расчет!A29>=2000,Расчет!B29>=2000),Расчет!J29,0)","v":0},{"$f":"IF(AND(Расчет!A29<2000,Расчет!B29<2000),Расчет!J29,0)","v":0},null,null,{"$f":"IF(OR(Расчет!A29>=2000,Расчет!B29>=2000),Расчет!M29,0)","v":0},{"$f":"IF(AND(Расчет!A29<2000,Расчет!B29<2000),Расчет!M29,0)","v":0}]
[{"$f":"IF(OR(Расчет!A30>=2000,Расчет!B30>=2000),Расчет!G30,0)","v":0},{"$f":"IF(AND(Расчет!A30<2000,Расчет!B30<2000),Расчет!G30,0)","v":0},null,null,{"$f":"IF(OR(Расчет!A30>=2000,Расчет!B30>=2000),Расчет!J30,0)","v":0},{"$f":"IF(AND(Расчет!A30<2000,Расчет!B30<2000),Расчет!J30,0)","v":0},null,null,{"$f":"IF(OR(Расчет!A30>=2000,Расчет!B30>=2000),Расчет!M30,0)","v":0},{"$f":"IF(AND(Расчет!A30<2000,Расчет!B30<2000),Расчет!M30,0)","v":0}]
[{"$f":"IF(OR(Расчет!A31>=2000,Расчет!B31>=2000),Расчет!G31,0)","v":0},{"$f":"IF(AND(Расчет!A31<2000,Расчет!B31<2000),Расчет!G31,0)","v":0},null,null,{"$f":"IF(OR(Расчет!A31>=2000,Расчет!B31>=2000),Расчет!J31,0)","v":0},{"$f":"IF(AND(Расчет!A31<2000,Расчет!B31<2000),Расчет!J31,0)","v":0},null,null,{"$f":"IF(OR(Расчет!A31>=2000,Расчет!B31>=2000),Расчет!M31,0)","v":0},{"$f":"IF(AND(Расчет!A31<2000,Расчет!B31<2000),Расчет!M31,0)","v":0}]
[{"$f":"IF(OR(Расчет!A32>=2000,Расчет!B32>=2000),Расчет!G32,0)","v":0},{"$f":"IF(AND(Расчет!A32<2000,Расчет!B32<2000),Расчет!G32,0)","v":0},null,null,{"$f":"IF(OR(Расчет!A32>=2000,Расчет!B32>=2000),Расчет!J32,0)","v":0},{"$f":"IF(AND(Расчет!A32<2000,Расчет!B32<2000),Расчет!J32,0)","v":0},null,null,{"$f":"IF(OR(Расчет!A32>=2000,Расчет!B32>=2000),Расчет!M32,0)","v":0},{"$f":"IF(AND(Расчет!A32<2000,Расчет!B32<2000),Расчет!M32,0)","v":0}]
[{"$f":"IF(OR(Расчет!A33>=2000,Расчет!B33>=2000),Расчет!G33,0)","v":0},{"$f":"IF(AND(Расчет!A33<2000,Расчет!B33<2000),Расчет!G33,0)","v":0},null,null,{"$f":"IF(OR(Расчет!A33>=2000,Расчет!B33>=2000),Расчет!J33,0)","v":0},{"$f":"IF(AND(Расчет!A33<2000,Расчет!B33<2000),Расчет!J33,0)","v":0},null,null,{"$f":"IF(OR(Расчет!A33>=2000,Расчет!B33>=2000),Расчет!M33,0)","v":0},{"$f":"IF(AND(Расчет!A33<2000,Расчет!B33<2000),Расчет!M33,0)","v":0}]
[{"$f":"IF(OR(Расчет!A34>=2000,Расчет!B34>=2000),Расчет!G34,0)","v":0},{"$f":"IF(AND(Расчет!A34<2000,Расчет!B34<2000),Расчет!G34,0)","v":0},null,null,{"$f":"IF(OR(Расчет!A34>=2000,Расчет!B34>=2000),Расчет!J34,0)","v":0},{"$f":"IF(AND(Расчет!A34<2000,Расчет!B34<2000),Расчет!J34,0)","v":0},null,null,{"$f":"IF(OR(Расчет!A34>=2000,Расчет!B34>=2000),Расчет!M34,0)","v":0},{"$f":"IF(AND(Расчет!A34<2000,Расчет!B34<2000),Расчет!M34,0)","v":0}]
[{"$f":"IF(OR(Расчет!A35>=2000,Расчет!B35>=2000),Расчет!G35,0)","v":0},{"$f":"IF(AND(Расчет!A35<2000,Расчет!B35<2000),Расчет!G35,0)","v":0},null,null,{"$f":"IF(OR(Расчет!A35>=2000,Расчет!B35>=2000),Расчет!J35,0)","v":0},{"$f":"IF(AND(Расчет!A35<2000,Расчет!B35<2000),Расчет!J35,0)","v":0},null,null,{"$f":"IF(OR(Расчет!A35>=2000,Расчет!B35>=2000),Расчет!M35,0)","v":0},{"$f":"IF(AND(Расчет!A35<2000,Расчет!B35<2000),Расчет!M35,0)","v":0}]
[{"$f":"IF(OR(Расчет!A36>=2000,Расчет!B36>=2000),Расчет!G36,0)","v":0},{"$f":"IF(AND(Расчет!A36<2000,Расчет!B36<2000),Расчет!G36,0)","v":0},null,null,{"$f":"IF(OR(Расчет!A36>=2000,Расчет!B36>=2000),Расчет!J36,0)","v":0},{"$f":"IF(AND(Расчет!A36<2000,Расчет!B36<2000),Расчет!J36,0)","v":0},null,null,{"$f":"IF(OR(Расчет!A36>=2000,Расчет!B36>=2000),Расчет!M36,0)","v":0},{"$f":"IF(AND(Расчет!A36<2000,Расчет!B36<2000),Расчет!M36,0)","v":0}]
[{"$f":"IF(OR(Расчет!A37>=2000,Расчет!B37>=2000),Расчет!G37,0)","v":0},{"$f":"IF(AND(Расчет!A37<2000,Расчет!B37<2000),Расчет!G37,0)","v":0},null,null,{"$f":"IF(OR(Расчет!A37>=2000,Расчет!B37>=2000),Расчет!J37,0)","v":0},{"$f":"IF(AND(Расчет!A37<2000,Расчет!B37<2000),Расчет!J37,0)","v":0},null,null,{"$f":"IF(OR(Расчет!A37>=2000,Расчет!B37>=2000),Расчет!M37,0)","v":0},{"$f":"IF(AND(Расчет!A37<2000,Расчет!B37<2000),Расчет!M37,0)","v":0}]
[{"$f":"IF(OR(Расчет!A38>=2000,Расчет!B38>=2000),Расчет!G38,0)","v":0},{"$f":"IF(AND(Расчет!A38<2000,Расчет!B38<2000),Расчет!G38,0)","v":0},null,null,{"$f":"IF(OR(Расчет!A38>=2000,Расчет!B38>=2000),Расчет!J38,0)","v":0},{"$f":"IF(AND(Расчет!A38<2000,Расчет!B38<2000),Расчет!J38,0)","v":0},null,null,{"$f":"IF(OR(Расчет!A38>=2000,Расчет!B38>=2000),Расчет!M38,0)","v":0},{"$f":"IF(AND(Расчет!A38<2000,Расчет!B38<2000),Расчет!M38,0)","v":0}]
[{"$f":"IF(OR(Расчет!A39>=2000,Расчет!B39>=2000),Расчет!G39,0)","v":0},{"$f":"IF(AND(Расчет!A39<2000,Расчет!B39<2000),Расчет!G39,0)","v":0},null,null,{"$f":"IF(OR(Расчет!A39>=2000,Расчет!B39>=2000),Расчет!J39,0)","v":0},{"$f":"IF(AND(Расчет!A39<2000,Расчет!B39<2000),Расчет!J39,0)","v":0},null,null,{"$f":"IF(OR(Расчет!A39>=2000,Расчет!B39>=2000),Расчет!M39,0)","v":0},{"$f":"IF(AND(Расчет!A39<2000,Расчет!B39<2000),Расчет!M39,0)","v":0}]
[{"$f":"IF(OR(Расчет!A40>=2000,Расчет!B40>=2000),Расчет!G40,0)","v":0},{"$f":"IF(AND(Расчет!A40<2000,Расчет!B40<2000),Расчет!G40,0)","v":0},null,null,{"$f":"IF(OR(Расчет!A40>=2000,Расчет!B40>=2000),Расчет!J40,0)","v":0},{"$f":"IF(AND(Расчет!A40<2000,Расчет!B40<2000),Расчет!J40,0)","v":0},null,null,{"$f":"IF(OR(Расчет!A40>=2000,Расчет!B40>=2000),Расчет!M40,0)","v":0},{"$f":"IF(AND(Расчет!A40<2000,Расчет!B40<2000),Расчет!M40,0)","v":0}]
[{"$f":"IF(OR(Расчет!A41>=2000,Расчет!B41>=2000),Расчет!G41,0)","v":0},{"$f":"IF(AND(Расчет!A41<2000,Расчет!B41<2000),Расчет!G41,0)","v":0},null,null,{"$f":"IF(OR(Расчет!A41>=2000,Расчет!B41>=2000),Расчет!J41,0)","v":0},{"$f":"IF(AND(Расчет!A41<2000,Расчет!B41<2000),Расчет!J41,0)","v":0},null,null,{"$f":"IF(OR(Расчет!A41>=2000,Расчет!B41>=2000),Расчет!M41,0)","v":0},{"$f":"IF(AND(Расчет!A41<2000,Расчет!B41<2000),Расчет!M41,0)","v":0}]
[{"$f":"IF(OR(Расчет!A42>=2000,Расчет!B42>=2000),Расчет!G42,0)","v":0},{"$f":"IF(AND(Расчет!A42<2000,Расчет!B42<2000),Расчет!G42,0)","v":0},null,null,{"$f":"IF(OR(Расчет!A42>=2000,Расчет!B42>=2000),Расчет!J42,0)","v":0},{"$f":"IF(AND(Расчет!A42<2000,Расчет!B42<2000),Расчет!J42,0)","v":0},null,null,{"$f":"IF(OR(Расчет!A42>=2000,Расчет!B42>=2000),Расчет!M42,0)","v":0},{"$f":"IF(AND(Расчет!A42<2000,Расчет!B42<2000),Расчет!M42,0)","v":0}]
[{"$f":"IF(OR(Расчет!A43>=2000,Расчет!B43>=2000),Расчет!G43,0)","v":0},{"$f":"IF(AND(Расчет!A43<2000,Расчет!B43<2000),Расчет!G43,0)","v":0},null,null,{"$f":"IF(OR(Расчет!A43>=2000,Расчет!B43>=2000),Расчет!J43,0)","v":0},{"$f":"IF(AND(Расчет!A43<2000,Расчет!B43<2000),Расчет!J43,0)","v":0},null,null,{"$f":"IF(OR(Расчет!A43>=2000,Расчет!B43>=2000),Расчет!M43,0)","v":0},{"$f":"IF(AND(Расчет!A43<2000,Расчет!B43<2000),Расчет!M43,0)","v":0}]
[{"$f":"IF(OR(Расчет!A44>=2000,Расчет!B44>=2000),Расчет!G44,0)","v":0},{"$f":"IF(AND(Расчет!A44<2000,Расчет!B44<2000),Расчет!G44,0)","v":0},null,null,{"$f":"IF(OR(Расчет!A44>=2000,Расчет!B44>=2000),Расчет!J44,0)","v":0},{"$f":"IF(AND(Расчет!A44<2000,Расчет!B44<2000),Расчет!J44,0)","v":0},null,null,{"$f":"IF(OR(Расчет!A44>=2000,Расчет!B44>=2000),Расчет!M44,0)","v":0},{"$f":"IF(AND(Расчет!A44<2000,Расчет!B44<2000),Расчет!M44,0)","v":0}]
[{"$f":"IF(OR(Расчет!A45>=2000,Расчет!B45>=2000),Расчет!G45,0)","v":0},{"$f":"IF(AND(Расчет!A45<2000,Расчет!B45<2000),Расчет!G45,0)","v":0},null,null,{"$f":"IF(OR(Расчет!A45>=2000,Расчет!B45>=2000),Расчет!J45,0)","v":0},{"$f":"IF(AND(Расчет!A45<2000,Расчет!B45<2000),Расчет!J45,0)","v":0},null,null,{"$f":"IF(OR(Расчет!A45>=2000,Расчет!B45>=2000),Расчет!M45,0)","v":0},{"$f":"IF(AND(Расчет!A45<2000,Расчет!B45<2000),Расчет!M45,0)","v":0}]
[{"$f":"IF(OR(Расчет!A46>=2000,Расчет!B46>=2000),Расчет!G46,0)","v":0},{"$f":"IF(AND(Расчет!A46<2000,Расчет!B46<2000),Расчет!G46,0)","v":0},null,null,{"$f":"IF(OR(Расчет!A46>=2000,Расчет!B46>=2000),Расчет!J46,0)","v":0},{"$f":"IF(AND(Расчет!A46<2000,Расчет!B46<2000),Расчет!J46,0)","v":0},null,null,{"$f":"IF(OR(Расчет!A46>=2000,Расчет!B46>=2000),Расчет!M46,0)","v":0},{"$f":"IF(AND(Расчет!A46<2000,Расчет!B46<2000),Расчет!M46,0)","v":0}]
[{"$f":"IF(OR(Расчет!A47>=2000,Расчет!B47>=2000),Расчет!G47,0)","v":0},{"$f":"IF(AND(Расчет!A47<2000,Расчет!B47<2000),Расчет!G47,0)","v":0},null,null,{"$f":"IF(OR(Расчет!A47>=2000,Расчет!B47>=2000),Расчет!J47,0)","v":0},{"$f":"IF(AND(Расчет!A47<2000,Расчет!B47<2000),Расчет!J47,0)","v":0},null,null,{"$f":"IF(OR(Расчет!A47>=2000,Расчет!B47>=2000),Расчет!M47,0)","v":0},{"$f":"IF(AND(Расчет!A47<2000,Расчет!B47<2000),Расчет!M47,0)","v":0}]
[{"$f":"IF(OR(Расчет!A48>=2000,Расчет!B48>=2000),Расчет!G48,0)","v":0},{"$f":"IF(AND(Расчет!A48<2000,Расчет!B48<2000),Расчет!G48,0)","v":0},null,null,{"$f":"IF(OR(Расчет!A48>=2000,Расчет!B48>=2000),Расчет!J48,0)","v":0},{"$f":"IF(AND(Расчет!A48<2000,Расчет!B48<2000),Расчет!J48,0)","v":0},null,null,{"$f":"IF(OR(Расчет!A48>=2000,Расчет!B48>=2000),Расчет!M48,0)","v":0},{"$f":"IF(AND(Расчет!A48<2000,Расчет!B48<2000),Расчет!M48,0)","v":0}]
[{"$f":"IF(OR(Расчет!A49>=2000,Расчет!B49>=2000),Расчет!G49,0)","v":0},{"$f":"IF(AND(Расчет!A49<2000,Расчет!B49<2000),Расчет!G49,0)","v":0},null,null,{"$f":"IF(OR(Расчет!A49>=2000,Расчет!B49>=2000),Расчет!J49,0)","v":0},{"$f":"IF(AND(Расчет!A49<2000,Расчет!B49<2000),Расчет!J49,0)","v":0},null,null,{"$f":"IF(OR(Расчет!A49>=2000,Расчет!B49>=2000),Расчет!M49,0)","v":0},{"$f":"IF(AND(Расчет!A49<2000,Расчет!B49<2000),Расчет!M49,0)","v":0}]
[{"$f":"IF(OR(Расчет!A50>=2000,Расчет!B50>=2000),Расчет!G50,0)","v":0},{"$f":"IF(AND(Расчет!A50<2000,Расчет!B50<2000),Расчет!G50,0)","v":0},null,null,{"$f":"IF(OR(Расчет!A50>=2000,Расчет!B50>=2000),Расчет!J50,0)","v":0},{"$f":"IF(AND(Расчет!A50<2000,Расчет!B50<2000),Расчет!J50,0)","v":0},null,null,{"$f":"IF(OR(Расчет!A50>=2000,Расчет!B50>=2000),Расчет!M50,0)","v":0},{"$f":"IF(AND(Расчет!A50<2000,Расчет!B50<2000),Расчет!M50,0)","v":0}]
[{"$f":"IF(OR(Расчет!A51>=2000,Расчет!B51>=2000),Расчет!G51,0)","v":0},{"$f":"IF(AND(Расчет!A51<2000,Расчет!B51<2000),Расчет!G51,0)","v":0},null,null,{"$f":"IF(OR(Расчет!A51>=2000,Расчет!B51>=2000),Расчет!J51,0)","v":0},{"$f":"IF(AND(Расчет!A51<2000,Расчет!B51<2000),Расчет!J51,0)","v":0},null,null,{"$f":"IF(OR(Расчет!A51>=2000,Расчет!B51>=2000),Расчет!M51,0)","v":0},{"$f":"IF(AND(Расчет!A51<2000,Расчет!B51<2000),Расчет!M51,0)","v":0}]
[{"$f":"IF(OR(Расчет!A52>=2000,Расчет!B52>=2000),Расчет!G52,0)","v":0},{"$f":"IF(AND(Расчет!A52<2000,Расчет!B52<2000),Расчет!G52,0)","v":0},null,null,{"$f":"IF(OR(Расчет!A52>=2000,Расчет!B52>=2000),Расчет!J52,0)","v":0},{"$f":"IF(AND(Расчет!A52<2000,Расчет!B52<2000),Расчет!J52,0)","v":0},null,null,{"$f":"IF(OR(Расчет!A52>=2000,Расчет!B52>=2000),Расчет!M52,0)","v":0},{"$f":"IF(AND(Расчет!A52<2000,Расчет!B52<2000),Расчет!M52,0)","v":0}]
[{"$f":"IF(OR(Расчет!A53>=2000,Расчет!B53>=2000),Расчет!G53,0)","v":0},{"$f":"IF(AND(Расчет!A53<2000,Расчет!B53<2000),Расчет!G53,0)","v":0},null,null,{"$f":"IF(OR(Расчет!A53>=2000,Расчет!B53>=2000),Расчет!J53,0)","v":0},{"$f":"IF(AND(Расчет!A53<2000,Расчет!B53<2000),Расчет!J53,0)","v":0},null,null,{"$f":"IF(OR(Расчет!A53>=2000,Расчет!B53>=2000),Расчет!M53,0)","v":0},{"$f":"IF(AND(Расчет!A53<2000,Расчет!B53<2000),Расчет!M53,0)","v":0}]
[{"$f":"IF(OR(Расчет!A54>=2000,Расчет!B54>=2000),Расчет!G54,0)","v":0},{"$f":"IF(AND(Расчет!A54<2000,Расчет!B54<2000),Расчет!G54,0)","v":0},null,null,{"$f":"IF(OR(Расчет!A54>=2000,Расчет!B54>=2000),Расчет!J54,0)","v":0},{"$f":"IF(AND(Расчет!A54<2000,Расчет!B54<2000),Расчет!J54,0)","v":0},null,null,{"$f":"IF(OR(Расчет!A54>=2000,Расчет!B54>=2000),Расчет!M54,0)","v":0},{"$f":"IF(AND(Расчет!A54<2000,Расчет!B54<2000),Расчет!M54,0)","v":0}]
[{"$f":"IF(OR(Расчет!A55>=2000,Расчет!B55>=2000),Расчет!G55,0)","v":0},{"$f":"IF(AND(Расчет!A55<2000,Расчет!B55<2000),Расчет!G55,0)","v":0},null,null,{"$f":"IF(OR(Расчет!A55>=2000,Расчет!B55>=2000),Расчет!J55,0)","v":0},{"$f":"IF(AND(Расчет!A55<2000,Расчет!B55<2000),Расчет!J55,0)","v":0},null,null,{"$f":"IF(OR(Расчет!A55>=2000,Расчет!B55>=2000),Расчет!M55,0)","v":0},{"$f":"IF(AND(Расчет!A55<2000,Расчет!B55<2000),Расчет!M55,0)","v":0}]
[{"$f":"IF(OR(Расчет!A56>=2000,Расчет!B56>=2000),Расчет!G56,0)","v":0},{"$f":"IF(AND(Расчет!A56<2000,Расчет!B56<2000),Расчет!G56,0)","v":0},null,null,{"$f":"IF(OR(Расчет!A56>=2000,Расчет!B56>=2000),Расчет!J56,0)","v":0},{"$f":"IF(AND(Расчет!A56<2000,Расчет!B56<2000),Расчет!J56,0)","v":0},null,null,{"$f":"IF(OR(Расчет!A56>=2000,Расчет!B56>=2000),Расчет!M56,0)","v":0},{"$f":"IF(AND(Расчет!A56<2000,Расчет!B56<2000),Расчет!M56,0)","v":0}]
[{"$f":"IF(OR(Расчет!A57>=2000,Расчет!B57>=2000),Расчет!G57,0)","v":0},{"$f":"IF(AND(Расчет!A57<2000,Расчет!B57<2000),Расчет!G57,0)","v":0},null,null,{"$f":"IF(OR(Расчет!A57>=2000,Расчет!B57>=2000),Расчет!J57,0)","v":0},{"$f":"IF(AND(Расчет!A57<2000,Расчет!B57<2000),Расчет!J57,0)","v":0},null,null,{"$f":"IF(OR(Расчет!A57>=2000,Расчет!B57>=2000),Расчет!M57,0)","v":0},{"$f":"IF(AND(Расчет!A57<2000,Расчет!B57<2000),Расчет!M57,0)","v":0}]
[{"$f":"IF(OR(Расчет!A58>=2000,Расчет!B58>=2000),Расчет!G58,0)","v":0},{"$f":"IF(AND(Расчет!A58<2000,Расчет!B58<2000),Расчет!G58,0)","v":0},null,null,{"$f":"IF(OR(Расчет!A58>=2000,Расчет!B58>=2000),Расчет!J58,0)","v":0},{"$f":"IF(AND(Расчет!A58<2000,Расчет!B58<2000),Расчет!J58,0)","v":0},null,null,{"$f":"IF(OR(Расчет!A58>=2000,Расчет!B58>=2000),Расчет!M58,0)","v":0},{"$f":"IF(AND(Расчет!A58<2000,Расчет!B58<2000),Расчет!M58,0)","v":0}]
[{"$f":"IF(OR(Расчет!A59>=2000,Расчет!B59>=2000),Расчет!G59,0)","v":0},{"$f":"IF(AND(Расчет!A59<2000,Расчет!B59<2000),Расчет!G59,0)","v":0},null,null,{"$f":"IF(OR(Расчет!A59>=2000,Расчет!B59>=2000),Расчет!J59,0)","v":0},{"$f":"IF(AND(Расчет!A59<2000,Расчет!B59<2000),Расчет!J59,0)","v":0},null,null,{"$f":"IF(OR(Расчет!A59>=2000,Расчет!B59>=2000),Расчет!M59,0)","v":0},{"$f":"IF(AND(Расчет!A59<2000,Расчет!B59<2000),Расчет!M59,0)","v":0}]
[{"$f":"IF(OR(Расчет!A60>=2000,Расчет!B60>=2000),Расчет!G60,0)","v":0},{"$f":"IF(AND(Расчет!A60<2000,Расчет!B60<2000),Расчет!G60,0)","v":0},null,null,{"$f":"IF(OR(Расчет!A60>=2000,Расчет!B60>=2000),Расчет!J60,0)","v":0},{"$f":"IF(AND(Расчет!A60<2000,Расчет!B60<2000),Расчет!J60,0)","v":0},null,null,{"$f":"IF(OR(Расчет!A60>=2000,Расчет!B60>=2000),Расчет!M60,0)","v":0},{"$f":"IF(AND(Расчет!A60<2000,Расчет!B60<2000),Расчет!M60,0)","v":0}]
[{"$f":"IF(OR(Расчет!A61>=2000,Расчет!B61>=2000),Расчет!G61,0)","v":0},{"$f":"IF(AND(Расчет!A61<2000,Расчет!B61<2000),Расчет!G61,0)","v":0},null,null,{"$f":"IF(OR(Расчет!A61>=2000,Расчет!B61>=2000),Расчет!J61,0)","v":0},{"$f":"IF(AND(Расчет!A61<2000,Расчет!B61<2000),Расчет!J61,0)","v":0},null,null,{"$f":"IF(OR(Расчет!A61>=2000,Расчет!B61>=2000),Расчет!M61,0)","v":0},{"$f":"IF(AND(Расчет!A61<2000,Расчет!B61<2000),Расчет!M61,0)","v":0}]
[{"$f":"IF(OR(Расчет!A62>=2000,Расчет!B62>=2000),Расчет!G62,0)","v":0},{"$f":"IF(AND(Расчет!A62<2000,Расчет!B62<2000),Расчет!G62,0)","v":0},null,null,{"$f":"IF(OR(Расчет!A62>=2000,Расчет!B62>=2000),Расчет!J62,0)","v":0},{"$f":"IF(AND(Расчет!A62<2000,Расчет!B62<2000),Расчет!J62,0)","v":0},null,null,{"$f":"IF(OR(Расчет!A62>=2000,Расчет!B62>=2000),Расчет!M62,0)","v":0},{"$f":"IF(AND(Расчет!A62<2000,Расчет!B62<2000),Расчет!M62,0)","v":0}]
[{"$f":"IF(OR(Расчет!A63>=2000,Расчет!B63>=2000),Расчет!G63,0)","v":0},{"$f":"IF(AND(Расчет!A63<2000,Расчет!B63<2000),Расчет!G63,0)","v":0},null,null,{"$f":"IF(OR(Расчет!A63>=2000,Расчет!B63>=2000),Расчет!J63,0)","v":0},{"$f":"IF(AND(Расчет!A63<2000,Расчет!B63<2000),Расчет!J63,0)","v":0},null,null,{"$f":"IF(OR(Расчет!A63>=2000,Расчет!B63>=2000),Расчет!M63,0)","v":0},{"$f":"IF(AND(Расчет!A63<2000,Расчет!B63<2000),Расчет!M63,0)","v":0}]
[{"$f":"IF(OR(Расчет!A64>=2000,Расчет!B64>=2000),Расчет!G64,0)","v":0},{"$f":"IF(AND(Расчет!A64<2000,Расчет!B64<2000),Расчет!G64,0)","v":0},null,null,{"$f":"IF(OR(Расчет!A64>=2000,Расчет!B64>=2000),Расчет!J64,0)","v":0},{"$f":"IF(AND(Расчет!A64<2000,Расчет!B64<2000),Расчет!J64,0)","v":0},null,null,{"$f":"IF(OR(Расчет!A64>=2000,Расчет!B64>=2000),Расчет!M64,0)","v":0},{"$f":"IF(AND(Расчет!A64<2000,Расчет!B64<2000),Расчет!M64,0)","v":0}]
[{"$f":"IF(OR(Расчет!A65>=2000,Расчет!B65>=2000),Расчет!G65,0)","v":0},{"$f":"IF(AND(Расчет!A65<2000,Расчет!B65<2000),Расчет!G65,0)","v":0},null,null,{"$f":"IF(OR(Расчет!A65>=2000,Расчет!B65>=2000),Расчет!J65,0)","v":0},{"$f":"IF(AND(Расчет!A65<2000,Расчет!B65<2000),Расчет!J65,0)","v":0},null,null,{"$f":"IF(OR(Расчет!A65>=2000,Расчет!B65>=2000),Расчет!M65,0)","v":0},{"$f":"IF(AND(Расчет!A65<2000,Расчет!B65<2000),Расчет!M65,0)","v":0}]
[{"$f":"IF(OR(Расчет!A66>=2000,Расчет!B66>=2000),Расчет!G66,0)","v":0},{"$f":"IF(AND(Расчет!A66<2000,Расчет!B66<2000),Расчет!G66,0)","v":0},null,null,{"$f":"IF(OR(Расчет!A66>=2000,Расчет!B66>=2000),Расчет!J66,0)","v":0},{"$f":"IF(AND(Расчет!A66<2000,Расчет!B66<2000),Расчет!J66,0)","v":0},null,null,{"$f":"IF(OR(Расчет!A66>=2000,Расчет!B66>=2000),Расчет!M66,0)","v":0},{"$f":"IF(AND(Расчет!A66<2000,Расчет!B66<2000),Расчет!M66,0)","v":0}]
[{"$f":"IF(OR(Расчет!A67>=2000,Расчет!B67>=2000),Расчет!G67,0)","v":0},{"$f":"IF(AND(Расчет!A67<2000,Расчет!B67<2000),Расчет!G67,0)","v":0},null,null,{"$f":"IF(OR(Расчет!A67>=2000,Расчет!B67>=2000),Расчет!J67,0)","v":0},{"$f":"IF(AND(Расчет!A67<2000,Расчет!B67<2000),Расчет!J67,0)","v":0},null,null,{"$f":"IF(OR(Расчет!A67>=2000,Расчет!B67>=2000),Расчет!M67,0)","v":0},{"$f":"IF(AND(Расчет!A67<2000,Расчет!B67<2000),Расчет!M67,0)","v":0}]
[{"$f":"IF(OR(Расчет!A68>=2000,Расчет!B68>=2000),Расчет!G68,0)","v":0},{"$f":"IF(AND(Расчет!A68<2000,Расчет!B68<2000),Расчет!G68,0)","v":0},null,null,{"$f":"IF(OR(Расчет!A68>=2000,Расчет!B68>=2000),Расчет!J68,0)","v":0},{"$f":"IF(AND(Расчет!A68<2000,Расчет!B68<2000),Расчет!J68,0)","v":0},null,null,{"$f":"IF(OR(Расчет!A68>=2000,Расчет!B68>=2000),Расчет!M68,0)","v":0},{"$f":"IF(AND(Расчет!A68<2000,Расчет!B68<2000),Расчет!M68,0)","v":0}]
[{"$f":"IF(OR(Расчет!A69>=2000,Расчет!B69>=2000),Расчет!G69,0)","v":0},{"$f":"IF(AND(Расчет!A69<2000,Расчет!B69<2000),Расчет!G69,0)","v":0},null,null,{"$f":"IF(OR(Расчет!A69>=2000,Расчет!B69>=2000),Расчет!J69,0)","v":0},{"$f":"IF(AND(Расчет!A69<2000,Расчет!B69<2000),Расчет!J69,0)","v":0},null,null,{"$f":"IF(OR(Расчет!A69>=2000,Расчет!B69>=2000),Расчет!M69,0)","v":0},{"$f":"IF(AND(Расчет!A69<2000,Расчет!B69<2000),Расчет!M69,0)","v":0}]
[{"$f":"IF(OR(Расчет!A70>=2000,Расчет!B70>=2000),Расчет!G70,0)","v":0},{"$f":"IF(AND(Расчет!A70<2000,Расчет!B70<2000),Расчет!G70,0)","v":0},null,null,{"$f":"IF(OR(Расчет!A70>=2000,Расчет!B70>=2000),Расчет!J70,0)","v":0},{"$f":"IF(AND(Расчет!A70<2000,Расчет!B70<2000),Расчет!J70,0)","v":0},null,null,{"$f":"IF(OR(Расчет!A70>=2000,Расчет!B70>=2000),Расчет!M70,0)","v":0},{"$f":"IF(AND(Расчет!A70<2000,Расчет!B70<2000),Расчет!M70,0)","v":0}]
[{"$f":"IF(OR(Расчет!A71>=2000,Расчет!B71>=2000),Расчет!G71,0)","v":0},{"$f":"IF(AND(Расчет!A71<2000,Расчет!B71<2000),Расчет!G71,0)","v":0},null,null,{"$f":"IF(OR(Расчет!A71>=2000,Расчет!B71>=2000),Расчет!J71,0)","v":0},{"$f":"IF(AND(Расчет!A71<2000,Расчет!B71<2000),Расчет!J71,0)","v":0},null,null,{"$f":"IF(OR(Расчет!A71>=2000,Расчет!B71>=2000),Расчет!M71,0)","v":0},{"$f":"IF(AND(Расчет!A71<2000,Расчет!B71<2000),Расчет!M71,0)","v":0}]
[{"$f":"IF(OR(Расчет!A72>=2000,Расчет!B72>=2000),Расчет!G72,0)","v":0},{"$f":"IF(AND(Расчет!A72<2000,Расчет!B72<2000),Расчет!G72,0)","v":0},null,null,{"$f":"IF(OR(Расчет!A72>=2000,Расчет!B72>=2000),Расчет!J72,0)","v":0},{"$f":"IF(AND(Расчет!A72<2000,Расчет!B72<2000),Расчет!J72,0)","v":0},null,null,{"$f":"IF(OR(Расчет!A72>=2000,Расчет!B72>=2000),Расчет!M72,0)","v":0},{"$f":"IF(AND(Расчет!A72<2000,Расчет!B72<2000),Расчет!M72,0)","v":0}]
[{"$f":"IF(OR(Расчет!A73>=2000,Расчет!B73>=2000),Расчет!G73,0)","v":0},{"$f":"IF(AND(Расчет!A73<2000,Расчет!B73<2000),Расчет!G73,0)","v":0},null,null,{"$f":"IF(OR(Расчет!A73>=2000,Расчет!B73>=2000),Расчет!J73,0)","v":0},{"$f":"IF(AND(Расчет!A73<2000,Расчет!B73<2000),Расчет!J73,0)","v":0},null,null,{"$f":"IF(OR(Расчет!A73>=2000,Расчет!B73>=2000),Расчет!M73,0)","v":0},{"$f":"IF(AND(Расчет!A73<2000,Расчет!B73<2000),Расчет!M73,0)","v":0}]
[{"$f":"IF(OR(Расчет!A74>=2000,Расчет!B74>=2000),Расчет!G74,0)","v":0},{"$f":"IF(AND(Расчет!A74<2000,Расчет!B74<2000),Расчет!G74,0)","v":0},null,null,{"$f":"IF(OR(Расчет!A74>=2000,Расчет!B74>=2000),Расчет!J74,0)","v":0},{"$f":"IF(AND(Расчет!A74<2000,Расчет!B74<2000),Расчет!J74,0)","v":0},null,null,{"$f":"IF(OR(Расчет!A74>=2000,Расчет!B74>=2000),Расчет!M74,0)","v":0},{"$f":"IF(AND(Расчет!A74<2000,Расчет!B74<2000),Расчет!M74,0)","v":0}]
[{"$f":"IF(OR(Расчет!A75>=2000,Расчет!B75>=2000),Расчет!G75,0)","v":0},{"$f":"IF(AND(Расчет!A75<2000,Расчет!B75<2000),Расчет!G75,0)","v":0},null,null,{"$f":"IF(OR(Расчет!A75>=2000,Расчет!B75>=2000),Расчет!J75,0)","v":0},{"$f":"IF(AND(Расчет!A75<2000,Расчет!B75<2000),Расчет!J75,0)","v":0},null,null,{"$f":"IF(OR(Расчет!A75>=2000,Расчет!B75>=2000),Расчет!M75,0)","v":0},{"$f":"IF(AND(Расчет!A75<2000,Расчет!B75<2000),Расчет!M75,0)","v":0}]
[{"$f":"IF(OR(Расчет!A76>=2000,Расчет!B76>=2000),Расчет!G76,0)","v":0},{"$f":"IF(AND(Расчет!A76<2000,Расчет!B76<2000),Расчет!G76,0)","v":0},null,null,{"$f":"IF(OR(Расчет!A76>=2000,Расчет!B76>=2000),Расчет!J76,0)","v":0},{"$f":"IF(AND(Расчет!A76<2000,Расчет!B76<2000),Расчет!J76,0)","v":0},null,null,{"$f":"IF(OR(Расчет!A76>=2000,Расчет!B76>=2000),Расчет!M76,0)","v":0},{"$f":"IF(AND(Расчет!A76<2000,Расчет!B76<2000),Расчет!M76,0)","v":0}]
[{"$f":"IF(OR(Расчет!A77>=2000,Расчет!B77>=2000),Расчет!G77,0)","v":0},{"$f":"IF(AND(Расчет!A77<2000,Расчет!B77<2000),Расчет!G77,0)","v":0},null,null,{"$f":"IF(OR(Расчет!A77>=2000,Расчет!B77>=2000),Расчет!J77,0)","v":0},{"$f":"IF(AND(Расчет!A77<2000,Расчет!B77<2000),Расчет!J77,0)","v":0},null,null,{"$f":"IF(OR(Расчет!A77>=2000,Расчет!B77>=2000),Расчет!M77,0)","v":0},{"$f":"IF(AND(Расчет!A77<2000,Расчет!B77<2000),Расчет!M77,0)","v":0}]
[{"$f":"IF(OR(Расчет!A78>=2000,Расчет!B78>=2000),Расчет!G78,0)","v":0},{"$f":"IF(AND(Расчет!A78<2000,Расчет!B78<2000),Расчет!G78,0)","v":0},null,null,{"$f":"IF(OR(Расчет!A78>=2000,Расчет!B78>=2000),Расчет!J78,0)","v":0},{"$f":"IF(AND(Расчет!A78<2000,Расчет!B78<2000),Расчет!J78,0)","v":0},null,null,{"$f":"IF(OR(Расчет!A78>=2000,Расчет!B78>=2000),Расчет!M78,0)","v":0},{"$f":"IF(AND(Расчет!A78<2000,Расчет!B78<2000),Расчет!M78,0)","v":0}]
[{"$f":"IF(OR(Расчет!A79>=2000,Расчет!B79>=2000),Расчет!G79,0)","v":0},{"$f":"IF(AND(Расчет!A79<2000,Расчет!B79<2000),Расчет!G79,0)","v":0},null,null,{"$f":"IF(OR(Расчет!A79>=2000,Расчет!B79>=2000),Расчет!J79,0)","v":0},{"$f":"IF(AND(Расчет!A79<2000,Расчет!B79<2000),Расчет!J79,0)","v":0},null,null,{"$f":"IF(OR(Расчет!A79>=2000,Расчет!B79>=2000),Расчет!M79,0)","v":0},{"$f":"IF(AND(Расчет!A79<2000,Расчет!B79<2000),Расчет!M79,0)","v":0}]
[{"$f":"IF(OR(Расчет!A80>=2000,Расчет!B80>=2000),Расчет!G80,0)","v":0},{"$f":"IF(AND(Расчет!A80<2000,Расчет!B80<2000),Расчет!G80,0)","v":0},null,null,{"$f":"IF(OR(Расчет!A80>=2000,Расчет!B80>=2000),Расчет!J80,0)","v":0},{"$f":"IF(AND(Расчет!A80<2000,Расчет!B80<2000),Расчет!J80,0)","v":0},null,null,{"$f":"IF(OR(Расчет!A80>=2000,Расчет!B80>=2000),Расчет!M80,0)","v":0},{"$f":"IF(AND(Расчет!A80<2000,Расчет!B80<2000),Расчет!M80,0)","v":0}]
[{"$f":"IF(OR(Расчет!A81>=2000,Расчет!B81>=2000),Расчет!G81,0)","v":0},{"$f":"IF(AND(Расчет!A81<2000,Расчет!B81<2000),Расчет!G81,0)","v":0},null,null,{"$f":"IF(OR(Расчет!A81>=2000,Расчет!B81>=2000),Расчет!J81,0)","v":0},{"$f":"IF(AND(Расчет!A81<2000,Расчет!B81<2000),Расчет!J81,0)","v":0},null,null,{"$f":"IF(OR(Расчет!A81>=2000,Расчет!B81>=2000),Расчет!M81,0)","v":0},{"$f":"IF(AND(Расчет!A81<2000,Расчет!B81<2000),Расчет!M81,0)","v":0}]
[{"$f":"IF(OR(Расчет!A82>=2000,Расчет!B82>=2000),Расчет!G82,0)","v":0},{"$f":"IF(AND(Расчет!A82<2000,Расчет!B82<2000),Расчет!G82,0)","v":0},null,null,{"$f":"IF(OR(Расчет!A82>=2000,Расчет!B82>=2000),Расчет!J82,0)","v":0},{"$f":"IF(AND(Расчет!A82<2000,Расчет!B82<2000),Расчет!J82,0)","v":0},null,null,{"$f":"IF(OR(Расчет!A82>=2000,Расчет!B82>=2000),Расчет!M82,0)","v":0},{"$f":"IF(AND(Расчет!A82<2000,Расчет!B82<2000),Расчет!M82,0)","v":0}]
[{"$f":"IF(OR(Расчет!A83>=2000,Расчет!B83>=2000),Расчет!G83,0)","v":0},{"$f":"IF(AND(Расчет!A83<2000,Расчет!B83<2000),Расчет!G83,0)","v":0},null,null,{"$f":"IF(OR(Расчет!A83>=2000,Расчет!B83>=2000),Расчет!J83,0)","v":0},{"$f":"IF(AND(Расчет!A83<2000,Расчет!B83<2000),Расчет!J83,0)","v":0},null,null,{"$f":"IF(OR(Расчет!A83>=2000,Расчет!B83>=2000),Расчет!M83,0)","v":0},{"$f":"IF(AND(Расчет!A83<2000,Расчет!B83<2000),Расчет!M83,0)","v":0}]
[{"$f":"IF(OR(Расчет!A84>=2000,Расчет!B84>=2000),Расчет!G84,0)","v":0},{"$f":"IF(AND(Расчет!A84<2000,Расчет!B84<2000),Расчет!G84,0)","v":0},null,null,{"$f":"IF(OR(Расчет!A84>=2000,Расчет!B84>=2000),Расчет!J84,0)","v":0},{"$f":"IF(AND(Расчет!A84<2000,Расчет!B84<2000),Расчет!J84,0)","v":0},null,null,{"$f":"IF(OR(Расчет!A84>=2000,Расчет!B84>=2000),Расчет!M84,0)","v":0},{"$f":"IF(AND(Расчет!A84<2000,Расчет!B84<2000),Расчет!M84,0)","v":0}]
[{"$f":"IF(OR(Расчет!A85>=2000,Расчет!B85>=2000),Расчет!G85,0)","v":0},{"$f":"IF(AND(Расчет!A85<2000,Расчет!B85<2000),Расчет!G85,0)","v":0},null,null,{"$f":"IF(OR(Расчет!A85>=2000,Расчет!B85>=2000),Расчет!J85,0)","v":0},{"$f":"IF(AND(Расчет!A85<2000,Расчет!B85<2000),Расчет!J85,0)","v":0},null,null,{"$f":"IF(OR(Расчет!A85>=2000,Расчет!B85>=2000),Расчет!M85,0)","v":0},{"$f":"IF(AND(Расчет!A85<2000,Расчет!B85<2000),Расчет!M85,0)","v":0}]
[{"$f":"IF(OR(Расчет!A86>=2000,Расчет!B86>=2000),Расчет!G86,0)","v":0},{"$f":"IF(AND(Расчет!A86<2000,Расчет!B86<2000),Расчет!G86,0)","v":0},null,null,{"$f":"IF(OR(Расчет!A86>=2000,Расчет!B86>=2000),Расчет!J86,0)","v":0},{"$f":"IF(AND(Расчет!A86<2000,Расчет!B86<2000),Расчет!J86,0)","v":0},null,null,{"$f":"IF(OR(Расчет!A86>=2000,Расчет!B86>=2000),Расчет!M86,0)","v":0},{"$f":"IF(AND(Расчет!A86<2000,Расчет!B86<2000),Расчет!M86,0)","v":0}]
[{"$f":"IF(OR(Расчет!A87>=2000,Расчет!B87>=2000),Расчет!G87,0)","v":0},{"$f":"IF(AND(Расчет!A87<2000,Расчет!B87<2000),Расчет!G87,0)","v":0},null,null,{"$f":"IF(OR(Расчет!A87>=2000,Расчет!B87>=2000),Расчет!J87,0)","v":0},{"$f":"IF(AND(Расчет!A87<2000,Расчет!B87<2000),Расчет!J87,0)","v":0},null,null,{"$f":"IF(OR(Расчет!A87>=2000,Расчет!B87>=2000),Расчет!M87,0)","v":0},{"$f":"IF(AND(Расчет!A87<2000,Расчет!B87<2000),Расчет!M87,0)","v":0}]
[{"$f":"IF(OR(Расчет!A88>=2000,Расчет!B88>=2000),Расчет!G88,0)","v":0},{"$f":"IF(AND(Расчет!A88<2000,Расчет!B88<2000),Расчет!G88,0)","v":0},null,null,{"$f":"IF(OR(Расчет!A88>=2000,Расчет!B88>=2000),Расчет!J88,0)","v":0},{"$f":"IF(AND(Расчет!A88<2000,Расчет!B88<2000),Расчет!J88,0)","v":0},null,null,{"$f":"IF(OR(Расчет!A88>=2000,Расчет!B88>=2000),Расчет!M88,0)","v":0},{"$f":"IF(AND(Расчет!A88<2000,Расчет!B88<2000),Расчет!M88,0)","v":0}]
[{"$f":"IF(OR(Расчет!A89>=2000,Расчет!B89>=2000),Расчет!G89,0)","v":0},{"$f":"IF(AND(Расчет!A89<2000,Расчет!B89<2000),Расчет!G89,0)","v":0},null,null,{"$f":"IF(OR(Расчет!A89>=2000,Расчет!B89>=2000),Расчет!J89,0)","v":0},{"$f":"IF(AND(Расчет!A89<2000,Расчет!B89<2000),Расчет!J89,0)","v":0},null,null,{"$f":"IF(OR(Расчет!A89>=2000,Расчет!B89>=2000),Расчет!M89,0)","v":0},{"$f":"IF(AND(Расчет!A89<2000,Расчет!B89<2000),Расчет!M89,0)","v":0}]
[{"$f":"IF(OR(Расчет!A90>=2000,Расчет!B90>=2000),Расчет!G90,0)","v":0},{"$f":"IF(AND(Расчет!A90<2000,Расчет!B90<2000),Расчет!G90,0)","v":0},null,null,{"$f":"IF(OR(Расчет!A90>=2000,Расчет!B90>=2000),Расчет!J90,0)","v":0},{"$f":"IF(AND(Расчет!A90<2000,Расчет!B90<2000),Расчет!J90,0)","v":0},null,null,{"$f":"IF(OR(Расчет!A90>=2000,Расчет!B90>=2000),Расчет!M90,0)","v":0},{"$f":"IF(AND(Расчет!A90<2000,Расчет!B90<2000),Расчет!M90,0)","v":0}]
[{"$f":"IF(OR(Расчет!A91>=2000,Расчет!B91>=2000),Расчет!G91,0)","v":0},{"$f":"IF(AND(Расчет!A91<2000,Расчет!B91<2000),Расчет!G91,0)","v":0},null,null,{"$f":"IF(OR(Расчет!A91>=2000,Расчет!B91>=2000),Расчет!J91,0)","v":0},{"$f":"IF(AND(Расчет!A91<2000,Расчет!B91<2000),Расчет!J91,0)","v":0},null,null,{"$f":"IF(OR(Расчет!A91>=2000,Расчет!B91>=2000),Расчет!M91,0)","v":0},{"$f":"IF(AND(Расчет!A91<2000,Расчет!B91<2000),Расчет!M91,0)","v":0}]
[{"$f":"IF(OR(Расчет!A92>=2000,Расчет!B92>=2000),Расчет!G92,0)","v":0},{"$f":"IF(AND(Расчет!A92<2000,Расчет!B92<2000),Расчет!G92,0)","v":0},null,null,{"$f":"IF(OR(Расчет!A92>=2000,Расчет!B92>=2000),Расчет!J92,0)","v":0},{"$f":"IF(AND(Расчет!A92<2000,Расчет!B92<2000),Расчет!J92,0)","v":0},null,null,{"$f":"IF(OR(Расчет!A92>=2000,Расчет!B92>=2000),Расчет!M92,0)","v":0},{"$f":"IF(AND(Расчет!A92<2000,Расчет!B92<2000),Расчет!M92,0)","v":0}]
[{"$f":"IF(OR(Расчет!A93>=2000,Расчет!B93>=2000),Расчет!G93,0)","v":0},{"$f":"IF(AND(Расчет!A93<2000,Расчет!B93<2000),Расчет!G93,0)","v":0},null,null,{"$f":"IF(OR(Расчет!A93>=2000,Расчет!B93>=2000),Расчет!J93,0)","v":0},{"$f":"IF(AND(Расчет!A93<2000,Расчет!B93<2000),Расчет!J93,0)","v":0},null,null,{"$f":"IF(OR(Расчет!A93>=2000,Расчет!B93>=2000),Расчет!M93,0)","v":0},{"$f":"IF(AND(Расчет!A93<2000,Расчет!B93<2000),Расчет!M93,0)","v":0}]
[{"$f":"IF(OR(Расчет!A94>=2000,Расчет!B94>=2000),Расчет!G94,0)","v":0},{"$f":"IF(AND(Расчет!A94<2000,Расчет!B94<2000),Расчет!G94,0)","v":0},null,null,{"$f":"IF(OR(Расчет!A94>=2000,Расчет!B94>=2000),Расчет!J94,0)","v":0},{"$f":"IF(AND(Расчет!A94<2000,Расчет!B94<2000),Расчет!J94,0)","v":0},null,null,{"$f":"IF(OR(Расчет!A94>=2000,Расчет!B94>=2000),Расчет!M94,0)","v":0},{"$f":"IF(AND(Расчет!A94<2000,Расчет!B94<2000),Расчет!M94,0)","v":0}]
[{"$f":"IF(OR(Расчет!A95>=2000,Расчет!B95>=2000),Расчет!G95,0)","v":0},{"$f":"IF(AND(Расчет!A95<2000,Расчет!B95<2000),Расчет!G95,0)","v":0},null,null,{"$f":"IF(OR(Расчет!A95>=2000,Расчет!B95>=2000),Расчет!J95,0)","v":0},{"$f":"IF(AND(Расчет!A95<2000,Расчет!B95<2000),Расчет!J95,0)","v":0},null,null,{"$f":"IF(OR(Расчет!A95>=2000,Расчет!B95>=2000),Расчет!M95,0)","v":0},{"$f":"IF(AND(Расчет!A95<2000,Расчет!B95<2000),Расчет!M95,0)","v":0}]
[{"$f":"IF(OR(Расчет!A96>=2000,Расчет!B96>=2000),Расчет!G96,0)","v":0},{"$f":"IF(AND(Расчет!A96<2000,Расчет!B96<2000),Расчет!G96,0)","v":0},null,null,{"$f":"IF(OR(Расчет!A96>=2000,Расчет!B96>=2000),Расчет!J96,0)","v":0},{"$f":"IF(AND(Расчет!A96<2000,Расчет!B96<2000),Расчет!J96,0)","v":0},null,null,{"$f":"IF(OR(Расчет!A96>=2000,Расчет!B96>=2000),Расчет!M96,0)","v":0},{"$f":"IF(AND(Расчет!A96<2000,Расчет!B96<2000),Расчет!M96,0)","v":0}]
[{"$f":"IF(OR(Расчет!A97>=2000,Расчет!B97>=2000),Расчет!G97,0)","v":0},{"$f":"IF(AND(Расчет!A97<2000,Расчет!B97<2000),Расчет!G97,0)","v":0},null,null,{"$f":"IF(OR(Расчет!A97>=2000,Расчет!B97>=2000),Расчет!J97,0)","v":0},{"$f":"IF(AND(Расчет!A97<2000,Расчет!B97<2000),Расчет!J97,0)","v":0},null,null,{"$f":"IF(OR(Расчет!A97>=2000,Расчет!B97>=2000),Расчет!M97,0)","v":0},{"$f":"IF(AND(Расчет!A97<2000,Расчет!B97<2000),Расчет!M97,0)","v":0}]
[{"$f":"IF(OR(Расчет!A98>=2000,Расчет!B98>=2000),Расчет!G98,0)","v":0},{"$f":"IF(AND(Расчет!A98<2000,Расчет!B98<2000),Расчет!G98,0)","v":0},null,null,{"$f":"IF(OR(Расчет!A98>=2000,Расчет!B98>=2000),Расчет!J98,0)","v":0},{"$f":"IF(AND(Расчет!A98<2000,Расчет!B98<2000),Расчет!J98,0)","v":0},null,null,{"$f":"IF(OR(Расчет!A98>=2000,Расчет!B98>=2000),Расчет!M98,0)","v":0},{"$f":"IF(AND(Расчет!A98<2000,Расчет!B98<2000),Расчет!M98,0)","v":0}]
[{"$f":"IF(OR(Расчет!A99>=2000,Расчет!B99>=2000),Расчет!G99,0)","v":0},{"$f":"IF(AND(Расчет!A99<2000,Расчет!B99<2000),Расчет!G99,0)","v":0},null,null,{"$f":"IF(OR(Расчет!A99>=2000,Расчет!B99>=2000),Расчет!J99,0)","v":0},{"$f":"IF(AND(Расчет!A99<2000,Расчет!B99<2000),Расчет!J99,0)","v":0},null,null,{"$f":"IF(OR(Расчет!A99>=2000,Расчет!B99>=2000),Расчет!M99,0)","v":0},{"$f":"IF(AND(Расчет!A99<2000,Расчет!B99<2000),Расчет!M99,0)","v":0}]
[{"$f":"IF(OR(Расчет!A100>=2000,Расчет!B100>=2000),Расчет!G100,0)","v":0},{"$f":"IF(AND(Расчет!A100<2000,Расчет!B100<2000),Расчет!G100,0)","v":0},null,null,{"$f":"IF(OR(Расчет!A100>=2000,Расчет!B100>=2000),Расчет!J100,0)","v":0},{"$f":"IF(AND(Расчет!A100<2000,Расчет!B100<2000),Расчет!J100,0)","v":0},null,null,{"$f":"IF(OR(Расчет!A100>=2000,Расчет!B100>=2000),Расчет!M100,0)","v":0},{"$f":"IF(AND(Расчет!A100<2000,Расчет!B100<2000),Расчет!M100,0)","v":0}]
[{"$f":"IF(OR(Расчет!A101>=2000,Расчет!B101>=2000),Расчет!G101,0)","v":0},{"$f":"IF(AND(Расчет!A101<2000,Расчет!B101<2000),Расчет!G101,0)","v":0},null,null,{"$f":"IF(OR(Расчет!A101>=2000,Расчет!B101>=2000),Расчет!J101,0)","v":0},{"$f":"IF(AND(Расчет!A101<2000,Расчет!B101<2000),Расчет!J101,0)","v":0},null,null,{"$f":"IF(OR(Расчет!A101>=2000,Расчет!B101>=2000),Расчет!M101,0)","v":0},{"$f":"IF(AND(Расчет!A101<2000,Расчет!B101<2000),Расчет!M101,0)","v":0}]
[{"$f":"IF(OR(Расчет!A102>=2000,Расчет!B102>=2000),Расчет!G102,0)","v":0},{"$f":"IF(AND(Расчет!A102<2000,Расчет!B102<2000),Расчет!G102,0)","v":0},null,null,{"$f":"IF(OR(Расчет!A102>=2000,Расчет!B102>=2000),Расчет!J102,0)","v":0},{"$f":"IF(AND(Расчет!A102<2000,Расчет!B102<2000),Расчет!J102,0)","v":0},null,null,{"$f":"IF(OR(Расчет!A102>=2000,Расчет!B102>=2000),Расчет!M102,0)","v":0},{"$f":"IF(AND(Расчет!A102<2000,Расчет!B102<2000),Расчет!M102,0)","v":0}]
[{"$f":"IF(OR(Расчет!A103>=2000,Расчет!B103>=2000),Расчет!G103,0)","v":0},{"$f":"IF(AND(Расчет!A103<2000,Расчет!B103<2000),Расчет!G103,0)","v":0},null,null,{"$f":"IF(OR(Расчет!A103>=2000,Расчет!B103>=2000),Расчет!J103,0)","v":0},{"$f":"IF(AND(Расчет!A103<2000,Расчет!B103<2000),Расчет!J103,0)","v":0},null,null,{"$f":"IF(OR(Расчет!A103>=2000,Расчет!B103>=2000),Расчет!M103,0)","v":0},{"$f":"IF(AND(Расчет!A103<2000,Расчет!B103<2000),Расчет!M103,0)","v":0}]
[{"$f":"IF(OR(Расчет!A104>=2000,Расчет!B104>=2000),Расчет!G104,0)","v":0},{"$f":"IF(AND(Расчет!A104<2000,Расчет!B104<2000),Расчет!G104,0)","v":0},null,null,{"$f":"IF(OR(Расчет!A104>=2000,Расчет!B104>=2000),Расчет!J104,0)","v":0},{"$f":"IF(AND(Расчет!A104<2000,Расчет!B104<2000),Расчет!J104,0)","v":0},null,null,{"$f":"IF(OR(Расчет!A104>=2000,Расчет!B104>=2000),Расчет!M104,0)","v":0},{"$f":"IF(AND(Расчет!A104<2000,Расчет!B104<2000),Расчет!M104,0)","v":0}]
[{"$f":"IF(OR(Расчет!A105>=2000,Расчет!B105>=2000),Расчет!G105,0)","v":0},{"$f":"IF(AND(Расчет!A105<2000,Расчет!B105<2000),Расчет!G105,0)","v":0},null,null,{"$f":"IF(OR(Расчет!A105>=2000,Расчет!B105>=2000),Расчет!J105,0)","v":0},{"$f":"IF(AND(Расчет!A105<2000,Расчет!B105<2000),Расчет!J105,0)","v":0},null,null,{"$f":"IF(OR(Расчет!A105>=2000,Расчет!B105>=2000),Расчет!M105,0)","v":0},{"$f":"IF(AND(Расчет!A105<2000,Расчет!B105<2000),Расчет!M105,0)","v":0}]
[{"$f":"IF(OR(Расчет!A106>=2000,Расчет!B106>=2000),Расчет!G106,0)","v":0},{"$f":"IF(AND(Расчет!A106<2000,Расчет!B106<2000),Расчет!G106,0)","v":0},null,null,{"$f":"IF(OR(Расчет!A106>=2000,Расчет!B106>=2000),Расчет!J106,0)","v":0},{"$f":"IF(AND(Расчет!A106<2000,Расчет!B106<2000),Расчет!J106,0)","v":0},null,null,{"$f":"IF(OR(Расчет!A106>=2000,Расчет!B106>=2000),Расчет!M106,0)","v":0},{"$f":"IF(AND(Расчет!A106<2000,Расчет!B106<2000),Расчет!M106,0)","v":0}]
[{"$f":"IF(OR(Расчет!A107>=2000,Расчет!B107>=2000),Расчет!G107,0)","v":0},{"$f":"IF(AND(Расчет!A107<2000,Расчет!B107<2000),Расчет!G107,0)","v":0},null,null,{"$f":"IF(OR(Расчет!A107>=2000,Расчет!B107>=2000),Расчет!J107,0)","v":0},{"$f":"IF(AND(Расчет!A107<2000,Расчет!B107<2000),Расчет!J107,0)","v":0},null,null,{"$f":"IF(OR(Расчет!A107>=2000,Расчет!B107>=2000),Расчет!M107,0)","v":0},{"$f":"IF(AND(Расчет!A107<2000,Расчет!B107<2000),Расчет!M107,0)","v":0}]
[{"$f":"IF(OR(Расчет!A108>=2000,Расчет!B108>=2000),Расчет!G108,0)","v":0},{"$f":"IF(AND(Расчет!A108<2000,Расчет!B108<2000),Расчет!G108,0)","v":0},null,null,{"$f":"IF(OR(Расчет!A108>=2000,Расчет!B108>=2000),Расчет!J108,0)","v":0},{"$f":"IF(AND(Расчет!A108<2000,Расчет!B108<2000),Расчет!J108,0)","v":0},null,null,{"$f":"IF(OR(Расчет!A108>=2000,Расчет!B108>=2000),Расчет!M108,0)","v":0},{"$f":"IF(AND(Расчет!A108<2000,Расчет!B108<2000),Расчет!M108,0)","v":0}]
[{"$f":"IF(OR(Расчет!A109>=2000,Расчет!B109>=2000),Расчет!G109,0)","v":0},{"$f":"IF(AND(Расчет!A109<2000,Расчет!B109<2000),Расчет!G109,0)","v":0},null,null,{"$f":"IF(OR(Расчет!A109>=2000,Расчет!B109>=2000),Расчет!J109,0)","v":0},{"$f":"IF(AND(Расчет!A109<2000,Расчет!B109<2000),Расчет!J109,0)","v":0},null,null,{"$f":"IF(OR(Расчет!A109>=2000,Расчет!B109>=2000),Расчет!M109,0)","v":0},{"$f":"IF(AND(Расчет!A109<2000,Расчет!B109<2000),Расчет!M109,0)","v":0}]
[{"$f":"IF(OR(Расчет!A110>=2000,Расчет!B110>=2000),Расчет!G110,0)","v":0},{"$f":"IF(AND(Расчет!A110<2000,Расчет!B110<2000),Расчет!G110,0)","v":0},null,null,{"$f":"IF(OR(Расчет!A110>=2000,Расчет!B110>=2000),Расчет!J110,0)","v":0},{"$f":"IF(AND(Расчет!A110<2000,Расчет!B110<2000),Расчет!J110,0)","v":0},null,null,{"$f":"IF(OR(Расчет!A110>=2000,Расчет!B110>=2000),Расчет!M110,0)","v":0},{"$f":"IF(AND(Расчет!A110<2000,Расчет!B110<2000),Расчет!M110,0)","v":0}]
[{"$f":"IF(OR(Расчет!A111>=2000,Расчет!B111>=2000),Расчет!G111,0)","v":0},{"$f":"IF(AND(Расчет!A111<2000,Расчет!B111<2000),Расчет!G111,0)","v":0},null,null,{"$f":"IF(OR(Расчет!A111>=2000,Расчет!B111>=2000),Расчет!J111,0)","v":0},{"$f":"IF(AND(Расчет!A111<2000,Расчет!B111<2000),Расчет!J111,0)","v":0},null,null,{"$f":"IF(OR(Расчет!A111>=2000,Расчет!B111>=2000),Расчет!M111,0)","v":0},{"$f":"IF(AND(Расчет!A111<2000,Расчет!B111<2000),Расчет!M111,0)","v":0}]
[{"$f":"IF(OR(Расчет!A112>=2000,Расчет!B112>=2000),Расчет!G112,0)","v":0},{"$f":"IF(AND(Расчет!A112<2000,Расчет!B112<2000),Расчет!G112,0)","v":0},null,null,{"$f":"IF(OR(Расчет!A112>=2000,Расчет!B112>=2000),Расчет!J112,0)","v":0},{"$f":"IF(AND(Расчет!A112<2000,Расчет!B112<2000),Расчет!J112,0)","v":0},null,null,{"$f":"IF(OR(Расчет!A112>=2000,Расчет!B112>=2000),Расчет!M112,0)","v":0},{"$f":"IF(AND(Расчет!A112<2000,Расчет!B112<2000),Расчет!M112,0)","v":0}]
[{"$f":"IF(OR(Расчет!A113>=2000,Расчет!B113>=2000),Расчет!G113,0)","v":0},{"$f":"IF(AND(Расчет!A113<2000,Расчет!B113<2000),Расчет!G113,0)","v":0},null,null,{"$f":"IF(OR(Расчет!A113>=2000,Расчет!B113>=2000),Расчет!J113,0)","v":0},{"$f":"IF(AND(Расчет!A113<2000,Расчет!B113<2000),Расчет!J113,0)","v":0},null,null,{"$f":"IF(OR(Расчет!A113>=2000,Расчет!B113>=2000),Расчет!M113,0)","v":0},{"$f":"IF(AND(Расчет!A113<2000,Расчет!B113<2000),Расчет!M113,0)","v":0}]
[{"$f":"IF(OR(Расчет!A114>=2000,Расчет!B114>=2000),Расчет!G114,0)","v":0},{"$f":"IF(AND(Расчет!A114<2000,Расчет!B114<2000),Расчет!G114,0)","v":0},null,null,{"$f":"IF(OR(Расчет!A114>=2000,Расчет!B114>=2000),Расчет!J114,0)","v":0},{"$f":"IF(AND(Расчет!A114<2000,Расчет!B114<2000),Расчет!J114,0)","v":0},null,null,{"$f":"IF(OR(Расчет!A114>=2000,Расчет!B114>=2000),Расчет!M114,0)","v":0},{"$f":"IF(AND(Расчет!A114<2000,Расчет!B114<2000),Расчет!M114,0)","v":0}]
[{"$f":"IF(OR(Расчет!A115>=2000,Расчет!B115>=2000),Расчет!G115,0)","v":0},{"$f":"IF(AND(Расчет!A115<2000,Расчет!B115<2000),Расчет!G115,0)","v":0},null,null,{"$f":"IF(OR(Расчет!A115>=2000,Расчет!B115>=2000),Расчет!J115,0)","v":0},{"$f":"IF(AND(Расчет!A115<2000,Расчет!B115<2000),Расчет!J115,0)","v":0},null,null,{"$f":"IF(OR(Расчет!A115>=2000,Расчет!B115>=2000),Расчет!M115,0)","v":0},{"$f":"IF(AND(Расчет!A115<2000,Расчет!B115<2000),Расчет!M115,0)","v":0}]
[{"$f":"IF(OR(Расчет!A116>=2000,Расчет!B116>=2000),Расчет!G116,0)","v":0},{"$f":"IF(AND(Расчет!A116<2000,Расчет!B116<2000),Расчет!G116,0)","v":0},null,null,{"$f":"IF(OR(Расчет!A116>=2000,Расчет!B116>=2000),Расчет!J116,0)","v":0},{"$f":"IF(AND(Расчет!A116<2000,Расчет!B116<2000),Расчет!J116,0)","v":0},null,null,{"$f":"IF(OR(Расчет!A116>=2000,Расчет!B116>=2000),Расчет!M116,0)","v":0},{"$f":"IF(AND(Расчет!A116<2000,Расчет!B116<2000),Расчет!M116,0)","v":0}]
[{"$f":"IF(OR(Расчет!A117>=2000,Расчет!B117>=2000),Расчет!G117,0)","v":0},{"$f":"IF(AND(Расчет!A117<2000,Расчет!B117<2000),Расчет!G117,0)","v":0},null,null,{"$f":"IF(OR(Расчет!A117>=2000,Расчет!B117>=2000),Расчет!J117,0)","v":0},{"$f":"IF(AND(Расчет!A117<2000,Расчет!B117<2000),Расчет!J117,0)","v":0},null,null,{"$f":"IF(OR(Расчет!A117>=2000,Расчет!B117>=2000),Расчет!M117,0)","v":0},{"$f":"IF(AND(Расчет!A117<2000,Расчет!B117<2000),Расчет!M117,0)","v":0}]
[{"$f":"IF(OR(Расчет!A118>=2000,Расчет!B118>=2000),Расчет!G118,0)","v":0},{"$f":"IF(AND(Расчет!A118<2000,Расчет!B118<2000),Расчет!G118,0)","v":0},null,null,{"$f":"IF(OR(Расчет!A118>=2000,Расчет!B118>=2000),Расчет!J118,0)","v":0},{"$f":"IF(AND(Расчет!A118<2000,Расчет!B118<2000),Расчет!J118,0)","v":0},null,null,{"$f":"IF(OR(Расчет!A118>=2000,Расчет!B118>=2000),Расчет!M118,0)","v":0},{"$f":"IF(AND(Расчет!A118<2000,Расчет!B118<2000),Расчет!M118,0)","v":0}]
[{"$f":"IF(OR(Расчет!A119>=2000,Расчет!B119>=2000),Расчет!G119,0)","v":0},{"$f":"IF(AND(Расчет!A119<2000,Расчет!B119<2000),Расчет!G119,0)","v":0},null,null,{"$f":"IF(OR(Расчет!A119>=2000,Расчет!B119>=2000),Расчет!J119,0)","v":0},{"$f":"IF(AND(Расчет!A119<2000,Расчет!B119<2000),Расчет!J119,0)","v":0},null,null,{"$f":"IF(OR(Расчет!A119>=2000,Расчет!B119>=2000),Расчет!M119,0)","v":0},{"$f":"IF(AND(Расчет!A119<2000,Расчет!B119<2000),Расчет!M119,0)","v":0}]
[{"$f":"IF(OR(Расчет!A120>=2000,Расчет!B120>=2000),Расчет!G120,0)","v":0},{"$f":"IF(AND(Расчет!A120<2000,Расчет!B120<2000),Расчет!G120,0)","v":0},null,null,{"$f":"IF(OR(Расчет!A120>=2000,Расчет!B120>=2000),Расчет!J120,0)","v":0},{"$f":"IF(AND(Расчет!A120<2000,Расчет!B120<2000),Расчет!J120,0)","v":0},null,null,{"$f":"IF(OR(Расчет!A120>=2000,Расчет!B120>=2000),Расчет!M120,0)","v":0},{"$f":"IF(AND(Расчет!A120<2000,Расчет!B120<2000),Расчет!M120,0)","v":0}]
[{"$f":"IF(OR(Расчет!A121>=2000,Расчет!B121>=2000),Расчет!G121,0)","v":0},{"$f":"IF(AND(Расчет!A121<2000,Расчет!B121<2000),Расчет!G121,0)","v":0},null,null,{"$f":"IF(OR(Расчет!A121>=2000,Расчет!B121>=2000),Расчет!J121,0)","v":0},{"$f":"IF(AND(Расчет!A121<2000,Расчет!B121<2000),Расчет!J121,0)","v":0},null,null,{"$f":"IF(OR(Расчет!A121>=2000,Расчет!B121>=2000),Расчет!M121,0)","v":0},{"$f":"IF(AND(Расчет!A121<2000,Расчет!B121<2000),Расчет!M121,0)","v":0}]
[{"$f":"IF(OR(Расчет!A122>=2000,Расчет!B122>=2000),Расчет!G122,0)","v":0},{"$f":"IF(AND(Расчет!A122<2000,Расчет!B122<2000),Расчет!G122,0)","v":0},null,null,{"$f":"IF(OR(Расчет!A122>=2000,Расчет!B122>=2000),Расчет!J122,0)","v":0},{"$f":"IF(AND(Расчет!A122<2000,Расчет!B122<2000),Расчет!J122,0)","v":0},null,null,{"$f":"IF(OR(Расчет!A122>=2000,Расчет!B122>=2000),Расчет!M122,0)","v":0},{"$f":"IF(AND(Расчет!A122<2000,Расчет!B122<2000),Расчет!M122,0)","v":0}]
[{"$f":"IF(OR(Расчет!A123>=2000,Расчет!B123>=2000),Расчет!G123,0)","v":0},{"$f":"IF(AND(Расчет!A123<2000,Расчет!B123<2000),Расчет!G123,0)","v":0},null,null,{"$f":"IF(OR(Расчет!A123>=2000,Расчет!B123>=2000),Расчет!J123,0)","v":0},{"$f":"IF(AND(Расчет!A123<2000,Расчет!B123<2000),Расчет!J123,0)","v":0},null,null,{"$f":"IF(OR(Расчет!A123>=2000,Расчет!B123>=2000),Расчет!M123,0)","v":0},{"$f":"IF(AND(Расчет!A123<2000,Расчет!B123<2000),Расчет!M123,0)","v":0}]
[{"$f":"IF(OR(Расчет!A124>=2000,Расчет!B124>=2000),Расчет!G124,0)","v":0},{"$f":"IF(AND(Расчет!A124<2000,Расчет!B124<2000),Расчет!G124,0)","v":0},null,null,{"$f":"IF(OR(Расчет!A124>=2000,Расчет!B124>=2000),Расчет!J124,0)","v":0},{"$f":"IF(AND(Расчет!A124<2000,Расчет!B124<2000),Расчет!J124,0)","v":0},null,null,{"$f":"IF(OR(Расчет!A124>=2000,Расчет!B124>=2000),Расчет!M124,0)","v":0},{"$f":"IF(AND(Расчет!A124<2000,Расчет!B124<2000),Расчет!M124,0)","v":0}]
[{"$f":"IF(OR(Расчет!A125>=2000,Расчет!B125>=2000),Расчет!G125,0)","v":0},{"$f":"IF(AND(Расчет!A125<2000,Расчет!B125<2000),Расчет!G125,0)","v":0},null,null,{"$f":"IF(OR(Расчет!A125>=2000,Расчет!B125>=2000),Расчет!J125,0)","v":0},{"$f":"IF(AND(Расчет!A125<2000,Расчет!B125<2000),Расчет!J125,0)","v":0},null,null,{"$f":"IF(OR(Расчет!A125>=2000,Расчет!B125>=2000),Расчет!M125,0)","v":0},{"$f":"IF(AND(Расчет!A125<2000,Расчет!B125<2000),Расчет!M125,0)","v":0}]
[{"$f":"IF(OR(Расчет!A126>=2000,Расчет!B126>=2000),Расчет!G126,0)","v":0},{"$f":"IF(AND(Расчет!A126<2000,Расчет!B126<2000),Расчет!G126,0)","v":0},null,null,{"$f":"IF(OR(Расчет!A126>=2000,Расчет!B126>=2000),Расчет!J126,0)","v":0},{"$f":"IF(AND(Расчет!A126<2000,Расчет!B126<2000),Расчет!J126,0)","v":0},null,null,{"$f":"IF(OR(Расчет!A126>=2000,Расчет!B126>=2000),Расчет!M126,0)","v":0},{"$f":"IF(AND(Расчет!A126<2000,Расчет!B126<2000),Расчет!M126,0)","v":0}]
[{"$f":"IF(OR(Расчет!A127>=2000,Расчет!B127>=2000),Расчет!G127,0)","v":0},{"$f":"IF(AND(Расчет!A127<2000,Расчет!B127<2000),Расчет!G127,0)","v":0},null,null,{"$f":"IF(OR(Расчет!A127>=2000,Расчет!B127>=2000),Расчет!J127,0)","v":0},{"$f":"IF(AND(Расчет!A127<2000,Расчет!B127<2000),Расчет!J127,0)","v":0},null,null,{"$f":"IF(OR(Расчет!A127>=2000,Расчет!B127>=2000),Расчет!M127,0)","v":0},{"$f":"IF(AND(Расчет!A127<2000,Расчет!B127<2000),Расчет!M127,0)","v":0}]
[{"$f":"IF(OR(Расчет!A128>=2000,Расчет!B128>=2000),Расчет!G128,0)","v":0},{"$f":"IF(AND(Расчет!A128<2000,Расчет!B128<2000),Расчет!G128,0)","v":0},null,null,{"$f":"IF(OR(Расчет!A128>=2000,Расчет!B128>=2000),Расчет!J128,0)","v":0},{"$f":"IF(AND(Расчет!A128<2000,Расчет!B128<2000),Расчет!J128,0)","v":0},null,null,{"$f":"IF(OR(Расчет!A128>=2000,Расчет!B128>=2000),Расчет!M128,0)","v":0},{"$f":"IF(AND(Расчет!A128<2000,Расчет!B128<2000),Расчет!M128,0)","v":0}]
[{"$f":"IF(OR(Расчет!A129>=2000,Расчет!B129>=2000),Расчет!G129,0)","v":0},{"$f":"IF(AND(Расчет!A129<2000,Расчет!B129<2000),Расчет!G129,0)","v":0},null,null,{"$f":"IF(OR(Расчет!A129>=2000,Расчет!B129>=2000),Расчет!J129,0)","v":0},{"$f":"IF(AND(Расчет!A129<2000,Расчет!B129<2000),Расчет!J129,0)","v":0},null,null,{"$f":"IF(OR(Расчет!A129>=2000,Расчет!B129>=2000),Расчет!M129,0)","v":0},{"$f":"IF(AND(Расчет!A129<2000,Расчет!B129<2000),Расчет!M129,0)","v":0}]
[{"$f":"IF(OR(Расчет!A130>=2000,Расчет!B130>=2000),Расчет!G130,0)","v":0},{"$f":"IF(AND(Расчет!A130<2000,Расчет!B130<2000),Расчет!G130,0)","v":0},null,null,{"$f":"IF(OR(Расчет!A130>=2000,Расчет!B130>=2000),Расчет!J130,0)","v":0},{"$f":"IF(AND(Расчет!A130<2000,Расчет!B130<2000),Расчет!J130,0)","v":0},null,null,{"$f":"IF(OR(Расчет!A130>=2000,Расчет!B130>=2000),Расчет!M130,0)","v":0},{"$f":"IF(AND(Расчет!A130<2000,Расчет!B130<2000),Расчет!M130,0)","v":0}]
[{"$f":"IF(OR(Расчет!A131>=2000,Расчет!B131>=2000),Расчет!G131,0)","v":0},{"$f":"IF(AND(Расчет!A131<2000,Расчет!B131<2000),Расчет!G131,0)","v":0},null,null,{"$f":"IF(OR(Расчет!A131>=2000,Расчет!B131>=2000),Расчет!J131,0)","v":0},{"$f":"IF(AND(Расчет!A131<2000,Расчет!B131<2000),Расчет!J131,0)","v":0},null,null,{"$f":"IF(OR(Расчет!A131>=2000,Расчет!B131>=2000),Расчет!M131,0)","v":0},{"$f":"IF(AND(Расчет!A131<2000,Расчет!B131<2000),Расчет!M131,0)","v":0}]
[{"$f":"IF(OR(Расчет!A132>=2000,Расчет!B132>=2000),Расчет!G132,0)","v":0},{"$f":"IF(AND(Расчет!A132<2000,Расчет!B132<2000),Расчет!G132,0)","v":0},null,null,{"$f":"IF(OR(Расчет!A132>=2000,Расчет!B132>=2000),Расчет!J132,0)","v":0},{"$f":"IF(AND(Расчет!A132<2000,Расчет!B132<2000),Расчет!J132,0)","v":0},null,null,{"$f":"IF(OR(Расчет!A132>=2000,Расчет!B132>=2000),Расчет!M132,0)","v":0},{"$f":"IF(AND(Расчет!A132<2000,Расчет!B132<2000),Расчет!M132,0)","v":0}]
[{"$f":"IF(OR(Расчет!A133>=2000,Расчет!B133>=2000),Расчет!G133,0)","v":0},{"$f":"IF(AND(Расчет!A133<2000,Расчет!B133<2000),Расчет!G133,0)","v":0},null,null,{"$f":"IF(OR(Расчет!A133>=2000,Расчет!B133>=2000),Расчет!J133,0)","v":0},{"$f":"IF(AND(Расчет!A133<2000,Расчет!B133<2000),Расчет!J133,0)","v":0},null,null,{"$f":"IF(OR(Расчет!A133>=2000,Расчет!B133>=2000),Расчет!M133,0)","v":0},{"$f":"IF(AND(Расчет!A133<2000,Расчет!B133<2000),Расчет!M133,0)","v":0}]
[{"$f":"IF(OR(Расчет!A134>=2000,Расчет!B134>=2000),Расчет!G134,0)","v":0},{"$f":"IF(AND(Расчет!A134<2000,Расчет!B134<2000),Расчет!G134,0)","v":0},null,null,{"$f":"IF(OR(Расчет!A134>=2000,Расчет!B134>=2000),Расчет!J134,0)","v":0},{"$f":"IF(AND(Расчет!A134<2000,Расчет!B134<2000),Расчет!J134,0)","v":0},null,null,{"$f":"IF(OR(Расчет!A134>=2000,Расчет!B134>=2000),Расчет!M134,0)","v":0},{"$f":"IF(AND(Расчет!A134<2000,Расчет!B134<2000),Расчет!M134,0)","v":0}]
[{"$f":"IF(OR(Расчет!A135>=2000,Расчет!B135>=2000),Расчет!G135,0)","v":0},{"$f":"IF(AND(Расчет!A135<2000,Расчет!B135<2000),Расчет!G135,0)","v":0},null,null,{"$f":"IF(OR(Расчет!A135>=2000,Расчет!B135>=2000),Расчет!J135,0)","v":0},{"$f":"IF(AND(Расчет!A135<2000,Расчет!B135<2000),Расчет!J135,0)","v":0},null,null,{"$f":"IF(OR(Расчет!A135>=2000,Расчет!B135>=2000),Расчет!M135,0)","v":0},{"$f":"IF(AND(Расчет!A135<2000,Расчет!B135<2000),Расчет!M135,0)","v":0}]
[{"$f":"IF(OR(Расчет!A136>=2000,Расчет!B136>=2000),Расчет!G136,0)","v":0},{"$f":"IF(AND(Расчет!A136<2000,Расчет!B136<2000),Расчет!G136,0)","v":0},null,null,{"$f":"IF(OR(Расчет!A136>=2000,Расчет!B136>=2000),Расчет!J136,0)","v":0},{"$f":"IF(AND(Расчет!A136<2000,Расчет!B136<2000),Расчет!J136,0)","v":0},null,null,{"$f":"IF(OR(Расчет!A136>=2000,Расчет!B136>=2000),Расчет!M136,0)","v":0},{"$f":"IF(AND(Расчет!A136<2000,Расчет!B136<2000),Расчет!M136,0)","v":0}]
[{"$f":"IF(OR(Расчет!A137>=2000,Расчет!B137>=2000),Расчет!G137,0)","v":0},{"$f":"IF(AND(Расчет!A137<2000,Расчет!B137<2000),Расчет!G137,0)","v":0},null,null,{"$f":"IF(OR(Расчет!A137>=2000,Расчет!B137>=2000),Расчет!J137,0)","v":0},{"$f":"IF(AND(Расчет!A137<2000,Расчет!B137<2000),Расчет!J137,0)","v":0},null,null,{"$f":"IF(OR(Расчет!A137>=2000,Расчет!B137>=2000),Расчет!M137,0)","v":0},{"$f":"IF(AND(Расчет!A137<2000,Расчет!B137<2000),Расчет!M137,0)","v":0}]
[{"$f":"IF(OR(Расчет!A138>=2000,Расчет!B138>=2000),Расчет!G138,0)","v":0},{"$f":"IF(AND(Расчет!A138<2000,Расчет!B138<2000),Расчет!G138,0)","v":0},null,null,{"$f":"IF(OR(Расчет!A138>=2000,Расчет!B138>=2000),Расчет!J138,0)","v":0},{"$f":"IF(AND(Расчет!A138<2000,Расчет!B138<2000),Расчет!J138,0)","v":0},null,null,{"$f":"IF(OR(Расчет!A138>=2000,Расчет!B138>=2000),Расчет!M138,0)","v":0},{"$f":"IF(AND(Расчет!A138<2000,Расчет!B138<2000),Расчет!M138,0)","v":0}]
[{"$f":"IF(OR(Расчет!A139>=2000,Расчет!B139>=2000),Расчет!G139,0)","v":0},{"$f":"IF(AND(Расчет!A139<2000,Расчет!B139<2000),Расчет!G139,0)","v":0},null,null,{"$f":"IF(OR(Расчет!A139>=2000,Расчет!B139>=2000),Расчет!J139,0)","v":0},{"$f":"IF(AND(Расчет!A139<2000,Расчет!B139<2000),Расчет!J139,0)","v":0},null,null,{"$f":"IF(OR(Расчет!A139>=2000,Расчет!B139>=2000),Расчет!M139,0)","v":0},{"$f":"IF(AND(Расчет!A139<2000,Расчет!B139<2000),Расчет!M139,0)","v":0}]
[{"$f":"IF(OR(Расчет!A140>=2000,Расчет!B140>=2000),Расчет!G140,0)","v":0},{"$f":"IF(AND(Расчет!A140<2000,Расчет!B140<2000),Расчет!G140,0)","v":0},null,null,{"$f":"IF(OR(Расчет!A140>=2000,Расчет!B140>=2000),Расчет!J140,0)","v":0},{"$f":"IF(AND(Расчет!A140<2000,Расчет!B140<2000),Расчет!J140,0)","v":0},null,null,{"$f":"IF(OR(Расчет!A140>=2000,Расчет!B140>=2000),Расчет!M140,0)","v":0},{"$f":"IF(AND(Расчет!A140<2000,Расчет!B140<2000),Расчет!M140,0)","v":0}]
[{"$f":"IF(OR(Расчет!A141>=2000,Расчет!B141>=2000),Расчет!G141,0)","v":0},{"$f":"IF(AND(Расчет!A141<2000,Расчет!B141<2000),Расчет!G141,0)","v":0},null,null,{"$f":"IF(OR(Расчет!A141>=2000,Расчет!B141>=2000),Расчет!J141,0)","v":0},{"$f":"IF(AND(Расчет!A141<2000,Расчет!B141<2000),Расчет!J141,0)","v":0},null,null,{"$f":"IF(OR(Расчет!A141>=2000,Расчет!B141>=2000),Расчет!M141,0)","v":0},{"$f":"IF(AND(Расчет!A141<2000,Расчет!B141<2000),Расчет!M141,0)","v":0}]
[{"$f":"IF(OR(Расчет!A142>=2000,Расчет!B142>=2000),Расчет!G142,0)","v":0},{"$f":"IF(AND(Расчет!A142<2000,Расчет!B142<2000),Расчет!G142,0)","v":0},null,null,{"$f":"IF(OR(Расчет!A142>=2000,Расчет!B142>=2000),Расчет!J142,0)","v":0},{"$f":"IF(AND(Расчет!A142<2000,Расчет!B142<2000),Расчет!J142,0)","v":0},null,null,{"$f":"IF(OR(Расчет!A142>=2000,Расчет!B142>=2000),Расчет!M142,0)","v":0},{"$f":"IF(AND(Расчет!A142<2000,Расчет!B142<2000),Расчет!M142,0)","v":0}]
[{"$f":"IF(OR(Расчет!A143>=2000,Расчет!B143>=2000),Расчет!G143,0)","v":0},{"$f":"IF(AND(Расчет!A143<2000,Расчет!B143<2000),Расчет!G143,0)","v":0},null,null,{"$f":"IF(OR(Расчет!A143>=2000,Расчет!B143>=2000),Расчет!J143,0)","v":0},{"$f":"IF(AND(Расчет!A143<2000,Расчет!B143<2000),Расчет!J143,0)","v":0},null,null,{"$f":"IF(OR(Расчет!A143>=2000,Расчет!B143>=2000),Расчет!M143,0)","v":0},{"$f":"IF(AND(Расчет!A143<2000,Расчет!B143<2000),Расчет!M143,0)","v":0}]
[{"$f":"IF(OR(Расчет!A144>=2000,Расчет!B144>=2000),Расчет!G144,0)","v":0},{"$f":"IF(AND(Расчет!A144<2000,Расчет!B144<2000),Расчет!G144,0)","v":0},null,null,{"$f":"IF(OR(Расчет!A144>=2000,Расчет!B144>=2000),Расчет!J144,0)","v":0},{"$f":"IF(AND(Расчет!A144<2000,Расчет!B144<2000),Расчет!J144,0)","v":0},null,null,{"$f":"IF(OR(Расчет!A144>=2000,Расчет!B144>=2000),Расчет!M144,0)","v":0},{"$f":"IF(AND(Расчет!A144<2000,Расчет!B144<2000),Расчет!M144,0)","v":0}]
[{"$f":"IF(OR(Расчет!A145>=2000,Расчет!B145>=2000),Расчет!G145,0)","v":0},{"$f":"IF(AND(Расчет!A145<2000,Расчет!B145<2000),Расчет!G145,0)","v":0},null,null,{"$f":"IF(OR(Расчет!A145>=2000,Расчет!B145>=2000),Расчет!J145,0)","v":0},{"$f":"IF(AND(Расчет!A145<2000,Расчет!B145<2000),Расчет!J145,0)","v":0},null,null,{"$f":"IF(OR(Расчет!A145>=2000,Расчет!B145>=2000),Расчет!M145,0)","v":0},{"$f":"IF(AND(Расчет!A145<2000,Расчет!B145<2000),Расчет!M145,0)","v":0}]
[{"$f":"IF(OR(Расчет!A146>=2000,Расчет!B146>=2000),Расчет!G146,0)","v":0},{"$f":"IF(AND(Расчет!A146<2000,Расчет!B146<2000),Расчет!G146,0)","v":0},null,null,{"$f":"IF(OR(Расчет!A146>=2000,Расчет!B146>=2000),Расчет!J146,0)","v":0},{"$f":"IF(AND(Расчет!A146<2000,Расчет!B146<2000),Расчет!J146,0)","v":0},null,null,{"$f":"IF(OR(Расчет!A146>=2000,Расчет!B146>=2000),Расчет!M146,0)","v":0},{"$f":"IF(AND(Расчет!A146<2000,Расчет!B146<2000),Расчет!M146,0)","v":0}]
[{"$f":"IF(OR(Расчет!A147>=2000,Расчет!B147>=2000),Расчет!G147,0)","v":0},{"$f":"IF(AND(Расчет!A147<2000,Расчет!B147<2000),Расчет!G147,0)","v":0},null,null,{"$f":"IF(OR(Расчет!A147>=2000,Расчет!B147>=2000),Расчет!J147,0)","v":0},{"$f":"IF(AND(Расчет!A147<2000,Расчет!B147<2000),Расчет!J147,0)","v":0},null,null,{"$f":"IF(OR(Расчет!A147>=2000,Расчет!B147>=2000),Расчет!M147,0)","v":0},{"$f":"IF(AND(Расчет!A147<2000,Расчет!B147<2000),Расчет!M147,0)","v":0}]
[{"$f":"IF(OR(Расчет!A148>=2000,Расчет!B148>=2000),Расчет!G148,0)","v":0},{"$f":"IF(AND(Расчет!A148<2000,Расчет!B148<2000),Расчет!G148,0)","v":0},null,null,{"$f":"IF(OR(Расчет!A148>=2000,Расчет!B148>=2000),Расчет!J148,0)","v":0},{"$f":"IF(AND(Расчет!A148<2000,Расчет!B148<2000),Расчет!J148,0)","v":0},null,null,{"$f":"IF(OR(Расчет!A148>=2000,Расчет!B148>=2000),Расчет!M148,0)","v":0},{"$f":"IF(AND(Расчет!A148<2000,Расчет!B148<2000),Расчет!M148,0)","v":0}]
[{"$f":"IF(OR(Расчет!A149>=2000,Расчет!B149>=2000),Расчет!G149,0)","v":0},{"$f":"IF(AND(Расчет!A149<2000,Расчет!B149<2000),Расчет!G149,0)","v":0},null,null,{"$f":"IF(OR(Расчет!A149>=2000,Расчет!B149>=2000),Расчет!J149,0)","v":0},{"$f":"IF(AND(Расчет!A149<2000,Расчет!B149<2000),Расчет!J149,0)","v":0},null,null,{"$f":"IF(OR(Расчет!A149>=2000,Расчет!B149>=2000),Расчет!M149,0)","v":0},{"$f":"IF(AND(Расчет!A149<2000,Расчет!B149<2000),Расчет!M149,0)","v":0}]
[{"$f":"IF(OR(Расчет!A150>=2000,Расчет!B150>=2000),Расчет!G150,0)","v":0},{"$f":"IF(AND(Расчет!A150<2000,Расчет!B150<2000),Расчет!G150,0)","v":0},null,null,{"$f":"IF(OR(Расчет!A150>=2000,Расчет!B150>=2000),Расчет!J150,0)","v":0},{"$f":"IF(AND(Расчет!A150<2000,Расчет!B150<2000),Расчет!J150,0)","v":0},null,null,{"$f":"IF(OR(Расчет!A150>=2000,Расчет!B150>=2000),Расчет!M150,0)","v":0},{"$f":"IF(AND(Расчет!A150<2000,Расчет!B150<2000),Расчет!M150,0)","v":0}]
[{"$f":"IF(OR(Расчет!A151>=2000,Расчет!B151>=2000),Расчет!G151,0)","v":0},{"$f":"IF(AND(Расчет!A151<2000,Расчет!B151<2000),Расчет!G151,0)","v":0},null,null,{"$f":"IF(OR(Расчет!A151>=2000,Расчет!B151>=2000),Расчет!J151,0)","v":0},{"$f":"IF(AND(Расчет!A151<2000,Расчет!B151<2000),Расчет!J151,0)","v":0},null,null,{"$f":"IF(OR(Расчет!A151>=2000,Расчет!B151>=2000),Расчет!M151,0)","v":0},{"$f":"IF(AND(Расчет!A151<2000,Расчет!B151<2000),Расчет!M151,0)","v":0}]
[{"$f":"IF(OR(Расчет!A152>=2000,Расчет!B152>=2000),Расчет!G152,0)","v":0},{"$f":"IF(AND(Расчет!A152<2000,Расчет!B152<2000),Расчет!G152,0)","v":0},null,null,{"$f":"IF(OR(Расчет!A152>=2000,Расчет!B152>=2000),Расчет!J152,0)","v":0},{"$f":"IF(AND(Расчет!A152<2000,Расчет!B152<2000),Расчет!J152,0)","v":0},null,null,{"$f":"IF(OR(Расчет!A152>=2000,Расчет!B152>=2000),Расчет!M152,0)","v":0},{"$f":"IF(AND(Расчет!A152<2000,Расчет!B152<2000),Расчет!M152,0)","v":0}]
[{"$f":"IF(OR(Расчет!A153>=2000,Расчет!B153>=2000),Расчет!G153,0)","v":0},{"$f":"IF(AND(Расчет!A153<2000,Расчет!B153<2000),Расчет!G153,0)","v":0},null,null,{"$f":"IF(OR(Расчет!A153>=2000,Расчет!B153>=2000),Расчет!J153,0)","v":0},{"$f":"IF(AND(Расчет!A153<2000,Расчет!B153<2000),Расчет!J153,0)","v":0},null,null,{"$f":"IF(OR(Расчет!A153>=2000,Расчет!B153>=2000),Расчет!M153,0)","v":0},{"$f":"IF(AND(Расчет!A153<2000,Расчет!B153<2000),Расчет!M153,0)","v":0}]
[{"$f":"IF(OR(Расчет!A154>=2000,Расчет!B154>=2000),Расчет!G154,0)","v":0},{"$f":"IF(AND(Расчет!A154<2000,Расчет!B154<2000),Расчет!G154,0)","v":0},null,null,{"$f":"IF(OR(Расчет!A154>=2000,Расчет!B154>=2000),Расчет!J154,0)","v":0},{"$f":"IF(AND(Расчет!A154<2000,Расчет!B154<2000),Расчет!J154,0)","v":0},null,null,{"$f":"IF(OR(Расчет!A154>=2000,Расчет!B154>=2000),Расчет!M154,0)","v":0},{"$f":"IF(AND(Расчет!A154<2000,Расчет!B154<2000),Расчет!M154,0)","v":0}]
[{"$f":"IF(OR(Расчет!A155>=2000,Расчет!B155>=2000),Расчет!G155,0)","v":0},{"$f":"IF(AND(Расчет!A155<2000,Расчет!B155<2000),Расчет!G155,0)","v":0},null,null,{"$f":"IF(OR(Расчет!A155>=2000,Расчет!B155>=2000),Расчет!J155,0)","v":0},{"$f":"IF(AND(Расчет!A155<2000,Расчет!B155<2000),Расчет!J155,0)","v":0},null,null,{"$f":"IF(OR(Расчет!A155>=2000,Расчет!B155>=2000),Расчет!M155,0)","v":0},{"$f":"IF(AND(Расчет!A155<2000,Расчет!B155<2000),Расчет!M155,0)","v":0}]
[{"$f":"IF(OR(Расчет!A156>=2000,Расчет!B156>=2000),Расчет!G156,0)","v":0},{"$f":"IF(AND(Расчет!A156<2000,Расчет!B156<2000),Расчет!G156,0)","v":0},null,null,{"$f":"IF(OR(Расчет!A156>=2000,Расчет!B156>=2000),Расчет!J156,0)","v":0},{"$f":"IF(AND(Расчет!A156<2000,Расчет!B156<2000),Расчет!J156,0)","v":0},null,null,{"$f":"IF(OR(Расчет!A156>=2000,Расчет!B156>=2000),Расчет!M156,0)","v":0},{"$f":"IF(AND(Расчет!A156<2000,Расчет!B156<2000),Расчет!M156,0)","v":0}]
[{"$f":"IF(OR(Расчет!A157>=2000,Расчет!B157>=2000),Расчет!G157,0)","v":0},{"$f":"IF(AND(Расчет!A157<2000,Расчет!B157<2000),Расчет!G157,0)","v":0},null,null,{"$f":"IF(OR(Расчет!A157>=2000,Расчет!B157>=2000),Расчет!J157,0)","v":0},{"$f":"IF(AND(Расчет!A157<2000,Расчет!B157<2000),Расчет!J157,0)","v":0},null,null,{"$f":"IF(OR(Расчет!A157>=2000,Расчет!B157>=2000),Расчет!M157,0)","v":0},{"$f":"IF(AND(Расчет!A157<2000,Расчет!B157<2000),Расчет!M157,0)","v":0}]
[{"$f":"IF(OR(Расчет!A158>=2000,Расчет!B158>=2000),Расчет!G158,0)","v":0},{"$f":"IF(AND(Расчет!A158<2000,Расчет!B158<2000),Расчет!G158,0)","v":0},null,null,{"$f":"IF(OR(Расчет!A158>=2000,Расчет!B158>=2000),Расчет!J158,0)","v":0},{"$f":"IF(AND(Расчет!A158<2000,Расчет!B158<2000),Расчет!J158,0)","v":0},null,null,{"$f":"IF(OR(Расчет!A158>=2000,Расчет!B158>=2000),Расчет!M158,0)","v":0},{"$f":"IF(AND(Расчет!A158<2000,Расчет!B158<2000),Расчет!M158,0)","v":0}]
[{"$f":"IF(OR(Расчет!A159>=2000,Расчет!B159>=2000),Расчет!G159,0)","v":0},{"$f":"IF(AND(Расчет!A159<2000,Расчет!B159<2000),Расчет!G159,0)","v":0},null,null,{"$f":"IF(OR(Расчет!A159>=2000,Расчет!B159>=2000),Расчет!J159,0)","v":0},{"$f":"IF(AND(Расчет!A159<2000,Расчет!B159<2000),Расчет!J159,0)","v":0},null,null,{"$f":"IF(OR(Расчет!A159>=2000,Расчет!B159>=2000),Расчет!M159,0)","v":0},{"$f":"IF(AND(Расчет!A159<2000,Расчет!B159<2000),Расчет!M159,0)","v":0}]
[{"$f":"IF(OR(Расчет!A160>=2000,Расчет!B160>=2000),Расчет!G160,0)","v":0},{"$f":"IF(AND(Расчет!A160<2000,Расчет!B160<2000),Расчет!G160,0)","v":0},null,null,{"$f":"IF(OR(Расчет!A160>=2000,Расчет!B160>=2000),Расчет!J160,0)","v":0},{"$f":"IF(AND(Расчет!A160<2000,Расчет!B160<2000),Расчет!J160,0)","v":0},null,null,{"$f":"IF(OR(Расчет!A160>=2000,Расчет!B160>=2000),Расчет!M160,0)","v":0},{"$f":"IF(AND(Расчет!A160<2000,Расчет!B160<2000),Расчет!M160,0)","v":0}]
[{"$f":"IF(OR(Расчет!A161>=2000,Расчет!B161>=2000),Расчет!G161,0)","v":0},{"$f":"IF(AND(Расчет!A161<2000,Расчет!B161<2000),Расчет!G161,0)","v":0},null,null,{"$f":"IF(OR(Расчет!A161>=2000,Расчет!B161>=2000),Расчет!J161,0)","v":0},{"$f":"IF(AND(Расчет!A161<2000,Расчет!B161<2000),Расчет!J161,0)","v":0},null,null,{"$f":"IF(OR(Расчет!A161>=2000,Расчет!B161>=2000),Расчет!M161,0)","v":0},{"$f":"IF(AND(Расчет!A161<2000,Расчет!B161<2000),Расчет!M161,0)","v":0}]
[{"$f":"IF(OR(Расчет!A162>=2000,Расчет!B162>=2000),Расчет!G162,0)","v":0},{"$f":"IF(AND(Расчет!A162<2000,Расчет!B162<2000),Расчет!G162,0)","v":0},null,null,{"$f":"IF(OR(Расчет!A162>=2000,Расчет!B162>=2000),Расчет!J162,0)","v":0},{"$f":"IF(AND(Расчет!A162<2000,Расчет!B162<2000),Расчет!J162,0)","v":0},null,null,{"$f":"IF(OR(Расчет!A162>=2000,Расчет!B162>=2000),Расчет!M162,0)","v":0},{"$f":"IF(AND(Расчет!A162<2000,Расчет!B162<2000),Расчет!M162,0)","v":0}]
[{"$f":"IF(OR(Расчет!A163>=2000,Расчет!B163>=2000),Расчет!G163,0)","v":0},{"$f":"IF(AND(Расчет!A163<2000,Расчет!B163<2000),Расчет!G163,0)","v":0},null,null,{"$f":"IF(OR(Расчет!A163>=2000,Расчет!B163>=2000),Расчет!J163,0)","v":0},{"$f":"IF(AND(Расчет!A163<2000,Расчет!B163<2000),Расчет!J163,0)","v":0},null,null,{"$f":"IF(OR(Расчет!A163>=2000,Расчет!B163>=2000),Расчет!M163,0)","v":0},{"$f":"IF(AND(Расчет!A163<2000,Расчет!B163<2000),Расчет!M163,0)","v":0}]
[{"$f":"IF(OR(Расчет!A164>=2000,Расчет!B164>=2000),Расчет!G164,0)","v":0},{"$f":"IF(AND(Расчет!A164<2000,Расчет!B164<2000),Расчет!G164,0)","v":0},null,null,{"$f":"IF(OR(Расчет!A164>=2000,Расчет!B164>=2000),Расчет!J164,0)","v":0},{"$f":"IF(AND(Расчет!A164<2000,Расчет!B164<2000),Расчет!J164,0)","v":0},null,null,{"$f":"IF(OR(Расчет!A164>=2000,Расчет!B164>=2000),Расчет!M164,0)","v":0},{"$f":"IF(AND(Расчет!A164<2000,Расчет!B164<2000),Расчет!M164,0)","v":0}]
[{"$f":"IF(OR(Расчет!A165>=2000,Расчет!B165>=2000),Расчет!G165,0)","v":0},{"$f":"IF(AND(Расчет!A165<2000,Расчет!B165<2000),Расчет!G165,0)","v":0},null,null,{"$f":"IF(OR(Расчет!A165>=2000,Расчет!B165>=2000),Расчет!J165,0)","v":0},{"$f":"IF(AND(Расчет!A165<2000,Расчет!B165<2000),Расчет!J165,0)","v":0},null,null,{"$f":"IF(OR(Расчет!A165>=2000,Расчет!B165>=2000),Расчет!M165,0)","v":0},{"$f":"IF(AND(Расчет!A165<2000,Расчет!B165<2000),Расчет!M165,0)","v":0}]
[{"$f":"IF(OR(Расчет!A166>=2000,Расчет!B166>=2000),Расчет!G166,0)","v":0},{"$f":"IF(AND(Расчет!A166<2000,Расчет!B166<2000),Расчет!G166,0)","v":0},null,null,{"$f":"IF(OR(Расчет!A166>=2000,Расчет!B166>=2000),Расчет!J166,0)","v":0},{"$f":"IF(AND(Расчет!A166<2000,Расчет!B166<2000),Расчет!J166,0)","v":0},null,null,{"$f":"IF(OR(Расчет!A166>=2000,Расчет!B166>=2000),Расчет!M166,0)","v":0},{"$f":"IF(AND(Расчет!A166<2000,Расчет!B166<2000),Расчет!M166,0)","v":0}]
[{"$f":"IF(OR(Расчет!A167>=2000,Расчет!B167>=2000),Расчет!G167,0)","v":0},{"$f":"IF(AND(Расчет!A167<2000,Расчет!B167<2000),Расчет!G167,0)","v":0},null,null,{"$f":"IF(OR(Расчет!A167>=2000,Расчет!B167>=2000),Расчет!J167,0)","v":0},{"$f":"IF(AND(Расчет!A167<2000,Расчет!B167<2000),Расчет!J167,0)","v":0},null,null,{"$f":"IF(OR(Расчет!A167>=2000,Расчет!B167>=2000),Расчет!M167,0)","v":0},{"$f":"IF(AND(Расчет!A167<2000,Расчет!B167<2000),Расчет!M167,0)","v":0}]
[{"$f":"IF(OR(Расчет!A168>=2000,Расчет!B168>=2000),Расчет!G168,0)","v":0},{"$f":"IF(AND(Расчет!A168<2000,Расчет!B168<2000),Расчет!G168,0)","v":0},null,null,{"$f":"IF(OR(Расчет!A168>=2000,Расчет!B168>=2000),Расчет!J168,0)","v":0},{"$f":"IF(AND(Расчет!A168<2000,Расчет!B168<2000),Расчет!J168,0)","v":0},null,null,{"$f":"IF(OR(Расчет!A168>=2000,Расчет!B168>=2000),Расчет!M168,0)","v":0},{"$f":"IF(AND(Расчет!A168<2000,Расчет!B168<2000),Расчет!M168,0)","v":0}]
[{"$f":"IF(OR(Расчет!A169>=2000,Расчет!B169>=2000),Расчет!G169,0)","v":0},{"$f":"IF(AND(Расчет!A169<2000,Расчет!B169<2000),Расчет!G169,0)","v":0},null,null,{"$f":"IF(OR(Расчет!A169>=2000,Расчет!B169>=2000),Расчет!J169,0)","v":0},{"$f":"IF(AND(Расчет!A169<2000,Расчет!B169<2000),Расчет!J169,0)","v":0},null,null,{"$f":"IF(OR(Расчет!A169>=2000,Расчет!B169>=2000),Расчет!M169,0)","v":0},{"$f":"IF(AND(Расчет!A169<2000,Расчет!B169<2000),Расчет!M169,0)","v":0}]
[{"$f":"IF(OR(Расчет!A170>=2000,Расчет!B170>=2000),Расчет!G170,0)","v":0},{"$f":"IF(AND(Расчет!A170<2000,Расчет!B170<2000),Расчет!G170,0)","v":0},null,null,{"$f":"IF(OR(Расчет!A170>=2000,Расчет!B170>=2000),Расчет!J170,0)","v":0},{"$f":"IF(AND(Расчет!A170<2000,Расчет!B170<2000),Расчет!J170,0)","v":0},null,null,{"$f":"IF(OR(Расчет!A170>=2000,Расчет!B170>=2000),Расчет!M170,0)","v":0},{"$f":"IF(AND(Расчет!A170<2000,Расчет!B170<2000),Расчет!M170,0)","v":0}]
[{"$f":"IF(OR(Расчет!A171>=2000,Расчет!B171>=2000),Расчет!G171,0)","v":0},{"$f":"IF(AND(Расчет!A171<2000,Расчет!B171<2000),Расчет!G171,0)","v":0},null,null,{"$f":"IF(OR(Расчет!A171>=2000,Расчет!B171>=2000),Расчет!J171,0)","v":0},{"$f":"IF(AND(Расчет!A171<2000,Расчет!B171<2000),Расчет!J171,0)","v":0},null,null,{"$f":"IF(OR(Расчет!A171>=2000,Расчет!B171>=2000),Расчет!M171,0)","v":0},{"$f":"IF(AND(Расчет!A171<2000,Расчет!B171<2000),Расчет!M171,0)","v":0}]
[{"$f":"IF(OR(Расчет!A172>=2000,Расчет!B172>=2000),Расчет!G172,0)","v":0},{"$f":"IF(AND(Расчет!A172<2000,Расчет!B172<2000),Расчет!G172,0)","v":0},null,null,{"$f":"IF(OR(Расчет!A172>=2000,Расчет!B172>=2000),Расчет!J172,0)","v":0},{"$f":"IF(AND(Расчет!A172<2000,Расчет!B172<2000),Расчет!J172,0)","v":0},null,null,{"$f":"IF(OR(Расчет!A172>=2000,Расчет!B172>=2000),Расчет!M172,0)","v":0},{"$f":"IF(AND(Расчет!A172<2000,Расчет!B172<2000),Расчет!M172,0)","v":0}]
[{"$f":"IF(OR(Расчет!A173>=2000,Расчет!B173>=2000),Расчет!G173,0)","v":0},{"$f":"IF(AND(Расчет!A173<2000,Расчет!B173<2000),Расчет!G173,0)","v":0},null,null,{"$f":"IF(OR(Расчет!A173>=2000,Расчет!B173>=2000),Расчет!J173,0)","v":0},{"$f":"IF(AND(Расчет!A173<2000,Расчет!B173<2000),Расчет!J173,0)","v":0},null,null,{"$f":"IF(OR(Расчет!A173>=2000,Расчет!B173>=2000),Расчет!M173,0)","v":0},{"$f":"IF(AND(Расчет!A173<2000,Расчет!B173<2000),Расчет!M173,0)","v":0}]
[{"$f":"IF(OR(Расчет!A174>=2000,Расчет!B174>=2000),Расчет!G174,0)","v":0},{"$f":"IF(AND(Расчет!A174<2000,Расчет!B174<2000),Расчет!G174,0)","v":0},null,null,{"$f":"IF(OR(Расчет!A174>=2000,Расчет!B174>=2000),Расчет!J174,0)","v":0},{"$f":"IF(AND(Расчет!A174<2000,Расчет!B174<2000),Расчет!J174,0)","v":0},null,null,{"$f":"IF(OR(Расчет!A174>=2000,Расчет!B174>=2000),Расчет!M174,0)","v":0},{"$f":"IF(AND(Расчет!A174<2000,Расчет!B174<2000),Расчет!M174,0)","v":0}]
[{"$f":"IF(OR(Расчет!A175>=2000,Расчет!B175>=2000),Расчет!G175,0)","v":0},{"$f":"IF(AND(Расчет!A175<2000,Расчет!B175<2000),Расчет!G175,0)","v":0},null,null,{"$f":"IF(OR(Расчет!A175>=2000,Расчет!B175>=2000),Расчет!J175,0)","v":0},{"$f":"IF(AND(Расчет!A175<2000,Расчет!B175<2000),Расчет!J175,0)","v":0},null,null,{"$f":"IF(OR(Расчет!A175>=2000,Расчет!B175>=2000),Расчет!M175,0)","v":0},{"$f":"IF(AND(Расчет!A175<2000,Расчет!B175<2000),Расчет!M175,0)","v":0}]
[{"$f":"IF(OR(Расчет!A176>=2000,Расчет!B176>=2000),Расчет!G176,0)","v":0},{"$f":"IF(AND(Расчет!A176<2000,Расчет!B176<2000),Расчет!G176,0)","v":0},null,null,{"$f":"IF(OR(Расчет!A176>=2000,Расчет!B176>=2000),Расчет!J176,0)","v":0},{"$f":"IF(AND(Расчет!A176<2000,Расчет!B176<2000),Расчет!J176,0)","v":0},null,null,{"$f":"IF(OR(Расчет!A176>=2000,Расчет!B176>=2000),Расчет!M176,0)","v":0},{"$f":"IF(AND(Расчет!A176<2000,Расчет!B176<2000),Расчет!M176,0)","v":0}]
[{"$f":"IF(OR(Расчет!A177>=2000,Расчет!B177>=2000),Расчет!G177,0)","v":0},{"$f":"IF(AND(Расчет!A177<2000,Расчет!B177<2000),Расчет!G177,0)","v":0},null,null,{"$f":"IF(OR(Расчет!A177>=2000,Расчет!B177>=2000),Расчет!J177,0)","v":0},{"$f":"IF(AND(Расчет!A177<2000,Расчет!B177<2000),Расчет!J177,0)","v":0},null,null,{"$f":"IF(OR(Расчет!A177>=2000,Расчет!B177>=2000),Расчет!M177,0)","v":0},{"$f":"IF(AND(Расчет!A177<2000,Расчет!B177<2000),Расчет!M177,0)","v":0}]
[{"$f":"IF(OR(Расчет!A178>=2000,Расчет!B178>=2000),Расчет!G178,0)","v":0},{"$f":"IF(AND(Расчет!A178<2000,Расчет!B178<2000),Расчет!G178,0)","v":0},null,null,{"$f":"IF(OR(Расчет!A178>=2000,Расчет!B178>=2000),Расчет!J178,0)","v":0},{"$f":"IF(AND(Расчет!A178<2000,Расчет!B178<2000),Расчет!J178,0)","v":0},null,null,{"$f":"IF(OR(Расчет!A178>=2000,Расчет!B178>=2000),Расчет!M178,0)","v":0},{"$f":"IF(AND(Расчет!A178<2000,Расчет!B178<2000),Расчет!M178,0)","v":0}]
[{"$f":"IF(OR(Расчет!A179>=2000,Расчет!B179>=2000),Расчет!G179,0)","v":0},{"$f":"IF(AND(Расчет!A179<2000,Расчет!B179<2000),Расчет!G179,0)","v":0},null,null,{"$f":"IF(OR(Расчет!A179>=2000,Расчет!B179>=2000),Расчет!J179,0)","v":0},{"$f":"IF(AND(Расчет!A179<2000,Расчет!B179<2000),Расчет!J179,0)","v":0},null,null,{"$f":"IF(OR(Расчет!A179>=2000,Расчет!B179>=2000),Расчет!M179,0)","v":0},{"$f":"IF(AND(Расчет!A179<2000,Расчет!B179<2000),Расчет!M179,0)","v":0}]
[{"$f":"IF(OR(Расчет!A180>=2000,Расчет!B180>=2000),Расчет!G180,0)","v":0},{"$f":"IF(AND(Расчет!A180<2000,Расчет!B180<2000),Расчет!G180,0)","v":0},null,null,{"$f":"IF(OR(Расчет!A180>=2000,Расчет!B180>=2000),Расчет!J180,0)","v":0},{"$f":"IF(AND(Расчет!A180<2000,Расчет!B180<2000),Расчет!J180,0)","v":0},null,null,{"$f":"IF(OR(Расчет!A180>=2000,Расчет!B180>=2000),Расчет!M180,0)","v":0},{"$f":"IF(AND(Расчет!A180<2000,Расчет!B180<2000),Расчет!M180,0)","v":0}]
[{"$f":"IF(OR(Расчет!A181>=2000,Расчет!B181>=2000),Расчет!G181,0)","v":0},{"$f":"IF(AND(Расчет!A181<2000,Расчет!B181<2000),Расчет!G181,0)","v":0},null,null,{"$f":"IF(OR(Расчет!A181>=2000,Расчет!B181>=2000),Расчет!J181,0)","v":0},{"$f":"IF(AND(Расчет!A181<2000,Расчет!B181<2000),Расчет!J181,0)","v":0},null,null,{"$f":"IF(OR(Расчет!A181>=2000,Расчет!B181>=2000),Расчет!M181,0)","v":0},{"$f":"IF(AND(Расчет!A181<2000,Расчет!B181<2000),Расчет!M181,0)","v":0}]
[{"$f":"IF(OR(Расчет!A182>=2000,Расчет!B182>=2000),Расчет!G182,0)","v":0},{"$f":"IF(AND(Расчет!A182<2000,Расчет!B182<2000),Расчет!G182,0)","v":0},null,null,{"$f":"IF(OR(Расчет!A182>=2000,Расчет!B182>=2000),Расчет!J182,0)","v":0},{"$f":"IF(AND(Расчет!A182<2000,Расчет!B182<2000),Расчет!J182,0)","v":0},null,null,{"$f":"IF(OR(Расчет!A182>=2000,Расчет!B182>=2000),Расчет!M182,0)","v":0},{"$f":"IF(AND(Расчет!A182<2000,Расчет!B182<2000),Расчет!M182,0)","v":0}]
[{"$f":"IF(OR(Расчет!A183>=2000,Расчет!B183>=2000),Расчет!G183,0)","v":0},{"$f":"IF(AND(Расчет!A183<2000,Расчет!B183<2000),Расчет!G183,0)","v":0},null,null,{"$f":"IF(OR(Расчет!A183>=2000,Расчет!B183>=2000),Расчет!J183,0)","v":0},{"$f":"IF(AND(Расчет!A183<2000,Расчет!B183<2000),Расчет!J183,0)","v":0},null,null,{"$f":"IF(OR(Расчет!A183>=2000,Расчет!B183>=2000),Расчет!M183,0)","v":0},{"$f":"IF(AND(Расчет!A183<2000,Расчет!B183<2000),Расчет!M183,0)","v":0}]
[{"$f":"IF(OR(Расчет!A184>=2000,Расчет!B184>=2000),Расчет!G184,0)","v":0},{"$f":"IF(AND(Расчет!A184<2000,Расчет!B184<2000),Расчет!G184,0)","v":0},null,null,{"$f":"IF(OR(Расчет!A184>=2000,Расчет!B184>=2000),Расчет!J184,0)","v":0},{"$f":"IF(AND(Расчет!A184<2000,Расчет!B184<2000),Расчет!J184,0)","v":0},null,null,{"$f":"IF(OR(Расчет!A184>=2000,Расчет!B184>=2000),Расчет!M184,0)","v":0},{"$f":"IF(AND(Расчет!A184<2000,Расчет!B184<2000),Расчет!M184,0)","v":0}]
[{"$f":"IF(OR(Расчет!A185>=2000,Расчет!B185>=2000),Расчет!G185,0)","v":0},{"$f":"IF(AND(Расчет!A185<2000,Расчет!B185<2000),Расчет!G185,0)","v":0},null,null,{"$f":"IF(OR(Расчет!A185>=2000,Расчет!B185>=2000),Расчет!J185,0)","v":0},{"$f":"IF(AND(Расчет!A185<2000,Расчет!B185<2000),Расчет!J185,0)","v":0},null,null,{"$f":"IF(OR(Расчет!A185>=2000,Расчет!B185>=2000),Расчет!M185,0)","v":0},{"$f":"IF(AND(Расчет!A185<2000,Расчет!B185<2000),Расчет!M185,0)","v":0}]
[{"$f":"IF(OR(Расчет!A186>=2000,Расчет!B186>=2000),Расчет!G186,0)","v":0},{"$f":"IF(AND(Расчет!A186<2000,Расчет!B186<2000),Расчет!G186,0)","v":0},null,null,{"$f":"IF(OR(Расчет!A186>=2000,Расчет!B186>=2000),Расчет!J186,0)","v":0},{"$f":"IF(AND(Расчет!A186<2000,Расчет!B186<2000),Расчет!J186,0)","v":0},null,null,{"$f":"IF(OR(Расчет!A186>=2000,Расчет!B186>=2000),Расчет!M186,0)","v":0},{"$f":"IF(AND(Расчет!A186<2000,Расчет!B186<2000),Расчет!M186,0)","v":0}]
[{"$f":"IF(OR(Расчет!A187>=2000,Расчет!B187>=2000),Расчет!G187,0)","v":0},{"$f":"IF(AND(Расчет!A187<2000,Расчет!B187<2000),Расчет!G187,0)","v":0},null,null,{"$f":"IF(OR(Расчет!A187>=2000,Расчет!B187>=2000),Расчет!J187,0)","v":0},{"$f":"IF(AND(Расчет!A187<2000,Расчет!B187<2000),Расчет!J187,0)","v":0},null,null,{"$f":"IF(OR(Расчет!A187>=2000,Расчет!B187>=2000),Расчет!M187,0)","v":0},{"$f":"IF(AND(Расчет!A187<2000,Расчет!B187<2000),Расчет!M187,0)","v":0}]
[{"$f":"IF(OR(Расчет!A188>=2000,Расчет!B188>=2000),Расчет!G188,0)","v":0},{"$f":"IF(AND(Расчет!A188<2000,Расчет!B188<2000),Расчет!G188,0)","v":0},null,null,{"$f":"IF(OR(Расчет!A188>=2000,Расчет!B188>=2000),Расчет!J188,0)","v":0},{"$f":"IF(AND(Расчет!A188<2000,Расчет!B188<2000),Расчет!J188,0)","v":0},null,null,{"$f":"IF(OR(Расчет!A188>=2000,Расчет!B188>=2000),Расчет!M188,0)","v":0},{"$f":"IF(AND(Расчет!A188<2000,Расчет!B188<2000),Расчет!M188,0)","v":0}]
[{"$f":"IF(OR(Расчет!A189>=2000,Расчет!B189>=2000),Расчет!G189,0)","v":0},{"$f":"IF(AND(Расчет!A189<2000,Расчет!B189<2000),Расчет!G189,0)","v":0},null,null,{"$f":"IF(OR(Расчет!A189>=2000,Расчет!B189>=2000),Расчет!J189,0)","v":0},{"$f":"IF(AND(Расчет!A189<2000,Расчет!B189<2000),Расчет!J189,0)","v":0},null,null,{"$f":"IF(OR(Расчет!A189>=2000,Расчет!B189>=2000),Расчет!M189,0)","v":0},{"$f":"IF(AND(Расчет!A189<2000,Расчет!B189<2000),Расчет!M189,0)","v":0}]
[{"$f":"IF(OR(Расчет!A190>=2000,Расчет!B190>=2000),Расчет!G190,0)","v":0},{"$f":"IF(AND(Расчет!A190<2000,Расчет!B190<2000),Расчет!G190,0)","v":0},null,null,{"$f":"IF(OR(Расчет!A190>=2000,Расчет!B190>=2000),Расчет!J190,0)","v":0},{"$f":"IF(AND(Расчет!A190<2000,Расчет!B190<2000),Расчет!J190,0)","v":0},null,null,{"$f":"IF(OR(Расчет!A190>=2000,Расчет!B190>=2000),Расчет!M190,0)","v":0},{"$f":"IF(AND(Расчет!A190<2000,Расчет!B190<2000),Расчет!M190,0)","v":0}]
[{"$f":"IF(OR(Расчет!A191>=2000,Расчет!B191>=2000),Расчет!G191,0)","v":0},{"$f":"IF(AND(Расчет!A191<2000,Расчет!B191<2000),Расчет!G191,0)","v":0},null,null,{"$f":"IF(OR(Расчет!A191>=2000,Расчет!B191>=2000),Расчет!J191,0)","v":0},{"$f":"IF(AND(Расчет!A191<2000,Расчет!B191<2000),Расчет!J191,0)","v":0},null,null,{"$f":"IF(OR(Расчет!A191>=2000,Расчет!B191>=2000),Расчет!M191,0)","v":0},{"$f":"IF(AND(Расчет!A191<2000,Расчет!B191<2000),Расчет!M191,0)","v":0}]
[{"$f":"IF(OR(Расчет!A192>=2000,Расчет!B192>=2000),Расчет!G192,0)","v":0},{"$f":"IF(AND(Расчет!A192<2000,Расчет!B192<2000),Расчет!G192,0)","v":0},null,null,{"$f":"IF(OR(Расчет!A192>=2000,Расчет!B192>=2000),Расчет!J192,0)","v":0},{"$f":"IF(AND(Расчет!A192<2000,Расчет!B192<2000),Расчет!J192,0)","v":0},null,null,{"$f":"IF(OR(Расчет!A192>=2000,Расчет!B192>=2000),Расчет!M192,0)","v":0},{"$f":"IF(AND(Расчет!A192<2000,Расчет!B192<2000),Расчет!M192,0)","v":0}]
[{"$f":"IF(OR(Расчет!A193>=2000,Расчет!B193>=2000),Расчет!G193,0)","v":0},{"$f":"IF(AND(Расчет!A193<2000,Расчет!B193<2000),Расчет!G193,0)","v":0},null,null,{"$f":"IF(OR(Расчет!A193>=2000,Расчет!B193>=2000),Расчет!J193,0)","v":0},{"$f":"IF(AND(Расчет!A193<2000,Расчет!B193<2000),Расчет!J193,0)","v":0},null,null,{"$f":"IF(OR(Расчет!A193>=2000,Расчет!B193>=2000),Расчет!M193,0)","v":0},{"$f":"IF(AND(Расчет!A193<2000,Расчет!B193<2000),Расчет!M193,0)","v":0}]
[{"$f":"IF(OR(Расчет!A194>=2000,Расчет!B194>=2000),Расчет!G194,0)","v":0},{"$f":"IF(AND(Расчет!A194<2000,Расчет!B194<2000),Расчет!G194,0)","v":0},null,null,{"$f":"IF(OR(Расчет!A194>=2000,Расчет!B194>=2000),Расчет!J194,0)","v":0},{"$f":"IF(AND(Расчет!A194<2000,Расчет!B194<2000),Расчет!J194,0)","v":0},null,null,{"$f":"IF(OR(Расчет!A194>=2000,Расчет!B194>=2000),Расчет!M194,0)","v":0},{"$f":"IF(AND(Расчет!A194<2000,Расчет!B194<2000),Расчет!M194,0)","v":0}]
[{"$f":"IF(OR(Расчет!A195>=2000,Расчет!B195>=2000),Расчет!G195,0)","v":0},{"$f":"IF(AND(Расчет!A195<2000,Расчет!B195<2000),Расчет!G195,0)","v":0},null,null,{"$f":"IF(OR(Расчет!A195>=2000,Расчет!B195>=2000),Расчет!J195,0)","v":0},{"$f":"IF(AND(Расчет!A195<2000,Расчет!B195<2000),Расчет!J195,0)","v":0},null,null,{"$f":"IF(OR(Расчет!A195>=2000,Расчет!B195>=2000),Расчет!M195,0)","v":0},{"$f":"IF(AND(Расчет!A195<2000,Расчет!B195<2000),Расчет!M195,0)","v":0}]
[{"$f":"IF(OR(Расчет!A196>=2000,Расчет!B196>=2000),Расчет!G196,0)","v":0},{"$f":"IF(AND(Расчет!A196<2000,Расчет!B196<2000),Расчет!G196,0)","v":0},null,null,{"$f":"IF(OR(Расчет!A196>=2000,Расчет!B196>=2000),Расчет!J196,0)","v":0},{"$f":"IF(AND(Расчет!A196<2000,Расчет!B196<2000),Расчет!J196,0)","v":0},null,null,{"$f":"IF(OR(Расчет!A196>=2000,Расчет!B196>=2000),Расчет!M196,0)","v":0},{"$f":"IF(AND(Расчет!A196<2000,Расчет!B196<2000),Расчет!M196,0)","v":0}]
[{"$f":"IF(OR(Расчет!A197>=2000,Расчет!B197>=2000),Расчет!G197,0)","v":0},{"$f":"IF(AND(Расчет!A197<2000,Расчет!B197<2000),Расчет!G197,0)","v":0},null,null,{"$f":"IF(OR(Расчет!A197>=2000,Расчет!B197>=2000),Расчет!J197,0)","v":0},{"$f":"IF(AND(Расчет!A197<2000,Расчет!B197<2000),Расчет!J197,0)","v":0},null,null,{"$f":"IF(OR(Расчет!A197>=2000,Расчет!B197>=2000),Расчет!M197,0)","v":0},{"$f":"IF(AND(Расчет!A197<2000,Расчет!B197<2000),Расчет!M197,0)","v":0}]
[{"$f":"IF(OR(Расчет!A198>=2000,Расчет!B198>=2000),Расчет!G198,0)","v":0},{"$f":"IF(AND(Расчет!A198<2000,Расчет!B198<2000),Расчет!G198,0)","v":0},null,null,{"$f":"IF(OR(Расчет!A198>=2000,Расчет!B198>=2000),Расчет!J198,0)","v":0},{"$f":"IF(AND(Расчет!A198<2000,Расчет!B198<2000),Расчет!J198,0)","v":0},null,null,{"$f":"IF(OR(Расчет!A198>=2000,Расчет!B198>=2000),Расчет!M198,0)","v":0},{"$f":"IF(AND(Расчет!A198<2000,Расчет!B198<2000),Расчет!M198,0)","v":0}]
[{"$f":"IF(OR(Расчет!A199>=2000,Расчет!B199>=2000),Расчет!G199,0)","v":0},{"$f":"IF(AND(Расчет!A199<2000,Расчет!B199<2000),Расчет!G199,0)","v":0},null,null,{"$f":"IF(OR(Расчет!A199>=2000,Расчет!B199>=2000),Расчет!J199,0)","v":0},{"$f":"IF(AND(Расчет!A199<2000,Расчет!B199<2000),Расчет!J199,0)","v":0},null,null,{"$f":"IF(OR(Расчет!A199>=2000,Расчет!B199>=2000),Расчет!M199,0)","v":0},{"$f":"IF(AND(Расчет!A199<2000,Расчет!B199<2000),Расчет!M199,0)","v":0}]
[{"$f":"IF(OR(Расчет!A200>=2000,Расчет!B200>=2000),Расчет!G200,0)","v":0},{"$f":"IF(AND(Расчет!A200<2000,Расчет!B200<2000),Расчет!G200,0)","v":0},null,null,{"$f":"IF(OR(Расчет!A200>=2000,Расчет!B200>=2000),Расчет!J200,0)","v":0},{"$f":"IF(AND(Расчет!A200<2000,Расчет!B200<2000),Расчет!J200,0)","v":0},null,null,{"$f":"IF(OR(Расчет!A200>=2000,Расчет!B200>=2000),Расчет!M200,0)","v":0},{"$f":"IF(AND(Расчет!A200<2000,Расчет!B200<2000),Расчет!M200,0)","v":0}]
[{"$f":"IF(OR(Расчет!A201>=2000,Расчет!B201>=2000),Расчет!G201,0)","v":0},{"$f":"IF(AND(Расчет!A201<2000,Расчет!B201<2000),Расчет!G201,0)","v":0},null,null,{"$f":"IF(OR(Расчет!A201>=2000,Расчет!B201>=2000),Расчет!J201,0)","v":0},{"$f":"IF(AND(Расчет!A201<2000,Расчет!B201<2000),Расчет!J201,0)","v":0},null,null,{"$f":"IF(OR(Расчет!A201>=2000,Расчет!B201>=2000),Расчет!M201,0)","v":0},{"$f":"IF(AND(Расчет!A201<2000,Расчет!B201<2000),Расчет!M201,0)","v":0}]
[{"$f":"IF(OR(Расчет!A202>=2000,Расчет!B202>=2000),Расчет!G202,0)","v":0},{"$f":"IF(AND(Расчет!A202<2000,Расчет!B202<2000),Расчет!G202,0)","v":0},null,null,{"$f":"IF(OR(Расчет!A202>=2000,Расчет!B202>=2000),Расчет!J202,0)","v":0},{"$f":"IF(AND(Расчет!A202<2000,Расчет!B202<2000),Расчет!J202,0)","v":0},null,null,{"$f":"IF(OR(Расчет!A202>=2000,Расчет!B202>=2000),Расчет!M202,0)","v":0},{"$f":"IF(AND(Расчет!A202<2000,Расчет!B202<2000),Расчет!M202,0)","v":0}]
[{"$f":"IF(OR(Расчет!A203>=2000,Расчет!B203>=2000),Расчет!G203,0)","v":0},{"$f":"IF(AND(Расчет!A203<2000,Расчет!B203<2000),Расчет!G203,0)","v":0},null,null,{"$f":"IF(OR(Расчет!A203>=2000,Расчет!B203>=2000),Расчет!J203,0)","v":0},{"$f":"IF(AND(Расчет!A203<2000,Расчет!B203<2000),Расчет!J203,0)","v":0},null,null,{"$f":"IF(OR(Расчет!A203>=2000,Расчет!B203>=2000),Расчет!M203,0)","v":0},{"$f":"IF(AND(Расчет!A203<2000,Расчет!B203<2000),Расчет!M203,0)","v":0}]
[{"$f":"IF(OR(Расчет!A204>=2000,Расчет!B204>=2000),Расчет!G204,0)","v":0},{"$f":"IF(AND(Расчет!A204<2000,Расчет!B204<2000),Расчет!G204,0)","v":0},null,null,{"$f":"IF(OR(Расчет!A204>=2000,Расчет!B204>=2000),Расчет!J204,0)","v":0},{"$f":"IF(AND(Расчет!A204<2000,Расчет!B204<2000),Расчет!J204,0)","v":0},null,null,{"$f":"IF(OR(Расчет!A204>=2000,Расчет!B204>=2000),Расчет!M204,0)","v":0},{"$f":"IF(AND(Расчет!A204<2000,Расчет!B204<2000),Расчет!M204,0)","v":0}]
[{"$f":"IF(OR(Расчет!A205>=2000,Расчет!B205>=2000),Расчет!G205,0)","v":0},{"$f":"IF(AND(Расчет!A205<2000,Расчет!B205<2000),Расчет!G205,0)","v":0},null,null,{"$f":"IF(OR(Расчет!A205>=2000,Расчет!B205>=2000),Расчет!J205,0)","v":0},{"$f":"IF(AND(Расчет!A205<2000,Расчет!B205<2000),Расчет!J205,0)","v":0},null,null,{"$f":"IF(OR(Расчет!A205>=2000,Расчет!B205>=2000),Расчет!M205,0)","v":0},{"$f":"IF(AND(Расчет!A205<2000,Расчет!B205<2000),Расчет!M205,0)","v":0}]
[{"$f":"IF(OR(Расчет!A206>=2000,Расчет!B206>=2000),Расчет!G206,0)","v":0},{"$f":"IF(AND(Расчет!A206<2000,Расчет!B206<2000),Расчет!G206,0)","v":0},null,null,{"$f":"IF(OR(Расчет!A206>=2000,Расчет!B206>=2000),Расчет!J206,0)","v":0},{"$f":"IF(AND(Расчет!A206<2000,Расчет!B206<2000),Расчет!J206,0)","v":0},null,null,{"$f":"IF(OR(Расчет!A206>=2000,Расчет!B206>=2000),Расчет!M206,0)","v":0},{"$f":"IF(AND(Расчет!A206<2000,Расчет!B206<2000),Расчет!M206,0)","v":0}]
[{"$f":"IF(OR(Расчет!A207>=2000,Расчет!B207>=2000),Расчет!G207,0)","v":0},{"$f":"IF(AND(Расчет!A207<2000,Расчет!B207<2000),Расчет!G207,0)","v":0},null,null,{"$f":"IF(OR(Расчет!A207>=2000,Расчет!B207>=2000),Расчет!J207,0)","v":0},{"$f":"IF(AND(Расчет!A207<2000,Расчет!B207<2000),Расчет!J207,0)","v":0},null,null,{"$f":"IF(OR(Расчет!A207>=2000,Расчет!B207>=2000),Расчет!M207,0)","v":0},{"$f":"IF(AND(Расчет!A207<2000,Расчет!B207<2000),Расчет!M207,0)","v":0}]
[{"$f":"IF(OR(Расчет!A208>=2000,Расчет!B208>=2000),Расчет!G208,0)","v":0},{"$f":"IF(AND(Расчет!A208<2000,Расчет!B208<2000),Расчет!G208,0)","v":0},null,null,{"$f":"IF(OR(Расчет!A208>=2000,Расчет!B208>=2000),Расчет!J208,0)","v":0},{"$f":"IF(AND(Расчет!A208<2000,Расчет!B208<2000),Расчет!J208,0)","v":0},null,null,{"$f":"IF(OR(Расчет!A208>=2000,Расчет!B208>=2000),Расчет!M208,0)","v":0},{"$f":"IF(AND(Расчет!A208<2000,Расчет!B208<2000),Расчет!M208,0)","v":0}]
[{"$f":"IF(OR(Расчет!A209>=2000,Расчет!B209>=2000),Расчет!G209,0)","v":0},{"$f":"IF(AND(Расчет!A209<2000,Расчет!B209<2000),Расчет!G209,0)","v":0},null,null,{"$f":"IF(OR(Расчет!A209>=2000,Расчет!B209>=2000),Расчет!J209,0)","v":0},{"$f":"IF(AND(Расчет!A209<2000,Расчет!B209<2000),Расчет!J209,0)","v":0},null,null,{"$f":"IF(OR(Расчет!A209>=2000,Расчет!B209>=2000),Расчет!M209,0)","v":0},{"$f":"IF(AND(Расчет!A209<2000,Расчет!B209<2000),Расчет!M209,0)","v":0}]
[{"$f":"IF(OR(Расчет!A210>=2000,Расчет!B210>=2000),Расчет!G210,0)","v":0},{"$f":"IF(AND(Расчет!A210<2000,Расчет!B210<2000),Расчет!G210,0)","v":0},null,null,{"$f":"IF(OR(Расчет!A210>=2000,Расчет!B210>=2000),Расчет!J210,0)","v":0},{"$f":"IF(AND(Расчет!A210<2000,Расчет!B210<2000),Расчет!J210,0)","v":0},null,null,{"$f":"IF(OR(Расчет!A210>=2000,Расчет!B210>=2000),Расчет!M210,0)","v":0},{"$f":"IF(AND(Расчет!A210<2000,Расчет!B210<2000),Расчет!M210,0)","v":0}]
[{"$f":"IF(OR(Расчет!A211>=2000,Расчет!B211>=2000),Расчет!G211,0)","v":0},{"$f":"IF(AND(Расчет!A211<2000,Расчет!B211<2000),Расчет!G211,0)","v":0},null,null,{"$f":"IF(OR(Расчет!A211>=2000,Расчет!B211>=2000),Расчет!J211,0)","v":0},{"$f":"IF(AND(Расчет!A211<2000,Расчет!B211<2000),Расчет!J211,0)","v":0},null,null,{"$f":"IF(OR(Расчет!A211>=2000,Расчет!B211>=2000),Расчет!M211,0)","v":0},{"$f":"IF(AND(Расчет!A211<2000,Расчет!B211<2000),Расчет!M211,0)","v":0}]
[{"$f":"IF(OR(Расчет!A212>=2000,Расчет!B212>=2000),Расчет!G212,0)","v":0},{"$f":"IF(AND(Расчет!A212<2000,Расчет!B212<2000),Расчет!G212,0)","v":0},null,null,{"$f":"IF(OR(Расчет!A212>=2000,Расчет!B212>=2000),Расчет!J212,0)","v":0},{"$f":"IF(AND(Расчет!A212<2000,Расчет!B212<2000),Расчет!J212,0)","v":0},null,null,{"$f":"IF(OR(Расчет!A212>=2000,Расчет!B212>=2000),Расчет!M212,0)","v":0},{"$f":"IF(AND(Расчет!A212<2000,Расчет!B212<2000),Расчет!M212,0)","v":0}]
[{"$f":"IF(OR(Расчет!A213>=2000,Расчет!B213>=2000),Расчет!G213,0)","v":0},{"$f":"IF(AND(Расчет!A213<2000,Расчет!B213<2000),Расчет!G213,0)","v":0},null,null,{"$f":"IF(OR(Расчет!A213>=2000,Расчет!B213>=2000),Расчет!J213,0)","v":0},{"$f":"IF(AND(Расчет!A213<2000,Расчет!B213<2000),Расчет!J213,0)","v":0},null,null,{"$f":"IF(OR(Расчет!A213>=2000,Расчет!B213>=2000),Расчет!M213,0)","v":0},{"$f":"IF(AND(Расчет!A213<2000,Расчет!B213<2000),Расчет!M213,0)","v":0}]
[{"$f":"IF(OR(Расчет!A214>=2000,Расчет!B214>=2000),Расчет!G214,0)","v":0},{"$f":"IF(AND(Расчет!A214<2000,Расчет!B214<2000),Расчет!G214,0)","v":0},null,null,{"$f":"IF(OR(Расчет!A214>=2000,Расчет!B214>=2000),Расчет!J214,0)","v":0},{"$f":"IF(AND(Расчет!A214<2000,Расчет!B214<2000),Расчет!J214,0)","v":0},null,null,{"$f":"IF(OR(Расчет!A214>=2000,Расчет!B214>=2000),Расчет!M214,0)","v":0},{"$f":"IF(AND(Расчет!A214<2000,Расчет!B214<2000),Расчет!M214,0)","v":0}]
[{"$f":"IF(OR(Расчет!A215>=2000,Расчет!B215>=2000),Расчет!G215,0)","v":0},{"$f":"IF(AND(Расчет!A215<2000,Расчет!B215<2000),Расчет!G215,0)","v":0},null,null,{"$f":"IF(OR(Расчет!A215>=2000,Расчет!B215>=2000),Расчет!J215,0)","v":0},{"$f":"IF(AND(Расчет!A215<2000,Расчет!B215<2000),Расчет!J215,0)","v":0},null,null,{"$f":"IF(OR(Расчет!A215>=2000,Расчет!B215>=2000),Расчет!M215,0)","v":0},{"$f":"IF(AND(Расчет!A215<2000,Расчет!B215<2000),Расчет!M215,0)","v":0}]
[{"$f":"IF(OR(Расчет!A216>=2000,Расчет!B216>=2000),Расчет!G216,0)","v":0},{"$f":"IF(AND(Расчет!A216<2000,Расчет!B216<2000),Расчет!G216,0)","v":0},null,null,{"$f":"IF(OR(Расчет!A216>=2000,Расчет!B216>=2000),Расчет!J216,0)","v":0},{"$f":"IF(AND(Расчет!A216<2000,Расчет!B216<2000),Расчет!J216,0)","v":0},null,null,{"$f":"IF(OR(Расчет!A216>=2000,Расчет!B216>=2000),Расчет!M216,0)","v":0},{"$f":"IF(AND(Расчет!A216<2000,Расчет!B216<2000),Расчет!M216,0)","v":0}]
[{"$f":"IF(OR(Расчет!A217>=2000,Расчет!B217>=2000),Расчет!G217,0)","v":0},{"$f":"IF(AND(Расчет!A217<2000,Расчет!B217<2000),Расчет!G217,0)","v":0},null,null,{"$f":"IF(OR(Расчет!A217>=2000,Расчет!B217>=2000),Расчет!J217,0)","v":0},{"$f":"IF(AND(Расчет!A217<2000,Расчет!B217<2000),Расчет!J217,0)","v":0},null,null,{"$f":"IF(OR(Расчет!A217>=2000,Расчет!B217>=2000),Расчет!M217,0)","v":0},{"$f":"IF(AND(Расчет!A217<2000,Расчет!B217<2000),Расчет!M217,0)","v":0}]
[{"$f":"IF(OR(Расчет!A218>=2000,Расчет!B218>=2000),Расчет!G218,0)","v":0},{"$f":"IF(AND(Расчет!A218<2000,Расчет!B218<2000),Расчет!G218,0)","v":0},null,null,{"$f":"IF(OR(Расчет!A218>=2000,Расчет!B218>=2000),Расчет!J218,0)","v":0},{"$f":"IF(AND(Расчет!A218<2000,Расчет!B218<2000),Расчет!J218,0)","v":0},null,null,{"$f":"IF(OR(Расчет!A218>=2000,Расчет!B218>=2000),Расчет!M218,0)","v":0},{"$f":"IF(AND(Расчет!A218<2000,Расчет!B218<2000),Расчет!M218,0)","v":0}]
[{"$f":"IF(OR(Расчет!A219>=2000,Расчет!B219>=2000),Расчет!G219,0)","v":0},{"$f":"IF(AND(Расчет!A219<2000,Расчет!B219<2000),Расчет!G219,0)","v":0},null,null,{"$f":"IF(OR(Расчет!A219>=2000,Расчет!B219>=2000),Расчет!J219,0)","v":0},{"$f":"IF(AND(Расчет!A219<2000,Расчет!B219<2000),Расчет!J219,0)","v":0},null,null,{"$f":"IF(OR(Расчет!A219>=2000,Расчет!B219>=2000),Расчет!M219,0)","v":0},{"$f":"IF(AND(Расчет!A219<2000,Расчет!B219<2000),Расчет!M219,0)","v":0}]
[{"$f":"IF(OR(Расчет!A220>=2000,Расчет!B220>=2000),Расчет!G220,0)","v":0},{"$f":"IF(AND(Расчет!A220<2000,Расчет!B220<2000),Расчет!G220,0)","v":0},null,null,{"$f":"IF(OR(Расчет!A220>=2000,Расчет!B220>=2000),Расчет!J220,0)","v":0},{"$f":"IF(AND(Расчет!A220<2000,Расчет!B220<2000),Расчет!J220,0)","v":0},null,null,{"$f":"IF(OR(Расчет!A220>=2000,Расчет!B220>=2000),Расчет!M220,0)","v":0},{"$f":"IF(AND(Расчет!A220<2000,Расчет!B220<2000),Расчет!M220,0)","v":0}]
[{"$f":"IF(OR(Расчет!A221>=2000,Расчет!B221>=2000),Расчет!G221,0)","v":0},{"$f":"IF(AND(Расчет!A221<2000,Расчет!B221<2000),Расчет!G221,0)","v":0},null,null,{"$f":"IF(OR(Расчет!A221>=2000,Расчет!B221>=2000),Расчет!J221,0)","v":0},{"$f":"IF(AND(Расчет!A221<2000,Расчет!B221<2000),Расчет!J221,0)","v":0},null,null,{"$f":"IF(OR(Расчет!A221>=2000,Расчет!B221>=2000),Расчет!M221,0)","v":0},{"$f":"IF(AND(Расчет!A221<2000,Расчет!B221<2000),Расчет!M221,0)","v":0}]
[{"$f":"IF(OR(Расчет!A222>=2000,Расчет!B222>=2000),Расчет!G222,0)","v":0},{"$f":"IF(AND(Расчет!A222<2000,Расчет!B222<2000),Расчет!G222,0)","v":0},null,null,{"$f":"IF(OR(Расчет!A222>=2000,Расчет!B222>=2000),Расчет!J222,0)","v":0},{"$f":"IF(AND(Расчет!A222<2000,Расчет!B222<2000),Расчет!J222,0)","v":0},null,null,{"$f":"IF(OR(Расчет!A222>=2000,Расчет!B222>=2000),Расчет!M222,0)","v":0},{"$f":"IF(AND(Расчет!A222<2000,Расчет!B222<2000),Расчет!M222,0)","v":0}]
[{"$f":"IF(OR(Расчет!A223>=2000,Расчет!B223>=2000),Расчет!G223,0)","v":0},{"$f":"IF(AND(Расчет!A223<2000,Расчет!B223<2000),Расчет!G223,0)","v":0},null,null,{"$f":"IF(OR(Расчет!A223>=2000,Расчет!B223>=2000),Расчет!J223,0)","v":0},{"$f":"IF(AND(Расчет!A223<2000,Расчет!B223<2000),Расчет!J223,0)","v":0},null,null,{"$f":"IF(OR(Расчет!A223>=2000,Расчет!B223>=2000),Расчет!M223,0)","v":0},{"$f":"IF(AND(Расчет!A223<2000,Расчет!B223<2000),Расчет!M223,0)","v":0}]
[{"$f":"IF(OR(Расчет!A224>=2000,Расчет!B224>=2000),Расчет!G224,0)","v":0},{"$f":"IF(AND(Расчет!A224<2000,Расчет!B224<2000),Расчет!G224,0)","v":0},null,null,{"$f":"IF(OR(Расчет!A224>=2000,Расчет!B224>=2000),Расчет!J224,0)","v":0},{"$f":"IF(AND(Расчет!A224<2000,Расчет!B224<2000),Расчет!J224,0)","v":0},null,null,{"$f":"IF(OR(Расчет!A224>=2000,Расчет!B224>=2000),Расчет!M224,0)","v":0},{"$f":"IF(AND(Расчет!A224<2000,Расчет!B224<2000),Расчет!M224,0)","v":0}]
[{"$f":"IF(OR(Расчет!A225>=2000,Расчет!B225>=2000),Расчет!G225,0)","v":0},{"$f":"IF(AND(Расчет!A225<2000,Расчет!B225<2000),Расчет!G225,0)","v":0},null,null,{"$f":"IF(OR(Расчет!A225>=2000,Расчет!B225>=2000),Расчет!J225,0)","v":0},{"$f":"IF(AND(Расчет!A225<2000,Расчет!B225<2000),Расчет!J225,0)","v":0},null,null,{"$f":"IF(OR(Расчет!A225>=2000,Расчет!B225>=2000),Расчет!M225,0)","v":0},{"$f":"IF(AND(Расчет!A225<2000,Расчет!B225<2000),Расчет!M225,0)","v":0}]
[{"$f":"IF(OR(Расчет!A226>=2000,Расчет!B226>=2000),Расчет!G226,0)","v":0},{"$f":"IF(AND(Расчет!A226<2000,Расчет!B226<2000),Расчет!G226,0)","v":0},null,null,{"$f":"IF(OR(Расчет!A226>=2000,Расчет!B226>=2000),Расчет!J226,0)","v":0},{"$f":"IF(AND(Расчет!A226<2000,Расчет!B226<2000),Расчет!J226,0)","v":0},null,null,{"$f":"IF(OR(Расчет!A226>=2000,Расчет!B226>=2000),Расчет!M226,0)","v":0},{"$f":"IF(AND(Расчет!A226<2000,Расчет!B226<2000),Расчет!M226,0)","v":0}]
[{"$f":"IF(OR(Расчет!A227>=2000,Расчет!B227>=2000),Расчет!G227,0)","v":0},{"$f":"IF(AND(Расчет!A227<2000,Расчет!B227<2000),Расчет!G227,0)","v":0},null,null,{"$f":"IF(OR(Расчет!A227>=2000,Расчет!B227>=2000),Расчет!J227,0)","v":0},{"$f":"IF(AND(Расчет!A227<2000,Расчет!B227<2000),Расчет!J227,0)","v":0},null,null,{"$f":"IF(OR(Расчет!A227>=2000,Расчет!B227>=2000),Расчет!M227,0)","v":0},{"$f":"IF(AND(Расчет!A227<2000,Расчет!B227<2000),Расчет!M227,0)","v":0}]
[{"$f":"IF(OR(Расчет!A228>=2000,Расчет!B228>=2000),Расчет!G228,0)","v":0},{"$f":"IF(AND(Расчет!A228<2000,Расчет!B228<2000),Расчет!G228,0)","v":0},null,null,{"$f":"IF(OR(Расчет!A228>=2000,Расчет!B228>=2000),Расчет!J228,0)","v":0},{"$f":"IF(AND(Расчет!A228<2000,Расчет!B228<2000),Расчет!J228,0)","v":0},null,null,{"$f":"IF(OR(Расчет!A228>=2000,Расчет!B228>=2000),Расчет!M228,0)","v":0},{"$f":"IF(AND(Расчет!A228<2000,Расчет!B228<2000),Расчет!M228,0)","v":0}]
[{"$f":"IF(OR(Расчет!A229>=2000,Расчет!B229>=2000),Расчет!G229,0)","v":0},{"$f":"IF(AND(Расчет!A229<2000,Расчет!B229<2000),Расчет!G229,0)","v":0},null,null,{"$f":"IF(OR(Расчет!A229>=2000,Расчет!B229>=2000),Расчет!J229,0)","v":0},{"$f":"IF(AND(Расчет!A229<2000,Расчет!B229<2000),Расчет!J229,0)","v":0},null,null,{"$f":"IF(OR(Расчет!A229>=2000,Расчет!B229>=2000),Расчет!M229,0)","v":0},{"$f":"IF(AND(Расчет!A229<2000,Расчет!B229<2000),Расчет!M229,0)","v":0}]
[{"$f":"IF(OR(Расчет!A230>=2000,Расчет!B230>=2000),Расчет!G230,0)","v":0},{"$f":"IF(AND(Расчет!A230<2000,Расчет!B230<2000),Расчет!G230,0)","v":0},null,null,{"$f":"IF(OR(Расчет!A230>=2000,Расчет!B230>=2000),Расчет!J230,0)","v":0},{"$f":"IF(AND(Расчет!A230<2000,Расчет!B230<2000),Расчет!J230,0)","v":0},null,null,{"$f":"IF(OR(Расчет!A230>=2000,Расчет!B230>=2000),Расчет!M230,0)","v":0},{"$f":"IF(AND(Расчет!A230<2000,Расчет!B230<2000),Расчет!M230,0)","v":0}]
[{"$f":"IF(OR(Расчет!A231>=2000,Расчет!B231>=2000),Расчет!G231,0)","v":0},{"$f":"IF(AND(Расчет!A231<2000,Расчет!B231<2000),Расчет!G231,0)","v":0},null,null,{"$f":"IF(OR(Расчет!A231>=2000,Расчет!B231>=2000),Расчет!J231,0)","v":0},{"$f":"IF(AND(Расчет!A231<2000,Расчет!B231<2000),Расчет!J231,0)","v":0},null,null,{"$f":"IF(OR(Расчет!A231>=2000,Расчет!B231>=2000),Расчет!M231,0)","v":0},{"$f":"IF(AND(Расчет!A231<2000,Расчет!B231<2000),Расчет!M231,0)","v":0}]
[{"$f":"IF(OR(Расчет!A232>=2000,Расчет!B232>=2000),Расчет!G232,0)","v":0},{"$f":"IF(AND(Расчет!A232<2000,Расчет!B232<2000),Расчет!G232,0)","v":0},null,null,{"$f":"IF(OR(Расчет!A232>=2000,Расчет!B232>=2000),Расчет!J232,0)","v":0},{"$f":"IF(AND(Расчет!A232<2000,Расчет!B232<2000),Расчет!J232,0)","v":0},null,null,{"$f":"IF(OR(Расчет!A232>=2000,Расчет!B232>=2000),Расчет!M232,0)","v":0},{"$f":"IF(AND(Расчет!A232<2000,Расчет!B232<2000),Расчет!M232,0)","v":0}]
[{"$f":"IF(OR(Расчет!A233>=2000,Расчет!B233>=2000),Расчет!G233,0)","v":0},{"$f":"IF(AND(Расчет!A233<2000,Расчет!B233<2000),Расчет!G233,0)","v":0},null,null,{"$f":"IF(OR(Расчет!A233>=2000,Расчет!B233>=2000),Расчет!J233,0)","v":0},{"$f":"IF(AND(Расчет!A233<2000,Расчет!B233<2000),Расчет!J233,0)","v":0},null,null,{"$f":"IF(OR(Расчет!A233>=2000,Расчет!B233>=2000),Расчет!M233,0)","v":0},{"$f":"IF(AND(Расчет!A233<2000,Расчет!B233<2000),Расчет!M233,0)","v":0}]
[{"$f":"IF(OR(Расчет!A234>=2000,Расчет!B234>=2000),Расчет!G234,0)","v":0},{"$f":"IF(AND(Расчет!A234<2000,Расчет!B234<2000),Расчет!G234,0)","v":0},null,null,{"$f":"IF(OR(Расчет!A234>=2000,Расчет!B234>=2000),Расчет!J234,0)","v":0},{"$f":"IF(AND(Расчет!A234<2000,Расчет!B234<2000),Расчет!J234,0)","v":0},null,null,{"$f":"IF(OR(Расчет!A234>=2000,Расчет!B234>=2000),Расчет!M234,0)","v":0},{"$f":"IF(AND(Расчет!A234<2000,Расчет!B234<2000),Расчет!M234,0)","v":0}]
[{"$f":"IF(OR(Расчет!A235>=2000,Расчет!B235>=2000),Расчет!G235,0)","v":0},{"$f":"IF(AND(Расчет!A235<2000,Расчет!B235<2000),Расчет!G235,0)","v":0},null,null,{"$f":"IF(OR(Расчет!A235>=2000,Расчет!B235>=2000),Расчет!J235,0)","v":0},{"$f":"IF(AND(Расчет!A235<2000,Расчет!B235<2000),Расчет!J235,0)","v":0},null,null,{"$f":"IF(OR(Расчет!A235>=2000,Расчет!B235>=2000),Расчет!M235,0)","v":0},{"$f":"IF(AND(Расчет!A235<2000,Расчет!B235<2000),Расчет!M235,0)","v":0}]
[{"$f":"IF(OR(Расчет!A236>=2000,Расчет!B236>=2000),Расчет!G236,0)","v":0},{"$f":"IF(AND(Расчет!A236<2000,Расчет!B236<2000),Расчет!G236,0)","v":0},null,null,{"$f":"IF(OR(Расчет!A236>=2000,Расчет!B236>=2000),Расчет!J236,0)","v":0},{"$f":"IF(AND(Расчет!A236<2000,Расчет!B236<2000),Расчет!J236,0)","v":0},null,null,{"$f":"IF(OR(Расчет!A236>=2000,Расчет!B236>=2000),Расчет!M236,0)","v":0},{"$f":"IF(AND(Расчет!A236<2000,Расчет!B236<2000),Расчет!M236,0)","v":0}]
[{"$f":"IF(OR(Расчет!A237>=2000,Расчет!B237>=2000),Расчет!G237,0)","v":0},{"$f":"IF(AND(Расчет!A237<2000,Расчет!B237<2000),Расчет!G237,0)","v":0},null,null,{"$f":"IF(OR(Расчет!A237>=2000,Расчет!B237>=2000),Расчет!J237,0)","v":0},{"$f":"IF(AND(Расчет!A237<2000,Расчет!B237<2000),Расчет!J237,0)","v":0},null,null,{"$f":"IF(OR(Расчет!A237>=2000,Расчет!B237>=2000),Расчет!M237,0)","v":0},{"$f":"IF(AND(Расчет!A237<2000,Расчет!B237<2000),Расчет!M237,0)","v":0}]
[{"$f":"IF(OR(Расчет!A238>=2000,Расчет!B238>=2000),Расчет!G238,0)","v":0},{"$f":"IF(AND(Расчет!A238<2000,Расчет!B238<2000),Расчет!G238,0)","v":0},null,null,{"$f":"IF(OR(Расчет!A238>=2000,Расчет!B238>=2000),Расчет!J238,0)","v":0},{"$f":"IF(AND(Расчет!A238<2000,Расчет!B238<2000),Расчет!J238,0)","v":0},null,null,{"$f":"IF(OR(Расчет!A238>=2000,Расчет!B238>=2000),Расчет!M238,0)","v":0},{"$f":"IF(AND(Расчет!A238<2000,Расчет!B238<2000),Расчет!M238,0)","v":0}]
[{"$f":"IF(OR(Расчет!A239>=2000,Расчет!B239>=2000),Расчет!G239,0)","v":0},{"$f":"IF(AND(Расчет!A239<2000,Расчет!B239<2000),Расчет!G239,0)","v":0},null,null,{"$f":"IF(OR(Расчет!A239>=2000,Расчет!B239>=2000),Расчет!J239,0)","v":0},{"$f":"IF(AND(Расчет!A239<2000,Расчет!B239<2000),Расчет!J239,0)","v":0},null,null,{"$f":"IF(OR(Расчет!A239>=2000,Расчет!B239>=2000),Расчет!M239,0)","v":0},{"$f":"IF(AND(Расчет!A239<2000,Расчет!B239<2000),Расчет!M239,0)","v":0}]
[{"$f":"IF(OR(Расчет!A240>=2000,Расчет!B240>=2000),Расчет!G240,0)","v":0},{"$f":"IF(AND(Расчет!A240<2000,Расчет!B240<2000),Расчет!G240,0)","v":0},null,null,{"$f":"IF(OR(Расчет!A240>=2000,Расчет!B240>=2000),Расчет!J240,0)","v":0},{"$f":"IF(AND(Расчет!A240<2000,Расчет!B240<2000),Расчет!J240,0)","v":0},null,null,{"$f":"IF(OR(Расчет!A240>=2000,Расчет!B240>=2000),Расчет!M240,0)","v":0},{"$f":"IF(AND(Расчет!A240<2000,Расчет!B240<2000),Расчет!M240,0)","v":0}]
[{"$f":"IF(OR(Расчет!A241>=2000,Расчет!B241>=2000),Расчет!G241,0)","v":0},{"$f":"IF(AND(Расчет!A241<2000,Расчет!B241<2000),Расчет!G241,0)","v":0},null,null,{"$f":"IF(OR(Расчет!A241>=2000,Расчет!B241>=2000),Расчет!J241,0)","v":0},{"$f":"IF(AND(Расчет!A241<2000,Расчет!B241<2000),Расчет!J241,0)","v":0},null,null,{"$f":"IF(OR(Расчет!A241>=2000,Расчет!B241>=2000),Расчет!M241,0)","v":0},{"$f":"IF(AND(Расчет!A241<2000,Расчет!B241<2000),Расчет!M241,0)","v":0}]
[{"$f":"IF(OR(Расчет!A242>=2000,Расчет!B242>=2000),Расчет!G242,0)","v":0},{"$f":"IF(AND(Расчет!A242<2000,Расчет!B242<2000),Расчет!G242,0)","v":0},null,null,{"$f":"IF(OR(Расчет!A242>=2000,Расчет!B242>=2000),Расчет!J242,0)","v":0},{"$f":"IF(AND(Расчет!A242<2000,Расчет!B242<2000),Расчет!J242,0)","v":0},null,null,{"$f":"IF(OR(Расчет!A242>=2000,Расчет!B242>=2000),Расчет!M242,0)","v":0},{"$f":"IF(AND(Расчет!A242<2000,Расчет!B242<2000),Расчет!M242,0)","v":0}]
[{"$f":"IF(OR(Расчет!A243>=2000,Расчет!B243>=2000),Расчет!G243,0)","v":0},{"$f":"IF(AND(Расчет!A243<2000,Расчет!B243<2000),Расчет!G243,0)","v":0},null,null,{"$f":"IF(OR(Расчет!A243>=2000,Расчет!B243>=2000),Расчет!J243,0)","v":0},{"$f":"IF(AND(Расчет!A243<2000,Расчет!B243<2000),Расчет!J243,0)","v":0},null,null,{"$f":"IF(OR(Расчет!A243>=2000,Расчет!B243>=2000),Расчет!M243,0)","v":0},{"$f":"IF(AND(Расчет!A243<2000,Расчет!B243<2000),Расчет!M243,0)","v":0}]
[{"$f":"IF(OR(Расчет!A244>=2000,Расчет!B244>=2000),Расчет!G244,0)","v":0},{"$f":"IF(AND(Расчет!A244<2000,Расчет!B244<2000),Расчет!G244,0)","v":0},null,null,{"$f":"IF(OR(Расчет!A244>=2000,Расчет!B244>=2000),Расчет!J244,0)","v":0},{"$f":"IF(AND(Расчет!A244<2000,Расчет!B244<2000),Расчет!J244,0)","v":0},null,null,{"$f":"IF(OR(Расчет!A244>=2000,Расчет!B244>=2000),Расчет!M244,0)","v":0},{"$f":"IF(AND(Расчет!A244<2000,Расчет!B244<2000),Расчет!M244,0)","v":0}]
[{"$f":"IF(OR(Расчет!A245>=2000,Расчет!B245>=2000),Расчет!G245,0)","v":0},{"$f":"IF(AND(Расчет!A245<2000,Расчет!B245<2000),Расчет!G245,0)","v":0},null,null,{"$f":"IF(OR(Расчет!A245>=2000,Расчет!B245>=2000),Расчет!J245,0)","v":0},{"$f":"IF(AND(Расчет!A245<2000,Расчет!B245<2000),Расчет!J245,0)","v":0},null,null,{"$f":"IF(OR(Расчет!A245>=2000,Расчет!B245>=2000),Расчет!M245,0)","v":0},{"$f":"IF(AND(Расчет!A245<2000,Расчет!B245<2000),Расчет!M245,0)","v":0}]
[{"$f":"IF(OR(Расчет!A246>=2000,Расчет!B246>=2000),Расчет!G246,0)","v":0},{"$f":"IF(AND(Расчет!A246<2000,Расчет!B246<2000),Расчет!G246,0)","v":0},null,null,{"$f":"IF(OR(Расчет!A246>=2000,Расчет!B246>=2000),Расчет!J246,0)","v":0},{"$f":"IF(AND(Расчет!A246<2000,Расчет!B246<2000),Расчет!J246,0)","v":0},null,null,{"$f":"IF(OR(Расчет!A246>=2000,Расчет!B246>=2000),Расчет!M246,0)","v":0},{"$f":"IF(AND(Расчет!A246<2000,Расчет!B246<2000),Расчет!M246,0)","v":0}]
[{"$f":"IF(OR(Расчет!A247>=2000,Расчет!B247>=2000),Расчет!G247,0)","v":0},{"$f":"IF(AND(Расчет!A247<2000,Расчет!B247<2000),Расчет!G247,0)","v":0},null,null,{"$f":"IF(OR(Расчет!A247>=2000,Расчет!B247>=2000),Расчет!J247,0)","v":0},{"$f":"IF(AND(Расчет!A247<2000,Расчет!B247<2000),Расчет!J247,0)","v":0},null,null,{"$f":"IF(OR(Расчет!A247>=2000,Расчет!B247>=2000),Расчет!M247,0)","v":0},{"$f":"IF(AND(Расчет!A247<2000,Расчет!B247<2000),Расчет!M247,0)","v":0}]
[{"$f":"IF(OR(Расчет!A248>=2000,Расчет!B248>=2000),Расчет!G248,0)","v":0},{"$f":"IF(AND(Расчет!A248<2000,Расчет!B248<2000),Расчет!G248,0)","v":0},null,null,{"$f":"IF(OR(Расчет!A248>=2000,Расчет!B248>=2000),Расчет!J248,0)","v":0},{"$f":"IF(AND(Расчет!A248<2000,Расчет!B248<2000),Расчет!J248,0)","v":0},null,null,{"$f":"IF(OR(Расчет!A248>=2000,Расчет!B248>=2000),Расчет!M248,0)","v":0},{"$f":"IF(AND(Расчет!A248<2000,Расчет!B248<2000),Расчет!M248,0)","v":0}]
[{"$f":"IF(OR(Расчет!A249>=2000,Расчет!B249>=2000),Расчет!G249,0)","v":0},{"$f":"IF(AND(Расчет!A249<2000,Расчет!B249<2000),Расчет!G249,0)","v":0},null,null,{"$f":"IF(OR(Расчет!A249>=2000,Расчет!B249>=2000),Расчет!J249,0)","v":0},{"$f":"IF(AND(Расчет!A249<2000,Расчет!B249<2000),Расчет!J249,0)","v":0},null,null,{"$f":"IF(OR(Расчет!A249>=2000,Расчет!B249>=2000),Расчет!M249,0)","v":0},{"$f":"IF(AND(Расчет!A249<2000,Расчет!B249<2000),Расчет!M249,0)","v":0}]
[{"$f":"IF(OR(Расчет!A250>=2000,Расчет!B250>=2000),Расчет!G250,0)","v":0},{"$f":"IF(AND(Расчет!A250<2000,Расчет!B250<2000),Расчет!G250,0)","v":0},null,null,{"$f":"IF(OR(Расчет!A250>=2000,Расчет!B250>=2000),Расчет!J250,0)","v":0},{"$f":"IF(AND(Расчет!A250<2000,Расчет!B250<2000),Расчет!J250,0)","v":0},null,null,{"$f":"IF(OR(Расчет!A250>=2000,Расчет!B250>=2000),Расчет!M250,0)","v":0},{"$f":"IF(AND(Расчет!A250<2000,Расчет!B250<2000),Расчет!M250,0)","v":0}]
[{"$f":"IF(OR(Расчет!A251>=2000,Расчет!B251>=2000),Расчет!G251,0)","v":0},{"$f":"IF(AND(Расчет!A251<2000,Расчет!B251<2000),Расчет!G251,0)","v":0},null,null,{"$f":"IF(OR(Расчет!A251>=2000,Расчет!B251>=2000),Расчет!J251,0)","v":0},{"$f":"IF(AND(Расчет!A251<2000,Расчет!B251<2000),Расчет!J251,0)","v":0},null,null,{"$f":"IF(OR(Расчет!A251>=2000,Расчет!B251>=2000),Расчет!M251,0)","v":0},{"$f":"IF(AND(Расчет!A251<2000,Расчет!B251<2000),Расчет!M251,0)","v":0}]
[{"$f":"IF(OR(Расчет!A252>=2000,Расчет!B252>=2000),Расчет!G252,0)","v":0},{"$f":"IF(AND(Расчет!A252<2000,Расчет!B252<2000),Расчет!G252,0)","v":0},null,null,{"$f":"IF(OR(Расчет!A252>=2000,Расчет!B252>=2000),Расчет!J252,0)","v":0},{"$f":"IF(AND(Расчет!A252<2000,Расчет!B252<2000),Расчет!J252,0)","v":0},null,null,{"$f":"IF(OR(Расчет!A252>=2000,Расчет!B252>=2000),Расчет!M252,0)","v":0},{"$f":"IF(AND(Расчет!A252<2000,Расчет!B252<2000),Расчет!M252,0)","v":0}]
[{"$f":"IF(OR(Расчет!A253>=2000,Расчет!B253>=2000),Расчет!G253,0)","v":0},{"$f":"IF(AND(Расчет!A253<2000,Расчет!B253<2000),Расчет!G253,0)","v":0},null,null,{"$f":"IF(OR(Расчет!A253>=2000,Расчет!B253>=2000),Расчет!J253,0)","v":0},{"$f":"IF(AND(Расчет!A253<2000,Расчет!B253<2000),Расчет!J253,0)","v":0},null,null,{"$f":"IF(OR(Расчет!A253>=2000,Расчет!B253>=2000),Расчет!M253,0)","v":0},{"$f":"IF(AND(Расчет!A253<2000,Расчет!B253<2000),Расчет!M253,0)","v":0}]
[{"$f":"IF(OR(Расчет!A254>=2000,Расчет!B254>=2000),Расчет!G254,0)","v":0},{"$f":"IF(AND(Расчет!A254<2000,Расчет!B254<2000),Расчет!G254,0)","v":0},null,null,{"$f":"IF(OR(Расчет!A254>=2000,Расчет!B254>=2000),Расчет!J254,0)","v":0},{"$f":"IF(AND(Расчет!A254<2000,Расчет!B254<2000),Расчет!J254,0)","v":0},null,null,{"$f":"IF(OR(Расчет!A254>=2000,Расчет!B254>=2000),Расчет!M254,0)","v":0},{"$f":"IF(AND(Расчет!A254<2000,Расчет!B254<2000),Расчет!M254,0)","v":0}]
[{"$f":"IF(OR(Расчет!A255>=2000,Расчет!B255>=2000),Расчет!G255,0)","v":0},{"$f":"IF(AND(Расчет!A255<2000,Расчет!B255<2000),Расчет!G255,0)","v":0},null,null,{"$f":"IF(OR(Расчет!A255>=2000,Расчет!B255>=2000),Расчет!J255,0)","v":0},{"$f":"IF(AND(Расчет!A255<2000,Расчет!B255<2000),Расчет!J255,0)","v":0},null,null,{"$f":"IF(OR(Расчет!A255>=2000,Расчет!B255>=2000),Расчет!M255,0)","v":0},{"$f":"IF(AND(Расчет!A255<2000,Расчет!B255<2000),Расчет!M255,0)","v":0}]
[{"$f":"IF(OR(Расчет!A256>=2000,Расчет!B256>=2000),Расчет!G256,0)","v":0},{"$f":"IF(AND(Расчет!A256<2000,Расчет!B256<2000),Расчет!G256,0)","v":0},null,null,{"$f":"IF(OR(Расчет!A256>=2000,Расчет!B256>=2000),Расчет!J256,0)","v":0},{"$f":"IF(AND(Расчет!A256<2000,Расчет!B256<2000),Расчет!J256,0)","v":0},null,null,{"$f":"IF(OR(Расчет!A256>=2000,Расчет!B256>=2000),Расчет!M256,0)","v":0},{"$f":"IF(AND(Расчет!A256<2000,Расчет!B256<2000),Расчет!M256,0)","v":0}]
[{"$f":"IF(OR(Расчет!A257>=2000,Расчет!B257>=2000),Расчет!G257,0)","v":0},{"$f":"IF(AND(Расчет!A257<2000,Расчет!B257<2000),Расчет!G257,0)","v":0},null,null,{"$f":"IF(OR(Расчет!A257>=2000,Расчет!B257>=2000),Расчет!J257,0)","v":0},{"$f":"IF(AND(Расчет!A257<2000,Расчет!B257<2000),Расчет!J257,0)","v":0},null,null,{"$f":"IF(OR(Расчет!A257>=2000,Расчет!B257>=2000),Расчет!M257,0)","v":0},{"$f":"IF(AND(Расчет!A257<2000,Расчет!B257<2000),Расчет!M257,0)","v":0}]
[{"$f":"IF(OR(Расчет!A258>=2000,Расчет!B258>=2000),Расчет!G258,0)","v":0},{"$f":"IF(AND(Расчет!A258<2000,Расчет!B258<2000),Расчет!G258,0)","v":0},null,null,{"$f":"IF(OR(Расчет!A258>=2000,Расчет!B258>=2000),Расчет!J258,0)","v":0},{"$f":"IF(AND(Расчет!A258<2000,Расчет!B258<2000),Расчет!J258,0)","v":0},null,null,{"$f":"IF(OR(Расчет!A258>=2000,Расчет!B258>=2000),Расчет!M258,0)","v":0},{"$f":"IF(AND(Расчет!A258<2000,Расчет!B258<2000),Расчет!M258,0)","v":0}]
[{"$f":"IF(OR(Расчет!A259>=2000,Расчет!B259>=2000),Расчет!G259,0)","v":0},{"$f":"IF(AND(Расчет!A259<2000,Расчет!B259<2000),Расчет!G259,0)","v":0},null,null,{"$f":"IF(OR(Расчет!A259>=2000,Расчет!B259>=2000),Расчет!J259,0)","v":0},{"$f":"IF(AND(Расчет!A259<2000,Расчет!B259<2000),Расчет!J259,0)","v":0},null,null,{"$f":"IF(OR(Расчет!A259>=2000,Расчет!B259>=2000),Расчет!M259,0)","v":0},{"$f":"IF(AND(Расчет!A259<2000,Расчет!B259<2000),Расчет!M259,0)","v":0}]
[{"$f":"IF(OR(Расчет!A260>=2000,Расчет!B260>=2000),Расчет!G260,0)","v":0},{"$f":"IF(AND(Расчет!A260<2000,Расчет!B260<2000),Расчет!G260,0)","v":0},null,null,{"$f":"IF(OR(Расчет!A260>=2000,Расчет!B260>=2000),Расчет!J260,0)","v":0},{"$f":"IF(AND(Расчет!A260<2000,Расчет!B260<2000),Расчет!J260,0)","v":0},null,null,{"$f":"IF(OR(Расчет!A260>=2000,Расчет!B260>=2000),Расчет!M260,0)","v":0},{"$f":"IF(AND(Расчет!A260<2000,Расчет!B260<2000),Расчет!M260,0)","v":0}]
[{"$f":"IF(OR(Расчет!A261>=2000,Расчет!B261>=2000),Расчет!G261,0)","v":0},{"$f":"IF(AND(Расчет!A261<2000,Расчет!B261<2000),Расчет!G261,0)","v":0},null,null,{"$f":"IF(OR(Расчет!A261>=2000,Расчет!B261>=2000),Расчет!J261,0)","v":0},{"$f":"IF(AND(Расчет!A261<2000,Расчет!B261<2000),Расчет!J261,0)","v":0},null,null,{"$f":"IF(OR(Расчет!A261>=2000,Расчет!B261>=2000),Расчет!M261,0)","v":0},{"$f":"IF(AND(Расчет!A261<2000,Расчет!B261<2000),Расчет!M261,0)","v":0}]
[{"$f":"IF(OR(Расчет!A262>=2000,Расчет!B262>=2000),Расчет!G262,0)","v":0},{"$f":"IF(AND(Расчет!A262<2000,Расчет!B262<2000),Расчет!G262,0)","v":0},null,null,{"$f":"IF(OR(Расчет!A262>=2000,Расчет!B262>=2000),Расчет!J262,0)","v":0},{"$f":"IF(AND(Расчет!A262<2000,Расчет!B262<2000),Расчет!J262,0)","v":0},null,null,{"$f":"IF(OR(Расчет!A262>=2000,Расчет!B262>=2000),Расчет!M262,0)","v":0},{"$f":"IF(AND(Расчет!A262<2000,Расчет!B262<2000),Расчет!M262,0)","v":0}]
[{"$f":"IF(OR(Расчет!A263>=2000,Расчет!B263>=2000),Расчет!G263,0)","v":0},{"$f":"IF(AND(Расчет!A263<2000,Расчет!B263<2000),Расчет!G263,0)","v":0},null,null,{"$f":"IF(OR(Расчет!A263>=2000,Расчет!B263>=2000),Расчет!J263,0)","v":0},{"$f":"IF(AND(Расчет!A263<2000,Расчет!B263<2000),Расчет!J263,0)","v":0},null,null,{"$f":"IF(OR(Расчет!A263>=2000,Расчет!B263>=2000),Расчет!M263,0)","v":0},{"$f":"IF(AND(Расчет!A263<2000,Расчет!B263<2000),Расчет!M263,0)","v":0}]
[{"$f":"IF(OR(Расчет!A264>=2000,Расчет!B264>=2000),Расчет!G264,0)","v":0},{"$f":"IF(AND(Расчет!A264<2000,Расчет!B264<2000),Расчет!G264,0)","v":0},null,null,{"$f":"IF(OR(Расчет!A264>=2000,Расчет!B264>=2000),Расчет!J264,0)","v":0},{"$f":"IF(AND(Расчет!A264<2000,Расчет!B264<2000),Расчет!J264,0)","v":0},null,null,{"$f":"IF(OR(Расчет!A264>=2000,Расчет!B264>=2000),Расчет!M264,0)","v":0},{"$f":"IF(AND(Расчет!A264<2000,Расчет!B264<2000),Расчет!M264,0)","v":0}]
[{"$f":"IF(OR(Расчет!A265>=2000,Расчет!B265>=2000),Расчет!G265,0)","v":0},{"$f":"IF(AND(Расчет!A265<2000,Расчет!B265<2000),Расчет!G265,0)","v":0},null,null,{"$f":"IF(OR(Расчет!A265>=2000,Расчет!B265>=2000),Расчет!J265,0)","v":0},{"$f":"IF(AND(Расчет!A265<2000,Расчет!B265<2000),Расчет!J265,0)","v":0},null,null,{"$f":"IF(OR(Расчет!A265>=2000,Расчет!B265>=2000),Расчет!M265,0)","v":0},{"$f":"IF(AND(Расчет!A265<2000,Расчет!B265<2000),Расчет!M265,0)","v":0}]
[{"$f":"IF(OR(Расчет!A266>=2000,Расчет!B266>=2000),Расчет!G266,0)","v":0},{"$f":"IF(AND(Расчет!A266<2000,Расчет!B266<2000),Расчет!G266,0)","v":0},null,null,{"$f":"IF(OR(Расчет!A266>=2000,Расчет!B266>=2000),Расчет!J266,0)","v":0},{"$f":"IF(AND(Расчет!A266<2000,Расчет!B266<2000),Расчет!J266,0)","v":0},null,null,{"$f":"IF(OR(Расчет!A266>=2000,Расчет!B266>=2000),Расчет!M266,0)","v":0},{"$f":"IF(AND(Расчет!A266<2000,Расчет!B266<2000),Расчет!M266,0)","v":0}]
[{"$f":"IF(OR(Расчет!A267>=2000,Расчет!B267>=2000),Расчет!G267,0)","v":0},{"$f":"IF(AND(Расчет!A267<2000,Расчет!B267<2000),Расчет!G267,0)","v":0},null,null,{"$f":"IF(OR(Расчет!A267>=2000,Расчет!B267>=2000),Расчет!J267,0)","v":0},{"$f":"IF(AND(Расчет!A267<2000,Расчет!B267<2000),Расчет!J267,0)","v":0},null,null,{"$f":"IF(OR(Расчет!A267>=2000,Расчет!B267>=2000),Расчет!M267,0)","v":0},{"$f":"IF(AND(Расчет!A267<2000,Расчет!B267<2000),Расчет!M267,0)","v":0}]
[{"$f":"IF(OR(Расчет!A268>=2000,Расчет!B268>=2000),Расчет!G268,0)","v":0},{"$f":"IF(AND(Расчет!A268<2000,Расчет!B268<2000),Расчет!G268,0)","v":0},null,null,{"$f":"IF(OR(Расчет!A268>=2000,Расчет!B268>=2000),Расчет!J268,0)","v":0},{"$f":"IF(AND(Расчет!A268<2000,Расчет!B268<2000),Расчет!J268,0)","v":0},null,null,{"$f":"IF(OR(Расчет!A268>=2000,Расчет!B268>=2000),Расчет!M268,0)","v":0},{"$f":"IF(AND(Расчет!A268<2000,Расчет!B268<2000),Расчет!M268,0)","v":0}]
[{"$f":"IF(OR(Расчет!A269>=2000,Расчет!B269>=2000),Расчет!G269,0)","v":0},{"$f":"IF(AND(Расчет!A269<2000,Расчет!B269<2000),Расчет!G269,0)","v":0},null,null,{"$f":"IF(OR(Расчет!A269>=2000,Расчет!B269>=2000),Расчет!J269,0)","v":0},{"$f":"IF(AND(Расчет!A269<2000,Расчет!B269<2000),Расчет!J269,0)","v":0},null,null,{"$f":"IF(OR(Расчет!A269>=2000,Расчет!B269>=2000),Расчет!M269,0)","v":0},{"$f":"IF(AND(Расчет!A269<2000,Расчет!B269<2000),Расчет!M269,0)","v":0}]
[{"$f":"IF(OR(Расчет!A270>=2000,Расчет!B270>=2000),Расчет!G270,0)","v":0},{"$f":"IF(AND(Расчет!A270<2000,Расчет!B270<2000),Расчет!G270,0)","v":0},null,null,{"$f":"IF(OR(Расчет!A270>=2000,Расчет!B270>=2000),Расчет!J270,0)","v":0},{"$f":"IF(AND(Расчет!A270<2000,Расчет!B270<2000),Расчет!J270,0)","v":0},null,null,{"$f":"IF(OR(Расчет!A270>=2000,Расчет!B270>=2000),Расчет!M270,0)","v":0},{"$f":"IF(AND(Расчет!A270<2000,Расчет!B270<2000),Расчет!M270,0)","v":0}]
[{"$f":"IF(OR(Расчет!A271>=2000,Расчет!B271>=2000),Расчет!G271,0)","v":0},{"$f":"IF(AND(Расчет!A271<2000,Расчет!B271<2000),Расчет!G271,0)","v":0},null,null,{"$f":"IF(OR(Расчет!A271>=2000,Расчет!B271>=2000),Расчет!J271,0)","v":0},{"$f":"IF(AND(Расчет!A271<2000,Расчет!B271<2000),Расчет!J271,0)","v":0},null,null,{"$f":"IF(OR(Расчет!A271>=2000,Расчет!B271>=2000),Расчет!M271,0)","v":0},{"$f":"IF(AND(Расчет!A271<2000,Расчет!B271<2000),Расчет!M271,0)","v":0}]
[{"$f":"IF(OR(Расчет!A272>=2000,Расчет!B272>=2000),Расчет!G272,0)","v":0},{"$f":"IF(AND(Расчет!A272<2000,Расчет!B272<2000),Расчет!G272,0)","v":0},null,null,{"$f":"IF(OR(Расчет!A272>=2000,Расчет!B272>=2000),Расчет!J272,0)","v":0},{"$f":"IF(AND(Расчет!A272<2000,Расчет!B272<2000),Расчет!J272,0)","v":0},null,null,{"$f":"IF(OR(Расчет!A272>=2000,Расчет!B272>=2000),Расчет!M272,0)","v":0},{"$f":"IF(AND(Расчет!A272<2000,Расчет!B272<2000),Расчет!M272,0)","v":0}]
[{"$f":"IF(OR(Расчет!A273>=2000,Расчет!B273>=2000),Расчет!G273,0)","v":0},{"$f":"IF(AND(Расчет!A273<2000,Расчет!B273<2000),Расчет!G273,0)","v":0},null,null,{"$f":"IF(OR(Расчет!A273>=2000,Расчет!B273>=2000),Расчет!J273,0)","v":0},{"$f":"IF(AND(Расчет!A273<2000,Расчет!B273<2000),Расчет!J273,0)","v":0},null,null,{"$f":"IF(OR(Расчет!A273>=2000,Расчет!B273>=2000),Расчет!M273,0)","v":0},{"$f":"IF(AND(Расчет!A273<2000,Расчет!B273<2000),Расчет!M273,0)","v":0}]
[{"$f":"IF(OR(Расчет!A274>=2000,Расчет!B274>=2000),Расчет!G274,0)","v":0},{"$f":"IF(AND(Расчет!A274<2000,Расчет!B274<2000),Расчет!G274,0)","v":0},null,null,{"$f":"IF(OR(Расчет!A274>=2000,Расчет!B274>=2000),Расчет!J274,0)","v":0},{"$f":"IF(AND(Расчет!A274<2000,Расчет!B274<2000),Расчет!J274,0)","v":0},null,null,{"$f":"IF(OR(Расчет!A274>=2000,Расчет!B274>=2000),Расчет!M274,0)","v":0},{"$f":"IF(AND(Расчет!A274<2000,Расчет!B274<2000),Расчет!M274,0)","v":0}]
[{"$f":"IF(OR(Расчет!A275>=2000,Расчет!B275>=2000),Расчет!G275,0)","v":0},{"$f":"IF(AND(Расчет!A275<2000,Расчет!B275<2000),Расчет!G275,0)","v":0},null,null,{"$f":"IF(OR(Расчет!A275>=2000,Расчет!B275>=2000),Расчет!J275,0)","v":0},{"$f":"IF(AND(Расчет!A275<2000,Расчет!B275<2000),Расчет!J275,0)","v":0},null,null,{"$f":"IF(OR(Расчет!A275>=2000,Расчет!B275>=2000),Расчет!M275,0)","v":0},{"$f":"IF(AND(Расчет!A275<2000,Расчет!B275<2000),Расчет!M275,0)","v":0}]
[{"$f":"IF(OR(Расчет!A276>=2000,Расчет!B276>=2000),Расчет!G276,0)","v":0},{"$f":"IF(AND(Расчет!A276<2000,Расчет!B276<2000),Расчет!G276,0)","v":0},null,null,{"$f":"IF(OR(Расчет!A276>=2000,Расчет!B276>=2000),Расчет!J276,0)","v":0},{"$f":"IF(AND(Расчет!A276<2000,Расчет!B276<2000),Расчет!J276,0)","v":0},null,null,{"$f":"IF(OR(Расчет!A276>=2000,Расчет!B276>=2000),Расчет!M276,0)","v":0},{"$f":"IF(AND(Расчет!A276<2000,Расчет!B276<2000),Расчет!M276,0)","v":0}]
[{"$f":"IF(OR(Расчет!A277>=2000,Расчет!B277>=2000),Расчет!G277,0)","v":0},{"$f":"IF(AND(Расчет!A277<2000,Расчет!B277<2000),Расчет!G277,0)","v":0},null,null,{"$f":"IF(OR(Расчет!A277>=2000,Расчет!B277>=2000),Расчет!J277,0)","v":0},{"$f":"IF(AND(Расчет!A277<2000,Расчет!B277<2000),Расчет!J277,0)","v":0},null,null,{"$f":"IF(OR(Расчет!A277>=2000,Расчет!B277>=2000),Расчет!M277,0)","v":0},{"$f":"IF(AND(Расчет!A277<2000,Расчет!B277<2000),Расчет!M277,0)","v":0}]
[{"$f":"IF(OR(Расчет!A278>=2000,Расчет!B278>=2000),Расчет!G278,0)","v":0},{"$f":"IF(AND(Расчет!A278<2000,Расчет!B278<2000),Расчет!G278,0)","v":0},null,null,{"$f":"IF(OR(Расчет!A278>=2000,Расчет!B278>=2000),Расчет!J278,0)","v":0},{"$f":"IF(AND(Расчет!A278<2000,Расчет!B278<2000),Расчет!J278,0)","v":0},null,null,{"$f":"IF(OR(Расчет!A278>=2000,Расчет!B278>=2000),Расчет!M278,0)","v":0},{"$f":"IF(AND(Расчет!A278<2000,Расчет!B278<2000),Расчет!M278,0)","v":0}]
[{"$f":"IF(OR(Расчет!A279>=2000,Расчет!B279>=2000),Расчет!G279,0)","v":0},{"$f":"IF(AND(Расчет!A279<2000,Расчет!B279<2000),Расчет!G279,0)","v":0},null,null,{"$f":"IF(OR(Расчет!A279>=2000,Расчет!B279>=2000),Расчет!J279,0)","v":0},{"$f":"IF(AND(Расчет!A279<2000,Расчет!B279<2000),Расчет!J279,0)","v":0},null,null,{"$f":"IF(OR(Расчет!A279>=2000,Расчет!B279>=2000),Расчет!M279,0)","v":0},{"$f":"IF(AND(Расчет!A279<2000,Расчет!B279<2000),Расчет!M279,0)","v":0}]
[{"$f":"IF(OR(Расчет!A280>=2000,Расчет!B280>=2000),Расчет!G280,0)","v":0},{"$f":"IF(AND(Расчет!A280<2000,Расчет!B280<2000),Расчет!G280,0)","v":0},null,null,{"$f":"IF(OR(Расчет!A280>=2000,Расчет!B280>=2000),Расчет!J280,0)","v":0},{"$f":"IF(AND(Расчет!A280<2000,Расчет!B280<2000),Расчет!J280,0)","v":0},null,null,{"$f":"IF(OR(Расчет!A280>=2000,Расчет!B280>=2000),Расчет!M280,0)","v":0},{"$f":"IF(AND(Расчет!A280<2000,Расчет!B280<2000),Расчет!M280,0)","v":0}]
[{"$f":"IF(OR(Расчет!A281>=2000,Расчет!B281>=2000),Расчет!G281,0)","v":0},{"$f":"IF(AND(Расчет!A281<2000,Расчет!B281<2000),Расчет!G281,0)","v":0},null,null,{"$f":"IF(OR(Расчет!A281>=2000,Расчет!B281>=2000),Расчет!J281,0)","v":0},{"$f":"IF(AND(Расчет!A281<2000,Расчет!B281<2000),Расчет!J281,0)","v":0},null,null,{"$f":"IF(OR(Расчет!A281>=2000,Расчет!B281>=2000),Расчет!M281,0)","v":0},{"$f":"IF(AND(Расчет!A281<2000,Расчет!B281<2000),Расчет!M281,0)","v":0}]
[{"$f":"IF(OR(Расчет!A282>=2000,Расчет!B282>=2000),Расчет!G282,0)","v":0},{"$f":"IF(AND(Расчет!A282<2000,Расчет!B282<2000),Расчет!G282,0)","v":0},null,null,{"$f":"IF(OR(Расчет!A282>=2000,Расчет!B282>=2000),Расчет!J282,0)","v":0},{"$f":"IF(AND(Расчет!A282<2000,Расчет!B282<2000),Расчет!J282,0)","v":0},null,null,{"$f":"IF(OR(Расчет!A282>=2000,Расчет!B282>=2000),Расчет!M282,0)","v":0},{"$f":"IF(AND(Расчет!A282<2000,Расчет!B282<2000),Расчет!M282,0)","v":0}]
[{"$f":"IF(OR(Расчет!A283>=2000,Расчет!B283>=2000),Расчет!G283,0)","v":0},{"$f":"IF(AND(Расчет!A283<2000,Расчет!B283<2000),Расчет!G283,0)","v":0},null,null,{"$f":"IF(OR(Расчет!A283>=2000,Расчет!B283>=2000),Расчет!J283,0)","v":0},{"$f":"IF(AND(Расчет!A283<2000,Расчет!B283<2000),Расчет!J283,0)","v":0},null,null,{"$f":"IF(OR(Расчет!A283>=2000,Расчет!B283>=2000),Расчет!M283,0)","v":0},{"$f":"IF(AND(Расчет!A283<2000,Расчет!B283<2000),Расчет!M283,0)","v":0}]
[{"$f":"IF(OR(Расчет!A284>=2000,Расчет!B284>=2000),Расчет!G284,0)","v":0},{"$f":"IF(AND(Расчет!A284<2000,Расчет!B284<2000),Расчет!G284,0)","v":0},null,null,{"$f":"IF(OR(Расчет!A284>=2000,Расчет!B284>=2000),Расчет!J284,0)","v":0},{"$f":"IF(AND(Расчет!A284<2000,Расчет!B284<2000),Расчет!J284,0)","v":0},null,null,{"$f":"IF(OR(Расчет!A284>=2000,Расчет!B284>=2000),Расчет!M284,0)","v":0},{"$f":"IF(AND(Расчет!A284<2000,Расчет!B284<2000),Расчет!M284,0)","v":0}]
[{"$f":"IF(OR(Расчет!A285>=2000,Расчет!B285>=2000),Расчет!G285,0)","v":0},{"$f":"IF(AND(Расчет!A285<2000,Расчет!B285<2000),Расчет!G285,0)","v":0},null,null,{"$f":"IF(OR(Расчет!A285>=2000,Расчет!B285>=2000),Расчет!J285,0)","v":0},{"$f":"IF(AND(Расчет!A285<2000,Расчет!B285<2000),Расчет!J285,0)","v":0},null,null,{"$f":"IF(OR(Расчет!A285>=2000,Расчет!B285>=2000),Расчет!M285,0)","v":0},{"$f":"IF(AND(Расчет!A285<2000,Расчет!B285<2000),Расчет!M285,0)","v":0}]
[{"$f":"IF(OR(Расчет!A286>=2000,Расчет!B286>=2000),Расчет!G286,0)","v":0},{"$f":"IF(AND(Расчет!A286<2000,Расчет!B286<2000),Расчет!G286,0)","v":0},null,null,{"$f":"IF(OR(Расчет!A286>=2000,Расчет!B286>=2000),Расчет!J286,0)","v":0},{"$f":"IF(AND(Расчет!A286<2000,Расчет!B286<2000),Расчет!J286,0)","v":0},null,null,{"$f":"IF(OR(Расчет!A286>=2000,Расчет!B286>=2000),Расчет!M286,0)","v":0},{"$f":"IF(AND(Расчет!A286<2000,Расчет!B286<2000),Расчет!M286,0)","v":0}]
[{"$f":"IF(OR(Расчет!A287>=2000,Расчет!B287>=2000),Расчет!G287,0)","v":0},{"$f":"IF(AND(Расчет!A287<2000,Расчет!B287<2000),Расчет!G287,0)","v":0},null,null,{"$f":"IF(OR(Расчет!A287>=2000,Расчет!B287>=2000),Расчет!J287,0)","v":0},{"$f":"IF(AND(Расчет!A287<2000,Расчет!B287<2000),Расчет!J287,0)","v":0},null,null,{"$f":"IF(OR(Расчет!A287>=2000,Расчет!B287>=2000),Расчет!M287,0)","v":0},{"$f":"IF(AND(Расчет!A287<2000,Расчет!B287<2000),Расчет!M287,0)","v":0}]
[{"$f":"IF(OR(Расчет!A288>=2000,Расчет!B288>=2000),Расчет!G288,0)","v":0},{"$f":"IF(AND(Расчет!A288<2000,Расчет!B288<2000),Расчет!G288,0)","v":0},null,null,{"$f":"IF(OR(Расчет!A288>=2000,Расчет!B288>=2000),Расчет!J288,0)","v":0},{"$f":"IF(AND(Расчет!A288<2000,Расчет!B288<2000),Расчет!J288,0)","v":0},null,null,{"$f":"IF(OR(Расчет!A288>=2000,Расчет!B288>=2000),Расчет!M288,0)","v":0},{"$f":"IF(AND(Расчет!A288<2000,Расчет!B288<2000),Расчет!M288,0)","v":0}]
[{"$f":"IF(OR(Расчет!A289>=2000,Расчет!B289>=2000),Расчет!G289,0)","v":0},{"$f":"IF(AND(Расчет!A289<2000,Расчет!B289<2000),Расчет!G289,0)","v":0},null,null,{"$f":"IF(OR(Расчет!A289>=2000,Расчет!B289>=2000),Расчет!J289,0)","v":0},{"$f":"IF(AND(Расчет!A289<2000,Расчет!B289<2000),Расчет!J289,0)","v":0},null,null,{"$f":"IF(OR(Расчет!A289>=2000,Расчет!B289>=2000),Расчет!M289,0)","v":0},{"$f":"IF(AND(Расчет!A289<2000,Расчет!B289<2000),Расчет!M289,0)","v":0}]
[{"$f":"IF(OR(Расчет!A290>=2000,Расчет!B290>=2000),Расчет!G290,0)","v":0},{"$f":"IF(AND(Расчет!A290<2000,Расчет!B290<2000),Расчет!G290,0)","v":0},null,null,{"$f":"IF(OR(Расчет!A290>=2000,Расчет!B290>=2000),Расчет!J290,0)","v":0},{"$f":"IF(AND(Расчет!A290<2000,Расчет!B290<2000),Расчет!J290,0)","v":0},null,null,{"$f":"IF(OR(Расчет!A290>=2000,Расчет!B290>=2000),Расчет!M290,0)","v":0},{"$f":"IF(AND(Расчет!A290<2000,Расчет!B290<2000),Расчет!M290,0)","v":0}]
[{"$f":"IF(OR(Расчет!A291>=2000,Расчет!B291>=2000),Расчет!G291,0)","v":0},{"$f":"IF(AND(Расчет!A291<2000,Расчет!B291<2000),Расчет!G291,0)","v":0},null,null,{"$f":"IF(OR(Расчет!A291>=2000,Расчет!B291>=2000),Расчет!J291,0)","v":0},{"$f":"IF(AND(Расчет!A291<2000,Расчет!B291<2000),Расчет!J291,0)","v":0},null,null,{"$f":"IF(OR(Расчет!A291>=2000,Расчет!B291>=2000),Расчет!M291,0)","v":0},{"$f":"IF(AND(Расчет!A291<2000,Расчет!B291<2000),Расчет!M291,0)","v":0}]
[{"$f":"IF(OR(Расчет!A292>=2000,Расчет!B292>=2000),Расчет!G292,0)","v":0},{"$f":"IF(AND(Расчет!A292<2000,Расчет!B292<2000),Расчет!G292,0)","v":0},null,null,{"$f":"IF(OR(Расчет!A292>=2000,Расчет!B292>=2000),Расчет!J292,0)","v":0},{"$f":"IF(AND(Расчет!A292<2000,Расчет!B292<2000),Расчет!J292,0)","v":0},null,null,{"$f":"IF(OR(Расчет!A292>=2000,Расчет!B292>=2000),Расчет!M292,0)","v":0},{"$f":"IF(AND(Расчет!A292<2000,Расчет!B292<2000),Расчет!M292,0)","v":0}]
[{"$f":"IF(OR(Расчет!A293>=2000,Расчет!B293>=2000),Расчет!G293,0)","v":0},{"$f":"IF(AND(Расчет!A293<2000,Расчет!B293<2000),Расчет!G293,0)","v":0},null,null,{"$f":"IF(OR(Расчет!A293>=2000,Расчет!B293>=2000),Расчет!J293,0)","v":0},{"$f":"IF(AND(Расчет!A293<2000,Расчет!B293<2000),Расчет!J293,0)","v":0},null,null,{"$f":"IF(OR(Расчет!A293>=2000,Расчет!B293>=2000),Расчет!M293,0)","v":0},{"$f":"IF(AND(Расчет!A293<2000,Расчет!B293<2000),Расчет!M293,0)","v":0}]
[{"$f":"IF(OR(Расчет!A294>=2000,Расчет!B294>=2000),Расчет!G294,0)","v":0},{"$f":"IF(AND(Расчет!A294<2000,Расчет!B294<2000),Расчет!G294,0)","v":0},null,null,{"$f":"IF(OR(Расчет!A294>=2000,Расчет!B294>=2000),Расчет!J294,0)","v":0},{"$f":"IF(AND(Расчет!A294<2000,Расчет!B294<2000),Расчет!J294,0)","v":0},null,null,{"$f":"IF(OR(Расчет!A294>=2000,Расчет!B294>=2000),Расчет!M294,0)","v":0},{"$f":"IF(AND(Расчет!A294<2000,Расчет!B294<2000),Расчет!M294,0)","v":0}]
[{"$f":"IF(OR(Расчет!A295>=2000,Расчет!B295>=2000),Расчет!G295,0)","v":0},{"$f":"IF(AND(Расчет!A295<2000,Расчет!B295<2000),Расчет!G295,0)","v":0},null,null,{"$f":"IF(OR(Расчет!A295>=2000,Расчет!B295>=2000),Расчет!J295,0)","v":0},{"$f":"IF(AND(Расчет!A295<2000,Расчет!B295<2000),Расчет!J295,0)","v":0},null,null,{"$f":"IF(OR(Расчет!A295>=2000,Расчет!B295>=2000),Расчет!M295,0)","v":0},{"$f":"IF(AND(Расчет!A295<2000,Расчет!B295<2000),Расчет!M295,0)","v":0}]
[{"$f":"IF(OR(Расчет!A296>=2000,Расчет!B296>=2000),Расчет!G296,0)","v":0},{"$f":"IF(AND(Расчет!A296<2000,Расчет!B296<2000),Расчет!G296,0)","v":0},null,null,{"$f":"IF(OR(Расчет!A296>=2000,Расчет!B296>=2000),Расчет!J296,0)","v":0},{"$f":"IF(AND(Расчет!A296<2000,Расчет!B296<2000),Расчет!J296,0)","v":0},null,null,{"$f":"IF(OR(Расчет!A296>=2000,Расчет!B296>=2000),Расчет!M296,0)","v":0},{"$f":"IF(AND(Расчет!A296<2000,Расчет!B296<2000),Расчет!M296,0)","v":0}]
[{"$f":"IF(OR(Расчет!A297>=2000,Расчет!B297>=2000),Расчет!G297,0)","v":0},{"$f":"IF(AND(Расчет!A297<2000,Расчет!B297<2000),Расчет!G297,0)","v":0},null,null,{"$f":"IF(OR(Расчет!A297>=2000,Расчет!B297>=2000),Расчет!J297,0)","v":0},{"$f":"IF(AND(Расчет!A297<2000,Расчет!B297<2000),Расчет!J297,0)","v":0},null,null,{"$f":"IF(OR(Расчет!A297>=2000,Расчет!B297>=2000),Расчет!M297,0)","v":0},{"$f":"IF(AND(Расчет!A297<2000,Расчет!B297<2000),Расчет!M297,0)","v":0}]
[{"$f":"IF(OR(Расчет!A298>=2000,Расчет!B298>=2000),Расчет!G298,0)","v":0},{"$f":"IF(AND(Расчет!A298<2000,Расчет!B298<2000),Расчет!G298,0)","v":0},null,null,{"$f":"IF(OR(Расчет!A298>=2000,Расчет!B298>=2000),Расчет!J298,0)","v":0},{"$f":"IF(AND(Расчет!A298<2000,Расчет!B298<2000),Расчет!J298,0)","v":0},null,null,{"$f":"IF(OR(Расчет!A298>=2000,Расчет!B298>=2000),Расчет!M298,0)","v":0},{"$f":"IF(AND(Расчет!A298<2000,Расчет!B298<2000),Расчет!M298,0)","v":0}]
[{"$f":"IF(OR(Расчет!A299>=2000,Расчет!B299>=2000),Расчет!G299,0)","v":0},{"$f":"IF(AND(Расчет!A299<2000,Расчет!B299<2000),Расчет!G299,0)","v":0},null,null,{"$f":"IF(OR(Расчет!A299>=2000,Расчет!B299>=2000),Расчет!J299,0)","v":0},{"$f":"IF(AND(Расчет!A299<2000,Расчет!B299<2000),Расчет!J299,0)","v":0},null,null,{"$f":"IF(OR(Расчет!A299>=2000,Расчет!B299>=2000),Расчет!M299,0)","v":0},{"$f":"IF(AND(Расчет!A299<2000,Расчет!B299<2000),Расчет!M299,0)","v":0}]
[{"$f":"IF(OR(Расчет!A300>=2000,Расчет!B300>=2000),Расчет!G300,0)","v":0},{"$f":"IF(AND(Расчет!A300<2000,Расчет!B300<2000),Расчет!G300,0)","v":0},null,null,{"$f":"IF(OR(Расчет!A300>=2000,Расчет!B300>=2000),Расчет!J300,0)","v":0},{"$f":"IF(AND(Расчет!A300<2000,Расчет!B300<2000),Расчет!J300,0)","v":0},null,null,{"$f":"IF(OR(Расчет!A300>=2000,Расчет!B300>=2000),Расчет!M300,0)","v":0},{"$f":"IF(AND(Расчет!A300<2000,Расчет!B300<2000),Расчет!M300,0)","v":0}]
[{"$f":"IF(OR(Расчет!A301>=2000,Расчет!B301>=2000),Расчет!G301,0)","v":0},{"$f":"IF(AND(Расчет!A301<2000,Расчет!B301<2000),Расчет!G301,0)","v":0},null,null,{"$f":"IF(OR(Расчет!A301>=2000,Расчет!B301>=2000),Расчет!J301,0)","v":0},{"$f":"IF(AND(Расчет!A301<2000,Расчет!B301<2000),Расчет!J301,0)","v":0},null,null,{"$f":"IF(OR(Расчет!A301>=2000,Расчет!B301>=2000),Расчет!M301,0)","v":0},{"$f":"IF(AND(Расчет!A301<2000,Расчет!B301<2000),Расчет!M301,0)","v":0}]
[{"$f":"IF(OR(Расчет!A302>=2000,Расчет!B302>=2000),Расчет!G302,0)","v":0},{"$f":"IF(AND(Расчет!A302<2000,Расчет!B302<2000),Расчет!G302,0)","v":0},null,null,{"$f":"IF(OR(Расчет!A302>=2000,Расчет!B302>=2000),Расчет!J302,0)","v":0},{"$f":"IF(AND(Расчет!A302<2000,Расчет!B302<2000),Расчет!J302,0)","v":0},null,null,{"$f":"IF(OR(Расчет!A302>=2000,Расчет!B302>=2000),Расчет!M302,0)","v":0},{"$f":"IF(AND(Расчет!A302<2000,Расчет!B302<2000),Расчет!M302,0)","v":0}]
[{"$f":"IF(OR(Расчет!A303>=2000,Расчет!B303>=2000),Расчет!G303,0)","v":0},{"$f":"IF(AND(Расчет!A303<2000,Расчет!B303<2000),Расчет!G303,0)","v":0},null,null,{"$f":"IF(OR(Расчет!A303>=2000,Расчет!B303>=2000),Расчет!J303,0)","v":0},{"$f":"IF(AND(Расчет!A303<2000,Расчет!B303<2000),Расчет!J303,0)","v":0},null,null,{"$f":"IF(OR(Расчет!A303>=2000,Расчет!B303>=2000),Расчет!M303,0)","v":0},{"$f":"IF(AND(Расчет!A303<2000,Расчет!B303<2000),Расчет!M303,0)","v":0}]
[{"$f":"IF(OR(Расчет!A304>=2000,Расчет!B304>=2000),Расчет!G304,0)","v":0},{"$f":"IF(AND(Расчет!A304<2000,Расчет!B304<2000),Расчет!G304,0)","v":0},null,null,{"$f":"IF(OR(Расчет!A304>=2000,Расчет!B304>=2000),Расчет!J304,0)","v":0},{"$f":"IF(AND(Расчет!A304<2000,Расчет!B304<2000),Расчет!J304,0)","v":0},null,null,{"$f":"IF(OR(Расчет!A304>=2000,Расчет!B304>=2000),Расчет!M304,0)","v":0},{"$f":"IF(AND(Расчет!A304<2000,Расчет!B304<2000),Расчет!M304,0)","v":0}]
[{"$f":"IF(OR(Расчет!A305>=2000,Расчет!B305>=2000),Расчет!G305,0)","v":0},{"$f":"IF(AND(Расчет!A305<2000,Расчет!B305<2000),Расчет!G305,0)","v":0},null,null,{"$f":"IF(OR(Расчет!A305>=2000,Расчет!B305>=2000),Расчет!J305,0)","v":0},{"$f":"IF(AND(Расчет!A305<2000,Расчет!B305<2000),Расчет!J305,0)","v":0},null,null,{"$f":"IF(OR(Расчет!A305>=2000,Расчет!B305>=2000),Расчет!M305,0)","v":0},{"$f":"IF(AND(Расчет!A305<2000,Расчет!B305<2000),Расчет!M305,0)","v":0}]
[{"$f":"IF(OR(Расчет!A306>=2000,Расчет!B306>=2000),Расчет!G306,0)","v":0},{"$f":"IF(AND(Расчет!A306<2000,Расчет!B306<2000),Расчет!G306,0)","v":0},null,null,{"$f":"IF(OR(Расчет!A306>=2000,Расчет!B306>=2000),Расчет!J306,0)","v":0},{"$f":"IF(AND(Расчет!A306<2000,Расчет!B306<2000),Расчет!J306,0)","v":0},null,null,{"$f":"IF(OR(Расчет!A306>=2000,Расчет!B306>=2000),Расчет!M306,0)","v":0},{"$f":"IF(AND(Расчет!A306<2000,Расчет!B306<2000),Расчет!M306,0)","v":0}]
[{"$f":"IF(OR(Расчет!A307>=2000,Расчет!B307>=2000),Расчет!G307,0)","v":0},{"$f":"IF(AND(Расчет!A307<2000,Расчет!B307<2000),Расчет!G307,0)","v":0},null,null,{"$f":"IF(OR(Расчет!A307>=2000,Расчет!B307>=2000),Расчет!J307,0)","v":0},{"$f":"IF(AND(Расчет!A307<2000,Расчет!B307<2000),Расчет!J307,0)","v":0},null,null,{"$f":"IF(OR(Расчет!A307>=2000,Расчет!B307>=2000),Расчет!M307,0)","v":0},{"$f":"IF(AND(Расчет!A307<2000,Расчет!B307<2000),Расчет!M307,0)","v":0}]
[{"$f":"IF(OR(Расчет!A308>=2000,Расчет!B308>=2000),Расчет!G308,0)","v":0},{"$f":"IF(AND(Расчет!A308<2000,Расчет!B308<2000),Расчет!G308,0)","v":0},null,null,{"$f":"IF(OR(Расчет!A308>=2000,Расчет!B308>=2000),Расчет!J308,0)","v":0},{"$f":"IF(AND(Расчет!A308<2000,Расчет!B308<2000),Расчет!J308,0)","v":0},null,null,{"$f":"IF(OR(Расчет!A308>=2000,Расчет!B308>=2000),Расчет!M308,0)","v":0},{"$f":"IF(AND(Расчет!A308<2000,Расчет!B308<2000),Расчет!M308,0)","v":0}]
[{"$f":"IF(OR(Расчет!A309>=2000,Расчет!B309>=2000),Расчет!G309,0)","v":0},{"$f":"IF(AND(Расчет!A309<2000,Расчет!B309<2000),Расчет!G309,0)","v":0},null,null,{"$f":"IF(OR(Расчет!A309>=2000,Расчет!B309>=2000),Расчет!J309,0)","v":0},{"$f":"IF(AND(Расчет!A309<2000,Расчет!B309<2000),Расчет!J309,0)","v":0},null,null,{"$f":"IF(OR(Расчет!A309>=2000,Расчет!B309>=2000),Расчет!M309,0)","v":0},{"$f":"IF(AND(Расчет!A309<2000,Расчет!B309<2000),Расчет!M309,0)","v":0}]
[{"$f":"IF(OR(Расчет!A310>=2000,Расчет!B310>=2000),Расчет!G310,0)","v":0},{"$f":"IF(AND(Расчет!A310<2000,Расчет!B310<2000),Расчет!G310,0)","v":0},null,null,{"$f":"IF(OR(Расчет!A310>=2000,Расчет!B310>=2000),Расчет!J310,0)","v":0},{"$f":"IF(AND(Расчет!A310<2000,Расчет!B310<2000),Расчет!J310,0)","v":0},null,null,{"$f":"IF(OR(Расчет!A310>=2000,Расчет!B310>=2000),Расчет!M310,0)","v":0},{"$f":"IF(AND(Расчет!A310<2000,Расчет!B310<2000),Расчет!M310,0)","v":0}]
[{"$f":"IF(OR(Расчет!A311>=2000,Расчет!B311>=2000),Расчет!G311,0)","v":0},{"$f":"IF(AND(Расчет!A311<2000,Расчет!B311<2000),Расчет!G311,0)","v":0},null,null,{"$f":"IF(OR(Расчет!A311>=2000,Расчет!B311>=2000),Расчет!J311,0)","v":0},{"$f":"IF(AND(Расчет!A311<2000,Расчет!B311<2000),Расчет!J311,0)","v":0},null,null,{"$f":"IF(OR(Расчет!A311>=2000,Расчет!B311>=2000),Расчет!M311,0)","v":0},{"$f":"IF(AND(Расчет!A311<2000,Расчет!B311<2000),Расчет!M311,0)","v":0}]
[{"$f":"IF(OR(Расчет!A312>=2000,Расчет!B312>=2000),Расчет!G312,0)","v":0},{"$f":"IF(AND(Расчет!A312<2000,Расчет!B312<2000),Расчет!G312,0)","v":0},null,null,{"$f":"IF(OR(Расчет!A312>=2000,Расчет!B312>=2000),Расчет!J312,0)","v":0},{"$f":"IF(AND(Расчет!A312<2000,Расчет!B312<2000),Расчет!J312,0)","v":0},null,null,{"$f":"IF(OR(Расчет!A312>=2000,Расчет!B312>=2000),Расчет!M312,0)","v":0},{"$f":"IF(AND(Расчет!A312<2000,Расчет!B312<2000),Расчет!M312,0)","v":0}]
[{"$f":"IF(OR(Расчет!A313>=2000,Расчет!B313>=2000),Расчет!G313,0)","v":0},{"$f":"IF(AND(Расчет!A313<2000,Расчет!B313<2000),Расчет!G313,0)","v":0},null,null,{"$f":"IF(OR(Расчет!A313>=2000,Расчет!B313>=2000),Расчет!J313,0)","v":0},{"$f":"IF(AND(Расчет!A313<2000,Расчет!B313<2000),Расчет!J313,0)","v":0},null,null,{"$f":"IF(OR(Расчет!A313>=2000,Расчет!B313>=2000),Расчет!M313,0)","v":0},{"$f":"IF(AND(Расчет!A313<2000,Расчет!B313<2000),Расчет!M313,0)","v":0}]
[{"$f":"IF(OR(Расчет!A314>=2000,Расчет!B314>=2000),Расчет!G314,0)","v":0},{"$f":"IF(AND(Расчет!A314<2000,Расчет!B314<2000),Расчет!G314,0)","v":0},null,null,{"$f":"IF(OR(Расчет!A314>=2000,Расчет!B314>=2000),Расчет!J314,0)","v":0},{"$f":"IF(AND(Расчет!A314<2000,Расчет!B314<2000),Расчет!J314,0)","v":0},null,null,{"$f":"IF(OR(Расчет!A314>=2000,Расчет!B314>=2000),Расчет!M314,0)","v":0},{"$f":"IF(AND(Расчет!A314<2000,Расчет!B314<2000),Расчет!M314,0)","v":0}]
[{"$f":"IF(OR(Расчет!A315>=2000,Расчет!B315>=2000),Расчет!G315,0)","v":0},{"$f":"IF(AND(Расчет!A315<2000,Расчет!B315<2000),Расчет!G315,0)","v":0},null,null,{"$f":"IF(OR(Расчет!A315>=2000,Расчет!B315>=2000),Расчет!J315,0)","v":0},{"$f":"IF(AND(Расчет!A315<2000,Расчет!B315<2000),Расчет!J315,0)","v":0},null,null,{"$f":"IF(OR(Расчет!A315>=2000,Расчет!B315>=2000),Расчет!M315,0)","v":0},{"$f":"IF(AND(Расчет!A315<2000,Расчет!B315<2000),Расчет!M315,0)","v":0}]
[{"$f":"IF(OR(Расчет!A316>=2000,Расчет!B316>=2000),Расчет!G316,0)","v":0},{"$f":"IF(AND(Расчет!A316<2000,Расчет!B316<2000),Расчет!G316,0)","v":0},null,null,{"$f":"IF(OR(Расчет!A316>=2000,Расчет!B316>=2000),Расчет!J316,0)","v":0},{"$f":"IF(AND(Расчет!A316<2000,Расчет!B316<2000),Расчет!J316,0)","v":0},null,null,{"$f":"IF(OR(Расчет!A316>=2000,Расчет!B316>=2000),Расчет!M316,0)","v":0},{"$f":"IF(AND(Расчет!A316<2000,Расчет!B316<2000),Расчет!M316,0)","v":0}]
[{"$f":"IF(OR(Расчет!A317>=2000,Расчет!B317>=2000),Расчет!G317,0)","v":0},{"$f":"IF(AND(Расчет!A317<2000,Расчет!B317<2000),Расчет!G317,0)","v":0},null,null,{"$f":"IF(OR(Расчет!A317>=2000,Расчет!B317>=2000),Расчет!J317,0)","v":0},{"$f":"IF(AND(Расчет!A317<2000,Расчет!B317<2000),Расчет!J317,0)","v":0},null,null,{"$f":"IF(OR(Расчет!A317>=2000,Расчет!B317>=2000),Расчет!M317,0)","v":0},{"$f":"IF(AND(Расчет!A317<2000,Расчет!B317<2000),Расчет!M317,0)","v":0}]
[{"$f":"IF(OR(Расчет!A318>=2000,Расчет!B318>=2000),Расчет!G318,0)","v":0},{"$f":"IF(AND(Расчет!A318<2000,Расчет!B318<2000),Расчет!G318,0)","v":0},null,null,{"$f":"IF(OR(Расчет!A318>=2000,Расчет!B318>=2000),Расчет!J318,0)","v":0},{"$f":"IF(AND(Расчет!A318<2000,Расчет!B318<2000),Расчет!J318,0)","v":0},null,null,{"$f":"IF(OR(Расчет!A318>=2000,Расчет!B318>=2000),Расчет!M318,0)","v":0},{"$f":"IF(AND(Расчет!A318<2000,Расчет!B318<2000),Расчет!M318,0)","v":0}]
[{"$f":"IF(OR(Расчет!A319>=2000,Расчет!B319>=2000),Расчет!G319,0)","v":0},{"$f":"IF(AND(Расчет!A319<2000,Расчет!B319<2000),Расчет!G319,0)","v":0},null,null,{"$f":"IF(OR(Расчет!A319>=2000,Расчет!B319>=2000),Расчет!J319,0)","v":0},{"$f":"IF(AND(Расчет!A319<2000,Расчет!B319<2000),Расчет!J319,0)","v":0},null,null,{"$f":"IF(OR(Расчет!A319>=2000,Расчет!B319>=2000),Расчет!M319,0)","v":0},{"$f":"IF(AND(Расчет!A319<2000,Расчет!B319<2000),Расчет!M319,0)","v":0}]
[{"$f":"IF(OR(Расчет!A320>=2000,Расчет!B320>=2000),Расчет!G320,0)","v":0},{"$f":"IF(AND(Расчет!A320<2000,Расчет!B320<2000),Расчет!G320,0)","v":0},null,null,{"$f":"IF(OR(Расчет!A320>=2000,Расчет!B320>=2000),Расчет!J320,0)","v":0},{"$f":"IF(AND(Расчет!A320<2000,Расчет!B320<2000),Расчет!J320,0)","v":0},null,null,{"$f":"IF(OR(Расчет!A320>=2000,Расчет!B320>=2000),Расчет!M320,0)","v":0},{"$f":"IF(AND(Расчет!A320<2000,Расчет!B320<2000),Расчет!M320,0)","v":0}]
[{"$f":"IF(OR(Расчет!A321>=2000,Расчет!B321>=2000),Расчет!G321,0)","v":0},{"$f":"IF(AND(Расчет!A321<2000,Расчет!B321<2000),Расчет!G321,0)","v":0},null,null,{"$f":"IF(OR(Расчет!A321>=2000,Расчет!B321>=2000),Расчет!J321,0)","v":0},{"$f":"IF(AND(Расчет!A321<2000,Расчет!B321<2000),Расчет!J321,0)","v":0},null,null,{"$f":"IF(OR(Расчет!A321>=2000,Расчет!B321>=2000),Расчет!M321,0)","v":0},{"$f":"IF(AND(Расчет!A321<2000,Расчет!B321<2000),Расчет!M321,0)","v":0}]
[{"$f":"IF(OR(Расчет!A322>=2000,Расчет!B322>=2000),Расчет!G322,0)","v":0},{"$f":"IF(AND(Расчет!A322<2000,Расчет!B322<2000),Расчет!G322,0)","v":0},null,null,{"$f":"IF(OR(Расчет!A322>=2000,Расчет!B322>=2000),Расчет!J322,0)","v":0},{"$f":"IF(AND(Расчет!A322<2000,Расчет!B322<2000),Расчет!J322,0)","v":0},null,null,{"$f":"IF(OR(Расчет!A322>=2000,Расчет!B322>=2000),Расчет!M322,0)","v":0},{"$f":"IF(AND(Расчет!A322<2000,Расчет!B322<2000),Расчет!M322,0)","v":0}]
[{"$f":"IF(OR(Расчет!A323>=2000,Расчет!B323>=2000),Расчет!G323,0)","v":0},{"$f":"IF(AND(Расчет!A323<2000,Расчет!B323<2000),Расчет!G323,0)","v":0},null,null,{"$f":"IF(OR(Расчет!A323>=2000,Расчет!B323>=2000),Расчет!J323,0)","v":0},{"$f":"IF(AND(Расчет!A323<2000,Расчет!B323<2000),Расчет!J323,0)","v":0},null,null,{"$f":"IF(OR(Расчет!A323>=2000,Расчет!B323>=2000),Расчет!M323,0)","v":0},{"$f":"IF(AND(Расчет!A323<2000,Расчет!B323<2000),Расчет!M323,0)","v":0}]
[{"$f":"IF(OR(Расчет!A324>=2000,Расчет!B324>=2000),Расчет!G324,0)","v":0},{"$f":"IF(AND(Расчет!A324<2000,Расчет!B324<2000),Расчет!G324,0)","v":0},null,null,{"$f":"IF(OR(Расчет!A324>=2000,Расчет!B324>=2000),Расчет!J324,0)","v":0},{"$f":"IF(AND(Расчет!A324<2000,Расчет!B324<2000),Расчет!J324,0)","v":0},null,null,{"$f":"IF(OR(Расчет!A324>=2000,Расчет!B324>=2000),Расчет!M324,0)","v":0},{"$f":"IF(AND(Расчет!A324<2000,Расчет!B324<2000),Расчет!M324,0)","v":0}]
[{"$f":"IF(OR(Расчет!A325>=2000,Расчет!B325>=2000),Расчет!G325,0)","v":0},{"$f":"IF(AND(Расчет!A325<2000,Расчет!B325<2000),Расчет!G325,0)","v":0},null,null,{"$f":"IF(OR(Расчет!A325>=2000,Расчет!B325>=2000),Расчет!J325,0)","v":0},{"$f":"IF(AND(Расчет!A325<2000,Расчет!B325<2000),Расчет!J325,0)","v":0},null,null,{"$f":"IF(OR(Расчет!A325>=2000,Расчет!B325>=2000),Расчет!M325,0)","v":0},{"$f":"IF(AND(Расчет!A325<2000,Расчет!B325<2000),Расчет!M325,0)","v":0}]
[{"$f":"IF(OR(Расчет!A326>=2000,Расчет!B326>=2000),Расчет!G326,0)","v":0},{"$f":"IF(AND(Расчет!A326<2000,Расчет!B326<2000),Расчет!G326,0)","v":0},null,null,{"$f":"IF(OR(Расчет!A326>=2000,Расчет!B326>=2000),Расчет!J326,0)","v":0},{"$f":"IF(AND(Расчет!A326<2000,Расчет!B326<2000),Расчет!J326,0)","v":0},null,null,{"$f":"IF(OR(Расчет!A326>=2000,Расчет!B326>=2000),Расчет!M326,0)","v":0},{"$f":"IF(AND(Расчет!A326<2000,Расчет!B326<2000),Расчет!M326,0)","v":0}]
[{"$f":"IF(OR(Расчет!A327>=2000,Расчет!B327>=2000),Расчет!G327,0)","v":0},{"$f":"IF(AND(Расчет!A327<2000,Расчет!B327<2000),Расчет!G327,0)","v":0},null,null,{"$f":"IF(OR(Расчет!A327>=2000,Расчет!B327>=2000),Расчет!J327,0)","v":0},{"$f":"IF(AND(Расчет!A327<2000,Расчет!B327<2000),Расчет!J327,0)","v":0},null,null,{"$f":"IF(OR(Расчет!A327>=2000,Расчет!B327>=2000),Расчет!M327,0)","v":0},{"$f":"IF(AND(Расчет!A327<2000,Расчет!B327<2000),Расчет!M327,0)","v":0}]
[{"$f":"IF(OR(Расчет!A328>=2000,Расчет!B328>=2000),Расчет!G328,0)","v":0},{"$f":"IF(AND(Расчет!A328<2000,Расчет!B328<2000),Расчет!G328,0)","v":0},null,null,{"$f":"IF(OR(Расчет!A328>=2000,Расчет!B328>=2000),Расчет!J328,0)","v":0},{"$f":"IF(AND(Расчет!A328<2000,Расчет!B328<2000),Расчет!J328,0)","v":0},null,null,{"$f":"IF(OR(Расчет!A328>=2000,Расчет!B328>=2000),Расчет!M328,0)","v":0},{"$f":"IF(AND(Расчет!A328<2000,Расчет!B328<2000),Расчет!M328,0)","v":0}]
[{"$f":"IF(OR(Расчет!A329>=2000,Расчет!B329>=2000),Расчет!G329,0)","v":0},{"$f":"IF(AND(Расчет!A329<2000,Расчет!B329<2000),Расчет!G329,0)","v":0},null,null,{"$f":"IF(OR(Расчет!A329>=2000,Расчет!B329>=2000),Расчет!J329,0)","v":0},{"$f":"IF(AND(Расчет!A329<2000,Расчет!B329<2000),Расчет!J329,0)","v":0},null,null,{"$f":"IF(OR(Расчет!A329>=2000,Расчет!B329>=2000),Расчет!M329,0)","v":0},{"$f":"IF(AND(Расчет!A329<2000,Расчет!B329<2000),Расчет!M329,0)","v":0}]
[{"$f":"IF(OR(Расчет!A330>=2000,Расчет!B330>=2000),Расчет!G330,0)","v":0},{"$f":"IF(AND(Расчет!A330<2000,Расчет!B330<2000),Расчет!G330,0)","v":0},null,null,{"$f":"IF(OR(Расчет!A330>=2000,Расчет!B330>=2000),Расчет!J330,0)","v":0},{"$f":"IF(AND(Расчет!A330<2000,Расчет!B330<2000),Расчет!J330,0)","v":0},null,null,{"$f":"IF(OR(Расчет!A330>=2000,Расчет!B330>=2000),Расчет!M330,0)","v":0},{"$f":"IF(AND(Расчет!A330<2000,Расчет!B330<2000),Расчет!M330,0)","v":0}]
[{"$f":"IF(OR(Расчет!A331>=2000,Расчет!B331>=2000),Расчет!G331,0)","v":0},{"$f":"IF(AND(Расчет!A331<2000,Расчет!B331<2000),Расчет!G331,0)","v":0},null,null,{"$f":"IF(OR(Расчет!A331>=2000,Расчет!B331>=2000),Расчет!J331,0)","v":0},{"$f":"IF(AND(Расчет!A331<2000,Расчет!B331<2000),Расчет!J331,0)","v":0},null,null,{"$f":"IF(OR(Расчет!A331>=2000,Расчет!B331>=2000),Расчет!M331,0)","v":0},{"$f":"IF(AND(Расчет!A331<2000,Расчет!B331<2000),Расчет!M331,0)","v":0}]
[{"$f":"IF(OR(Расчет!A332>=2000,Расчет!B332>=2000),Расчет!G332,0)","v":0},{"$f":"IF(AND(Расчет!A332<2000,Расчет!B332<2000),Расчет!G332,0)","v":0},null,null,{"$f":"IF(OR(Расчет!A332>=2000,Расчет!B332>=2000),Расчет!J332,0)","v":0},{"$f":"IF(AND(Расчет!A332<2000,Расчет!B332<2000),Расчет!J332,0)","v":0},null,null,{"$f":"IF(OR(Расчет!A332>=2000,Расчет!B332>=2000),Расчет!M332,0)","v":0},{"$f":"IF(AND(Расчет!A332<2000,Расчет!B332<2000),Расчет!M332,0)","v":0}]
[{"$f":"IF(OR(Расчет!A333>=2000,Расчет!B333>=2000),Расчет!G333,0)","v":0},{"$f":"IF(AND(Расчет!A333<2000,Расчет!B333<2000),Расчет!G333,0)","v":0},null,null,{"$f":"IF(OR(Расчет!A333>=2000,Расчет!B333>=2000),Расчет!J333,0)","v":0},{"$f":"IF(AND(Расчет!A333<2000,Расчет!B333<2000),Расчет!J333,0)","v":0},null,null,{"$f":"IF(OR(Расчет!A333>=2000,Расчет!B333>=2000),Расчет!M333,0)","v":0},{"$f":"IF(AND(Расчет!A333<2000,Расчет!B333<2000),Расчет!M333,0)","v":0}]
[{"$f":"IF(OR(Расчет!A334>=2000,Расчет!B334>=2000),Расчет!G334,0)","v":0},{"$f":"IF(AND(Расчет!A334<2000,Расчет!B334<2000),Расчет!G334,0)","v":0},null,null,{"$f":"IF(OR(Расчет!A334>=2000,Расчет!B334>=2000),Расчет!J334,0)","v":0},{"$f":"IF(AND(Расчет!A334<2000,Расчет!B334<2000),Расчет!J334,0)","v":0},null,null,{"$f":"IF(OR(Расчет!A334>=2000,Расчет!B334>=2000),Расчет!M334,0)","v":0},{"$f":"IF(AND(Расчет!A334<2000,Расчет!B334<2000),Расчет!M334,0)","v":0}]
[{"$f":"IF(OR(Расчет!A335>=2000,Расчет!B335>=2000),Расчет!G335,0)","v":0},{"$f":"IF(AND(Расчет!A335<2000,Расчет!B335<2000),Расчет!G335,0)","v":0},null,null,{"$f":"IF(OR(Расчет!A335>=2000,Расчет!B335>=2000),Расчет!J335,0)","v":0},{"$f":"IF(AND(Расчет!A335<2000,Расчет!B335<2000),Расчет!J335,0)","v":0},null,null,{"$f":"IF(OR(Расчет!A335>=2000,Расчет!B335>=2000),Расчет!M335,0)","v":0},{"$f":"IF(AND(Расчет!A335<2000,Расчет!B335<2000),Расчет!M335,0)","v":0}]
[{"$f":"IF(OR(Расчет!A336>=2000,Расчет!B336>=2000),Расчет!G336,0)","v":0},{"$f":"IF(AND(Расчет!A336<2000,Расчет!B336<2000),Расчет!G336,0)","v":0},null,null,{"$f":"IF(OR(Расчет!A336>=2000,Расчет!B336>=2000),Расчет!J336,0)","v":0},{"$f":"IF(AND(Расчет!A336<2000,Расчет!B336<2000),Расчет!J336,0)","v":0},null,null,{"$f":"IF(OR(Расчет!A336>=2000,Расчет!B336>=2000),Расчет!M336,0)","v":0},{"$f":"IF(AND(Расчет!A336<2000,Расчет!B336<2000),Расчет!M336,0)","v":0}]
[{"$f":"IF(OR(Расчет!A337>=2000,Расчет!B337>=2000),Расчет!G337,0)","v":0},{"$f":"IF(AND(Расчет!A337<2000,Расчет!B337<2000),Расчет!G337,0)","v":0},null,null,{"$f":"IF(OR(Расчет!A337>=2000,Расчет!B337>=2000),Расчет!J337,0)","v":0},{"$f":"IF(AND(Расчет!A337<2000,Расчет!B337<2000),Расчет!J337,0)","v":0},null,null,{"$f":"IF(OR(Расчет!A337>=2000,Расчет!B337>=2000),Расчет!M337,0)","v":0},{"$f":"IF(AND(Расчет!A337<2000,Расчет!B337<2000),Расчет!M337,0)","v":0}]
[{"$f":"IF(OR(Расчет!A338>=2000,Расчет!B338>=2000),Расчет!G338,0)","v":0},{"$f":"IF(AND(Расчет!A338<2000,Расчет!B338<2000),Расчет!G338,0)","v":0},null,null,{"$f":"IF(OR(Расчет!A338>=2000,Расчет!B338>=2000),Расчет!J338,0)","v":0},{"$f":"IF(AND(Расчет!A338<2000,Расчет!B338<2000),Расчет!J338,0)","v":0},null,null,{"$f":"IF(OR(Расчет!A338>=2000,Расчет!B338>=2000),Расчет!M338,0)","v":0},{"$f":"IF(AND(Расчет!A338<2000,Расчет!B338<2000),Расчет!M338,0)","v":0}]
[{"$f":"IF(OR(Расчет!A339>=2000,Расчет!B339>=2000),Расчет!G339,0)","v":0},{"$f":"IF(AND(Расчет!A339<2000,Расчет!B339<2000),Расчет!G339,0)","v":0},null,null,{"$f":"IF(OR(Расчет!A339>=2000,Расчет!B339>=2000),Расчет!J339,0)","v":0},{"$f":"IF(AND(Расчет!A339<2000,Расчет!B339<2000),Расчет!J339,0)","v":0},null,null,{"$f":"IF(OR(Расчет!A339>=2000,Расчет!B339>=2000),Расчет!M339,0)","v":0},{"$f":"IF(AND(Расчет!A339<2000,Расчет!B339<2000),Расчет!M339,0)","v":0}]
[{"$f":"IF(OR(Расчет!A340>=2000,Расчет!B340>=2000),Расчет!G340,0)","v":0},{"$f":"IF(AND(Расчет!A340<2000,Расчет!B340<2000),Расчет!G340,0)","v":0},null,null,{"$f":"IF(OR(Расчет!A340>=2000,Расчет!B340>=2000),Расчет!J340,0)","v":0},{"$f":"IF(AND(Расчет!A340<2000,Расчет!B340<2000),Расчет!J340,0)","v":0},null,null,{"$f":"IF(OR(Расчет!A340>=2000,Расчет!B340>=2000),Расчет!M340,0)","v":0},{"$f":"IF(AND(Расчет!A340<2000,Расчет!B340<2000),Расчет!M340,0)","v":0}]
[{"$f":"IF(OR(Расчет!A341>=2000,Расчет!B341>=2000),Расчет!G341,0)","v":0},{"$f":"IF(AND(Расчет!A341<2000,Расчет!B341<2000),Расчет!G341,0)","v":0},null,null,{"$f":"IF(OR(Расчет!A341>=2000,Расчет!B341>=2000),Расчет!J341,0)","v":0},{"$f":"IF(AND(Расчет!A341<2000,Расчет!B341<2000),Расчет!J341,0)","v":0},null,null,{"$f":"IF(OR(Расчет!A341>=2000,Расчет!B341>=2000),Расчет!M341,0)","v":0},{"$f":"IF(AND(Расчет!A341<2000,Расчет!B341<2000),Расчет!M341,0)","v":0}]
[{"$f":"IF(OR(Расчет!A342>=2000,Расчет!B342>=2000),Расчет!G342,0)","v":0},{"$f":"IF(AND(Расчет!A342<2000,Расчет!B342<2000),Расчет!G342,0)","v":0},null,null,{"$f":"IF(OR(Расчет!A342>=2000,Расчет!B342>=2000),Расчет!J342,0)","v":0},{"$f":"IF(AND(Расчет!A342<2000,Расчет!B342<2000),Расчет!J342,0)","v":0},null,null,{"$f":"IF(OR(Расчет!A342>=2000,Расчет!B342>=2000),Расчет!M342,0)","v":0},{"$f":"IF(AND(Расчет!A342<2000,Расчет!B342<2000),Расчет!M342,0)","v":0}]
[{"$f":"IF(OR(Расчет!A343>=2000,Расчет!B343>=2000),Расчет!G343,0)","v":0},{"$f":"IF(AND(Расчет!A343<2000,Расчет!B343<2000),Расчет!G343,0)","v":0},null,null,{"$f":"IF(OR(Расчет!A343>=2000,Расчет!B343>=2000),Расчет!J343,0)","v":0},{"$f":"IF(AND(Расчет!A343<2000,Расчет!B343<2000),Расчет!J343,0)","v":0},null,null,{"$f":"IF(OR(Расчет!A343>=2000,Расчет!B343>=2000),Расчет!M343,0)","v":0},{"$f":"IF(AND(Расчет!A343<2000,Расчет!B343<2000),Расчет!M343,0)","v":0}]
[{"$f":"IF(OR(Расчет!A344>=2000,Расчет!B344>=2000),Расчет!G344,0)","v":0},{"$f":"IF(AND(Расчет!A344<2000,Расчет!B344<2000),Расчет!G344,0)","v":0},null,null,{"$f":"IF(OR(Расчет!A344>=2000,Расчет!B344>=2000),Расчет!J344,0)","v":0},{"$f":"IF(AND(Расчет!A344<2000,Расчет!B344<2000),Расчет!J344,0)","v":0},null,null,{"$f":"IF(OR(Расчет!A344>=2000,Расчет!B344>=2000),Расчет!M344,0)","v":0},{"$f":"IF(AND(Расчет!A344<2000,Расчет!B344<2000),Расчет!M344,0)","v":0}]
[{"$f":"IF(OR(Расчет!A345>=2000,Расчет!B345>=2000),Расчет!G345,0)","v":0},{"$f":"IF(AND(Расчет!A345<2000,Расчет!B345<2000),Расчет!G345,0)","v":0},null,null,{"$f":"IF(OR(Расчет!A345>=2000,Расчет!B345>=2000),Расчет!J345,0)","v":0},{"$f":"IF(AND(Расчет!A345<2000,Расчет!B345<2000),Расчет!J345,0)","v":0},null,null,{"$f":"IF(OR(Расчет!A345>=2000,Расчет!B345>=2000),Расчет!M345,0)","v":0},{"$f":"IF(AND(Расчет!A345<2000,Расчет!B345<2000),Расчет!M345,0)","v":0}]
[{"$f":"IF(OR(Расчет!A346>=2000,Расчет!B346>=2000),Расчет!G346,0)","v":0},{"$f":"IF(AND(Расчет!A346<2000,Расчет!B346<2000),Расчет!G346,0)","v":0},null,null,{"$f":"IF(OR(Расчет!A346>=2000,Расчет!B346>=2000),Расчет!J346,0)","v":0},{"$f":"IF(AND(Расчет!A346<2000,Расчет!B346<2000),Расчет!J346,0)","v":0},null,null,{"$f":"IF(OR(Расчет!A346>=2000,Расчет!B346>=2000),Расчет!M346,0)","v":0},{"$f":"IF(AND(Расчет!A346<2000,Расчет!B346<2000),Расчет!M346,0)","v":0}]
[{"$f":"IF(OR(Расчет!A347>=2000,Расчет!B347>=2000),Расчет!G347,0)","v":0},{"$f":"IF(AND(Расчет!A347<2000,Расчет!B347<2000),Расчет!G347,0)","v":0},null,null,{"$f":"IF(OR(Расчет!A347>=2000,Расчет!B347>=2000),Расчет!J347,0)","v":0},{"$f":"IF(AND(Расчет!A347<2000,Расчет!B347<2000),Расчет!J347,0)","v":0},null,null,{"$f":"IF(OR(Расчет!A347>=2000,Расчет!B347>=2000),Расчет!M347,0)","v":0},{"$f":"IF(AND(Расчет!A347<2000,Расчет!B347<2000),Расчет!M347,0)","v":0}]
[{"$f":"IF(OR(Расчет!A348>=2000,Расчет!B348>=2000),Расчет!G348,0)","v":0},{"$f":"IF(AND(Расчет!A348<2000,Расчет!B348<2000),Расчет!G348,0)","v":0},null,null,{"$f":"IF(OR(Расчет!A348>=2000,Расчет!B348>=2000),Расчет!J348,0)","v":0},{"$f":"IF(AND(Расчет!A348<2000,Расчет!B348<2000),Расчет!J348,0)","v":0},null,null,{"$f":"IF(OR(Расчет!A348>=2000,Расчет!B348>=2000),Расчет!M348,0)","v":0},{"$f":"IF(AND(Расчет!A348<2000,Расчет!B348<2000),Расчет!M348,0)","v":0}]
[{"$f":"IF(OR(Расчет!A349>=2000,Расчет!B349>=2000),Расчет!G349,0)","v":0},{"$f":"IF(AND(Расчет!A349<2000,Расчет!B349<2000),Расчет!G349,0)","v":0},null,null,{"$f":"IF(OR(Расчет!A349>=2000,Расчет!B349>=2000),Расчет!J349,0)","v":0},{"$f":"IF(AND(Расчет!A349<2000,Расчет!B349<2000),Расчет!J349,0)","v":0},null,null,{"$f":"IF(OR(Расчет!A349>=2000,Расчет!B349>=2000),Расчет!M349,0)","v":0},{"$f":"IF(AND(Расчет!A349<2000,Расчет!B349<2000),Расчет!M349,0)","v":0}]
[{"$f":"IF(OR(Расчет!A350>=2000,Расчет!B350>=2000),Расчет!G350,0)","v":0},{"$f":"IF(AND(Расчет!A350<2000,Расчет!B350<2000),Расчет!G350,0)","v":0},null,null,{"$f":"IF(OR(Расчет!A350>=2000,Расчет!B350>=2000),Расчет!J350,0)","v":0},{"$f":"IF(AND(Расчет!A350<2000,Расчет!B350<2000),Расчет!J350,0)","v":0},null,null,{"$f":"IF(OR(Расчет!A350>=2000,Расчет!B350>=2000),Расчет!M350,0)","v":0},{"$f":"IF(AND(Расчет!A350<2000,Расчет!B350<2000),Расчет!M350,0)","v":0}]
[{"$f":"IF(OR(Расчет!A351>=2000,Расчет!B351>=2000),Расчет!G351,0)","v":0},{"$f":"IF(AND(Расчет!A351<2000,Расчет!B351<2000),Расчет!G351,0)","v":0},null,null,{"$f":"IF(OR(Расчет!A351>=2000,Расчет!B351>=2000),Расчет!J351,0)","v":0},{"$f":"IF(AND(Расчет!A351<2000,Расчет!B351<2000),Расчет!J351,0)","v":0},null,null,{"$f":"IF(OR(Расчет!A351>=2000,Расчет!B351>=2000),Расчет!M351,0)","v":0},{"$f":"IF(AND(Расчет!A351<2000,Расчет!B351<2000),Расчет!M351,0)","v":0}]
[{"$f":"IF(OR(Расчет!A352>=2000,Расчет!B352>=2000),Расчет!G352,0)","v":0},{"$f":"IF(AND(Расчет!A352<2000,Расчет!B352<2000),Расчет!G352,0)","v":0},null,null,{"$f":"IF(OR(Расчет!A352>=2000,Расчет!B352>=2000),Расчет!J352,0)","v":0},{"$f":"IF(AND(Расчет!A352<2000,Расчет!B352<2000),Расчет!J352,0)","v":0},null,null,{"$f":"IF(OR(Расчет!A352>=2000,Расчет!B352>=2000),Расчет!M352,0)","v":0},{"$f":"IF(AND(Расчет!A352<2000,Расчет!B352<2000),Расчет!M352,0)","v":0}]
[{"$f":"IF(OR(Расчет!A353>=2000,Расчет!B353>=2000),Расчет!G353,0)","v":0},{"$f":"IF(AND(Расчет!A353<2000,Расчет!B353<2000),Расчет!G353,0)","v":0},null,null,{"$f":"IF(OR(Расчет!A353>=2000,Расчет!B353>=2000),Расчет!J353,0)","v":0},{"$f":"IF(AND(Расчет!A353<2000,Расчет!B353<2000),Расчет!J353,0)","v":0},null,null,{"$f":"IF(OR(Расчет!A353>=2000,Расчет!B353>=2000),Расчет!M353,0)","v":0},{"$f":"IF(AND(Расчет!A353<2000,Расчет!B353<2000),Расчет!M353,0)","v":0}]
[{"$f":"IF(OR(Расчет!A354>=2000,Расчет!B354>=2000),Расчет!G354,0)","v":0},{"$f":"IF(AND(Расчет!A354<2000,Расчет!B354<2000),Расчет!G354,0)","v":0},null,null,{"$f":"IF(OR(Расчет!A354>=2000,Расчет!B354>=2000),Расчет!J354,0)","v":0},{"$f":"IF(AND(Расчет!A354<2000,Расчет!B354<2000),Расчет!J354,0)","v":0},null,null,{"$f":"IF(OR(Расчет!A354>=2000,Расчет!B354>=2000),Расчет!M354,0)","v":0},{"$f":"IF(AND(Расчет!A354<2000,Расчет!B354<2000),Расчет!M354,0)","v":0}]
[{"$f":"IF(OR(Расчет!A355>=2000,Расчет!B355>=2000),Расчет!G355,0)","v":0},{"$f":"IF(AND(Расчет!A355<2000,Расчет!B355<2000),Расчет!G355,0)","v":0},null,null,{"$f":"IF(OR(Расчет!A355>=2000,Расчет!B355>=2000),Расчет!J355,0)","v":0},{"$f":"IF(AND(Расчет!A355<2000,Расчет!B355<2000),Расчет!J355,0)","v":0},null,null,{"$f":"IF(OR(Расчет!A355>=2000,Расчет!B355>=2000),Расчет!M355,0)","v":0},{"$f":"IF(AND(Расчет!A355<2000,Расчет!B355<2000),Расчет!M355,0)","v":0}]
[{"$f":"IF(OR(Расчет!A356>=2000,Расчет!B356>=2000),Расчет!G356,0)","v":0},{"$f":"IF(AND(Расчет!A356<2000,Расчет!B356<2000),Расчет!G356,0)","v":0},null,null,{"$f":"IF(OR(Расчет!A356>=2000,Расчет!B356>=2000),Расчет!J356,0)","v":0},{"$f":"IF(AND(Расчет!A356<2000,Расчет!B356<2000),Расчет!J356,0)","v":0},null,null,{"$f":"IF(OR(Расчет!A356>=2000,Расчет!B356>=2000),Расчет!M356,0)","v":0},{"$f":"IF(AND(Расчет!A356<2000,Расчет!B356<2000),Расчет!M356,0)","v":0}]
[{"$f":"IF(OR(Расчет!A357>=2000,Расчет!B357>=2000),Расчет!G357,0)","v":0},{"$f":"IF(AND(Расчет!A357<2000,Расчет!B357<2000),Расчет!G357,0)","v":0},null,null,{"$f":"IF(OR(Расчет!A357>=2000,Расчет!B357>=2000),Расчет!J357,0)","v":0},{"$f":"IF(AND(Расчет!A357<2000,Расчет!B357<2000),Расчет!J357,0)","v":0},null,null,{"$f":"IF(OR(Расчет!A357>=2000,Расчет!B357>=2000),Расчет!M357,0)","v":0},{"$f":"IF(AND(Расчет!A357<2000,Расчет!B357<2000),Расчет!M357,0)","v":0}]
[{"$f":"IF(OR(Расчет!A358>=2000,Расчет!B358>=2000),Расчет!G358,0)","v":0},{"$f":"IF(AND(Расчет!A358<2000,Расчет!B358<2000),Расчет!G358,0)","v":0},null,null,{"$f":"IF(OR(Расчет!A358>=2000,Расчет!B358>=2000),Расчет!J358,0)","v":0},{"$f":"IF(AND(Расчет!A358<2000,Расчет!B358<2000),Расчет!J358,0)","v":0},null,null,{"$f":"IF(OR(Расчет!A358>=2000,Расчет!B358>=2000),Расчет!M358,0)","v":0},{"$f":"IF(AND(Расчет!A358<2000,Расчет!B358<2000),Расчет!M358,0)","v":0}]
[{"$f":"IF(OR(Расчет!A359>=2000,Расчет!B359>=2000),Расчет!G359,0)","v":0},{"$f":"IF(AND(Расчет!A359<2000,Расчет!B359<2000),Расчет!G359,0)","v":0},null,null,{"$f":"IF(OR(Расчет!A359>=2000,Расчет!B359>=2000),Расчет!J359,0)","v":0},{"$f":"IF(AND(Расчет!A359<2000,Расчет!B359<2000),Расчет!J359,0)","v":0},null,null,{"$f":"IF(OR(Расчет!A359>=2000,Расчет!B359>=2000),Расчет!M359,0)","v":0},{"$f":"IF(AND(Расчет!A359<2000,Расчет!B359<2000),Расчет!M359,0)","v":0}]
[{"$f":"IF(OR(Расчет!A360>=2000,Расчет!B360>=2000),Расчет!G360,0)","v":0},{"$f":"IF(AND(Расчет!A360<2000,Расчет!B360<2000),Расчет!G360,0)","v":0},null,null,{"$f":"IF(OR(Расчет!A360>=2000,Расчет!B360>=2000),Расчет!J360,0)","v":0},{"$f":"IF(AND(Расчет!A360<2000,Расчет!B360<2000),Расчет!J360,0)","v":0},null,null,{"$f":"IF(OR(Расчет!A360>=2000,Расчет!B360>=2000),Расчет!M360,0)","v":0},{"$f":"IF(AND(Расчет!A360<2000,Расчет!B360<2000),Расчет!M360,0)","v":0}]
[{"$f":"IF(OR(Расчет!A361>=2000,Расчет!B361>=2000),Расчет!G361,0)","v":0},{"$f":"IF(AND(Расчет!A361<2000,Расчет!B361<2000),Расчет!G361,0)","v":0},null,null,{"$f":"IF(OR(Расчет!A361>=2000,Расчет!B361>=2000),Расчет!J361,0)","v":0},{"$f":"IF(AND(Расчет!A361<2000,Расчет!B361<2000),Расчет!J361,0)","v":0},null,null,{"$f":"IF(OR(Расчет!A361>=2000,Расчет!B361>=2000),Расчет!M361,0)","v":0},{"$f":"IF(AND(Расчет!A361<2000,Расчет!B361<2000),Расчет!M361,0)","v":0}]
[{"$f":"IF(OR(Расчет!A362>=2000,Расчет!B362>=2000),Расчет!G362,0)","v":0},{"$f":"IF(AND(Расчет!A362<2000,Расчет!B362<2000),Расчет!G362,0)","v":0},null,null,{"$f":"IF(OR(Расчет!A362>=2000,Расчет!B362>=2000),Расчет!J362,0)","v":0},{"$f":"IF(AND(Расчет!A362<2000,Расчет!B362<2000),Расчет!J362,0)","v":0},null,null,{"$f":"IF(OR(Расчет!A362>=2000,Расчет!B362>=2000),Расчет!M362,0)","v":0},{"$f":"IF(AND(Расчет!A362<2000,Расчет!B362<2000),Расчет!M362,0)","v":0}]
[{"$f":"IF(OR(Расчет!A363>=2000,Расчет!B363>=2000),Расчет!G363,0)","v":0},{"$f":"IF(AND(Расчет!A363<2000,Расчет!B363<2000),Расчет!G363,0)","v":0},null,null,{"$f":"IF(OR(Расчет!A363>=2000,Расчет!B363>=2000),Расчет!J363,0)","v":0},{"$f":"IF(AND(Расчет!A363<2000,Расчет!B363<2000),Расчет!J363,0)","v":0},null,null,{"$f":"IF(OR(Расчет!A363>=2000,Расчет!B363>=2000),Расчет!M363,0)","v":0},{"$f":"IF(AND(Расчет!A363<2000,Расчет!B363<2000),Расчет!M363,0)","v":0}]
[{"$f":"IF(OR(Расчет!A364>=2000,Расчет!B364>=2000),Расчет!G364,0)","v":0},{"$f":"IF(AND(Расчет!A364<2000,Расчет!B364<2000),Расчет!G364,0)","v":0},null,null,{"$f":"IF(OR(Расчет!A364>=2000,Расчет!B364>=2000),Расчет!J364,0)","v":0},{"$f":"IF(AND(Расчет!A364<2000,Расчет!B364<2000),Расчет!J364,0)","v":0},null,null,{"$f":"IF(OR(Расчет!A364>=2000,Расчет!B364>=2000),Расчет!M364,0)","v":0},{"$f":"IF(AND(Расчет!A364<2000,Расчет!B364<2000),Расчет!M364,0)","v":0}]
[{"$f":"IF(OR(Расчет!A365>=2000,Расчет!B365>=2000),Расчет!G365,0)","v":0},{"$f":"IF(AND(Расчет!A365<2000,Расчет!B365<2000),Расчет!G365,0)","v":0},null,null,{"$f":"IF(OR(Расчет!A365>=2000,Расчет!B365>=2000),Расчет!J365,0)","v":0},{"$f":"IF(AND(Расчет!A365<2000,Расчет!B365<2000),Расчет!J365,0)","v":0},null,null,{"$f":"IF(OR(Расчет!A365>=2000,Расчет!B365>=2000),Расчет!M365,0)","v":0},{"$f":"IF(AND(Расчет!A365<2000,Расчет!B365<2000),Расчет!M365,0)","v":0}]
[{"$f":"IF(OR(Расчет!A366>=2000,Расчет!B366>=2000),Расчет!G366,0)","v":0},{"$f":"IF(AND(Расчет!A366<2000,Расчет!B366<2000),Расчет!G366,0)","v":0},null,null,{"$f":"IF(OR(Расчет!A366>=2000,Расчет!B366>=2000),Расчет!J366,0)","v":0},{"$f":"IF(AND(Расчет!A366<2000,Расчет!B366<2000),Расчет!J366,0)","v":0},null,null,{"$f":"IF(OR(Расчет!A366>=2000,Расчет!B366>=2000),Расчет!M366,0)","v":0},{"$f":"IF(AND(Расчет!A366<2000,Расчет!B366<2000),Расчет!M366,0)","v":0}]
[{"$f":"IF(OR(Расчет!A367>=2000,Расчет!B367>=2000),Расчет!G367,0)","v":0},{"$f":"IF(AND(Расчет!A367<2000,Расчет!B367<2000),Расчет!G367,0)","v":0},null,null,{"$f":"IF(OR(Расчет!A367>=2000,Расчет!B367>=2000),Расчет!J367,0)","v":0},{"$f":"IF(AND(Расчет!A367<2000,Расчет!B367<2000),Расчет!J367,0)","v":0},null,null,{"$f":"IF(OR(Расчет!A367>=2000,Расчет!B367>=2000),Расчет!M367,0)","v":0},{"$f":"IF(AND(Расчет!A367<2000,Расчет!B367<2000),Расчет!M367,0)","v":0}]
[{"$f":"IF(OR(Расчет!A368>=2000,Расчет!B368>=2000),Расчет!G368,0)","v":0},{"$f":"IF(AND(Расчет!A368<2000,Расчет!B368<2000),Расчет!G368,0)","v":0},null,null,{"$f":"IF(OR(Расчет!A368>=2000,Расчет!B368>=2000),Расчет!J368,0)","v":0},{"$f":"IF(AND(Расчет!A368<2000,Расчет!B368<2000),Расчет!J368,0)","v":0},null,null,{"$f":"IF(OR(Расчет!A368>=2000,Расчет!B368>=2000),Расчет!M368,0)","v":0},{"$f":"IF(AND(Расчет!A368<2000,Расчет!B368<2000),Расчет!M368,0)","v":0}]
[{"$f":"IF(OR(Расчет!A369>=2000,Расчет!B369>=2000),Расчет!G369,0)","v":0},{"$f":"IF(AND(Расчет!A369<2000,Расчет!B369<2000),Расчет!G369,0)","v":0},null,null,{"$f":"IF(OR(Расчет!A369>=2000,Расчет!B369>=2000),Расчет!J369,0)","v":0},{"$f":"IF(AND(Расчет!A369<2000,Расчет!B369<2000),Расчет!J369,0)","v":0},null,null,{"$f":"IF(OR(Расчет!A369>=2000,Расчет!B369>=2000),Расчет!M369,0)","v":0},{"$f":"IF(AND(Расчет!A369<2000,Расчет!B369<2000),Расчет!M369,0)","v":0}]
[{"$f":"IF(OR(Расчет!A370>=2000,Расчет!B370>=2000),Расчет!G370,0)","v":0},{"$f":"IF(AND(Расчет!A370<2000,Расчет!B370<2000),Расчет!G370,0)","v":0},null,null,{"$f":"IF(OR(Расчет!A370>=2000,Расчет!B370>=2000),Расчет!J370,0)","v":0},{"$f":"IF(AND(Расчет!A370<2000,Расчет!B370<2000),Расчет!J370,0)","v":0},null,null,{"$f":"IF(OR(Расчет!A370>=2000,Расчет!B370>=2000),Расчет!M370,0)","v":0},{"$f":"IF(AND(Расчет!A370<2000,Расчет!B370<2000),Расчет!M370,0)","v":0}]
[{"$f":"IF(OR(Расчет!A371>=2000,Расчет!B371>=2000),Расчет!G371,0)","v":0},{"$f":"IF(AND(Расчет!A371<2000,Расчет!B371<2000),Расчет!G371,0)","v":0},null,null,{"$f":"IF(OR(Расчет!A371>=2000,Расчет!B371>=2000),Расчет!J371,0)","v":0},{"$f":"IF(AND(Расчет!A371<2000,Расчет!B371<2000),Расчет!J371,0)","v":0},null,null,{"$f":"IF(OR(Расчет!A371>=2000,Расчет!B371>=2000),Расчет!M371,0)","v":0},{"$f":"IF(AND(Расчет!A371<2000,Расчет!B371<2000),Расчет!M371,0)","v":0}]
[{"$f":"IF(OR(Расчет!A372>=2000,Расчет!B372>=2000),Расчет!G372,0)","v":0},{"$f":"IF(AND(Расчет!A372<2000,Расчет!B372<2000),Расчет!G372,0)","v":0},null,null,{"$f":"IF(OR(Расчет!A372>=2000,Расчет!B372>=2000),Расчет!J372,0)","v":0},{"$f":"IF(AND(Расчет!A372<2000,Расчет!B372<2000),Расчет!J372,0)","v":0},null,null,{"$f":"IF(OR(Расчет!A372>=2000,Расчет!B372>=2000),Расчет!M372,0)","v":0},{"$f":"IF(AND(Расчет!A372<2000,Расчет!B372<2000),Расчет!M372,0)","v":0}]
[{"$f":"IF(OR(Расчет!A373>=2000,Расчет!B373>=2000),Расчет!G373,0)","v":0},{"$f":"IF(AND(Расчет!A373<2000,Расчет!B373<2000),Расчет!G373,0)","v":0},null,null,{"$f":"IF(OR(Расчет!A373>=2000,Расчет!B373>=2000),Расчет!J373,0)","v":0},{"$f":"IF(AND(Расчет!A373<2000,Расчет!B373<2000),Расчет!J373,0)","v":0},null,null,{"$f":"IF(OR(Расчет!A373>=2000,Расчет!B373>=2000),Расчет!M373,0)","v":0},{"$f":"IF(AND(Расчет!A373<2000,Расчет!B373<2000),Расчет!M373,0)","v":0}]
[{"$f":"IF(OR(Расчет!A374>=2000,Расчет!B374>=2000),Расчет!G374,0)","v":0},{"$f":"IF(AND(Расчет!A374<2000,Расчет!B374<2000),Расчет!G374,0)","v":0},null,null,{"$f":"IF(OR(Расчет!A374>=2000,Расчет!B374>=2000),Расчет!J374,0)","v":0},{"$f":"IF(AND(Расчет!A374<2000,Расчет!B374<2000),Расчет!J374,0)","v":0},null,null,{"$f":"IF(OR(Расчет!A374>=2000,Расчет!B374>=2000),Расчет!M374,0)","v":0},{"$f":"IF(AND(Расчет!A374<2000,Расчет!B374<2000),Расчет!M374,0)","v":0}]
[{"$f":"IF(OR(Расчет!A375>=2000,Расчет!B375>=2000),Расчет!G375,0)","v":0},{"$f":"IF(AND(Расчет!A375<2000,Расчет!B375<2000),Расчет!G375,0)","v":0},null,null,{"$f":"IF(OR(Расчет!A375>=2000,Расчет!B375>=2000),Расчет!J375,0)","v":0},{"$f":"IF(AND(Расчет!A375<2000,Расчет!B375<2000),Расчет!J375,0)","v":0},null,null,{"$f":"IF(OR(Расчет!A375>=2000,Расчет!B375>=2000),Расчет!M375,0)","v":0},{"$f":"IF(AND(Расчет!A375<2000,Расчет!B375<2000),Расчет!M375,0)","v":0}]
[{"$f":"IF(OR(Расчет!A376>=2000,Расчет!B376>=2000),Расчет!G376,0)","v":0},{"$f":"IF(AND(Расчет!A376<2000,Расчет!B376<2000),Расчет!G376,0)","v":0},null,null,{"$f":"IF(OR(Расчет!A376>=2000,Расчет!B376>=2000),Расчет!J376,0)","v":0},{"$f":"IF(AND(Расчет!A376<2000,Расчет!B376<2000),Расчет!J376,0)","v":0},null,null,{"$f":"IF(OR(Расчет!A376>=2000,Расчет!B376>=2000),Расчет!M376,0)","v":0},{"$f":"IF(AND(Расчет!A376<2000,Расчет!B376<2000),Расчет!M376,0)","v":0}]
[{"$f":"IF(OR(Расчет!A377>=2000,Расчет!B377>=2000),Расчет!G377,0)","v":0},{"$f":"IF(AND(Расчет!A377<2000,Расчет!B377<2000),Расчет!G377,0)","v":0},null,null,{"$f":"IF(OR(Расчет!A377>=2000,Расчет!B377>=2000),Расчет!J377,0)","v":0},{"$f":"IF(AND(Расчет!A377<2000,Расчет!B377<2000),Расчет!J377,0)","v":0},null,null,{"$f":"IF(OR(Расчет!A377>=2000,Расчет!B377>=2000),Расчет!M377,0)","v":0},{"$f":"IF(AND(Расчет!A377<2000,Расчет!B377<2000),Расчет!M377,0)","v":0}]
[{"$f":"IF(OR(Расчет!A378>=2000,Расчет!B378>=2000),Расчет!G378,0)","v":0},{"$f":"IF(AND(Расчет!A378<2000,Расчет!B378<2000),Расчет!G378,0)","v":0},null,null,{"$f":"IF(OR(Расчет!A378>=2000,Расчет!B378>=2000),Расчет!J378,0)","v":0},{"$f":"IF(AND(Расчет!A378<2000,Расчет!B378<2000),Расчет!J378,0)","v":0},null,null,{"$f":"IF(OR(Расчет!A378>=2000,Расчет!B378>=2000),Расчет!M378,0)","v":0},{"$f":"IF(AND(Расчет!A378<2000,Расчет!B378<2000),Расчет!M378,0)","v":0}]
[{"$f":"IF(OR(Расчет!A379>=2000,Расчет!B379>=2000),Расчет!G379,0)","v":0},{"$f":"IF(AND(Расчет!A379<2000,Расчет!B379<2000),Расчет!G379,0)","v":0},null,null,{"$f":"IF(OR(Расчет!A379>=2000,Расчет!B379>=2000),Расчет!J379,0)","v":0},{"$f":"IF(AND(Расчет!A379<2000,Расчет!B379<2000),Расчет!J379,0)","v":0},null,null,{"$f":"IF(OR(Расчет!A379>=2000,Расчет!B379>=2000),Расчет!M379,0)","v":0},{"$f":"IF(AND(Расчет!A379<2000,Расчет!B379<2000),Расчет!M379,0)","v":0}]
[{"$f":"IF(OR(Расчет!A380>=2000,Расчет!B380>=2000),Расчет!G380,0)","v":0},{"$f":"IF(AND(Расчет!A380<2000,Расчет!B380<2000),Расчет!G380,0)","v":0},null,null,{"$f":"IF(OR(Расчет!A380>=2000,Расчет!B380>=2000),Расчет!J380,0)","v":0},{"$f":"IF(AND(Расчет!A380<2000,Расчет!B380<2000),Расчет!J380,0)","v":0},null,null,{"$f":"IF(OR(Расчет!A380>=2000,Расчет!B380>=2000),Расчет!M380,0)","v":0},{"$f":"IF(AND(Расчет!A380<2000,Расчет!B380<2000),Расчет!M380,0)","v":0}]
[{"$f":"IF(OR(Расчет!A381>=2000,Расчет!B381>=2000),Расчет!G381,0)","v":0},{"$f":"IF(AND(Расчет!A381<2000,Расчет!B381<2000),Расчет!G381,0)","v":0},null,null,{"$f":"IF(OR(Расчет!A381>=2000,Расчет!B381>=2000),Расчет!J381,0)","v":0},{"$f":"IF(AND(Расчет!A381<2000,Расчет!B381<2000),Расчет!J381,0)","v":0},null,null,{"$f":"IF(OR(Расчет!A381>=2000,Расчет!B381>=2000),Расчет!M381,0)","v":0},{"$f":"IF(AND(Расчет!A381<2000,Расчет!B381<2000),Расчет!M381,0)","v":0}]
[{"$f":"IF(OR(Расчет!A382>=2000,Расчет!B382>=2000),Расчет!G382,0)","v":0},{"$f":"IF(AND(Расчет!A382<2000,Расчет!B382<2000),Расчет!G382,0)","v":0},null,null,{"$f":"IF(OR(Расчет!A382>=2000,Расчет!B382>=2000),Расчет!J382,0)","v":0},{"$f":"IF(AND(Расчет!A382<2000,Расчет!B382<2000),Расчет!J382,0)","v":0},null,null,{"$f":"IF(OR(Расчет!A382>=2000,Расчет!B382>=2000),Расчет!M382,0)","v":0},{"$f":"IF(AND(Расчет!A382<2000,Расчет!B382<2000),Расчет!M382,0)","v":0}]
[{"$f":"IF(OR(Расчет!A383>=2000,Расчет!B383>=2000),Расчет!G383,0)","v":0},{"$f":"IF(AND(Расчет!A383<2000,Расчет!B383<2000),Расчет!G383,0)","v":0},null,null,{"$f":"IF(OR(Расчет!A383>=2000,Расчет!B383>=2000),Расчет!J383,0)","v":0},{"$f":"IF(AND(Расчет!A383<2000,Расчет!B383<2000),Расчет!J383,0)","v":0},null,null,{"$f":"IF(OR(Расчет!A383>=2000,Расчет!B383>=2000),Расчет!M383,0)","v":0},{"$f":"IF(AND(Расчет!A383<2000,Расчет!B383<2000),Расчет!M383,0)","v":0}]
[{"$f":"IF(OR(Расчет!A384>=2000,Расчет!B384>=2000),Расчет!G384,0)","v":0},{"$f":"IF(AND(Расчет!A384<2000,Расчет!B384<2000),Расчет!G384,0)","v":0},null,null,{"$f":"IF(OR(Расчет!A384>=2000,Расчет!B384>=2000),Расчет!J384,0)","v":0},{"$f":"IF(AND(Расчет!A384<2000,Расчет!B384<2000),Расчет!J384,0)","v":0},null,null,{"$f":"IF(OR(Расчет!A384>=2000,Расчет!B384>=2000),Расчет!M384,0)","v":0},{"$f":"IF(AND(Расчет!A384<2000,Расчет!B384<2000),Расчет!M384,0)","v":0}]
[{"$f":"IF(OR(Расчет!A385>=2000,Расчет!B385>=2000),Расчет!G385,0)","v":0},{"$f":"IF(AND(Расчет!A385<2000,Расчет!B385<2000),Расчет!G385,0)","v":0},null,null,{"$f":"IF(OR(Расчет!A385>=2000,Расчет!B385>=2000),Расчет!J385,0)","v":0},{"$f":"IF(AND(Расчет!A385<2000,Расчет!B385<2000),Расчет!J385,0)","v":0},null,null,{"$f":"IF(OR(Расчет!A385>=2000,Расчет!B385>=2000),Расчет!M385,0)","v":0},{"$f":"IF(AND(Расчет!A385<2000,Расчет!B385<2000),Расчет!M385,0)","v":0}]
[{"$f":"IF(OR(Расчет!A386>=2000,Расчет!B386>=2000),Расчет!G386,0)","v":0},{"$f":"IF(AND(Расчет!A386<2000,Расчет!B386<2000),Расчет!G386,0)","v":0},null,null,{"$f":"IF(OR(Расчет!A386>=2000,Расчет!B386>=2000),Расчет!J386,0)","v":0},{"$f":"IF(AND(Расчет!A386<2000,Расчет!B386<2000),Расчет!J386,0)","v":0},null,null,{"$f":"IF(OR(Расчет!A386>=2000,Расчет!B386>=2000),Расчет!M386,0)","v":0},{"$f":"IF(AND(Расчет!A386<2000,Расчет!B386<2000),Расчет!M386,0)","v":0}]
[{"$f":"IF(OR(Расчет!A387>=2000,Расчет!B387>=2000),Расчет!G387,0)","v":0},{"$f":"IF(AND(Расчет!A387<2000,Расчет!B387<2000),Расчет!G387,0)","v":0},null,null,{"$f":"IF(OR(Расчет!A387>=2000,Расчет!B387>=2000),Расчет!J387,0)","v":0},{"$f":"IF(AND(Расчет!A387<2000,Расчет!B387<2000),Расчет!J387,0)","v":0},null,null,{"$f":"IF(OR(Расчет!A387>=2000,Расчет!B387>=2000),Расчет!M387,0)","v":0},{"$f":"IF(AND(Расчет!A387<2000,Расчет!B387<2000),Расчет!M387,0)","v":0}]
[{"$f":"IF(OR(Расчет!A388>=2000,Расчет!B388>=2000),Расчет!G388,0)","v":0},{"$f":"IF(AND(Расчет!A388<2000,Расчет!B388<2000),Расчет!G388,0)","v":0},null,null,{"$f":"IF(OR(Расчет!A388>=2000,Расчет!B388>=2000),Расчет!J388,0)","v":0},{"$f":"IF(AND(Расчет!A388<2000,Расчет!B388<2000),Расчет!J388,0)","v":0},null,null,{"$f":"IF(OR(Расчет!A388>=2000,Расчет!B388>=2000),Расчет!M388,0)","v":0},{"$f":"IF(AND(Расчет!A388<2000,Расчет!B388<2000),Расчет!M388,0)","v":0}]
[{"$f":"IF(OR(Расчет!A389>=2000,Расчет!B389>=2000),Расчет!G389,0)","v":0},{"$f":"IF(AND(Расчет!A389<2000,Расчет!B389<2000),Расчет!G389,0)","v":0},null,null,{"$f":"IF(OR(Расчет!A389>=2000,Расчет!B389>=2000),Расчет!J389,0)","v":0},{"$f":"IF(AND(Расчет!A389<2000,Расчет!B389<2000),Расчет!J389,0)","v":0},null,null,{"$f":"IF(OR(Расчет!A389>=2000,Расчет!B389>=2000),Расчет!M389,0)","v":0},{"$f":"IF(AND(Расчет!A389<2000,Расчет!B389<2000),Расчет!M389,0)","v":0}]
[{"$f":"IF(OR(Расчет!A390>=2000,Расчет!B390>=2000),Расчет!G390,0)","v":0},{"$f":"IF(AND(Расчет!A390<2000,Расчет!B390<2000),Расчет!G390,0)","v":0},null,null,{"$f":"IF(OR(Расчет!A390>=2000,Расчет!B390>=2000),Расчет!J390,0)","v":0},{"$f":"IF(AND(Расчет!A390<2000,Расчет!B390<2000),Расчет!J390,0)","v":0},null,null,{"$f":"IF(OR(Расчет!A390>=2000,Расчет!B390>=2000),Расчет!M390,0)","v":0},{"$f":"IF(AND(Расчет!A390<2000,Расчет!B390<2000),Расчет!M390,0)","v":0}]
[{"$f":"IF(OR(Расчет!A391>=2000,Расчет!B391>=2000),Расчет!G391,0)","v":0},{"$f":"IF(AND(Расчет!A391<2000,Расчет!B391<2000),Расчет!G391,0)","v":0},null,null,{"$f":"IF(OR(Расчет!A391>=2000,Расчет!B391>=2000),Расчет!J391,0)","v":0},{"$f":"IF(AND(Расчет!A391<2000,Расчет!B391<2000),Расчет!J391,0)","v":0},null,null,{"$f":"IF(OR(Расчет!A391>=2000,Расчет!B391>=2000),Расчет!M391,0)","v":0},{"$f":"IF(AND(Расчет!A391<2000,Расчет!B391<2000),Расчет!M391,0)","v":0}]
[{"$f":"IF(OR(Расчет!A392>=2000,Расчет!B392>=2000),Расчет!G392,0)","v":0},{"$f":"IF(AND(Расчет!A392<2000,Расчет!B392<2000),Расчет!G392,0)","v":0},null,null,{"$f":"IF(OR(Расчет!A392>=2000,Расчет!B392>=2000),Расчет!J392,0)","v":0},{"$f":"IF(AND(Расчет!A392<2000,Расчет!B392<2000),Расчет!J392,0)","v":0},null,null,{"$f":"IF(OR(Расчет!A392>=2000,Расчет!B392>=2000),Расчет!M392,0)","v":0},{"$f":"IF(AND(Расчет!A392<2000,Расчет!B392<2000),Расчет!M392,0)","v":0}]
[{"$f":"IF(OR(Расчет!A393>=2000,Расчет!B393>=2000),Расчет!G393,0)","v":0},{"$f":"IF(AND(Расчет!A393<2000,Расчет!B393<2000),Расчет!G393,0)","v":0},null,null,{"$f":"IF(OR(Расчет!A393>=2000,Расчет!B393>=2000),Расчет!J393,0)","v":0},{"$f":"IF(AND(Расчет!A393<2000,Расчет!B393<2000),Расчет!J393,0)","v":0},null,null,{"$f":"IF(OR(Расчет!A393>=2000,Расчет!B393>=2000),Расчет!M393,0)","v":0},{"$f":"IF(AND(Расчет!A393<2000,Расчет!B393<2000),Расчет!M393,0)","v":0}]
[{"$f":"IF(OR(Расчет!A394>=2000,Расчет!B394>=2000),Расчет!G394,0)","v":0},{"$f":"IF(AND(Расчет!A394<2000,Расчет!B394<2000),Расчет!G394,0)","v":0},null,null,{"$f":"IF(OR(Расчет!A394>=2000,Расчет!B394>=2000),Расчет!J394,0)","v":0},{"$f":"IF(AND(Расчет!A394<2000,Расчет!B394<2000),Расчет!J394,0)","v":0},null,null,{"$f":"IF(OR(Расчет!A394>=2000,Расчет!B394>=2000),Расчет!M394,0)","v":0},{"$f":"IF(AND(Расчет!A394<2000,Расчет!B394<2000),Расчет!M394,0)","v":0}]
[{"$f":"IF(OR(Расчет!A395>=2000,Расчет!B395>=2000),Расчет!G395,0)","v":0},{"$f":"IF(AND(Расчет!A395<2000,Расчет!B395<2000),Расчет!G395,0)","v":0},null,null,{"$f":"IF(OR(Расчет!A395>=2000,Расчет!B395>=2000),Расчет!J395,0)","v":0},{"$f":"IF(AND(Расчет!A395<2000,Расчет!B395<2000),Расчет!J395,0)","v":0},null,null,{"$f":"IF(OR(Расчет!A395>=2000,Расчет!B395>=2000),Расчет!M395,0)","v":0},{"$f":"IF(AND(Расчет!A395<2000,Расчет!B395<2000),Расчет!M395,0)","v":0}]
[{"$f":"IF(OR(Расчет!A396>=2000,Расчет!B396>=2000),Расчет!G396,0)","v":0},{"$f":"IF(AND(Расчет!A396<2000,Расчет!B396<2000),Расчет!G396,0)","v":0},null,null,{"$f":"IF(OR(Расчет!A396>=2000,Расчет!B396>=2000),Расчет!J396,0)","v":0},{"$f":"IF(AND(Расчет!A396<2000,Расчет!B396<2000),Расчет!J396,0)","v":0},null,null,{"$f":"IF(OR(Расчет!A396>=2000,Расчет!B396>=2000),Расчет!M396,0)","v":0},{"$f":"IF(AND(Расчет!A396<2000,Расчет!B396<2000),Расчет!M396,0)","v":0}]
[{"$f":"IF(OR(Расчет!A397>=2000,Расчет!B397>=2000),Расчет!G397,0)","v":0},{"$f":"IF(AND(Расчет!A397<2000,Расчет!B397<2000),Расчет!G397,0)","v":0},null,null,{"$f":"IF(OR(Расчет!A397>=2000,Расчет!B397>=2000),Расчет!J397,0)","v":0},{"$f":"IF(AND(Расчет!A397<2000,Расчет!B397<2000),Расчет!J397,0)","v":0},null,null,{"$f":"IF(OR(Расчет!A397>=2000,Расчет!B397>=2000),Расчет!M397,0)","v":0},{"$f":"IF(AND(Расчет!A397<2000,Расчет!B397<2000),Расчет!M397,0)","v":0}]
[{"$f":"IF(OR(Расчет!A398>=2000,Расчет!B398>=2000),Расчет!G398,0)","v":0},{"$f":"IF(AND(Расчет!A398<2000,Расчет!B398<2000),Расчет!G398,0)","v":0},null,null,{"$f":"IF(OR(Расчет!A398>=2000,Расчет!B398>=2000),Расчет!J398,0)","v":0},{"$f":"IF(AND(Расчет!A398<2000,Расчет!B398<2000),Расчет!J398,0)","v":0},null,null,{"$f":"IF(OR(Расчет!A398>=2000,Расчет!B398>=2000),Расчет!M398,0)","v":0},{"$f":"IF(AND(Расчет!A398<2000,Расчет!B398<2000),Расчет!M398,0)","v":0}]
[{"$f":"IF(OR(Расчет!A399>=2000,Расчет!B399>=2000),Расчет!G399,0)","v":0},{"$f":"IF(AND(Расчет!A399<2000,Расчет!B399<2000),Расчет!G399,0)","v":0},null,null,{"$f":"IF(OR(Расчет!A399>=2000,Расчет!B399>=2000),Расчет!J399,0)","v":0},{"$f":"IF(AND(Расчет!A399<2000,Расчет!B399<2000),Расчет!J399,0)","v":0},null,null,{"$f":"IF(OR(Расчет!A399>=2000,Расчет!B399>=2000),Расчет!M399,0)","v":0},{"$f":"IF(AND(Расчет!A399<2000,Расчет!B399<2000),Расчет!M399,0)","v":0}]
[{"$f":"IF(OR(Расчет!A400>=2000,Расчет!B400>=2000),Расчет!G400,0)","v":0},{"$f":"IF(AND(Расчет!A400<2000,Расчет!B400<2000),Расчет!G400,0)","v":0},null,null,{"$f":"IF(OR(Расчет!A400>=2000,Расчет!B400>=2000),Расчет!J400,0)","v":0},{"$f":"IF(AND(Расчет!A400<2000,Расчет!B400<2000),Расчет!J400,0)","v":0},null,null,{"$f":"IF(OR(Расчет!A400>=2000,Расчет!B400>=2000),Расчет!M400,0)","v":0},{"$f":"IF(AND(Расчет!A400<2000,Расчет!B400<2000),Расчет!M400,0)","v":0}]
[{"$f":"IF(OR(Расчет!A401>=2000,Расчет!B401>=2000),Расчет!G401,0)","v":0},{"$f":"IF(AND(Расчет!A401<2000,Расчет!B401<2000),Расчет!G401,0)","v":0},null,null,{"$f":"IF(OR(Расчет!A401>=2000,Расчет!B401>=2000),Расчет!J401,0)","v":0},{"$f":"IF(AND(Расчет!A401<2000,Расчет!B401<2000),Расчет!J401,0)","v":0},null,null,{"$f":"IF(OR(Расчет!A401>=2000,Расчет!B401>=2000),Расчет!M401,0)","v":0},{"$f":"IF(AND(Расчет!A401<2000,Расчет!B401<2000),Расчет!M401,0)","v":0}]
[{"$f":"IF(OR(Расчет!A402>=2000,Расчет!B402>=2000),Расчет!G402,0)","v":0},{"$f":"IF(AND(Расчет!A402<2000,Расчет!B402<2000),Расчет!G402,0)","v":0},null,null,{"$f":"IF(OR(Расчет!A402>=2000,Расчет!B402>=2000),Расчет!J402,0)","v":0},{"$f":"IF(AND(Расчет!A402<2000,Расчет!B402<2000),Расчет!J402,0)","v":0},null,null,{"$f":"IF(OR(Расчет!A402>=2000,Расчет!B402>=2000),Расчет!M402,0)","v":0},{"$f":"IF(AND(Расчет!A402<2000,Расчет!B402<2000),Расчет!M402,0)","v":0}]
[{"$f":"IF(OR(Расчет!A403>=2000,Расчет!B403>=2000),Расчет!G403,0)","v":0},{"$f":"IF(AND(Расчет!A403<2000,Расчет!B403<2000),Расчет!G403,0)","v":0},null,null,{"$f":"IF(OR(Расчет!A403>=2000,Расчет!B403>=2000),Расчет!J403,0)","v":0},{"$f":"IF(AND(Расчет!A403<2000,Расчет!B403<2000),Расчет!J403,0)","v":0},null,null,{"$f":"IF(OR(Расчет!A403>=2000,Расчет!B403>=2000),Расчет!M403,0)","v":0},{"$f":"IF(AND(Расчет!A403<2000,Расчет!B403<2000),Расчет!M403,0)","v":0}]
[{"$f":"IF(OR(Расчет!A404>=2000,Расчет!B404>=2000),Расчет!G404,0)","v":0},{"$f":"IF(AND(Расчет!A404<2000,Расчет!B404<2000),Расчет!G404,0)","v":0},null,null,{"$f":"IF(OR(Расчет!A404>=2000,Расчет!B404>=2000),Расчет!J404,0)","v":0},{"$f":"IF(AND(Расчет!A404<2000,Расчет!B404<2000),Расчет!J404,0)","v":0},null,null,{"$f":"IF(OR(Расчет!A404>=2000,Расчет!B404>=2000),Расчет!M404,0)","v":0},{"$f":"IF(AND(Расчет!A404<2000,Расчет!B404<2000),Расчет!M404,0)","v":0}]
[{"$f":"IF(OR(Расчет!A405>=2000,Расчет!B405>=2000),Расчет!G405,0)","v":0},{"$f":"IF(AND(Расчет!A405<2000,Расчет!B405<2000),Расчет!G405,0)","v":0},null,null,{"$f":"IF(OR(Расчет!A405>=2000,Расчет!B405>=2000),Расчет!J405,0)","v":0},{"$f":"IF(AND(Расчет!A405<2000,Расчет!B405<2000),Расчет!J405,0)","v":0},null,null,{"$f":"IF(OR(Расчет!A405>=2000,Расчет!B405>=2000),Расчет!M405,0)","v":0},{"$f":"IF(AND(Расчет!A405<2000,Расчет!B405<2000),Расчет!M405,0)","v":0}]
[{"$f":"IF(OR(Расчет!A406>=2000,Расчет!B406>=2000),Расчет!G406,0)","v":0},{"$f":"IF(AND(Расчет!A406<2000,Расчет!B406<2000),Расчет!G406,0)","v":0},null,null,{"$f":"IF(OR(Расчет!A406>=2000,Расчет!B406>=2000),Расчет!J406,0)","v":0},{"$f":"IF(AND(Расчет!A406<2000,Расчет!B406<2000),Расчет!J406,0)","v":0},null,null,{"$f":"IF(OR(Расчет!A406>=2000,Расчет!B406>=2000),Расчет!M406,0)","v":0},{"$f":"IF(AND(Расчет!A406<2000,Расчет!B406<2000),Расчет!M406,0)","v":0}]
[{"$f":"IF(OR(Расчет!A407>=2000,Расчет!B407>=2000),Расчет!G407,0)","v":0},{"$f":"IF(AND(Расчет!A407<2000,Расчет!B407<2000),Расчет!G407,0)","v":0},null,null,{"$f":"IF(OR(Расчет!A407>=2000,Расчет!B407>=2000),Расчет!J407,0)","v":0},{"$f":"IF(AND(Расчет!A407<2000,Расчет!B407<2000),Расчет!J407,0)","v":0},null,null,{"$f":"IF(OR(Расчет!A407>=2000,Расчет!B407>=2000),Расчет!M407,0)","v":0},{"$f":"IF(AND(Расчет!A407<2000,Расчет!B407<2000),Расчет!M407,0)","v":0}]
[{"$f":"IF(OR(Расчет!A408>=2000,Расчет!B408>=2000),Расчет!G408,0)","v":0},{"$f":"IF(AND(Расчет!A408<2000,Расчет!B408<2000),Расчет!G408,0)","v":0},null,null,{"$f":"IF(OR(Расчет!A408>=2000,Расчет!B408>=2000),Расчет!J408,0)","v":0},{"$f":"IF(AND(Расчет!A408<2000,Расчет!B408<2000),Расчет!J408,0)","v":0},null,null,{"$f":"IF(OR(Расчет!A408>=2000,Расчет!B408>=2000),Расчет!M408,0)","v":0},{"$f":"IF(AND(Расчет!A408<2000,Расчет!B408<2000),Расчет!M408,0)","v":0}]
[{"$f":"IF(OR(Расчет!A409>=2000,Расчет!B409>=2000),Расчет!G409,0)","v":0},{"$f":"IF(AND(Расчет!A409<2000,Расчет!B409<2000),Расчет!G409,0)","v":0},null,null,{"$f":"IF(OR(Расчет!A409>=2000,Расчет!B409>=2000),Расчет!J409,0)","v":0},{"$f":"IF(AND(Расчет!A409<2000,Расчет!B409<2000),Расчет!J409,0)","v":0},null,null,{"$f":"IF(OR(Расчет!A409>=2000,Расчет!B409>=2000),Расчет!M409,0)","v":0},{"$f":"IF(AND(Расчет!A409<2000,Расчет!B409<2000),Расчет!M409,0)","v":0}]
[{"$f":"IF(OR(Расчет!A410>=2000,Расчет!B410>=2000),Расчет!G410,0)","v":0},{"$f":"IF(AND(Расчет!A410<2000,Расчет!B410<2000),Расчет!G410,0)","v":0},null,null,{"$f":"IF(OR(Расчет!A410>=2000,Расчет!B410>=2000),Расчет!J410,0)","v":0},{"$f":"IF(AND(Расчет!A410<2000,Расчет!B410<2000),Расчет!J410,0)","v":0},null,null,{"$f":"IF(OR(Расчет!A410>=2000,Расчет!B410>=2000),Расчет!M410,0)","v":0},{"$f":"IF(AND(Расчет!A410<2000,Расчет!B410<2000),Расчет!M410,0)","v":0}]
[{"$f":"IF(OR(Расчет!A411>=2000,Расчет!B411>=2000),Расчет!G411,0)","v":0},{"$f":"IF(AND(Расчет!A411<2000,Расчет!B411<2000),Расчет!G411,0)","v":0},null,null,{"$f":"IF(OR(Расчет!A411>=2000,Расчет!B411>=2000),Расчет!J411,0)","v":0},{"$f":"IF(AND(Расчет!A411<2000,Расчет!B411<2000),Расчет!J411,0)","v":0},null,null,{"$f":"IF(OR(Расчет!A411>=2000,Расчет!B411>=2000),Расчет!M411,0)","v":0},{"$f":"IF(AND(Расчет!A411<2000,Расчет!B411<2000),Расчет!M411,0)","v":0}]
[{"$f":"IF(OR(Расчет!A412>=2000,Расчет!B412>=2000),Расчет!G412,0)","v":0},{"$f":"IF(AND(Расчет!A412<2000,Расчет!B412<2000),Расчет!G412,0)","v":0},null,null,{"$f":"IF(OR(Расчет!A412>=2000,Расчет!B412>=2000),Расчет!J412,0)","v":0},{"$f":"IF(AND(Расчет!A412<2000,Расчет!B412<2000),Расчет!J412,0)","v":0},null,null,{"$f":"IF(OR(Расчет!A412>=2000,Расчет!B412>=2000),Расчет!M412,0)","v":0},{"$f":"IF(AND(Расчет!A412<2000,Расчет!B412<2000),Расчет!M412,0)","v":0}]
[{"$f":"IF(OR(Расчет!A413>=2000,Расчет!B413>=2000),Расчет!G413,0)","v":0},{"$f":"IF(AND(Расчет!A413<2000,Расчет!B413<2000),Расчет!G413,0)","v":0},null,null,{"$f":"IF(OR(Расчет!A413>=2000,Расчет!B413>=2000),Расчет!J413,0)","v":0},{"$f":"IF(AND(Расчет!A413<2000,Расчет!B413<2000),Расчет!J413,0)","v":0},null,null,{"$f":"IF(OR(Расчет!A413>=2000,Расчет!B413>=2000),Расчет!M413,0)","v":0},{"$f":"IF(AND(Расчет!A413<2000,Расчет!B413<2000),Расчет!M413,0)","v":0}]
[{"$f":"IF(OR(Расчет!A414>=2000,Расчет!B414>=2000),Расчет!G414,0)","v":0},{"$f":"IF(AND(Расчет!A414<2000,Расчет!B414<2000),Расчет!G414,0)","v":0},null,null,{"$f":"IF(OR(Расчет!A414>=2000,Расчет!B414>=2000),Расчет!J414,0)","v":0},{"$f":"IF(AND(Расчет!A414<2000,Расчет!B414<2000),Расчет!J414,0)","v":0},null,null,{"$f":"IF(OR(Расчет!A414>=2000,Расчет!B414>=2000),Расчет!M414,0)","v":0},{"$f":"IF(AND(Расчет!A414<2000,Расчет!B414<2000),Расчет!M414,0)","v":0}]
[{"$f":"IF(OR(Расчет!A415>=2000,Расчет!B415>=2000),Расчет!G415,0)","v":0},{"$f":"IF(AND(Расчет!A415<2000,Расчет!B415<2000),Расчет!G415,0)","v":0},null,null,{"$f":"IF(OR(Расчет!A415>=2000,Расчет!B415>=2000),Расчет!J415,0)","v":0},{"$f":"IF(AND(Расчет!A415<2000,Расчет!B415<2000),Расчет!J415,0)","v":0},null,null,{"$f":"IF(OR(Расчет!A415>=2000,Расчет!B415>=2000),Расчет!M415,0)","v":0},{"$f":"IF(AND(Расчет!A415<2000,Расчет!B415<2000),Расчет!M415,0)","v":0}]
[{"$f":"IF(OR(Расчет!A416>=2000,Расчет!B416>=2000),Расчет!G416,0)","v":0},{"$f":"IF(AND(Расчет!A416<2000,Расчет!B416<2000),Расчет!G416,0)","v":0},null,null,{"$f":"IF(OR(Расчет!A416>=2000,Расчет!B416>=2000),Расчет!J416,0)","v":0},{"$f":"IF(AND(Расчет!A416<2000,Расчет!B416<2000),Расчет!J416,0)","v":0},null,null,{"$f":"IF(OR(Расчет!A416>=2000,Расчет!B416>=2000),Расчет!M416,0)","v":0},{"$f":"IF(AND(Расчет!A416<2000,Расчет!B416<2000),Расчет!M416,0)","v":0}]
[{"$f":"IF(OR(Расчет!A417>=2000,Расчет!B417>=2000),Расчет!G417,0)","v":0},{"$f":"IF(AND(Расчет!A417<2000,Расчет!B417<2000),Расчет!G417,0)","v":0},null,null,{"$f":"IF(OR(Расчет!A417>=2000,Расчет!B417>=2000),Расчет!J417,0)","v":0},{"$f":"IF(AND(Расчет!A417<2000,Расчет!B417<2000),Расчет!J417,0)","v":0},null,null,{"$f":"IF(OR(Расчет!A417>=2000,Расчет!B417>=2000),Расчет!M417,0)","v":0},{"$f":"IF(AND(Расчет!A417<2000,Расчет!B417<2000),Расчет!M417,0)","v":0}]
[{"$f":"IF(OR(Расчет!A418>=2000,Расчет!B418>=2000),Расчет!G418,0)","v":0},{"$f":"IF(AND(Расчет!A418<2000,Расчет!B418<2000),Расчет!G418,0)","v":0},null,null,{"$f":"IF(OR(Расчет!A418>=2000,Расчет!B418>=2000),Расчет!J418,0)","v":0},{"$f":"IF(AND(Расчет!A418<2000,Расчет!B418<2000),Расчет!J418,0)","v":0},null,null,{"$f":"IF(OR(Расчет!A418>=2000,Расчет!B418>=2000),Расчет!M418,0)","v":0},{"$f":"IF(AND(Расчет!A418<2000,Расчет!B418<2000),Расчет!M418,0)","v":0}]
[{"$f":"IF(OR(Расчет!A419>=2000,Расчет!B419>=2000),Расчет!G419,0)","v":0},{"$f":"IF(AND(Расчет!A419<2000,Расчет!B419<2000),Расчет!G419,0)","v":0},null,null,{"$f":"IF(OR(Расчет!A419>=2000,Расчет!B419>=2000),Расчет!J419,0)","v":0},{"$f":"IF(AND(Расчет!A419<2000,Расчет!B419<2000),Расчет!J419,0)","v":0},null,null,{"$f":"IF(OR(Расчет!A419>=2000,Расчет!B419>=2000),Расчет!M419,0)","v":0},{"$f":"IF(AND(Расчет!A419<2000,Расчет!B419<2000),Расчет!M419,0)","v":0}]
[{"$f":"IF(OR(Расчет!A420>=2000,Расчет!B420>=2000),Расчет!G420,0)","v":0},{"$f":"IF(AND(Расчет!A420<2000,Расчет!B420<2000),Расчет!G420,0)","v":0},null,null,{"$f":"IF(OR(Расчет!A420>=2000,Расчет!B420>=2000),Расчет!J420,0)","v":0},{"$f":"IF(AND(Расчет!A420<2000,Расчет!B420<2000),Расчет!J420,0)","v":0},null,null,{"$f":"IF(OR(Расчет!A420>=2000,Расчет!B420>=2000),Расчет!M420,0)","v":0},{"$f":"IF(AND(Расчет!A420<2000,Расчет!B420<2000),Расчет!M420,0)","v":0}]
[{"$f":"IF(OR(Расчет!A421>=2000,Расчет!B421>=2000),Расчет!G421,0)","v":0},{"$f":"IF(AND(Расчет!A421<2000,Расчет!B421<2000),Расчет!G421,0)","v":0},null,null,{"$f":"IF(OR(Расчет!A421>=2000,Расчет!B421>=2000),Расчет!J421,0)","v":0},{"$f":"IF(AND(Расчет!A421<2000,Расчет!B421<2000),Расчет!J421,0)","v":0},null,null,{"$f":"IF(OR(Расчет!A421>=2000,Расчет!B421>=2000),Расчет!M421,0)","v":0},{"$f":"IF(AND(Расчет!A421<2000,Расчет!B421<2000),Расчет!M421,0)","v":0}]
[{"$f":"IF(OR(Расчет!A422>=2000,Расчет!B422>=2000),Расчет!G422,0)","v":0},{"$f":"IF(AND(Расчет!A422<2000,Расчет!B422<2000),Расчет!G422,0)","v":0},null,null,{"$f":"IF(OR(Расчет!A422>=2000,Расчет!B422>=2000),Расчет!J422,0)","v":0},{"$f":"IF(AND(Расчет!A422<2000,Расчет!B422<2000),Расчет!J422,0)","v":0},null,null,{"$f":"IF(OR(Расчет!A422>=2000,Расчет!B422>=2000),Расчет!M422,0)","v":0},{"$f":"IF(AND(Расчет!A422<2000,Расчет!B422<2000),Расчет!M422,0)","v":0}]
[{"$f":"IF(OR(Расчет!A423>=2000,Расчет!B423>=2000),Расчет!G423,0)","v":0},{"$f":"IF(AND(Расчет!A423<2000,Расчет!B423<2000),Расчет!G423,0)","v":0},null,null,{"$f":"IF(OR(Расчет!A423>=2000,Расчет!B423>=2000),Расчет!J423,0)","v":0},{"$f":"IF(AND(Расчет!A423<2000,Расчет!B423<2000),Расчет!J423,0)","v":0},null,null,{"$f":"IF(OR(Расчет!A423>=2000,Расчет!B423>=2000),Расчет!M423,0)","v":0},{"$f":"IF(AND(Расчет!A423<2000,Расчет!B423<2000),Расчет!M423,0)","v":0}]
[{"$f":"IF(OR(Расчет!A424>=2000,Расчет!B424>=2000),Расчет!G424,0)","v":0},{"$f":"IF(AND(Расчет!A424<2000,Расчет!B424<2000),Расчет!G424,0)","v":0},null,null,{"$f":"IF(OR(Расчет!A424>=2000,Расчет!B424>=2000),Расчет!J424,0)","v":0},{"$f":"IF(AND(Расчет!A424<2000,Расчет!B424<2000),Расчет!J424,0)","v":0},null,null,{"$f":"IF(OR(Расчет!A424>=2000,Расчет!B424>=2000),Расчет!M424,0)","v":0},{"$f":"IF(AND(Расчет!A424<2000,Расчет!B424<2000),Расчет!M424,0)","v":0}]
[{"$f":"IF(OR(Расчет!A425>=2000,Расчет!B425>=2000),Расчет!G425,0)","v":0},{"$f":"IF(AND(Расчет!A425<2000,Расчет!B425<2000),Расчет!G425,0)","v":0},null,null,{"$f":"IF(OR(Расчет!A425>=2000,Расчет!B425>=2000),Расчет!J425,0)","v":0},{"$f":"IF(AND(Расчет!A425<2000,Расчет!B425<2000),Расчет!J425,0)","v":0},null,null,{"$f":"IF(OR(Расчет!A425>=2000,Расчет!B425>=2000),Расчет!M425,0)","v":0},{"$f":"IF(AND(Расчет!A425<2000,Расчет!B425<2000),Расчет!M425,0)","v":0}]
[{"$f":"IF(OR(Расчет!A426>=2000,Расчет!B426>=2000),Расчет!G426,0)","v":0},{"$f":"IF(AND(Расчет!A426<2000,Расчет!B426<2000),Расчет!G426,0)","v":0},null,null,{"$f":"IF(OR(Расчет!A426>=2000,Расчет!B426>=2000),Расчет!J426,0)","v":0},{"$f":"IF(AND(Расчет!A426<2000,Расчет!B426<2000),Расчет!J426,0)","v":0},null,null,{"$f":"IF(OR(Расчет!A426>=2000,Расчет!B426>=2000),Расчет!M426,0)","v":0},{"$f":"IF(AND(Расчет!A426<2000,Расчет!B426<2000),Расчет!M426,0)","v":0}]
[{"$f":"IF(OR(Расчет!A427>=2000,Расчет!B427>=2000),Расчет!G427,0)","v":0},{"$f":"IF(AND(Расчет!A427<2000,Расчет!B427<2000),Расчет!G427,0)","v":0},null,null,{"$f":"IF(OR(Расчет!A427>=2000,Расчет!B427>=2000),Расчет!J427,0)","v":0},{"$f":"IF(AND(Расчет!A427<2000,Расчет!B427<2000),Расчет!J427,0)","v":0},null,null,{"$f":"IF(OR(Расчет!A427>=2000,Расчет!B427>=2000),Расчет!M427,0)","v":0},{"$f":"IF(AND(Расчет!A427<2000,Расчет!B427<2000),Расчет!M427,0)","v":0}]
[{"$f":"IF(OR(Расчет!A428>=2000,Расчет!B428>=2000),Расчет!G428,0)","v":0},{"$f":"IF(AND(Расчет!A428<2000,Расчет!B428<2000),Расчет!G428,0)","v":0},null,null,{"$f":"IF(OR(Расчет!A428>=2000,Расчет!B428>=2000),Расчет!J428,0)","v":0},{"$f":"IF(AND(Расчет!A428<2000,Расчет!B428<2000),Расчет!J428,0)","v":0},null,null,{"$f":"IF(OR(Расчет!A428>=2000,Расчет!B428>=2000),Расчет!M428,0)","v":0},{"$f":"IF(AND(Расчет!A428<2000,Расчет!B428<2000),Расчет!M428,0)","v":0}]
[{"$f":"IF(OR(Расчет!A429>=2000,Расчет!B429>=2000),Расчет!G429,0)","v":0},{"$f":"IF(AND(Расчет!A429<2000,Расчет!B429<2000),Расчет!G429,0)","v":0},null,null,{"$f":"IF(OR(Расчет!A429>=2000,Расчет!B429>=2000),Расчет!J429,0)","v":0},{"$f":"IF(AND(Расчет!A429<2000,Расчет!B429<2000),Расчет!J429,0)","v":0},null,null,{"$f":"IF(OR(Расчет!A429>=2000,Расчет!B429>=2000),Расчет!M429,0)","v":0},{"$f":"IF(AND(Расчет!A429<2000,Расчет!B429<2000),Расчет!M429,0)","v":0}]
[{"$f":"IF(OR(Расчет!A430>=2000,Расчет!B430>=2000),Расчет!G430,0)","v":0},{"$f":"IF(AND(Расчет!A430<2000,Расчет!B430<2000),Расчет!G430,0)","v":0},null,null,{"$f":"IF(OR(Расчет!A430>=2000,Расчет!B430>=2000),Расчет!J430,0)","v":0},{"$f":"IF(AND(Расчет!A430<2000,Расчет!B430<2000),Расчет!J430,0)","v":0},null,null,{"$f":"IF(OR(Расчет!A430>=2000,Расчет!B430>=2000),Расчет!M430,0)","v":0},{"$f":"IF(AND(Расчет!A430<2000,Расчет!B430<2000),Расчет!M430,0)","v":0}]
[{"$f":"IF(OR(Расчет!A431>=2000,Расчет!B431>=2000),Расчет!G431,0)","v":0},{"$f":"IF(AND(Расчет!A431<2000,Расчет!B431<2000),Расчет!G431,0)","v":0},null,null,{"$f":"IF(OR(Расчет!A431>=2000,Расчет!B431>=2000),Расчет!J431,0)","v":0},{"$f":"IF(AND(Расчет!A431<2000,Расчет!B431<2000),Расчет!J431,0)","v":0},null,null,{"$f":"IF(OR(Расчет!A431>=2000,Расчет!B431>=2000),Расчет!M431,0)","v":0},{"$f":"IF(AND(Расчет!A431<2000,Расчет!B431<2000),Расчет!M431,0)","v":0}]
[{"$f":"IF(OR(Расчет!A432>=2000,Расчет!B432>=2000),Расчет!G432,0)","v":0},{"$f":"IF(AND(Расчет!A432<2000,Расчет!B432<2000),Расчет!G432,0)","v":0},null,null,{"$f":"IF(OR(Расчет!A432>=2000,Расчет!B432>=2000),Расчет!J432,0)","v":0},{"$f":"IF(AND(Расчет!A432<2000,Расчет!B432<2000),Расчет!J432,0)","v":0},null,null,{"$f":"IF(OR(Расчет!A432>=2000,Расчет!B432>=2000),Расчет!M432,0)","v":0},{"$f":"IF(AND(Расчет!A432<2000,Расчет!B432<2000),Расчет!M432,0)","v":0}]
[{"$f":"IF(OR(Расчет!A433>=2000,Расчет!B433>=2000),Расчет!G433,0)","v":0},{"$f":"IF(AND(Расчет!A433<2000,Расчет!B433<2000),Расчет!G433,0)","v":0},null,null,{"$f":"IF(OR(Расчет!A433>=2000,Расчет!B433>=2000),Расчет!J433,0)","v":0},{"$f":"IF(AND(Расчет!A433<2000,Расчет!B433<2000),Расчет!J433,0)","v":0},null,null,{"$f":"IF(OR(Расчет!A433>=2000,Расчет!B433>=2000),Расчет!M433,0)","v":0},{"$f":"IF(AND(Расчет!A433<2000,Расчет!B433<2000),Расчет!M433,0)","v":0}]
[{"$f":"IF(OR(Расчет!A434>=2000,Расчет!B434>=2000),Расчет!G434,0)","v":0},{"$f":"IF(AND(Расчет!A434<2000,Расчет!B434<2000),Расчет!G434,0)","v":0},null,null,{"$f":"IF(OR(Расчет!A434>=2000,Расчет!B434>=2000),Расчет!J434,0)","v":0},{"$f":"IF(AND(Расчет!A434<2000,Расчет!B434<2000),Расчет!J434,0)","v":0},null,null,{"$f":"IF(OR(Расчет!A434>=2000,Расчет!B434>=2000),Расчет!M434,0)","v":0},{"$f":"IF(AND(Расчет!A434<2000,Расчет!B434<2000),Расчет!M434,0)","v":0}]
[{"$f":"IF(OR(Расчет!A435>=2000,Расчет!B435>=2000),Расчет!G435,0)","v":0},{"$f":"IF(AND(Расчет!A435<2000,Расчет!B435<2000),Расчет!G435,0)","v":0},null,null,{"$f":"IF(OR(Расчет!A435>=2000,Расчет!B435>=2000),Расчет!J435,0)","v":0},{"$f":"IF(AND(Расчет!A435<2000,Расчет!B435<2000),Расчет!J435,0)","v":0},null,null,{"$f":"IF(OR(Расчет!A435>=2000,Расчет!B435>=2000),Расчет!M435,0)","v":0},{"$f":"IF(AND(Расчет!A435<2000,Расчет!B435<2000),Расчет!M435,0)","v":0}]
[{"$f":"IF(OR(Расчет!A436>=2000,Расчет!B436>=2000),Расчет!G436,0)","v":0},{"$f":"IF(AND(Расчет!A436<2000,Расчет!B436<2000),Расчет!G436,0)","v":0},null,null,{"$f":"IF(OR(Расчет!A436>=2000,Расчет!B436>=2000),Расчет!J436,0)","v":0},{"$f":"IF(AND(Расчет!A436<2000,Расчет!B436<2000),Расчет!J436,0)","v":0},null,null,{"$f":"IF(OR(Расчет!A436>=2000,Расчет!B436>=2000),Расчет!M436,0)","v":0},{"$f":"IF(AND(Расчет!A436<2000,Расчет!B436<2000),Расчет!M436,0)","v":0}]
[{"$f":"IF(OR(Расчет!A437>=2000,Расчет!B437>=2000),Расчет!G437,0)","v":0},{"$f":"IF(AND(Расчет!A437<2000,Расчет!B437<2000),Расчет!G437,0)","v":0},null,null,{"$f":"IF(OR(Расчет!A437>=2000,Расчет!B437>=2000),Расчет!J437,0)","v":0},{"$f":"IF(AND(Расчет!A437<2000,Расчет!B437<2000),Расчет!J437,0)","v":0},null,null,{"$f":"IF(OR(Расчет!A437>=2000,Расчет!B437>=2000),Расчет!M437,0)","v":0},{"$f":"IF(AND(Расчет!A437<2000,Расчет!B437<2000),Расчет!M437,0)","v":0}]
[{"$f":"IF(OR(Расчет!A438>=2000,Расчет!B438>=2000),Расчет!G438,0)","v":0},{"$f":"IF(AND(Расчет!A438<2000,Расчет!B438<2000),Расчет!G438,0)","v":0},null,null,{"$f":"IF(OR(Расчет!A438>=2000,Расчет!B438>=2000),Расчет!J438,0)","v":0},{"$f":"IF(AND(Расчет!A438<2000,Расчет!B438<2000),Расчет!J438,0)","v":0},null,null,{"$f":"IF(OR(Расчет!A438>=2000,Расчет!B438>=2000),Расчет!M438,0)","v":0},{"$f":"IF(AND(Расчет!A438<2000,Расчет!B438<2000),Расчет!M438,0)","v":0}]
[{"$f":"IF(OR(Расчет!A439>=2000,Расчет!B439>=2000),Расчет!G439,0)","v":0},{"$f":"IF(AND(Расчет!A439<2000,Расчет!B439<2000),Расчет!G439,0)","v":0},null,null,{"$f":"IF(OR(Расчет!A439>=2000,Расчет!B439>=2000),Расчет!J439,0)","v":0},{"$f":"IF(AND(Расчет!A439<2000,Расчет!B439<2000),Расчет!J439,0)","v":0},null,null,{"$f":"IF(OR(Расчет!A439>=2000,Расчет!B439>=2000),Расчет!M439,0)","v":0},{"$f":"IF(AND(Расчет!A439<2000,Расчет!B439<2000),Расчет!M439,0)","v":0}]
[{"$f":"IF(OR(Расчет!A440>=2000,Расчет!B440>=2000),Расчет!G440,0)","v":0},{"$f":"IF(AND(Расчет!A440<2000,Расчет!B440<2000),Расчет!G440,0)","v":0},null,null,{"$f":"IF(OR(Расчет!A440>=2000,Расчет!B440>=2000),Расчет!J440,0)","v":0},{"$f":"IF(AND(Расчет!A440<2000,Расчет!B440<2000),Расчет!J440,0)","v":0},null,null,{"$f":"IF(OR(Расчет!A440>=2000,Расчет!B440>=2000),Расчет!M440,0)","v":0},{"$f":"IF(AND(Расчет!A440<2000,Расчет!B440<2000),Расчет!M440,0)","v":0}]
[{"$f":"IF(OR(Расчет!A441>=2000,Расчет!B441>=2000),Расчет!G441,0)","v":0},{"$f":"IF(AND(Расчет!A441<2000,Расчет!B441<2000),Расчет!G441,0)","v":0},null,null,{"$f":"IF(OR(Расчет!A441>=2000,Расчет!B441>=2000),Расчет!J441,0)","v":0},{"$f":"IF(AND(Расчет!A441<2000,Расчет!B441<2000),Расчет!J441,0)","v":0},null,null,{"$f":"IF(OR(Расчет!A441>=2000,Расчет!B441>=2000),Расчет!M441,0)","v":0},{"$f":"IF(AND(Расчет!A441<2000,Расчет!B441<2000),Расчет!M441,0)","v":0}]
[{"$f":"IF(OR(Расчет!A442>=2000,Расчет!B442>=2000),Расчет!G442,0)","v":0},{"$f":"IF(AND(Расчет!A442<2000,Расчет!B442<2000),Расчет!G442,0)","v":0},null,null,{"$f":"IF(OR(Расчет!A442>=2000,Расчет!B442>=2000),Расчет!J442,0)","v":0},{"$f":"IF(AND(Расчет!A442<2000,Расчет!B442<2000),Расчет!J442,0)","v":0},null,null,{"$f":"IF(OR(Расчет!A442>=2000,Расчет!B442>=2000),Расчет!M442,0)","v":0},{"$f":"IF(AND(Расчет!A442<2000,Расчет!B442<2000),Расчет!M442,0)","v":0}]
[{"$f":"IF(OR(Расчет!A443>=2000,Расчет!B443>=2000),Расчет!G443,0)","v":0},{"$f":"IF(AND(Расчет!A443<2000,Расчет!B443<2000),Расчет!G443,0)","v":0},null,null,{"$f":"IF(OR(Расчет!A443>=2000,Расчет!B443>=2000),Расчет!J443,0)","v":0},{"$f":"IF(AND(Расчет!A443<2000,Расчет!B443<2000),Расчет!J443,0)","v":0},null,null,{"$f":"IF(OR(Расчет!A443>=2000,Расчет!B443>=2000),Расчет!M443,0)","v":0},{"$f":"IF(AND(Расчет!A443<2000,Расчет!B443<2000),Расчет!M443,0)","v":0}]
[{"$f":"IF(OR(Расчет!A444>=2000,Расчет!B444>=2000),Расчет!G444,0)","v":0},{"$f":"IF(AND(Расчет!A444<2000,Расчет!B444<2000),Расчет!G444,0)","v":0},null,null,{"$f":"IF(OR(Расчет!A444>=2000,Расчет!B444>=2000),Расчет!J444,0)","v":0},{"$f":"IF(AND(Расчет!A444<2000,Расчет!B444<2000),Расчет!J444,0)","v":0},null,null,{"$f":"IF(OR(Расчет!A444>=2000,Расчет!B444>=2000),Расчет!M444,0)","v":0},{"$f":"IF(AND(Расчет!A444<2000,Расчет!B444<2000),Расчет!M444,0)","v":0}]
[{"$f":"IF(OR(Расчет!A445>=2000,Расчет!B445>=2000),Расчет!G445,0)","v":0},{"$f":"IF(AND(Расчет!A445<2000,Расчет!B445<2000),Расчет!G445,0)","v":0},null,null,{"$f":"IF(OR(Расчет!A445>=2000,Расчет!B445>=2000),Расчет!J445,0)","v":0},{"$f":"IF(AND(Расчет!A445<2000,Расчет!B445<2000),Расчет!J445,0)","v":0},null,null,{"$f":"IF(OR(Расчет!A445>=2000,Расчет!B445>=2000),Расчет!M445,0)","v":0},{"$f":"IF(AND(Расчет!A445<2000,Расчет!B445<2000),Расчет!M445,0)","v":0}]
[{"$f":"IF(OR(Расчет!A446>=2000,Расчет!B446>=2000),Расчет!G446,0)","v":0},{"$f":"IF(AND(Расчет!A446<2000,Расчет!B446<2000),Расчет!G446,0)","v":0},null,null,{"$f":"IF(OR(Расчет!A446>=2000,Расчет!B446>=2000),Расчет!J446,0)","v":0},{"$f":"IF(AND(Расчет!A446<2000,Расчет!B446<2000),Расчет!J446,0)","v":0},null,null,{"$f":"IF(OR(Расчет!A446>=2000,Расчет!B446>=2000),Расчет!M446,0)","v":0},{"$f":"IF(AND(Расчет!A446<2000,Расчет!B446<2000),Расчет!M446,0)","v":0}]
[{"$f":"IF(OR(Расчет!A447>=2000,Расчет!B447>=2000),Расчет!G447,0)","v":0},{"$f":"IF(AND(Расчет!A447<2000,Расчет!B447<2000),Расчет!G447,0)","v":0},null,null,{"$f":"IF(OR(Расчет!A447>=2000,Расчет!B447>=2000),Расчет!J447,0)","v":0},{"$f":"IF(AND(Расчет!A447<2000,Расчет!B447<2000),Расчет!J447,0)","v":0},null,null,{"$f":"IF(OR(Расчет!A447>=2000,Расчет!B447>=2000),Расчет!M447,0)","v":0},{"$f":"IF(AND(Расчет!A447<2000,Расчет!B447<2000),Расчет!M447,0)","v":0}]
[{"$f":"IF(OR(Расчет!A448>=2000,Расчет!B448>=2000),Расчет!G448,0)","v":0},{"$f":"IF(AND(Расчет!A448<2000,Расчет!B448<2000),Расчет!G448,0)","v":0},null,null,{"$f":"IF(OR(Расчет!A448>=2000,Расчет!B448>=2000),Расчет!J448,0)","v":0},{"$f":"IF(AND(Расчет!A448<2000,Расчет!B448<2000),Расчет!J448,0)","v":0},null,null,{"$f":"IF(OR(Расчет!A448>=2000,Расчет!B448>=2000),Расчет!M448,0)","v":0},{"$f":"IF(AND(Расчет!A448<2000,Расчет!B448<2000),Расчет!M448,0)","v":0}]
[{"$f":"IF(OR(Расчет!A449>=2000,Расчет!B449>=2000),Расчет!G449,0)","v":0},{"$f":"IF(AND(Расчет!A449<2000,Расчет!B449<2000),Расчет!G449,0)","v":0},null,null,{"$f":"IF(OR(Расчет!A449>=2000,Расчет!B449>=2000),Расчет!J449,0)","v":0},{"$f":"IF(AND(Расчет!A449<2000,Расчет!B449<2000),Расчет!J449,0)","v":0},null,null,{"$f":"IF(OR(Расчет!A449>=2000,Расчет!B449>=2000),Расчет!M449,0)","v":0},{"$f":"IF(AND(Расчет!A449<2000,Расчет!B449<2000),Расчет!M449,0)","v":0}]
[{"$f":"IF(OR(Расчет!A450>=2000,Расчет!B450>=2000),Расчет!G450,0)","v":0},{"$f":"IF(AND(Расчет!A450<2000,Расчет!B450<2000),Расчет!G450,0)","v":0},null,null,{"$f":"IF(OR(Расчет!A450>=2000,Расчет!B450>=2000),Расчет!J450,0)","v":0},{"$f":"IF(AND(Расчет!A450<2000,Расчет!B450<2000),Расчет!J450,0)","v":0},null,null,{"$f":"IF(OR(Расчет!A450>=2000,Расчет!B450>=2000),Расчет!M450,0)","v":0},{"$f":"IF(AND(Расчет!A450<2000,Расчет!B450<2000),Расчет!M450,0)","v":0}]
[{"$f":"IF(OR(Расчет!A451>=2000,Расчет!B451>=2000),Расчет!G451,0)","v":0},{"$f":"IF(AND(Расчет!A451<2000,Расчет!B451<2000),Расчет!G451,0)","v":0},null,null,{"$f":"IF(OR(Расчет!A451>=2000,Расчет!B451>=2000),Расчет!J451,0)","v":0},{"$f":"IF(AND(Расчет!A451<2000,Расчет!B451<2000),Расчет!J451,0)","v":0},null,null,{"$f":"IF(OR(Расчет!A451>=2000,Расчет!B451>=2000),Расчет!M451,0)","v":0},{"$f":"IF(AND(Расчет!A451<2000,Расчет!B451<2000),Расчет!M451,0)","v":0}]
[{"$f":"IF(OR(Расчет!A452>=2000,Расчет!B452>=2000),Расчет!G452,0)","v":0},{"$f":"IF(AND(Расчет!A452<2000,Расчет!B452<2000),Расчет!G452,0)","v":0},null,null,{"$f":"IF(OR(Расчет!A452>=2000,Расчет!B452>=2000),Расчет!J452,0)","v":0},{"$f":"IF(AND(Расчет!A452<2000,Расчет!B452<2000),Расчет!J452,0)","v":0},null,null,{"$f":"IF(OR(Расчет!A452>=2000,Расчет!B452>=2000),Расчет!M452,0)","v":0},{"$f":"IF(AND(Расчет!A452<2000,Расчет!B452<2000),Расчет!M452,0)","v":0}]
[{"$f":"IF(OR(Расчет!A453>=2000,Расчет!B453>=2000),Расчет!G453,0)","v":0},{"$f":"IF(AND(Расчет!A453<2000,Расчет!B453<2000),Расчет!G453,0)","v":0},null,null,{"$f":"IF(OR(Расчет!A453>=2000,Расчет!B453>=2000),Расчет!J453,0)","v":0},{"$f":"IF(AND(Расчет!A453<2000,Расчет!B453<2000),Расчет!J453,0)","v":0},null,null,{"$f":"IF(OR(Расчет!A453>=2000,Расчет!B453>=2000),Расчет!M453,0)","v":0},{"$f":"IF(AND(Расчет!A453<2000,Расчет!B453<2000),Расчет!M453,0)","v":0}]
[{"$f":"IF(OR(Расчет!A454>=2000,Расчет!B454>=2000),Расчет!G454,0)","v":0},{"$f":"IF(AND(Расчет!A454<2000,Расчет!B454<2000),Расчет!G454,0)","v":0},null,null,{"$f":"IF(OR(Расчет!A454>=2000,Расчет!B454>=2000),Расчет!J454,0)","v":0},{"$f":"IF(AND(Расчет!A454<2000,Расчет!B454<2000),Расчет!J454,0)","v":0},null,null,{"$f":"IF(OR(Расчет!A454>=2000,Расчет!B454>=2000),Расчет!M454,0)","v":0},{"$f":"IF(AND(Расчет!A454<2000,Расчет!B454<2000),Расчет!M454,0)","v":0}]
[{"$f":"IF(OR(Расчет!A455>=2000,Расчет!B455>=2000),Расчет!G455,0)","v":0},{"$f":"IF(AND(Расчет!A455<2000,Расчет!B455<2000),Расчет!G455,0)","v":0},null,null,{"$f":"IF(OR(Расчет!A455>=2000,Расчет!B455>=2000),Расчет!J455,0)","v":0},{"$f":"IF(AND(Расчет!A455<2000,Расчет!B455<2000),Расчет!J455,0)","v":0},null,null,{"$f":"IF(OR(Расчет!A455>=2000,Расчет!B455>=2000),Расчет!M455,0)","v":0},{"$f":"IF(AND(Расчет!A455<2000,Расчет!B455<2000),Расчет!M455,0)","v":0}]
[{"$f":"IF(OR(Расчет!A456>=2000,Расчет!B456>=2000),Расчет!G456,0)","v":0},{"$f":"IF(AND(Расчет!A456<2000,Расчет!B456<2000),Расчет!G456,0)","v":0},null,null,{"$f":"IF(OR(Расчет!A456>=2000,Расчет!B456>=2000),Расчет!J456,0)","v":0},{"$f":"IF(AND(Расчет!A456<2000,Расчет!B456<2000),Расчет!J456,0)","v":0},null,null,{"$f":"IF(OR(Расчет!A456>=2000,Расчет!B456>=2000),Расчет!M456,0)","v":0},{"$f":"IF(AND(Расчет!A456<2000,Расчет!B456<2000),Расчет!M456,0)","v":0}]
[{"$f":"IF(OR(Расчет!A457>=2000,Расчет!B457>=2000),Расчет!G457,0)","v":0},{"$f":"IF(AND(Расчет!A457<2000,Расчет!B457<2000),Расчет!G457,0)","v":0},null,null,{"$f":"IF(OR(Расчет!A457>=2000,Расчет!B457>=2000),Расчет!J457,0)","v":0},{"$f":"IF(AND(Расчет!A457<2000,Расчет!B457<2000),Расчет!J457,0)","v":0},null,null,{"$f":"IF(OR(Расчет!A457>=2000,Расчет!B457>=2000),Расчет!M457,0)","v":0},{"$f":"IF(AND(Расчет!A457<2000,Расчет!B457<2000),Расчет!M457,0)","v":0}]
[{"$f":"IF(OR(Расчет!A458>=2000,Расчет!B458>=2000),Расчет!G458,0)","v":0},{"$f":"IF(AND(Расчет!A458<2000,Расчет!B458<2000),Расчет!G458,0)","v":0},null,null,{"$f":"IF(OR(Расчет!A458>=2000,Расчет!B458>=2000),Расчет!J458,0)","v":0},{"$f":"IF(AND(Расчет!A458<2000,Расчет!B458<2000),Расчет!J458,0)","v":0},null,null,{"$f":"IF(OR(Расчет!A458>=2000,Расчет!B458>=2000),Расчет!M458,0)","v":0},{"$f":"IF(AND(Расчет!A458<2000,Расчет!B458<2000),Расчет!M458,0)","v":0}]
[{"$f":"IF(OR(Расчет!A459>=2000,Расчет!B459>=2000),Расчет!G459,0)","v":0},{"$f":"IF(AND(Расчет!A459<2000,Расчет!B459<2000),Расчет!G459,0)","v":0},null,null,{"$f":"IF(OR(Расчет!A459>=2000,Расчет!B459>=2000),Расчет!J459,0)","v":0},{"$f":"IF(AND(Расчет!A459<2000,Расчет!B459<2000),Расчет!J459,0)","v":0},null,null,{"$f":"IF(OR(Расчет!A459>=2000,Расчет!B459>=2000),Расчет!M459,0)","v":0},{"$f":"IF(AND(Расчет!A459<2000,Расчет!B459<2000),Расчет!M459,0)","v":0}]
[{"$f":"IF(OR(Расчет!A460>=2000,Расчет!B460>=2000),Расчет!G460,0)","v":0},{"$f":"IF(AND(Расчет!A460<2000,Расчет!B460<2000),Расчет!G460,0)","v":0},null,null,{"$f":"IF(OR(Расчет!A460>=2000,Расчет!B460>=2000),Расчет!J460,0)","v":0},{"$f":"IF(AND(Расчет!A460<2000,Расчет!B460<2000),Расчет!J460,0)","v":0},null,null,{"$f":"IF(OR(Расчет!A460>=2000,Расчет!B460>=2000),Расчет!M460,0)","v":0},{"$f":"IF(AND(Расчет!A460<2000,Расчет!B460<2000),Расчет!M460,0)","v":0}]
[{"$f":"IF(OR(Расчет!A461>=2000,Расчет!B461>=2000),Расчет!G461,0)","v":0},{"$f":"IF(AND(Расчет!A461<2000,Расчет!B461<2000),Расчет!G461,0)","v":0},null,null,{"$f":"IF(OR(Расчет!A461>=2000,Расчет!B461>=2000),Расчет!J461,0)","v":0},{"$f":"IF(AND(Расчет!A461<2000,Расчет!B461<2000),Расчет!J461,0)","v":0},null,null,{"$f":"IF(OR(Расчет!A461>=2000,Расчет!B461>=2000),Расчет!M461,0)","v":0},{"$f":"IF(AND(Расчет!A461<2000,Расчет!B461<2000),Расчет!M461,0)","v":0}]
[{"$f":"IF(OR(Расчет!A462>=2000,Расчет!B462>=2000),Расчет!G462,0)","v":0},{"$f":"IF(AND(Расчет!A462<2000,Расчет!B462<2000),Расчет!G462,0)","v":0},null,null,{"$f":"IF(OR(Расчет!A462>=2000,Расчет!B462>=2000),Расчет!J462,0)","v":0},{"$f":"IF(AND(Расчет!A462<2000,Расчет!B462<2000),Расчет!J462,0)","v":0},null,null,{"$f":"IF(OR(Расчет!A462>=2000,Расчет!B462>=2000),Расчет!M462,0)","v":0},{"$f":"IF(AND(Расчет!A462<2000,Расчет!B462<2000),Расчет!M462,0)","v":0}]
[{"$f":"IF(OR(Расчет!A463>=2000,Расчет!B463>=2000),Расчет!G463,0)","v":0},{"$f":"IF(AND(Расчет!A463<2000,Расчет!B463<2000),Расчет!G463,0)","v":0},null,null,{"$f":"IF(OR(Расчет!A463>=2000,Расчет!B463>=2000),Расчет!J463,0)","v":0},{"$f":"IF(AND(Расчет!A463<2000,Расчет!B463<2000),Расчет!J463,0)","v":0},null,null,{"$f":"IF(OR(Расчет!A463>=2000,Расчет!B463>=2000),Расчет!M463,0)","v":0},{"$f":"IF(AND(Расчет!A463<2000,Расчет!B463<2000),Расчет!M463,0)","v":0}]
[{"$f":"IF(OR(Расчет!A464>=2000,Расчет!B464>=2000),Расчет!G464,0)","v":0},{"$f":"IF(AND(Расчет!A464<2000,Расчет!B464<2000),Расчет!G464,0)","v":0},null,null,{"$f":"IF(OR(Расчет!A464>=2000,Расчет!B464>=2000),Расчет!J464,0)","v":0},{"$f":"IF(AND(Расчет!A464<2000,Расчет!B464<2000),Расчет!J464,0)","v":0},null,null,{"$f":"IF(OR(Расчет!A464>=2000,Расчет!B464>=2000),Расчет!M464,0)","v":0},{"$f":"IF(AND(Расчет!A464<2000,Расчет!B464<2000),Расчет!M464,0)","v":0}]
[{"$f":"IF(OR(Расчет!A465>=2000,Расчет!B465>=2000),Расчет!G465,0)","v":0},{"$f":"IF(AND(Расчет!A465<2000,Расчет!B465<2000),Расчет!G465,0)","v":0},null,null,{"$f":"IF(OR(Расчет!A465>=2000,Расчет!B465>=2000),Расчет!J465,0)","v":0},{"$f":"IF(AND(Расчет!A465<2000,Расчет!B465<2000),Расчет!J465,0)","v":0},null,null,{"$f":"IF(OR(Расчет!A465>=2000,Расчет!B465>=2000),Расчет!M465,0)","v":0},{"$f":"IF(AND(Расчет!A465<2000,Расчет!B465<2000),Расчет!M465,0)","v":0}]
[{"$f":"IF(OR(Расчет!A466>=2000,Расчет!B466>=2000),Расчет!G466,0)","v":0},{"$f":"IF(AND(Расчет!A466<2000,Расчет!B466<2000),Расчет!G466,0)","v":0},null,null,{"$f":"IF(OR(Расчет!A466>=2000,Расчет!B466>=2000),Расчет!J466,0)","v":0},{"$f":"IF(AND(Расчет!A466<2000,Расчет!B466<2000),Расчет!J466,0)","v":0},null,null,{"$f":"IF(OR(Расчет!A466>=2000,Расчет!B466>=2000),Расчет!M466,0)","v":0},{"$f":"IF(AND(Расчет!A466<2000,Расчет!B466<2000),Расчет!M466,0)","v":0}]
[{"$f":"IF(OR(Расчет!A467>=2000,Расчет!B467>=2000),Расчет!G467,0)","v":0},{"$f":"IF(AND(Расчет!A467<2000,Расчет!B467<2000),Расчет!G467,0)","v":0},null,null,{"$f":"IF(OR(Расчет!A467>=2000,Расчет!B467>=2000),Расчет!J467,0)","v":0},{"$f":"IF(AND(Расчет!A467<2000,Расчет!B467<2000),Расчет!J467,0)","v":0},null,null,{"$f":"IF(OR(Расчет!A467>=2000,Расчет!B467>=2000),Расчет!M467,0)","v":0},{"$f":"IF(AND(Расчет!A467<2000,Расчет!B467<2000),Расчет!M467,0)","v":0}]
[{"$f":"IF(OR(Расчет!A468>=2000,Расчет!B468>=2000),Расчет!G468,0)","v":0},{"$f":"IF(AND(Расчет!A468<2000,Расчет!B468<2000),Расчет!G468,0)","v":0},null,null,{"$f":"IF(OR(Расчет!A468>=2000,Расчет!B468>=2000),Расчет!J468,0)","v":0},{"$f":"IF(AND(Расчет!A468<2000,Расчет!B468<2000),Расчет!J468,0)","v":0},null,null,{"$f":"IF(OR(Расчет!A468>=2000,Расчет!B468>=2000),Расчет!M468,0)","v":0},{"$f":"IF(AND(Расчет!A468<2000,Расчет!B468<2000),Расчет!M468,0)","v":0}]
[{"$f":"IF(OR(Расчет!A469>=2000,Расчет!B469>=2000),Расчет!G469,0)","v":0},{"$f":"IF(AND(Расчет!A469<2000,Расчет!B469<2000),Расчет!G469,0)","v":0},null,null,{"$f":"IF(OR(Расчет!A469>=2000,Расчет!B469>=2000),Расчет!J469,0)","v":0},{"$f":"IF(AND(Расчет!A469<2000,Расчет!B469<2000),Расчет!J469,0)","v":0},null,null,{"$f":"IF(OR(Расчет!A469>=2000,Расчет!B469>=2000),Расчет!M469,0)","v":0},{"$f":"IF(AND(Расчет!A469<2000,Расчет!B469<2000),Расчет!M469,0)","v":0}]
[{"$f":"IF(OR(Расчет!A470>=2000,Расчет!B470>=2000),Расчет!G470,0)","v":0},{"$f":"IF(AND(Расчет!A470<2000,Расчет!B470<2000),Расчет!G470,0)","v":0},null,null,{"$f":"IF(OR(Расчет!A470>=2000,Расчет!B470>=2000),Расчет!J470,0)","v":0},{"$f":"IF(AND(Расчет!A470<2000,Расчет!B470<2000),Расчет!J470,0)","v":0},null,null,{"$f":"IF(OR(Расчет!A470>=2000,Расчет!B470>=2000),Расчет!M470,0)","v":0},{"$f":"IF(AND(Расчет!A470<2000,Расчет!B470<2000),Расчет!M470,0)","v":0}]
[{"$f":"IF(OR(Расчет!A471>=2000,Расчет!B471>=2000),Расчет!G471,0)","v":0},{"$f":"IF(AND(Расчет!A471<2000,Расчет!B471<2000),Расчет!G471,0)","v":0},null,null,{"$f":"IF(OR(Расчет!A471>=2000,Расчет!B471>=2000),Расчет!J471,0)","v":0},{"$f":"IF(AND(Расчет!A471<2000,Расчет!B471<2000),Расчет!J471,0)","v":0},null,null,{"$f":"IF(OR(Расчет!A471>=2000,Расчет!B471>=2000),Расчет!M471,0)","v":0},{"$f":"IF(AND(Расчет!A471<2000,Расчет!B471<2000),Расчет!M471,0)","v":0}]
[{"$f":"IF(OR(Расчет!A472>=2000,Расчет!B472>=2000),Расчет!G472,0)","v":0},{"$f":"IF(AND(Расчет!A472<2000,Расчет!B472<2000),Расчет!G472,0)","v":0},null,null,{"$f":"IF(OR(Расчет!A472>=2000,Расчет!B472>=2000),Расчет!J472,0)","v":0},{"$f":"IF(AND(Расчет!A472<2000,Расчет!B472<2000),Расчет!J472,0)","v":0},null,null,{"$f":"IF(OR(Расчет!A472>=2000,Расчет!B472>=2000),Расчет!M472,0)","v":0},{"$f":"IF(AND(Расчет!A472<2000,Расчет!B472<2000),Расчет!M472,0)","v":0}]
[{"$f":"IF(OR(Расчет!A473>=2000,Расчет!B473>=2000),Расчет!G473,0)","v":0},{"$f":"IF(AND(Расчет!A473<2000,Расчет!B473<2000),Расчет!G473,0)","v":0},null,null,{"$f":"IF(OR(Расчет!A473>=2000,Расчет!B473>=2000),Расчет!J473,0)","v":0},{"$f":"IF(AND(Расчет!A473<2000,Расчет!B473<2000),Расчет!J473,0)","v":0},null,null,{"$f":"IF(OR(Расчет!A473>=2000,Расчет!B473>=2000),Расчет!M473,0)","v":0},{"$f":"IF(AND(Расчет!A473<2000,Расчет!B473<2000),Расчет!M473,0)","v":0}]
[{"$f":"IF(OR(Расчет!A474>=2000,Расчет!B474>=2000),Расчет!G474,0)","v":0},{"$f":"IF(AND(Расчет!A474<2000,Расчет!B474<2000),Расчет!G474,0)","v":0},null,null,{"$f":"IF(OR(Расчет!A474>=2000,Расчет!B474>=2000),Расчет!J474,0)","v":0},{"$f":"IF(AND(Расчет!A474<2000,Расчет!B474<2000),Расчет!J474,0)","v":0},null,null,{"$f":"IF(OR(Расчет!A474>=2000,Расчет!B474>=2000),Расчет!M474,0)","v":0},{"$f":"IF(AND(Расчет!A474<2000,Расчет!B474<2000),Расчет!M474,0)","v":0}]
[{"$f":"IF(OR(Расчет!A475>=2000,Расчет!B475>=2000),Расчет!G475,0)","v":0},{"$f":"IF(AND(Расчет!A475<2000,Расчет!B475<2000),Расчет!G475,0)","v":0},null,null,{"$f":"IF(OR(Расчет!A475>=2000,Расчет!B475>=2000),Расчет!J475,0)","v":0},{"$f":"IF(AND(Расчет!A475<2000,Расчет!B475<2000),Расчет!J475,0)","v":0},null,null,{"$f":"IF(OR(Расчет!A475>=2000,Расчет!B475>=2000),Расчет!M475,0)","v":0},{"$f":"IF(AND(Расчет!A475<2000,Расчет!B475<2000),Расчет!M475,0)","v":0}]
[{"$f":"IF(OR(Расчет!A476>=2000,Расчет!B476>=2000),Расчет!G476,0)","v":0},{"$f":"IF(AND(Расчет!A476<2000,Расчет!B476<2000),Расчет!G476,0)","v":0},null,null,{"$f":"IF(OR(Расчет!A476>=2000,Расчет!B476>=2000),Расчет!J476,0)","v":0},{"$f":"IF(AND(Расчет!A476<2000,Расчет!B476<2000),Расчет!J476,0)","v":0},null,null,{"$f":"IF(OR(Расчет!A476>=2000,Расчет!B476>=2000),Расчет!M476,0)","v":0},{"$f":"IF(AND(Расчет!A476<2000,Расчет!B476<2000),Расчет!M476,0)","v":0}]
[{"$f":"IF(OR(Расчет!A477>=2000,Расчет!B477>=2000),Расчет!G477,0)","v":0},{"$f":"IF(AND(Расчет!A477<2000,Расчет!B477<2000),Расчет!G477,0)","v":0},null,null,{"$f":"IF(OR(Расчет!A477>=2000,Расчет!B477>=2000),Расчет!J477,0)","v":0},{"$f":"IF(AND(Расчет!A477<2000,Расчет!B477<2000),Расчет!J477,0)","v":0},null,null,{"$f":"IF(OR(Расчет!A477>=2000,Расчет!B477>=2000),Расчет!M477,0)","v":0},{"$f":"IF(AND(Расчет!A477<2000,Расчет!B477<2000),Расчет!M477,0)","v":0}]
[{"$f":"IF(OR(Расчет!A478>=2000,Расчет!B478>=2000),Расчет!G478,0)","v":0},{"$f":"IF(AND(Расчет!A478<2000,Расчет!B478<2000),Расчет!G478,0)","v":0},null,null,{"$f":"IF(OR(Расчет!A478>=2000,Расчет!B478>=2000),Расчет!J478,0)","v":0},{"$f":"IF(AND(Расчет!A478<2000,Расчет!B478<2000),Расчет!J478,0)","v":0},null,null,{"$f":"IF(OR(Расчет!A478>=2000,Расчет!B478>=2000),Расчет!M478,0)","v":0},{"$f":"IF(AND(Расчет!A478<2000,Расчет!B478<2000),Расчет!M478,0)","v":0}]
[{"$f":"IF(OR(Расчет!A479>=2000,Расчет!B479>=2000),Расчет!G479,0)","v":0},{"$f":"IF(AND(Расчет!A479<2000,Расчет!B479<2000),Расчет!G479,0)","v":0},null,null,{"$f":"IF(OR(Расчет!A479>=2000,Расчет!B479>=2000),Расчет!J479,0)","v":0},{"$f":"IF(AND(Расчет!A479<2000,Расчет!B479<2000),Расчет!J479,0)","v":0},null,null,{"$f":"IF(OR(Расчет!A479>=2000,Расчет!B479>=2000),Расчет!M479,0)","v":0},{"$f":"IF(AND(Расчет!A479<2000,Расчет!B479<2000),Расчет!M479,0)","v":0}]
[{"$f":"IF(OR(Расчет!A480>=2000,Расчет!B480>=2000),Расчет!G480,0)","v":0},{"$f":"IF(AND(Расчет!A480<2000,Расчет!B480<2000),Расчет!G480,0)","v":0},null,null,{"$f":"IF(OR(Расчет!A480>=2000,Расчет!B480>=2000),Расчет!J480,0)","v":0},{"$f":"IF(AND(Расчет!A480<2000,Расчет!B480<2000),Расчет!J480,0)","v":0},null,null,{"$f":"IF(OR(Расчет!A480>=2000,Расчет!B480>=2000),Расчет!M480,0)","v":0},{"$f":"IF(AND(Расчет!A480<2000,Расчет!B480<2000),Расчет!M480,0)","v":0}]
[{"$f":"IF(OR(Расчет!A481>=2000,Расчет!B481>=2000),Расчет!G481,0)","v":0},{"$f":"IF(AND(Расчет!A481<2000,Расчет!B481<2000),Расчет!G481,0)","v":0},null,null,{"$f":"IF(OR(Расчет!A481>=2000,Расчет!B481>=2000),Расчет!J481,0)","v":0},{"$f":"IF(AND(Расчет!A481<2000,Расчет!B481<2000),Расчет!J481,0)","v":0},null,null,{"$f":"IF(OR(Расчет!A481>=2000,Расчет!B481>=2000),Расчет!M481,0)","v":0},{"$f":"IF(AND(Расчет!A481<2000,Расчет!B481<2000),Расчет!M481,0)","v":0}]
[{"$f":"IF(OR(Расчет!A482>=2000,Расчет!B482>=2000),Расчет!G482,0)","v":0},{"$f":"IF(AND(Расчет!A482<2000,Расчет!B482<2000),Расчет!G482,0)","v":0},null,null,{"$f":"IF(OR(Расчет!A482>=2000,Расчет!B482>=2000),Расчет!J482,0)","v":0},{"$f":"IF(AND(Расчет!A482<2000,Расчет!B482<2000),Расчет!J482,0)","v":0},null,null,{"$f":"IF(OR(Расчет!A482>=2000,Расчет!B482>=2000),Расчет!M482,0)","v":0},{"$f":"IF(AND(Расчет!A482<2000,Расчет!B482<2000),Расчет!M482,0)","v":0}]
[{"$f":"IF(OR(Расчет!A483>=2000,Расчет!B483>=2000),Расчет!G483,0)","v":0},{"$f":"IF(AND(Расчет!A483<2000,Расчет!B483<2000),Расчет!G483,0)","v":0},null,null,{"$f":"IF(OR(Расчет!A483>=2000,Расчет!B483>=2000),Расчет!J483,0)","v":0},{"$f":"IF(AND(Расчет!A483<2000,Расчет!B483<2000),Расчет!J483,0)","v":0},null,null,{"$f":"IF(OR(Расчет!A483>=2000,Расчет!B483>=2000),Расчет!M483,0)","v":0},{"$f":"IF(AND(Расчет!A483<2000,Расчет!B483<2000),Расчет!M483,0)","v":0}]
[{"$f":"IF(OR(Расчет!A484>=2000,Расчет!B484>=2000),Расчет!G484,0)","v":0},{"$f":"IF(AND(Расчет!A484<2000,Расчет!B484<2000),Расчет!G484,0)","v":0},null,null,{"$f":"IF(OR(Расчет!A484>=2000,Расчет!B484>=2000),Расчет!J484,0)","v":0},{"$f":"IF(AND(Расчет!A484<2000,Расчет!B484<2000),Расчет!J484,0)","v":0},null,null,{"$f":"IF(OR(Расчет!A484>=2000,Расчет!B484>=2000),Расчет!M484,0)","v":0},{"$f":"IF(AND(Расчет!A484<2000,Расчет!B484<2000),Расчет!M484,0)","v":0}]
[{"$f":"IF(OR(Расчет!A485>=2000,Расчет!B485>=2000),Расчет!G485,0)","v":0},{"$f":"IF(AND(Расчет!A485<2000,Расчет!B485<2000),Расчет!G485,0)","v":0},null,null,{"$f":"IF(OR(Расчет!A485>=2000,Расчет!B485>=2000),Расчет!J485,0)","v":0},{"$f":"IF(AND(Расчет!A485<2000,Расчет!B485<2000),Расчет!J485,0)","v":0},null,null,{"$f":"IF(OR(Расчет!A485>=2000,Расчет!B485>=2000),Расчет!M485,0)","v":0},{"$f":"IF(AND(Расчет!A485<2000,Расчет!B485<2000),Расчет!M485,0)","v":0}]
[{"$f":"IF(OR(Расчет!A486>=2000,Расчет!B486>=2000),Расчет!G486,0)","v":0},{"$f":"IF(AND(Расчет!A486<2000,Расчет!B486<2000),Расчет!G486,0)","v":0},null,null,{"$f":"IF(OR(Расчет!A486>=2000,Расчет!B486>=2000),Расчет!J486,0)","v":0},{"$f":"IF(AND(Расчет!A486<2000,Расчет!B486<2000),Расчет!J486,0)","v":0},null,null,{"$f":"IF(OR(Расчет!A486>=2000,Расчет!B486>=2000),Расчет!M486,0)","v":0},{"$f":"IF(AND(Расчет!A486<2000,Расчет!B486<2000),Расчет!M486,0)","v":0}]
[{"$f":"IF(OR(Расчет!A487>=2000,Расчет!B487>=2000),Расчет!G487,0)","v":0},{"$f":"IF(AND(Расчет!A487<2000,Расчет!B487<2000),Расчет!G487,0)","v":0},null,null,{"$f":"IF(OR(Расчет!A487>=2000,Расчет!B487>=2000),Расчет!J487,0)","v":0},{"$f":"IF(AND(Расчет!A487<2000,Расчет!B487<2000),Расчет!J487,0)","v":0},null,null,{"$f":"IF(OR(Расчет!A487>=2000,Расчет!B487>=2000),Расчет!M487,0)","v":0},{"$f":"IF(AND(Расчет!A487<2000,Расчет!B487<2000),Расчет!M487,0)","v":0}]
[{"$f":"IF(OR(Расчет!A488>=2000,Расчет!B488>=2000),Расчет!G488,0)","v":0},{"$f":"IF(AND(Расчет!A488<2000,Расчет!B488<2000),Расчет!G488,0)","v":0},null,null,{"$f":"IF(OR(Расчет!A488>=2000,Расчет!B488>=2000),Расчет!J488,0)","v":0},{"$f":"IF(AND(Расчет!A488<2000,Расчет!B488<2000),Расчет!J488,0)","v":0},null,null,{"$f":"IF(OR(Расчет!A488>=2000,Расчет!B488>=2000),Расчет!M488,0)","v":0},{"$f":"IF(AND(Расчет!A488<2000,Расчет!B488<2000),Расчет!M488,0)","v":0}]
[{"$f":"IF(OR(Расчет!A489>=2000,Расчет!B489>=2000),Расчет!G489,0)","v":0},{"$f":"IF(AND(Расчет!A489<2000,Расчет!B489<2000),Расчет!G489,0)","v":0},null,null,{"$f":"IF(OR(Расчет!A489>=2000,Расчет!B489>=2000),Расчет!J489,0)","v":0},{"$f":"IF(AND(Расчет!A489<2000,Расчет!B489<2000),Расчет!J489,0)","v":0},null,null,{"$f":"IF(OR(Расчет!A489>=2000,Расчет!B489>=2000),Расчет!M489,0)","v":0},{"$f":"IF(AND(Расчет!A489<2000,Расчет!B489<2000),Расчет!M489,0)","v":0}]
[{"$f":"IF(OR(Расчет!A490>=2000,Расчет!B490>=2000),Расчет!G490,0)","v":0},{"$f":"IF(AND(Расчет!A490<2000,Расчет!B490<2000),Расчет!G490,0)","v":0},null,null,{"$f":"IF(OR(Расчет!A490>=2000,Расчет!B490>=2000),Расчет!J490,0)","v":0},{"$f":"IF(AND(Расчет!A490<2000,Расчет!B490<2000),Расчет!J490,0)","v":0},null,null,{"$f":"IF(OR(Расчет!A490>=2000,Расчет!B490>=2000),Расчет!M490,0)","v":0},{"$f":"IF(AND(Расчет!A490<2000,Расчет!B490<2000),Расчет!M490,0)","v":0}]
[{"$f":"IF(OR(Расчет!A491>=2000,Расчет!B491>=2000),Расчет!G491,0)","v":0},{"$f":"IF(AND(Расчет!A491<2000,Расчет!B491<2000),Расчет!G491,0)","v":0},null,null,{"$f":"IF(OR(Расчет!A491>=2000,Расчет!B491>=2000),Расчет!J491,0)","v":0},{"$f":"IF(AND(Расчет!A491<2000,Расчет!B491<2000),Расчет!J491,0)","v":0},null,null,{"$f":"IF(OR(Расчет!A491>=2000,Расчет!B491>=2000),Расчет!M491,0)","v":0},{"$f":"IF(AND(Расчет!A491<2000,Расчет!B491<2000),Расчет!M491,0)","v":0}]
[{"$f":"IF(OR(Расчет!A492>=2000,Расчет!B492>=2000),Расчет!G492,0)","v":0},{"$f":"IF(AND(Расчет!A492<2000,Расчет!B492<2000),Расчет!G492,0)","v":0},null,null,{"$f":"IF(OR(Расчет!A492>=2000,Расчет!B492>=2000),Расчет!J492,0)","v":0},{"$f":"IF(AND(Расчет!A492<2000,Расчет!B492<2000),Расчет!J492,0)","v":0},null,null,{"$f":"IF(OR(Расчет!A492>=2000,Расчет!B492>=2000),Расчет!M492,0)","v":0},{"$f":"IF(AND(Расчет!A492<2000,Расчет!B492<2000),Расчет!M492,0)","v":0}]
[{"$f":"IF(OR(Расчет!A493>=2000,Расчет!B493>=2000),Расчет!G493,0)","v":0},{"$f":"IF(AND(Расчет!A493<2000,Расчет!B493<2000),Расчет!G493,0)","v":0},null,null,{"$f":"IF(OR(Расчет!A493>=2000,Расчет!B493>=2000),Расчет!J493,0)","v":0},{"$f":"IF(AND(Расчет!A493<2000,Расчет!B493<2000),Расчет!J493,0)","v":0},null,null,{"$f":"IF(OR(Расчет!A493>=2000,Расчет!B493>=2000),Расчет!M493,0)","v":0},{"$f":"IF(AND(Расчет!A493<2000,Расчет!B493<2000),Расчет!M493,0)","v":0}]
[{"$f":"IF(OR(Расчет!A494>=2000,Расчет!B494>=2000),Расчет!G494,0)","v":0},{"$f":"IF(AND(Расчет!A494<2000,Расчет!B494<2000),Расчет!G494,0)","v":0},null,null,{"$f":"IF(OR(Расчет!A494>=2000,Расчет!B494>=2000),Расчет!J494,0)","v":0},{"$f":"IF(AND(Расчет!A494<2000,Расчет!B494<2000),Расчет!J494,0)","v":0},null,null,{"$f":"IF(OR(Расчет!A494>=2000,Расчет!B494>=2000),Расчет!M494,0)","v":0},{"$f":"IF(AND(Расчет!A494<2000,Расчет!B494<2000),Расчет!M494,0)","v":0}]
[{"$f":"IF(OR(Расчет!A495>=2000,Расчет!B495>=2000),Расчет!G495,0)","v":0},{"$f":"IF(AND(Расчет!A495<2000,Расчет!B495<2000),Расчет!G495,0)","v":0},null,null,{"$f":"IF(OR(Расчет!A495>=2000,Расчет!B495>=2000),Расчет!J495,0)","v":0},{"$f":"IF(AND(Расчет!A495<2000,Расчет!B495<2000),Расчет!J495,0)","v":0},null,null,{"$f":"IF(OR(Расчет!A495>=2000,Расчет!B495>=2000),Расчет!M495,0)","v":0},{"$f":"IF(AND(Расчет!A495<2000,Расчет!B495<2000),Расчет!M495,0)","v":0}]
[{"$f":"IF(OR(Расчет!A496>=2000,Расчет!B496>=2000),Расчет!G496,0)","v":0},{"$f":"IF(AND(Расчет!A496<2000,Расчет!B496<2000),Расчет!G496,0)","v":0},null,null,{"$f":"IF(OR(Расчет!A496>=2000,Расчет!B496>=2000),Расчет!J496,0)","v":0},{"$f":"IF(AND(Расчет!A496<2000,Расчет!B496<2000),Расчет!J496,0)","v":0},null,null,{"$f":"IF(OR(Расчет!A496>=2000,Расчет!B496>=2000),Расчет!M496,0)","v":0},{"$f":"IF(AND(Расчет!A496<2000,Расчет!B496<2000),Расчет!M496,0)","v":0}]
[{"$f":"IF(OR(Расчет!A497>=2000,Расчет!B497>=2000),Расчет!G497,0)","v":0},{"$f":"IF(AND(Расчет!A497<2000,Расчет!B497<2000),Расчет!G497,0)","v":0},null,null,{"$f":"IF(OR(Расчет!A497>=2000,Расчет!B497>=2000),Расчет!J497,0)","v":0},{"$f":"IF(AND(Расчет!A497<2000,Расчет!B497<2000),Расчет!J497,0)","v":0},null,null,{"$f":"IF(OR(Расчет!A497>=2000,Расчет!B497>=2000),Расчет!M497,0)","v":0},{"$f":"IF(AND(Расчет!A497<2000,Расчет!B497<2000),Расчет!M497,0)","v":0}]
[{"$f":"IF(OR(Расчет!A498>=2000,Расчет!B498>=2000),Расчет!G498,0)","v":0},{"$f":"IF(AND(Расчет!A498<2000,Расчет!B498<2000),Расчет!G498,0)","v":0},null,null,{"$f":"IF(OR(Расчет!A498>=2000,Расчет!B498>=2000),Расчет!J498,0)","v":0},{"$f":"IF(AND(Расчет!A498<2000,Расчет!B498<2000),Расчет!J498,0)","v":0},null,null,{"$f":"IF(OR(Расчет!A498>=2000,Расчет!B498>=2000),Расчет!M498,0)","v":0},{"$f":"IF(AND(Расчет!A498<2000,Расчет!B498<2000),Расчет!M498,0)","v":0}]
[{"$f":"IF(OR(Расчет!A499>=2000,Расчет!B499>=2000),Расчет!G499,0)","v":0},{"$f":"IF(AND(Расчет!A499<2000,Расчет!B499<2000),Расчет!G499,0)","v":0},null,null,{"$f":"IF(OR(Расчет!A499>=2000,Расчет!B499>=2000),Расчет!J499,0)","v":0},{"$f":"IF(AND(Расчет!A499<2000,Расчет!B499<2000),Расчет!J499,0)","v":0},null,null,{"$f":"IF(OR(Расчет!A499>=2000,Расчет!B499>=2000),Расчет!M499,0)","v":0},{"$f":"IF(AND(Расчет!A499<2000,Расчет!B499<2000),Расчет!M499,0)","v":0}]
[{"$f":"IF(OR(Расчет!A500>=2000,Расчет!B500>=2000),Расчет!G500,0)","v":0},{"$f":"IF(AND(Расчет!A500<2000,Расчет!B500<2000),Расчет!G500,0)","v":0},null,null,{"$f":"IF(OR(Расчет!A500>=2000,Расчет!B500>=2000),Расчет!J500,0)","v":0},{"$f":"IF(AND(Расчет!A500<2000,Расчет!B500<2000),Расчет!J500,0)","v":0},null,null,{"$f":"IF(OR(Расчет!A500>=2000,Расчет!B500>=2000),Расчет!M500,0)","v":0},{"$f":"IF(AND(Расчет!A500<2000,Расчет!B500<2000),Расчет!M500,0)","v":0}]
[{"$f":"IF(OR(Расчет!A501>=2000,Расчет!B501>=2000),Расчет!G501,0)","v":0},{"$f":"IF(AND(Расчет!A501<2000,Расчет!B501<2000),Расчет!G501,0)","v":0},null,null,{"$f":"IF(OR(Расчет!A501>=2000,Расчет!B501>=2000),Расчет!J501,0)","v":0},{"$f":"IF(AND(Расчет!A501<2000,Расчет!B501<2000),Расчет!J501,0)","v":0},null,null,{"$f":"IF(OR(Расчет!A501>=2000,Расчет!B501>=2000),Расчет!M501,0)","v":0},{"$f":"IF(AND(Расчет!A501<2000,Расчет!B501<2000),Расчет!M501,0)","v":0}]
[{"$f":"IF(OR(Расчет!A502>=2000,Расчет!B502>=2000),Расчет!G502,0)","v":0},{"$f":"IF(AND(Расчет!A502<2000,Расчет!B502<2000),Расчет!G502,0)","v":0},null,null,{"$f":"IF(OR(Расчет!A502>=2000,Расчет!B502>=2000),Расчет!J502,0)","v":0},{"$f":"IF(AND(Расчет!A502<2000,Расчет!B502<2000),Расчет!J502,0)","v":0},null,null,{"$f":"IF(OR(Расчет!A502>=2000,Расчет!B502>=2000),Расчет!M502,0)","v":0},{"$f":"IF(AND(Расчет!A502<2000,Расчет!B502<2000),Расчет!M502,0)","v":0}]
[{"$f":"IF(OR(Расчет!A503>=2000,Расчет!B503>=2000),Расчет!G503,0)","v":0},{"$f":"IF(AND(Расчет!A503<2000,Расчет!B503<2000),Расчет!G503,0)","v":0},null,null,{"$f":"IF(OR(Расчет!A503>=2000,Расчет!B503>=2000),Расчет!J503,0)","v":0},{"$f":"IF(AND(Расчет!A503<2000,Расчет!B503<2000),Расчет!J503,0)","v":0},null,null,{"$f":"IF(OR(Расчет!A503>=2000,Расчет!B503>=2000),Расчет!M503,0)","v":0},{"$f":"IF(AND(Расчет!A503<2000,Расчет!B503<2000),Расчет!M503,0)","v":0}]
[{"$f":"IF(OR(Расчет!A504>=2000,Расчет!B504>=2000),Расчет!G504,0)","v":0},{"$f":"IF(AND(Расчет!A504<2000,Расчет!B504<2000),Расчет!G504,0)","v":0},null,null,{"$f":"IF(OR(Расчет!A504>=2000,Расчет!B504>=2000),Расчет!J504,0)","v":0},{"$f":"IF(AND(Расчет!A504<2000,Расчет!B504<2000),Расчет!J504,0)","v":0},null,null,{"$f":"IF(OR(Расчет!A504>=2000,Расчет!B504>=2000),Расчет!M504,0)","v":0},{"$f":"IF(AND(Расчет!A504<2000,Расчет!B504<2000),Расчет!M504,0)","v":0}]
[{"$f":"IF(OR(Расчет!A505>=2000,Расчет!B505>=2000),Расчет!G505,0)","v":0},{"$f":"IF(AND(Расчет!A505<2000,Расчет!B505<2000),Расчет!G505,0)","v":0},null,null,{"$f":"IF(OR(Расчет!A505>=2000,Расчет!B505>=2000),Расчет!J505,0)","v":0},{"$f":"IF(AND(Расчет!A505<2000,Расчет!B505<2000),Расчет!J505,0)","v":0},null,null,{"$f":"IF(OR(Расчет!A505>=2000,Расчет!B505>=2000),Расчет!M505,0)","v":0},{"$f":"IF(AND(Расчет!A505<2000,Расчет!B505<2000),Расчет!M505,0)","v":0}]
[{"$f":"IF(OR(Расчет!A506>=2000,Расчет!B506>=2000),Расчет!G506,0)","v":0},{"$f":"IF(AND(Расчет!A506<2000,Расчет!B506<2000),Расчет!G506,0)","v":0},null,null,{"$f":"IF(OR(Расчет!A506>=2000,Расчет!B506>=2000),Расчет!J506,0)","v":0},{"$f":"IF(AND(Расчет!A506<2000,Расчет!B506<2000),Расчет!J506,0)","v":0},null,null,{"$f":"IF(OR(Расчет!A506>=2000,Расчет!B506>=2000),Расчет!M506,0)","v":0},{"$f":"IF(AND(Расчет!A506<2000,Расчет!B506<2000),Расчет!M506,0)","v":0}]
[{"$f":"IF(OR(Расчет!A507>=2000,Расчет!B507>=2000),Расчет!G507,0)","v":0},{"$f":"IF(AND(Расчет!A507<2000,Расчет!B507<2000),Расчет!G507,0)","v":0},null,null,{"$f":"IF(OR(Расчет!A507>=2000,Расчет!B507>=2000),Расчет!J507,0)","v":0},{"$f":"IF(AND(Расчет!A507<2000,Расчет!B507<2000),Расчет!J507,0)","v":0},null,null,{"$f":"IF(OR(Расчет!A507>=2000,Расчет!B507>=2000),Расчет!M507,0)","v":0},{"$f":"IF(AND(Расчет!A507<2000,Расчет!B507<2000),Расчет!M507,0)","v":0}]
[{"$f":"IF(OR(Расчет!A508>=2000,Расчет!B508>=2000),Расчет!G508,0)","v":0},{"$f":"IF(AND(Расчет!A508<2000,Расчет!B508<2000),Расчет!G508,0)","v":0},null,null,{"$f":"IF(OR(Расчет!A508>=2000,Расчет!B508>=2000),Расчет!J508,0)","v":0},{"$f":"IF(AND(Расчет!A508<2000,Расчет!B508<2000),Расчет!J508,0)","v":0},null,null,{"$f":"IF(OR(Расчет!A508>=2000,Расчет!B508>=2000),Расчет!M508,0)","v":0},{"$f":"IF(AND(Расчет!A508<2000,Расчет!B508<2000),Расчет!M508,0)","v":0}]
[{"$f":"IF(OR(Расчет!A509>=2000,Расчет!B509>=2000),Расчет!G509,0)","v":0},{"$f":"IF(AND(Расчет!A509<2000,Расчет!B509<2000),Расчет!G509,0)","v":0},null,null,{"$f":"IF(OR(Расчет!A509>=2000,Расчет!B509>=2000),Расчет!J509,0)","v":0},{"$f":"IF(AND(Расчет!A509<2000,Расчет!B509<2000),Расчет!J509,0)","v":0},null,null,{"$f":"IF(OR(Расчет!A509>=2000,Расчет!B509>=2000),Расчет!M509,0)","v":0},{"$f":"IF(AND(Расчет!A509<2000,Расчет!B509<2000),Расчет!M509,0)","v":0}]
[{"$f":"IF(OR(Расчет!A510>=2000,Расчет!B510>=2000),Расчет!G510,0)","v":0},{"$f":"IF(AND(Расчет!A510<2000,Расчет!B510<2000),Расчет!G510,0)","v":0},null,null,{"$f":"IF(OR(Расчет!A510>=2000,Расчет!B510>=2000),Расчет!J510,0)","v":0},{"$f":"IF(AND(Расчет!A510<2000,Расчет!B510<2000),Расчет!J510,0)","v":0},null,null,{"$f":"IF(OR(Расчет!A510>=2000,Расчет!B510>=2000),Расчет!M510,0)","v":0},{"$f":"IF(AND(Расчет!A510<2000,Расчет!B510<2000),Расчет!M510,0)","v":0}]
[{"$f":"IF(OR(Расчет!A511>=2000,Расчет!B511>=2000),Расчет!G511,0)","v":0},{"$f":"IF(AND(Расчет!A511<2000,Расчет!B511<2000),Расчет!G511,0)","v":0},null,null,{"$f":"IF(OR(Расчет!A511>=2000,Расчет!B511>=2000),Расчет!J511,0)","v":0},{"$f":"IF(AND(Расчет!A511<2000,Расчет!B511<2000),Расчет!J511,0)","v":0},null,null,{"$f":"IF(OR(Расчет!A511>=2000,Расчет!B511>=2000),Расчет!M511,0)","v":0},{"$f":"IF(AND(Расчет!A511<2000,Расчет!B511<2000),Расчет!M511,0)","v":0}]
[{"$f":"IF(OR(Расчет!A512>=2000,Расчет!B512>=2000),Расчет!G512,0)","v":0},{"$f":"IF(AND(Расчет!A512<2000,Расчет!B512<2000),Расчет!G512,0)","v":0},null,null,{"$f":"IF(OR(Расчет!A512>=2000,Расчет!B512>=2000),Расчет!J512,0)","v":0},{"$f":"IF(AND(Расчет!A512<2000,Расчет!B512<2000),Расчет!J512,0)","v":0},null,null,{"$f":"IF(OR(Расчет!A512>=2000,Расчет!B512>=2000),Расчет!M512,0)","v":0},{"$f":"IF(AND(Расчет!A512<2000,Расчет!B512<2000),Расчет!M512,0)","v":0}]
[{"$f":"IF(OR(Расчет!A513>=2000,Расчет!B513>=2000),Расчет!G513,0)","v":0},{"$f":"IF(AND(Расчет!A513<2000,Расчет!B513<2000),Расчет!G513,0)","v":0},null,null,{"$f":"IF(OR(Расчет!A513>=2000,Расчет!B513>=2000),Расчет!J513,0)","v":0},{"$f":"IF(AND(Расчет!A513<2000,Расчет!B513<2000),Расчет!J513,0)","v":0},null,null,{"$f":"IF(OR(Расчет!A513>=2000,Расчет!B513>=2000),Расчет!M513,0)","v":0},{"$f":"IF(AND(Расчет!A513<2000,Расчет!B513<2000),Расчет!M513,0)","v":0}]
[{"$f":"IF(OR(Расчет!A514>=2000,Расчет!B514>=2000),Расчет!G514,0)","v":0},{"$f":"IF(AND(Расчет!A514<2000,Расчет!B514<2000),Расчет!G514,0)","v":0},null,null,{"$f":"IF(OR(Расчет!A514>=2000,Расчет!B514>=2000),Расчет!J514,0)","v":0},{"$f":"IF(AND(Расчет!A514<2000,Расчет!B514<2000),Расчет!J514,0)","v":0},null,null,{"$f":"IF(OR(Расчет!A514>=2000,Расчет!B514>=2000),Расчет!M514,0)","v":0},{"$f":"IF(AND(Расчет!A514<2000,Расчет!B514<2000),Расчет!M514,0)","v":0}]
[{"$f":"IF(OR(Расчет!A515>=2000,Расчет!B515>=2000),Расчет!G515,0)","v":0},{"$f":"IF(AND(Расчет!A515<2000,Расчет!B515<2000),Расчет!G515,0)","v":0},null,null,{"$f":"IF(OR(Расчет!A515>=2000,Расчет!B515>=2000),Расчет!J515,0)","v":0},{"$f":"IF(AND(Расчет!A515<2000,Расчет!B515<2000),Расчет!J515,0)","v":0},null,null,{"$f":"IF(OR(Расчет!A515>=2000,Расчет!B515>=2000),Расчет!M515,0)","v":0},{"$f":"IF(AND(Расчет!A515<2000,Расчет!B515<2000),Расчет!M515,0)","v":0}]
[{"$f":"IF(OR(Расчет!A516>=2000,Расчет!B516>=2000),Расчет!G516,0)","v":0},{"$f":"IF(AND(Расчет!A516<2000,Расчет!B516<2000),Расчет!G516,0)","v":0},null,null,{"$f":"IF(OR(Расчет!A516>=2000,Расчет!B516>=2000),Расчет!J516,0)","v":0},{"$f":"IF(AND(Расчет!A516<2000,Расчет!B516<2000),Расчет!J516,0)","v":0},null,null,{"$f":"IF(OR(Расчет!A516>=2000,Расчет!B516>=2000),Расчет!M516,0)","v":0},{"$f":"IF(AND(Расчет!A516<2000,Расчет!B516<2000),Расчет!M516,0)","v":0}]
[{"$f":"IF(OR(Расчет!A517>=2000,Расчет!B517>=2000),Расчет!G517,0)","v":0},{"$f":"IF(AND(Расчет!A517<2000,Расчет!B517<2000),Расчет!G517,0)","v":0},null,null,{"$f":"IF(OR(Расчет!A517>=2000,Расчет!B517>=2000),Расчет!J517,0)","v":0},{"$f":"IF(AND(Расчет!A517<2000,Расчет!B517<2000),Расчет!J517,0)","v":0},null,null,{"$f":"IF(OR(Расчет!A517>=2000,Расчет!B517>=2000),Расчет!M517,0)","v":0},{"$f":"IF(AND(Расчет!A517<2000,Расчет!B517<2000),Расчет!M517,0)","v":0}]
[{"$f":"IF(OR(Расчет!A518>=2000,Расчет!B518>=2000),Расчет!G518,0)","v":0},{"$f":"IF(AND(Расчет!A518<2000,Расчет!B518<2000),Расчет!G518,0)","v":0},null,null,{"$f":"IF(OR(Расчет!A518>=2000,Расчет!B518>=2000),Расчет!J518,0)","v":0},{"$f":"IF(AND(Расчет!A518<2000,Расчет!B518<2000),Расчет!J518,0)","v":0},null,null,{"$f":"IF(OR(Расчет!A518>=2000,Расчет!B518>=2000),Расчет!M518,0)","v":0},{"$f":"IF(AND(Расчет!A518<2000,Расчет!B518<2000),Расчет!M518,0)","v":0}]
[{"$f":"IF(OR(Расчет!A519>=2000,Расчет!B519>=2000),Расчет!G519,0)","v":0},{"$f":"IF(AND(Расчет!A519<2000,Расчет!B519<2000),Расчет!G519,0)","v":0},null,null,{"$f":"IF(OR(Расчет!A519>=2000,Расчет!B519>=2000),Расчет!J519,0)","v":0},{"$f":"IF(AND(Расчет!A519<2000,Расчет!B519<2000),Расчет!J519,0)","v":0},null,null,{"$f":"IF(OR(Расчет!A519>=2000,Расчет!B519>=2000),Расчет!M519,0)","v":0},{"$f":"IF(AND(Расчет!A519<2000,Расчет!B519<2000),Расчет!M519,0)","v":0}]
[{"$f":"IF(OR(Расчет!A520>=2000,Расчет!B520>=2000),Расчет!G520,0)","v":0},{"$f":"IF(AND(Расчет!A520<2000,Расчет!B520<2000),Расчет!G520,0)","v":0},null,null,{"$f":"IF(OR(Расчет!A520>=2000,Расчет!B520>=2000),Расчет!J520,0)","v":0},{"$f":"IF(AND(Расчет!A520<2000,Расчет!B520<2000),Расчет!J520,0)","v":0},null,null,{"$f":"IF(OR(Расчет!A520>=2000,Расчет!B520>=2000),Расчет!M520,0)","v":0},{"$f":"IF(AND(Расчет!A520<2000,Расчет!B520<2000),Расчет!M520,0)","v":0}]
[{"$f":"IF(OR(Расчет!A521>=2000,Расчет!B521>=2000),Расчет!G521,0)","v":0},{"$f":"IF(AND(Расчет!A521<2000,Расчет!B521<2000),Расчет!G521,0)","v":0},null,null,{"$f":"IF(OR(Расчет!A521>=2000,Расчет!B521>=2000),Расчет!J521,0)","v":0},{"$f":"IF(AND(Расчет!A521<2000,Расчет!B521<2000),Расчет!J521,0)","v":0},null,null,{"$f":"IF(OR(Расчет!A521>=2000,Расчет!B521>=2000),Расчет!M521,0)","v":0},{"$f":"IF(AND(Расчет!A521<2000,Расчет!B521<2000),Расчет!M521,0)","v":0}]
[{"$f":"IF(OR(Расчет!A522>=2000,Расчет!B522>=2000),Расчет!G522,0)","v":0},{"$f":"IF(AND(Расчет!A522<2000,Расчет!B522<2000),Расчет!G522,0)","v":0},null,null,{"$f":"IF(OR(Расчет!A522>=2000,Расчет!B522>=2000),Расчет!J522,0)","v":0},{"$f":"IF(AND(Расчет!A522<2000,Расчет!B522<2000),Расчет!J522,0)","v":0},null,null,{"$f":"IF(OR(Расчет!A522>=2000,Расчет!B522>=2000),Расчет!M522,0)","v":0},{"$f":"IF(AND(Расчет!A522<2000,Расчет!B522<2000),Расчет!M522,0)","v":0}]
[{"$f":"IF(OR(Расчет!A523>=2000,Расчет!B523>=2000),Расчет!G523,0)","v":0},{"$f":"IF(AND(Расчет!A523<2000,Расчет!B523<2000),Расчет!G523,0)","v":0},null,null,{"$f":"IF(OR(Расчет!A523>=2000,Расчет!B523>=2000),Расчет!J523,0)","v":0},{"$f":"IF(AND(Расчет!A523<2000,Расчет!B523<2000),Расчет!J523,0)","v":0},null,null,{"$f":"IF(OR(Расчет!A523>=2000,Расчет!B523>=2000),Расчет!M523,0)","v":0},{"$f":"IF(AND(Расчет!A523<2000,Расчет!B523<2000),Расчет!M523,0)","v":0}]
[{"$f":"IF(OR(Расчет!A524>=2000,Расчет!B524>=2000),Расчет!G524,0)","v":0},{"$f":"IF(AND(Расчет!A524<2000,Расчет!B524<2000),Расчет!G524,0)","v":0},null,null,{"$f":"IF(OR(Расчет!A524>=2000,Расчет!B524>=2000),Расчет!J524,0)","v":0},{"$f":"IF(AND(Расчет!A524<2000,Расчет!B524<2000),Расчет!J524,0)","v":0},null,null,{"$f":"IF(OR(Расчет!A524>=2000,Расчет!B524>=2000),Расчет!M524,0)","v":0},{"$f":"IF(AND(Расчет!A524<2000,Расчет!B524<2000),Расчет!M524,0)","v":0}]
[{"$f":"IF(OR(Расчет!A525>=2000,Расчет!B525>=2000),Расчет!G525,0)","v":0},{"$f":"IF(AND(Расчет!A525<2000,Расчет!B525<2000),Расчет!G525,0)","v":0},null,null,{"$f":"IF(OR(Расчет!A525>=2000,Расчет!B525>=2000),Расчет!J525,0)","v":0},{"$f":"IF(AND(Расчет!A525<2000,Расчет!B525<2000),Расчет!J525,0)","v":0},null,null,{"$f":"IF(OR(Расчет!A525>=2000,Расчет!B525>=2000),Расчет!M525,0)","v":0},{"$f":"IF(AND(Расчет!A525<2000,Расчет!B525<2000),Расчет!M525,0)","v":0}]
[{"$f":"IF(OR(Расчет!A526>=2000,Расчет!B526>=2000),Расчет!G526,0)","v":0},{"$f":"IF(AND(Расчет!A526<2000,Расчет!B526<2000),Расчет!G526,0)","v":0},null,null,{"$f":"IF(OR(Расчет!A526>=2000,Расчет!B526>=2000),Расчет!J526,0)","v":0},{"$f":"IF(AND(Расчет!A526<2000,Расчет!B526<2000),Расчет!J526,0)","v":0},null,null,{"$f":"IF(OR(Расчет!A526>=2000,Расчет!B526>=2000),Расчет!M526,0)","v":0},{"$f":"IF(AND(Расчет!A526<2000,Расчет!B526<2000),Расчет!M526,0)","v":0}]
[{"$f":"IF(OR(Расчет!A527>=2000,Расчет!B527>=2000),Расчет!G527,0)","v":0},{"$f":"IF(AND(Расчет!A527<2000,Расчет!B527<2000),Расчет!G527,0)","v":0},null,null,{"$f":"IF(OR(Расчет!A527>=2000,Расчет!B527>=2000),Расчет!J527,0)","v":0},{"$f":"IF(AND(Расчет!A527<2000,Расчет!B527<2000),Расчет!J527,0)","v":0},null,null,{"$f":"IF(OR(Расчет!A527>=2000,Расчет!B527>=2000),Расчет!M527,0)","v":0},{"$f":"IF(AND(Расчет!A527<2000,Расчет!B527<2000),Расчет!M527,0)","v":0}]
[{"$f":"IF(OR(Расчет!A528>=2000,Расчет!B528>=2000),Расчет!G528,0)","v":0},{"$f":"IF(AND(Расчет!A528<2000,Расчет!B528<2000),Расчет!G528,0)","v":0},null,null,{"$f":"IF(OR(Расчет!A528>=2000,Расчет!B528>=2000),Расчет!J528,0)","v":0},{"$f":"IF(AND(Расчет!A528<2000,Расчет!B528<2000),Расчет!J528,0)","v":0},null,null,{"$f":"IF(OR(Расчет!A528>=2000,Расчет!B528>=2000),Расчет!M528,0)","v":0},{"$f":"IF(AND(Расчет!A528<2000,Расчет!B528<2000),Расчет!M528,0)","v":0}]
[{"$f":"IF(OR(Расчет!A529>=2000,Расчет!B529>=2000),Расчет!G529,0)","v":0},{"$f":"IF(AND(Расчет!A529<2000,Расчет!B529<2000),Расчет!G529,0)","v":0},null,null,{"$f":"IF(OR(Расчет!A529>=2000,Расчет!B529>=2000),Расчет!J529,0)","v":0},{"$f":"IF(AND(Расчет!A529<2000,Расчет!B529<2000),Расчет!J529,0)","v":0},null,null,{"$f":"IF(OR(Расчет!A529>=2000,Расчет!B529>=2000),Расчет!M529,0)","v":0},{"$f":"IF(AND(Расчет!A529<2000,Расчет!B529<2000),Расчет!M529,0)","v":0}]
[{"$f":"IF(OR(Расчет!A530>=2000,Расчет!B530>=2000),Расчет!G530,0)","v":0},{"$f":"IF(AND(Расчет!A530<2000,Расчет!B530<2000),Расчет!G530,0)","v":0},null,null,{"$f":"IF(OR(Расчет!A530>=2000,Расчет!B530>=2000),Расчет!J530,0)","v":0},{"$f":"IF(AND(Расчет!A530<2000,Расчет!B530<2000),Расчет!J530,0)","v":0},null,null,{"$f":"IF(OR(Расчет!A530>=2000,Расчет!B530>=2000),Расчет!M530,0)","v":0},{"$f":"IF(AND(Расчет!A530<2000,Расчет!B530<2000),Расчет!M530,0)","v":0}]
[{"$f":"IF(OR(Расчет!A531>=2000,Расчет!B531>=2000),Расчет!G531,0)","v":0},{"$f":"IF(AND(Расчет!A531<2000,Расчет!B531<2000),Расчет!G531,0)","v":0},null,null,{"$f":"IF(OR(Расчет!A531>=2000,Расчет!B531>=2000),Расчет!J531,0)","v":0},{"$f":"IF(AND(Расчет!A531<2000,Расчет!B531<2000),Расчет!J531,0)","v":0},null,null,{"$f":"IF(OR(Расчет!A531>=2000,Расчет!B531>=2000),Расчет!M531,0)","v":0},{"$f":"IF(AND(Расчет!A531<2000,Расчет!B531<2000),Расчет!M531,0)","v":0}]
[{"$f":"IF(OR(Расчет!A532>=2000,Расчет!B532>=2000),Расчет!G532,0)","v":0},{"$f":"IF(AND(Расчет!A532<2000,Расчет!B532<2000),Расчет!G532,0)","v":0},null,null,{"$f":"IF(OR(Расчет!A532>=2000,Расчет!B532>=2000),Расчет!J532,0)","v":0},{"$f":"IF(AND(Расчет!A532<2000,Расчет!B532<2000),Расчет!J532,0)","v":0},null,null,{"$f":"IF(OR(Расчет!A532>=2000,Расчет!B532>=2000),Расчет!M532,0)","v":0},{"$f":"IF(AND(Расчет!A532<2000,Расчет!B532<2000),Расчет!M532,0)","v":0}]
[{"$f":"IF(OR(Расчет!A533>=2000,Расчет!B533>=2000),Расчет!G533,0)","v":0},{"$f":"IF(AND(Расчет!A533<2000,Расчет!B533<2000),Расчет!G533,0)","v":0},null,null,{"$f":"IF(OR(Расчет!A533>=2000,Расчет!B533>=2000),Расчет!J533,0)","v":0},{"$f":"IF(AND(Расчет!A533<2000,Расчет!B533<2000),Расчет!J533,0)","v":0},null,null,{"$f":"IF(OR(Расчет!A533>=2000,Расчет!B533>=2000),Расчет!M533,0)","v":0},{"$f":"IF(AND(Расчет!A533<2000,Расчет!B533<2000),Расчет!M533,0)","v":0}]
[{"$f":"IF(OR(Расчет!A534>=2000,Расчет!B534>=2000),Расчет!G534,0)","v":0},{"$f":"IF(AND(Расчет!A534<2000,Расчет!B534<2000),Расчет!G534,0)","v":0},null,null,{"$f":"IF(OR(Расчет!A534>=2000,Расчет!B534>=2000),Расчет!J534,0)","v":0},{"$f":"IF(AND(Расчет!A534<2000,Расчет!B534<2000),Расчет!J534,0)","v":0},null,null,{"$f":"IF(OR(Расчет!A534>=2000,Расчет!B534>=2000),Расчет!M534,0)","v":0},{"$f":"IF(AND(Расчет!A534<2000,Расчет!B534<2000),Расчет!M534,0)","v":0}]
[{"$f":"IF(OR(Расчет!A535>=2000,Расчет!B535>=2000),Расчет!G535,0)","v":0},{"$f":"IF(AND(Расчет!A535<2000,Расчет!B535<2000),Расчет!G535,0)","v":0},null,null,{"$f":"IF(OR(Расчет!A535>=2000,Расчет!B535>=2000),Расчет!J535,0)","v":0},{"$f":"IF(AND(Расчет!A535<2000,Расчет!B535<2000),Расчет!J535,0)","v":0},null,null,{"$f":"IF(OR(Расчет!A535>=2000,Расчет!B535>=2000),Расчет!M535,0)","v":0},{"$f":"IF(AND(Расчет!A535<2000,Расчет!B535<2000),Расчет!M535,0)","v":0}]
[{"$f":"IF(OR(Расчет!A536>=2000,Расчет!B536>=2000),Расчет!G536,0)","v":0},{"$f":"IF(AND(Расчет!A536<2000,Расчет!B536<2000),Расчет!G536,0)","v":0},null,null,{"$f":"IF(OR(Расчет!A536>=2000,Расчет!B536>=2000),Расчет!J536,0)","v":0},{"$f":"IF(AND(Расчет!A536<2000,Расчет!B536<2000),Расчет!J536,0)","v":0},null,null,{"$f":"IF(OR(Расчет!A536>=2000,Расчет!B536>=2000),Расчет!M536,0)","v":0},{"$f":"IF(AND(Расчет!A536<2000,Расчет!B536<2000),Расчет!M536,0)","v":0}]
[{"$f":"IF(OR(Расчет!A537>=2000,Расчет!B537>=2000),Расчет!G537,0)","v":0},{"$f":"IF(AND(Расчет!A537<2000,Расчет!B537<2000),Расчет!G537,0)","v":0},null,null,{"$f":"IF(OR(Расчет!A537>=2000,Расчет!B537>=2000),Расчет!J537,0)","v":0},{"$f":"IF(AND(Расчет!A537<2000,Расчет!B537<2000),Расчет!J537,0)","v":0},null,null,{"$f":"IF(OR(Расчет!A537>=2000,Расчет!B537>=2000),Расчет!M537,0)","v":0},{"$f":"IF(AND(Расчет!A537<2000,Расчет!B537<2000),Расчет!M537,0)","v":0}]
[{"$f":"IF(OR(Расчет!A538>=2000,Расчет!B538>=2000),Расчет!G538,0)","v":0},{"$f":"IF(AND(Расчет!A538<2000,Расчет!B538<2000),Расчет!G538,0)","v":0},null,null,{"$f":"IF(OR(Расчет!A538>=2000,Расчет!B538>=2000),Расчет!J538,0)","v":0},{"$f":"IF(AND(Расчет!A538<2000,Расчет!B538<2000),Расчет!J538,0)","v":0},null,null,{"$f":"IF(OR(Расчет!A538>=2000,Расчет!B538>=2000),Расчет!M538,0)","v":0},{"$f":"IF(AND(Расчет!A538<2000,Расчет!B538<2000),Расчет!M538,0)","v":0}]
[{"$f":"IF(OR(Расчет!A539>=2000,Расчет!B539>=2000),Расчет!G539,0)","v":0},{"$f":"IF(AND(Расчет!A539<2000,Расчет!B539<2000),Расчет!G539,0)","v":0},null,null,{"$f":"IF(OR(Расчет!A539>=2000,Расчет!B539>=2000),Расчет!J539,0)","v":0},{"$f":"IF(AND(Расчет!A539<2000,Расчет!B539<2000),Расчет!J539,0)","v":0},null,null,{"$f":"IF(OR(Расчет!A539>=2000,Расчет!B539>=2000),Расчет!M539,0)","v":0},{"$f":"IF(AND(Расчет!A539<2000,Расчет!B539<2000),Расчет!M539,0)","v":0}]
[{"$f":"IF(OR(Расчет!A540>=2000,Расчет!B540>=2000),Расчет!G540,0)","v":0},{"$f":"IF(AND(Расчет!A540<2000,Расчет!B540<2000),Расчет!G540,0)","v":0},null,null,{"$f":"IF(OR(Расчет!A540>=2000,Расчет!B540>=2000),Расчет!J540,0)","v":0},{"$f":"IF(AND(Расчет!A540<2000,Расчет!B540<2000),Расчет!J540,0)","v":0},null,null,{"$f":"IF(OR(Расчет!A540>=2000,Расчет!B540>=2000),Расчет!M540,0)","v":0},{"$f":"IF(AND(Расчет!A540<2000,Расчет!B540<2000),Расчет!M540,0)","v":0}]
[{"$f":"IF(OR(Расчет!A541>=2000,Расчет!B541>=2000),Расчет!G541,0)","v":0},{"$f":"IF(AND(Расчет!A541<2000,Расчет!B541<2000),Расчет!G541,0)","v":0},null,null,{"$f":"IF(OR(Расчет!A541>=2000,Расчет!B541>=2000),Расчет!J541,0)","v":0},{"$f":"IF(AND(Расчет!A541<2000,Расчет!B541<2000),Расчет!J541,0)","v":0},null,null,{"$f":"IF(OR(Расчет!A541>=2000,Расчет!B541>=2000),Расчет!M541,0)","v":0},{"$f":"IF(AND(Расчет!A541<2000,Расчет!B541<2000),Расчет!M541,0)","v":0}]
[{"$f":"IF(OR(Расчет!A542>=2000,Расчет!B542>=2000),Расчет!G542,0)","v":0},{"$f":"IF(AND(Расчет!A542<2000,Расчет!B542<2000),Расчет!G542,0)","v":0},null,null,{"$f":"IF(OR(Расчет!A542>=2000,Расчет!B542>=2000),Расчет!J542,0)","v":0},{"$f":"IF(AND(Расчет!A542<2000,Расчет!B542<2000),Расчет!J542,0)","v":0},null,null,{"$f":"IF(OR(Расчет!A542>=2000,Расчет!B542>=2000),Расчет!M542,0)","v":0},{"$f":"IF(AND(Расчет!A542<2000,Расчет!B542<2000),Расчет!M542,0)","v":0}]
[{"$f":"IF(OR(Расчет!A543>=2000,Расчет!B543>=2000),Расчет!G543,0)","v":0},{"$f":"IF(AND(Расчет!A543<2000,Расчет!B543<2000),Расчет!G543,0)","v":0},null,null,{"$f":"IF(OR(Расчет!A543>=2000,Расчет!B543>=2000),Расчет!J543,0)","v":0},{"$f":"IF(AND(Расчет!A543<2000,Расчет!B543<2000),Расчет!J543,0)","v":0},null,null,{"$f":"IF(OR(Расчет!A543>=2000,Расчет!B543>=2000),Расчет!M543,0)","v":0},{"$f":"IF(AND(Расчет!A543<2000,Расчет!B543<2000),Расчет!M543,0)","v":0}]
[{"$f":"IF(OR(Расчет!A544>=2000,Расчет!B544>=2000),Расчет!G544,0)","v":0},{"$f":"IF(AND(Расчет!A544<2000,Расчет!B544<2000),Расчет!G544,0)","v":0},null,null,{"$f":"IF(OR(Расчет!A544>=2000,Расчет!B544>=2000),Расчет!J544,0)","v":0},{"$f":"IF(AND(Расчет!A544<2000,Расчет!B544<2000),Расчет!J544,0)","v":0},null,null,{"$f":"IF(OR(Расчет!A544>=2000,Расчет!B544>=2000),Расчет!M544,0)","v":0},{"$f":"IF(AND(Расчет!A544<2000,Расчет!B544<2000),Расчет!M544,0)","v":0}]
[{"$f":"IF(OR(Расчет!A545>=2000,Расчет!B545>=2000),Расчет!G545,0)","v":0},{"$f":"IF(AND(Расчет!A545<2000,Расчет!B545<2000),Расчет!G545,0)","v":0},null,null,{"$f":"IF(OR(Расчет!A545>=2000,Расчет!B545>=2000),Расчет!J545,0)","v":0},{"$f":"IF(AND(Расчет!A545<2000,Расчет!B545<2000),Расчет!J545,0)","v":0},null,null,{"$f":"IF(OR(Расчет!A545>=2000,Расчет!B545>=2000),Расчет!M545,0)","v":0},{"$f":"IF(AND(Расчет!A545<2000,Расчет!B545<2000),Расчет!M545,0)","v":0}]
[{"$f":"IF(OR(Расчет!A546>=2000,Расчет!B546>=2000),Расчет!G546,0)","v":0},{"$f":"IF(AND(Расчет!A546<2000,Расчет!B546<2000),Расчет!G546,0)","v":0},null,null,{"$f":"IF(OR(Расчет!A546>=2000,Расчет!B546>=2000),Расчет!J546,0)","v":0},{"$f":"IF(AND(Расчет!A546<2000,Расчет!B546<2000),Расчет!J546,0)","v":0},null,null,{"$f":"IF(OR(Расчет!A546>=2000,Расчет!B546>=2000),Расчет!M546,0)","v":0},{"$f":"IF(AND(Расчет!A546<2000,Расчет!B546<2000),Расчет!M546,0)","v":0}]
[{"$f":"IF(OR(Расчет!A547>=2000,Расчет!B547>=2000),Расчет!G547,0)","v":0},{"$f":"IF(AND(Расчет!A547<2000,Расчет!B547<2000),Расчет!G547,0)","v":0},null,null,{"$f":"IF(OR(Расчет!A547>=2000,Расчет!B547>=2000),Расчет!J547,0)","v":0},{"$f":"IF(AND(Расчет!A547<2000,Расчет!B547<2000),Расчет!J547,0)","v":0},null,null,{"$f":"IF(OR(Расчет!A547>=2000,Расчет!B547>=2000),Расчет!M547,0)","v":0},{"$f":"IF(AND(Расчет!A547<2000,Расчет!B547<2000),Расчет!M547,0)","v":0}]
[{"$f":"IF(OR(Расчет!A548>=2000,Расчет!B548>=2000),Расчет!G548,0)","v":0},{"$f":"IF(AND(Расчет!A548<2000,Расчет!B548<2000),Расчет!G548,0)","v":0},null,null,{"$f":"IF(OR(Расчет!A548>=2000,Расчет!B548>=2000),Расчет!J548,0)","v":0},{"$f":"IF(AND(Расчет!A548<2000,Расчет!B548<2000),Расчет!J548,0)","v":0},null,null,{"$f":"IF(OR(Расчет!A548>=2000,Расчет!B548>=2000),Расчет!M548,0)","v":0},{"$f":"IF(AND(Расчет!A548<2000,Расчет!B548<2000),Расчет!M548,0)","v":0}]
[{"$f":"IF(OR(Расчет!A549>=2000,Расчет!B549>=2000),Расчет!G549,0)","v":0},{"$f":"IF(AND(Расчет!A549<2000,Расчет!B549<2000),Расчет!G549,0)","v":0},null,null,{"$f":"IF(OR(Расчет!A549>=2000,Расчет!B549>=2000),Расчет!J549,0)","v":0},{"$f":"IF(AND(Расчет!A549<2000,Расчет!B549<2000),Расчет!J549,0)","v":0},null,null,{"$f":"IF(OR(Расчет!A549>=2000,Расчет!B549>=2000),Расчет!M549,0)","v":0},{"$f":"IF(AND(Расчет!A549<2000,Расчет!B549<2000),Расчет!M549,0)","v":0}]
[{"$f":"IF(OR(Расчет!A550>=2000,Расчет!B550>=2000),Расчет!G550,0)","v":0},{"$f":"IF(AND(Расчет!A550<2000,Расчет!B550<2000),Расчет!G550,0)","v":0},null,null,{"$f":"IF(OR(Расчет!A550>=2000,Расчет!B550>=2000),Расчет!J550,0)","v":0},{"$f":"IF(AND(Расчет!A550<2000,Расчет!B550<2000),Расчет!J550,0)","v":0},null,null,{"$f":"IF(OR(Расчет!A550>=2000,Расчет!B550>=2000),Расчет!M550,0)","v":0},{"$f":"IF(AND(Расчет!A550<2000,Расчет!B550<2000),Расчет!M550,0)","v":0}]
[{"$f":"IF(OR(Расчет!A551>=2000,Расчет!B551>=2000),Расчет!G551,0)","v":0},{"$f":"IF(AND(Расчет!A551<2000,Расчет!B551<2000),Расчет!G551,0)","v":0},null,null,{"$f":"IF(OR(Расчет!A551>=2000,Расчет!B551>=2000),Расчет!J551,0)","v":0},{"$f":"IF(AND(Расчет!A551<2000,Расчет!B551<2000),Расчет!J551,0)","v":0},null,null,{"$f":"IF(OR(Расчет!A551>=2000,Расчет!B551>=2000),Расчет!M551,0)","v":0},{"$f":"IF(AND(Расчет!A551<2000,Расчет!B551<2000),Расчет!M551,0)","v":0}]
[{"$f":"IF(OR(Расчет!A552>=2000,Расчет!B552>=2000),Расчет!G552,0)","v":0},{"$f":"IF(AND(Расчет!A552<2000,Расчет!B552<2000),Расчет!G552,0)","v":0},null,null,{"$f":"IF(OR(Расчет!A552>=2000,Расчет!B552>=2000),Расчет!J552,0)","v":0},{"$f":"IF(AND(Расчет!A552<2000,Расчет!B552<2000),Расчет!J552,0)","v":0},null,null,{"$f":"IF(OR(Расчет!A552>=2000,Расчет!B552>=2000),Расчет!M552,0)","v":0},{"$f":"IF(AND(Расчет!A552<2000,Расчет!B552<2000),Расчет!M552,0)","v":0}]
[{"$f":"IF(OR(Расчет!A553>=2000,Расчет!B553>=2000),Расчет!G553,0)","v":0},{"$f":"IF(AND(Расчет!A553<2000,Расчет!B553<2000),Расчет!G553,0)","v":0},null,null,{"$f":"IF(OR(Расчет!A553>=2000,Расчет!B553>=2000),Расчет!J553,0)","v":0},{"$f":"IF(AND(Расчет!A553<2000,Расчет!B553<2000),Расчет!J553,0)","v":0},null,null,{"$f":"IF(OR(Расчет!A553>=2000,Расчет!B553>=2000),Расчет!M553,0)","v":0},{"$f":"IF(AND(Расчет!A553<2000,Расчет!B553<2000),Расчет!M553,0)","v":0}]
[{"$f":"IF(OR(Расчет!A554>=2000,Расчет!B554>=2000),Расчет!G554,0)","v":0},{"$f":"IF(AND(Расчет!A554<2000,Расчет!B554<2000),Расчет!G554,0)","v":0},null,null,{"$f":"IF(OR(Расчет!A554>=2000,Расчет!B554>=2000),Расчет!J554,0)","v":0},{"$f":"IF(AND(Расчет!A554<2000,Расчет!B554<2000),Расчет!J554,0)","v":0},null,null,{"$f":"IF(OR(Расчет!A554>=2000,Расчет!B554>=2000),Расчет!M554,0)","v":0},{"$f":"IF(AND(Расчет!A554<2000,Расчет!B554<2000),Расчет!M554,0)","v":0}]
[{"$f":"IF(OR(Расчет!A555>=2000,Расчет!B555>=2000),Расчет!G555,0)","v":0},{"$f":"IF(AND(Расчет!A555<2000,Расчет!B555<2000),Расчет!G555,0)","v":0},null,null,{"$f":"IF(OR(Расчет!A555>=2000,Расчет!B555>=2000),Расчет!J555,0)","v":0},{"$f":"IF(AND(Расчет!A555<2000,Расчет!B555<2000),Расчет!J555,0)","v":0},null,null,{"$f":"IF(OR(Расчет!A555>=2000,Расчет!B555>=2000),Расчет!M555,0)","v":0},{"$f":"IF(AND(Расчет!A555<2000,Расчет!B555<2000),Расчет!M555,0)","v":0}]
[{"$f":"IF(OR(Расчет!A556>=2000,Расчет!B556>=2000),Расчет!G556,0)","v":0},{"$f":"IF(AND(Расчет!A556<2000,Расчет!B556<2000),Расчет!G556,0)","v":0},null,null,{"$f":"IF(OR(Расчет!A556>=2000,Расчет!B556>=2000),Расчет!J556,0)","v":0},{"$f":"IF(AND(Расчет!A556<2000,Расчет!B556<2000),Расчет!J556,0)","v":0},null,null,{"$f":"IF(OR(Расчет!A556>=2000,Расчет!B556>=2000),Расчет!M556,0)","v":0},{"$f":"IF(AND(Расчет!A556<2000,Расчет!B556<2000),Расчет!M556,0)","v":0}]
[{"$f":"IF(OR(Расчет!A557>=2000,Расчет!B557>=2000),Расчет!G557,0)","v":0},{"$f":"IF(AND(Расчет!A557<2000,Расчет!B557<2000),Расчет!G557,0)","v":0},null,null,{"$f":"IF(OR(Расчет!A557>=2000,Расчет!B557>=2000),Расчет!J557,0)","v":0},{"$f":"IF(AND(Расчет!A557<2000,Расчет!B557<2000),Расчет!J557,0)","v":0},null,null,{"$f":"IF(OR(Расчет!A557>=2000,Расчет!B557>=2000),Расчет!M557,0)","v":0},{"$f":"IF(AND(Расчет!A557<2000,Расчет!B557<2000),Расчет!M557,0)","v":0}]
[{"$f":"IF(OR(Расчет!A558>=2000,Расчет!B558>=2000),Расчет!G558,0)","v":0},{"$f":"IF(AND(Расчет!A558<2000,Расчет!B558<2000),Расчет!G558,0)","v":0},null,null,{"$f":"IF(OR(Расчет!A558>=2000,Расчет!B558>=2000),Расчет!J558,0)","v":0},{"$f":"IF(AND(Расчет!A558<2000,Расчет!B558<2000),Расчет!J558,0)","v":0},null,null,{"$f":"IF(OR(Расчет!A558>=2000,Расчет!B558>=2000),Расчет!M558,0)","v":0},{"$f":"IF(AND(Расчет!A558<2000,Расчет!B558<2000),Расчет!M558,0)","v":0}]
[{"$f":"IF(OR(Расчет!A559>=2000,Расчет!B559>=2000),Расчет!G559,0)","v":0},{"$f":"IF(AND(Расчет!A559<2000,Расчет!B559<2000),Расчет!G559,0)","v":0},null,null,{"$f":"IF(OR(Расчет!A559>=2000,Расчет!B559>=2000),Расчет!J559,0)","v":0},{"$f":"IF(AND(Расчет!A559<2000,Расчет!B559<2000),Расчет!J559,0)","v":0},null,null,{"$f":"IF(OR(Расчет!A559>=2000,Расчет!B559>=2000),Расчет!M559,0)","v":0},{"$f":"IF(AND(Расчет!A559<2000,Расчет!B559<2000),Расчет!M559,0)","v":0}]
[{"$f":"IF(OR(Расчет!A560>=2000,Расчет!B560>=2000),Расчет!G560,0)","v":0},{"$f":"IF(AND(Расчет!A560<2000,Расчет!B560<2000),Расчет!G560,0)","v":0},null,null,{"$f":"IF(OR(Расчет!A560>=2000,Расчет!B560>=2000),Расчет!J560,0)","v":0},{"$f":"IF(AND(Расчет!A560<2000,Расчет!B560<2000),Расчет!J560,0)","v":0},null,null,{"$f":"IF(OR(Расчет!A560>=2000,Расчет!B560>=2000),Расчет!M560,0)","v":0},{"$f":"IF(AND(Расчет!A560<2000,Расчет!B560<2000),Расчет!M560,0)","v":0}]
[{"$f":"IF(OR(Расчет!A561>=2000,Расчет!B561>=2000),Расчет!G561,0)","v":0},{"$f":"IF(AND(Расчет!A561<2000,Расчет!B561<2000),Расчет!G561,0)","v":0},null,null,{"$f":"IF(OR(Расчет!A561>=2000,Расчет!B561>=2000),Расчет!J561,0)","v":0},{"$f":"IF(AND(Расчет!A561<2000,Расчет!B561<2000),Расчет!J561,0)","v":0},null,null,{"$f":"IF(OR(Расчет!A561>=2000,Расчет!B561>=2000),Расчет!M561,0)","v":0},{"$f":"IF(AND(Расчет!A561<2000,Расчет!B561<2000),Расчет!M561,0)","v":0}]
[{"$f":"IF(OR(Расчет!A562>=2000,Расчет!B562>=2000),Расчет!G562,0)","v":0},{"$f":"IF(AND(Расчет!A562<2000,Расчет!B562<2000),Расчет!G562,0)","v":0},null,null,{"$f":"IF(OR(Расчет!A562>=2000,Расчет!B562>=2000),Расчет!J562,0)","v":0},{"$f":"IF(AND(Расчет!A562<2000,Расчет!B562<2000),Расчет!J562,0)","v":0},null,null,{"$f":"IF(OR(Расчет!A562>=2000,Расчет!B562>=2000),Расчет!M562,0)","v":0},{"$f":"IF(AND(Расчет!A562<2000,Расчет!B562<2000),Расчет!M562,0)","v":0}]
[{"$f":"IF(OR(Расчет!A563>=2000,Расчет!B563>=2000),Расчет!G563,0)","v":0},{"$f":"IF(AND(Расчет!A563<2000,Расчет!B563<2000),Расчет!G563,0)","v":0},null,null,{"$f":"IF(OR(Расчет!A563>=2000,Расчет!B563>=2000),Расчет!J563,0)","v":0},{"$f":"IF(AND(Расчет!A563<2000,Расчет!B563<2000),Расчет!J563,0)","v":0},null,null,{"$f":"IF(OR(Расчет!A563>=2000,Расчет!B563>=2000),Расчет!M563,0)","v":0},{"$f":"IF(AND(Расчет!A563<2000,Расчет!B563<2000),Расчет!M563,0)","v":0}]
[{"$f":"IF(OR(Расчет!A564>=2000,Расчет!B564>=2000),Расчет!G564,0)","v":0},{"$f":"IF(AND(Расчет!A564<2000,Расчет!B564<2000),Расчет!G564,0)","v":0},null,null,{"$f":"IF(OR(Расчет!A564>=2000,Расчет!B564>=2000),Расчет!J564,0)","v":0},{"$f":"IF(AND(Расчет!A564<2000,Расчет!B564<2000),Расчет!J564,0)","v":0},null,null,{"$f":"IF(OR(Расчет!A564>=2000,Расчет!B564>=2000),Расчет!M564,0)","v":0},{"$f":"IF(AND(Расчет!A564<2000,Расчет!B564<2000),Расчет!M564,0)","v":0}]
[{"$f":"IF(OR(Расчет!A565>=2000,Расчет!B565>=2000),Расчет!G565,0)","v":0},{"$f":"IF(AND(Расчет!A565<2000,Расчет!B565<2000),Расчет!G565,0)","v":0},null,null,{"$f":"IF(OR(Расчет!A565>=2000,Расчет!B565>=2000),Расчет!J565,0)","v":0},{"$f":"IF(AND(Расчет!A565<2000,Расчет!B565<2000),Расчет!J565,0)","v":0},null,null,{"$f":"IF(OR(Расчет!A565>=2000,Расчет!B565>=2000),Расчет!M565,0)","v":0},{"$f":"IF(AND(Расчет!A565<2000,Расчет!B565<2000),Расчет!M565,0)","v":0}]
[{"$f":"IF(OR(Расчет!A566>=2000,Расчет!B566>=2000),Расчет!G566,0)","v":0},{"$f":"IF(AND(Расчет!A566<2000,Расчет!B566<2000),Расчет!G566,0)","v":0},null,null,{"$f":"IF(OR(Расчет!A566>=2000,Расчет!B566>=2000),Расчет!J566,0)","v":0},{"$f":"IF(AND(Расчет!A566<2000,Расчет!B566<2000),Расчет!J566,0)","v":0},null,null,{"$f":"IF(OR(Расчет!A566>=2000,Расчет!B566>=2000),Расчет!M566,0)","v":0},{"$f":"IF(AND(Расчет!A566<2000,Расчет!B566<2000),Расчет!M566,0)","v":0}]
[{"$f":"IF(OR(Расчет!A567>=2000,Расчет!B567>=2000),Расчет!G567,0)","v":0},{"$f":"IF(AND(Расчет!A567<2000,Расчет!B567<2000),Расчет!G567,0)","v":0},null,null,{"$f":"IF(OR(Расчет!A567>=2000,Расчет!B567>=2000),Расчет!J567,0)","v":0},{"$f":"IF(AND(Расчет!A567<2000,Расчет!B567<2000),Расчет!J567,0)","v":0},null,null,{"$f":"IF(OR(Расчет!A567>=2000,Расчет!B567>=2000),Расчет!M567,0)","v":0},{"$f":"IF(AND(Расчет!A567<2000,Расчет!B567<2000),Расчет!M567,0)","v":0}]
[{"$f":"IF(OR(Расчет!A568>=2000,Расчет!B568>=2000),Расчет!G568,0)","v":0},{"$f":"IF(AND(Расчет!A568<2000,Расчет!B568<2000),Расчет!G568,0)","v":0},null,null,{"$f":"IF(OR(Расчет!A568>=2000,Расчет!B568>=2000),Расчет!J568,0)","v":0},{"$f":"IF(AND(Расчет!A568<2000,Расчет!B568<2000),Расчет!J568,0)","v":0},null,null,{"$f":"IF(OR(Расчет!A568>=2000,Расчет!B568>=2000),Расчет!M568,0)","v":0},{"$f":"IF(AND(Расчет!A568<2000,Расчет!B568<2000),Расчет!M568,0)","v":0}]
[{"$f":"IF(OR(Расчет!A569>=2000,Расчет!B569>=2000),Расчет!G569,0)","v":0},{"$f":"IF(AND(Расчет!A569<2000,Расчет!B569<2000),Расчет!G569,0)","v":0},null,null,{"$f":"IF(OR(Расчет!A569>=2000,Расчет!B569>=2000),Расчет!J569,0)","v":0},{"$f":"IF(AND(Расчет!A569<2000,Расчет!B569<2000),Расчет!J569,0)","v":0},null,null,{"$f":"IF(OR(Расчет!A569>=2000,Расчет!B569>=2000),Расчет!M569,0)","v":0},{"$f":"IF(AND(Расчет!A569<2000,Расчет!B569<2000),Расчет!M569,0)","v":0}]
[{"$f":"IF(OR(Расчет!A570>=2000,Расчет!B570>=2000),Расчет!G570,0)","v":0},{"$f":"IF(AND(Расчет!A570<2000,Расчет!B570<2000),Расчет!G570,0)","v":0},null,null,{"$f":"IF(OR(Расчет!A570>=2000,Расчет!B570>=2000),Расчет!J570,0)","v":0},{"$f":"IF(AND(Расчет!A570<2000,Расчет!B570<2000),Расчет!J570,0)","v":0},null,null,{"$f":"IF(OR(Расчет!A570>=2000,Расчет!B570>=2000),Расчет!M570,0)","v":0},{"$f":"IF(AND(Расчет!A570<2000,Расчет!B570<2000),Расчет!M570,0)","v":0}]
[{"$f":"IF(OR(Расчет!A571>=2000,Расчет!B571>=2000),Расчет!G571,0)","v":0},{"$f":"IF(AND(Расчет!A571<2000,Расчет!B571<2000),Расчет!G571,0)","v":0},null,null,{"$f":"IF(OR(Расчет!A571>=2000,Расчет!B571>=2000),Расчет!J571,0)","v":0},{"$f":"IF(AND(Расчет!A571<2000,Расчет!B571<2000),Расчет!J571,0)","v":0},null,null,{"$f":"IF(OR(Расчет!A571>=2000,Расчет!B571>=2000),Расчет!M571,0)","v":0},{"$f":"IF(AND(Расчет!A571<2000,Расчет!B571<2000),Расчет!M571,0)","v":0}]
[{"$f":"IF(OR(Расчет!A572>=2000,Расчет!B572>=2000),Расчет!G572,0)","v":0},{"$f":"IF(AND(Расчет!A572<2000,Расчет!B572<2000),Расчет!G572,0)","v":0},null,null,{"$f":"IF(OR(Расчет!A572>=2000,Расчет!B572>=2000),Расчет!J572,0)","v":0},{"$f":"IF(AND(Расчет!A572<2000,Расчет!B572<2000),Расчет!J572,0)","v":0},null,null,{"$f":"IF(OR(Расчет!A572>=2000,Расчет!B572>=2000),Расчет!M572,0)","v":0},{"$f":"IF(AND(Расчет!A572<2000,Расчет!B572<2000),Расчет!M572,0)","v":0}]
[{"$f":"IF(OR(Расчет!A573>=2000,Расчет!B573>=2000),Расчет!G573,0)","v":0},{"$f":"IF(AND(Расчет!A573<2000,Расчет!B573<2000),Расчет!G573,0)","v":0},null,null,{"$f":"IF(OR(Расчет!A573>=2000,Расчет!B573>=2000),Расчет!J573,0)","v":0},{"$f":"IF(AND(Расчет!A573<2000,Расчет!B573<2000),Расчет!J573,0)","v":0},null,null,{"$f":"IF(OR(Расчет!A573>=2000,Расчет!B573>=2000),Расчет!M573,0)","v":0},{"$f":"IF(AND(Расчет!A573<2000,Расчет!B573<2000),Расчет!M573,0)","v":0}]
[{"$f":"IF(OR(Расчет!A574>=2000,Расчет!B574>=2000),Расчет!G574,0)","v":0},{"$f":"IF(AND(Расчет!A574<2000,Расчет!B574<2000),Расчет!G574,0)","v":0},null,null,{"$f":"IF(OR(Расчет!A574>=2000,Расчет!B574>=2000),Расчет!J574,0)","v":0},{"$f":"IF(AND(Расчет!A574<2000,Расчет!B574<2000),Расчет!J574,0)","v":0},null,null,{"$f":"IF(OR(Расчет!A574>=2000,Расчет!B574>=2000),Расчет!M574,0)","v":0},{"$f":"IF(AND(Расчет!A574<2000,Расчет!B574<2000),Расчет!M574,0)","v":0}]
[{"$f":"IF(OR(Расчет!A575>=2000,Расчет!B575>=2000),Расчет!G575,0)","v":0},{"$f":"IF(AND(Расчет!A575<2000,Расчет!B575<2000),Расчет!G575,0)","v":0},null,null,{"$f":"IF(OR(Расчет!A575>=2000,Расчет!B575>=2000),Расчет!J575,0)","v":0},{"$f":"IF(AND(Расчет!A575<2000,Расчет!B575<2000),Расчет!J575,0)","v":0},null,null,{"$f":"IF(OR(Расчет!A575>=2000,Расчет!B575>=2000),Расчет!M575,0)","v":0},{"$f":"IF(AND(Расчет!A575<2000,Расчет!B575<2000),Расчет!M575,0)","v":0}]
[{"$f":"IF(OR(Расчет!A576>=2000,Расчет!B576>=2000),Расчет!G576,0)","v":0},{"$f":"IF(AND(Расчет!A576<2000,Расчет!B576<2000),Расчет!G576,0)","v":0},null,null,{"$f":"IF(OR(Расчет!A576>=2000,Расчет!B576>=2000),Расчет!J576,0)","v":0},{"$f":"IF(AND(Расчет!A576<2000,Расчет!B576<2000),Расчет!J576,0)","v":0},null,null,{"$f":"IF(OR(Расчет!A576>=2000,Расчет!B576>=2000),Расчет!M576,0)","v":0},{"$f":"IF(AND(Расчет!A576<2000,Расчет!B576<2000),Расчет!M576,0)","v":0}]
[{"$f":"IF(OR(Расчет!A577>=2000,Расчет!B577>=2000),Расчет!G577,0)","v":0},{"$f":"IF(AND(Расчет!A577<2000,Расчет!B577<2000),Расчет!G577,0)","v":0},null,null,{"$f":"IF(OR(Расчет!A577>=2000,Расчет!B577>=2000),Расчет!J577,0)","v":0},{"$f":"IF(AND(Расчет!A577<2000,Расчет!B577<2000),Расчет!J577,0)","v":0},null,null,{"$f":"IF(OR(Расчет!A577>=2000,Расчет!B577>=2000),Расчет!M577,0)","v":0},{"$f":"IF(AND(Расчет!A577<2000,Расчет!B577<2000),Расчет!M577,0)","v":0}]
[{"$f":"IF(OR(Расчет!A578>=2000,Расчет!B578>=2000),Расчет!G578,0)","v":0},{"$f":"IF(AND(Расчет!A578<2000,Расчет!B578<2000),Расчет!G578,0)","v":0},null,null,{"$f":"IF(OR(Расчет!A578>=2000,Расчет!B578>=2000),Расчет!J578,0)","v":0},{"$f":"IF(AND(Расчет!A578<2000,Расчет!B578<2000),Расчет!J578,0)","v":0},null,null,{"$f":"IF(OR(Расчет!A578>=2000,Расчет!B578>=2000),Расчет!M578,0)","v":0},{"$f":"IF(AND(Расчет!A578<2000,Расчет!B578<2000),Расчет!M578,0)","v":0}]
[{"$f":"IF(OR(Расчет!A579>=2000,Расчет!B579>=2000),Расчет!G579,0)","v":0},{"$f":"IF(AND(Расчет!A579<2000,Расчет!B579<2000),Расчет!G579,0)","v":0},null,null,{"$f":"IF(OR(Расчет!A579>=2000,Расчет!B579>=2000),Расчет!J579,0)","v":0},{"$f":"IF(AND(Расчет!A579<2000,Расчет!B579<2000),Расчет!J579,0)","v":0},null,null,{"$f":"IF(OR(Расчет!A579>=2000,Расчет!B579>=2000),Расчет!M579,0)","v":0},{"$f":"IF(AND(Расчет!A579<2000,Расчет!B579<2000),Расчет!M579,0)","v":0}]
[{"$f":"IF(OR(Расчет!A580>=2000,Расчет!B580>=2000),Расчет!G580,0)","v":0},{"$f":"IF(AND(Расчет!A580<2000,Расчет!B580<2000),Расчет!G580,0)","v":0},null,null,{"$f":"IF(OR(Расчет!A580>=2000,Расчет!B580>=2000),Расчет!J580,0)","v":0},{"$f":"IF(AND(Расчет!A580<2000,Расчет!B580<2000),Расчет!J580,0)","v":0},null,null,{"$f":"IF(OR(Расчет!A580>=2000,Расчет!B580>=2000),Расчет!M580,0)","v":0},{"$f":"IF(AND(Расчет!A580<2000,Расчет!B580<2000),Расчет!M580,0)","v":0}]
[{"$f":"IF(OR(Расчет!A581>=2000,Расчет!B581>=2000),Расчет!G581,0)","v":0},{"$f":"IF(AND(Расчет!A581<2000,Расчет!B581<2000),Расчет!G581,0)","v":0},null,null,{"$f":"IF(OR(Расчет!A581>=2000,Расчет!B581>=2000),Расчет!J581,0)","v":0},{"$f":"IF(AND(Расчет!A581<2000,Расчет!B581<2000),Расчет!J581,0)","v":0},null,null,{"$f":"IF(OR(Расчет!A581>=2000,Расчет!B581>=2000),Расчет!M581,0)","v":0},{"$f":"IF(AND(Расчет!A581<2000,Расчет!B581<2000),Расчет!M581,0)","v":0}]
[{"$f":"IF(OR(Расчет!A582>=2000,Расчет!B582>=2000),Расчет!G582,0)","v":0},{"$f":"IF(AND(Расчет!A582<2000,Расчет!B582<2000),Расчет!G582,0)","v":0},null,null,{"$f":"IF(OR(Расчет!A582>=2000,Расчет!B582>=2000),Расчет!J582,0)","v":0},{"$f":"IF(AND(Расчет!A582<2000,Расчет!B582<2000),Расчет!J582,0)","v":0},null,null,{"$f":"IF(OR(Расчет!A582>=2000,Расчет!B582>=2000),Расчет!M582,0)","v":0},{"$f":"IF(AND(Расчет!A582<2000,Расчет!B582<2000),Расчет!M582,0)","v":0}]
[{"$f":"IF(OR(Расчет!A583>=2000,Расчет!B583>=2000),Расчет!G583,0)","v":0},{"$f":"IF(AND(Расчет!A583<2000,Расчет!B583<2000),Расчет!G583,0)","v":0},null,null,{"$f":"IF(OR(Расчет!A583>=2000,Расчет!B583>=2000),Расчет!J583,0)","v":0},{"$f":"IF(AND(Расчет!A583<2000,Расчет!B583<2000),Расчет!J583,0)","v":0},null,null,{"$f":"IF(OR(Расчет!A583>=2000,Расчет!B583>=2000),Расчет!M583,0)","v":0},{"$f":"IF(AND(Расчет!A583<2000,Расчет!B583<2000),Расчет!M583,0)","v":0}]
[{"$f":"IF(OR(Расчет!A584>=2000,Расчет!B584>=2000),Расчет!G584,0)","v":0},{"$f":"IF(AND(Расчет!A584<2000,Расчет!B584<2000),Расчет!G584,0)","v":0},null,null,{"$f":"IF(OR(Расчет!A584>=2000,Расчет!B584>=2000),Расчет!J584,0)","v":0},{"$f":"IF(AND(Расчет!A584<2000,Расчет!B584<2000),Расчет!J584,0)","v":0},null,null,{"$f":"IF(OR(Расчет!A584>=2000,Расчет!B584>=2000),Расчет!M584,0)","v":0},{"$f":"IF(AND(Расчет!A584<2000,Расчет!B584<2000),Расчет!M584,0)","v":0}]
[{"$f":"IF(OR(Расчет!A585>=2000,Расчет!B585>=2000),Расчет!G585,0)","v":0},{"$f":"IF(AND(Расчет!A585<2000,Расчет!B585<2000),Расчет!G585,0)","v":0},null,null,{"$f":"IF(OR(Расчет!A585>=2000,Расчет!B585>=2000),Расчет!J585,0)","v":0},{"$f":"IF(AND(Расчет!A585<2000,Расчет!B585<2000),Расчет!J585,0)","v":0},null,null,{"$f":"IF(OR(Расчет!A585>=2000,Расчет!B585>=2000),Расчет!M585,0)","v":0},{"$f":"IF(AND(Расчет!A585<2000,Расчет!B585<2000),Расчет!M585,0)","v":0}]
[{"$f":"IF(OR(Расчет!A586>=2000,Расчет!B586>=2000),Расчет!G586,0)","v":0},{"$f":"IF(AND(Расчет!A586<2000,Расчет!B586<2000),Расчет!G586,0)","v":0},null,null,{"$f":"IF(OR(Расчет!A586>=2000,Расчет!B586>=2000),Расчет!J586,0)","v":0},{"$f":"IF(AND(Расчет!A586<2000,Расчет!B586<2000),Расчет!J586,0)","v":0},null,null,{"$f":"IF(OR(Расчет!A586>=2000,Расчет!B586>=2000),Расчет!M586,0)","v":0},{"$f":"IF(AND(Расчет!A586<2000,Расчет!B586<2000),Расчет!M586,0)","v":0}]
[{"$f":"IF(OR(Расчет!A587>=2000,Расчет!B587>=2000),Расчет!G587,0)","v":0},{"$f":"IF(AND(Расчет!A587<2000,Расчет!B587<2000),Расчет!G587,0)","v":0},null,null,{"$f":"IF(OR(Расчет!A587>=2000,Расчет!B587>=2000),Расчет!J587,0)","v":0},{"$f":"IF(AND(Расчет!A587<2000,Расчет!B587<2000),Расчет!J587,0)","v":0},null,null,{"$f":"IF(OR(Расчет!A587>=2000,Расчет!B587>=2000),Расчет!M587,0)","v":0},{"$f":"IF(AND(Расчет!A587<2000,Расчет!B587<2000),Расчет!M587,0)","v":0}]
[{"$f":"IF(OR(Расчет!A588>=2000,Расчет!B588>=2000),Расчет!G588,0)","v":0},{"$f":"IF(AND(Расчет!A588<2000,Расчет!B588<2000),Расчет!G588,0)","v":0},null,null,{"$f":"IF(OR(Расчет!A588>=2000,Расчет!B588>=2000),Расчет!J588,0)","v":0},{"$f":"IF(AND(Расчет!A588<2000,Расчет!B588<2000),Расчет!J588,0)","v":0},null,null,{"$f":"IF(OR(Расчет!A588>=2000,Расчет!B588>=2000),Расчет!M588,0)","v":0},{"$f":"IF(AND(Расчет!A588<2000,Расчет!B588<2000),Расчет!M588,0)","v":0}]
[{"$f":"IF(OR(Расчет!A589>=2000,Расчет!B589>=2000),Расчет!G589,0)","v":0},{"$f":"IF(AND(Расчет!A589<2000,Расчет!B589<2000),Расчет!G589,0)","v":0},null,null,{"$f":"IF(OR(Расчет!A589>=2000,Расчет!B589>=2000),Расчет!J589,0)","v":0},{"$f":"IF(AND(Расчет!A589<2000,Расчет!B589<2000),Расчет!J589,0)","v":0},null,null,{"$f":"IF(OR(Расчет!A589>=2000,Расчет!B589>=2000),Расчет!M589,0)","v":0},{"$f":"IF(AND(Расчет!A589<2000,Расчет!B589<2000),Расчет!M589,0)","v":0}]
[{"$f":"IF(OR(Расчет!A590>=2000,Расчет!B590>=2000),Расчет!G590,0)","v":0},{"$f":"IF(AND(Расчет!A590<2000,Расчет!B590<2000),Расчет!G590,0)","v":0},null,null,{"$f":"IF(OR(Расчет!A590>=2000,Расчет!B590>=2000),Расчет!J590,0)","v":0},{"$f":"IF(AND(Расчет!A590<2000,Расчет!B590<2000),Расчет!J590,0)","v":0},null,null,{"$f":"IF(OR(Расчет!A590>=2000,Расчет!B590>=2000),Расчет!M590,0)","v":0},{"$f":"IF(AND(Расчет!A590<2000,Расчет!B590<2000),Расчет!M590,0)","v":0}]
[{"$f":"IF(OR(Расчет!A591>=2000,Расчет!B591>=2000),Расчет!G591,0)","v":0},{"$f":"IF(AND(Расчет!A591<2000,Расчет!B591<2000),Расчет!G591,0)","v":0},null,null,{"$f":"IF(OR(Расчет!A591>=2000,Расчет!B591>=2000),Расчет!J591,0)","v":0},{"$f":"IF(AND(Расчет!A591<2000,Расчет!B591<2000),Расчет!J591,0)","v":0},null,null,{"$f":"IF(OR(Расчет!A591>=2000,Расчет!B591>=2000),Расчет!M591,0)","v":0},{"$f":"IF(AND(Расчет!A591<2000,Расчет!B591<2000),Расчет!M591,0)","v":0}]
[{"$f":"IF(OR(Расчет!A592>=2000,Расчет!B592>=2000),Расчет!G592,0)","v":0},{"$f":"IF(AND(Расчет!A592<2000,Расчет!B592<2000),Расчет!G592,0)","v":0},null,null,{"$f":"IF(OR(Расчет!A592>=2000,Расчет!B592>=2000),Расчет!J592,0)","v":0},{"$f":"IF(AND(Расчет!A592<2000,Расчет!B592<2000),Расчет!J592,0)","v":0},null,null,{"$f":"IF(OR(Расчет!A592>=2000,Расчет!B592>=2000),Расчет!M592,0)","v":0},{"$f":"IF(AND(Расчет!A592<2000,Расчет!B592<2000),Расчет!M592,0)","v":0}]
[{"$f":"IF(OR(Расчет!A593>=2000,Расчет!B593>=2000),Расчет!G593,0)","v":0},{"$f":"IF(AND(Расчет!A593<2000,Расчет!B593<2000),Расчет!G593,0)","v":0},null,null,{"$f":"IF(OR(Расчет!A593>=2000,Расчет!B593>=2000),Расчет!J593,0)","v":0},{"$f":"IF(AND(Расчет!A593<2000,Расчет!B593<2000),Расчет!J593,0)","v":0},null,null,{"$f":"IF(OR(Расчет!A593>=2000,Расчет!B593>=2000),Расчет!M593,0)","v":0},{"$f":"IF(AND(Расчет!A593<2000,Расчет!B593<2000),Расчет!M593,0)","v":0}]
[{"$f":"IF(OR(Расчет!A594>=2000,Расчет!B594>=2000),Расчет!G594,0)","v":0},{"$f":"IF(AND(Расчет!A594<2000,Расчет!B594<2000),Расчет!G594,0)","v":0},null,null,{"$f":"IF(OR(Расчет!A594>=2000,Расчет!B594>=2000),Расчет!J594,0)","v":0},{"$f":"IF(AND(Расчет!A594<2000,Расчет!B594<2000),Расчет!J594,0)","v":0},null,null,{"$f":"IF(OR(Расчет!A594>=2000,Расчет!B594>=2000),Расчет!M594,0)","v":0},{"$f":"IF(AND(Расчет!A594<2000,Расчет!B594<2000),Расчет!M594,0)","v":0}]
[{"$f":"IF(OR(Расчет!A595>=2000,Расчет!B595>=2000),Расчет!G595,0)","v":0},{"$f":"IF(AND(Расчет!A595<2000,Расчет!B595<2000),Расчет!G595,0)","v":0},null,null,{"$f":"IF(OR(Расчет!A595>=2000,Расчет!B595>=2000),Расчет!J595,0)","v":0},{"$f":"IF(AND(Расчет!A595<2000,Расчет!B595<2000),Расчет!J595,0)","v":0},null,null,{"$f":"IF(OR(Расчет!A595>=2000,Расчет!B595>=2000),Расчет!M595,0)","v":0},{"$f":"IF(AND(Расчет!A595<2000,Расчет!B595<2000),Расчет!M595,0)","v":0}]
[{"$f":"IF(OR(Расчет!A596>=2000,Расчет!B596>=2000),Расчет!G596,0)","v":0},{"$f":"IF(AND(Расчет!A596<2000,Расчет!B596<2000),Расчет!G596,0)","v":0},null,null,{"$f":"IF(OR(Расчет!A596>=2000,Расчет!B596>=2000),Расчет!J596,0)","v":0},{"$f":"IF(AND(Расчет!A596<2000,Расчет!B596<2000),Расчет!J596,0)","v":0},null,null,{"$f":"IF(OR(Расчет!A596>=2000,Расчет!B596>=2000),Расчет!M596,0)","v":0},{"$f":"IF(AND(Расчет!A596<2000,Расчет!B596<2000),Расчет!M596,0)","v":0}]
[{"$f":"IF(OR(Расчет!A597>=2000,Расчет!B597>=2000),Расчет!G597,0)","v":0},{"$f":"IF(AND(Расчет!A597<2000,Расчет!B597<2000),Расчет!G597,0)","v":0},null,null,{"$f":"IF(OR(Расчет!A597>=2000,Расчет!B597>=2000),Расчет!J597,0)","v":0},{"$f":"IF(AND(Расчет!A597<2000,Расчет!B597<2000),Расчет!J597,0)","v":0},null,null,{"$f":"IF(OR(Расчет!A597>=2000,Расчет!B597>=2000),Расчет!M597,0)","v":0},{"$f":"IF(AND(Расчет!A597<2000,Расчет!B597<2000),Расчет!M597,0)","v":0}]
[{"$f":"IF(OR(Расчет!A598>=2000,Расчет!B598>=2000),Расчет!G598,0)","v":0},{"$f":"IF(AND(Расчет!A598<2000,Расчет!B598<2000),Расчет!G598,0)","v":0},null,null,{"$f":"IF(OR(Расчет!A598>=2000,Расчет!B598>=2000),Расчет!J598,0)","v":0},{"$f":"IF(AND(Расчет!A598<2000,Расчет!B598<2000),Расчет!J598,0)","v":0},null,null,{"$f":"IF(OR(Расчет!A598>=2000,Расчет!B598>=2000),Расчет!M598,0)","v":0},{"$f":"IF(AND(Расчет!A598<2000,Расчет!B598<2000),Расчет!M598,0)","v":0}]
[{"$f":"IF(OR(Расчет!A599>=2000,Расчет!B599>=2000),Расчет!G599,0)","v":0},{"$f":"IF(AND(Расчет!A599<2000,Расчет!B599<2000),Расчет!G599,0)","v":0},null,null,{"$f":"IF(OR(Расчет!A599>=2000,Расчет!B599>=2000),Расчет!J599,0)","v":0},{"$f":"IF(AND(Расчет!A599<2000,Расчет!B599<2000),Расчет!J599,0)","v":0},null,null,{"$f":"IF(OR(Расчет!A599>=2000,Расчет!B599>=2000),Расчет!M599,0)","v":0},{"$f":"IF(AND(Расчет!A599<2000,Расчет!B599<2000),Расчет!M599,0)","v":0}]
[{"$f":"IF(OR(Расчет!A600>=2000,Расчет!B600>=2000),Расчет!G600,0)","v":0},{"$f":"IF(AND(Расчет!A600<2000,Расчет!B600<2000),Расчет!G600,0)","v":0},null,null,{"$f":"IF(OR(Расчет!A600>=2000,Расчет!B600>=2000),Расчет!J600,0)","v":0},{"$f":"IF(AND(Расчет!A600<2000,Расчет!B600<2000),Расчет!J600,0)","v":0},null,null,{"$f":"IF(OR(Расчет!A600>=2000,Расчет!B600>=2000),Расчет!M600,0)","v":0},{"$f":"IF(AND(Расчет!A600<2000,Расчет!B600<2000),Расчет!M600,0)","v":0}]
[{"$f":"IF(OR(Расчет!A601>=2000,Расчет!B601>=2000),Расчет!G601,0)","v":0},{"$f":"IF(AND(Расчет!A601<2000,Расчет!B601<2000),Расчет!G601,0)","v":0},null,null,{"$f":"IF(OR(Расчет!A601>=2000,Расчет!B601>=2000),Расчет!J601,0)","v":0},{"$f":"IF(AND(Расчет!A601<2000,Расчет!B601<2000),Расчет!J601,0)","v":0},null,null,{"$f":"IF(OR(Расчет!A601>=2000,Расчет!B601>=2000),Расчет!M601,0)","v":0},{"$f":"IF(AND(Расчет!A601<2000,Расчет!B601<2000),Расчет!M601,0)","v":0}]
[{"$f":"IF(OR(Расчет!A602>=2000,Расчет!B602>=2000),Расчет!G602,0)","v":0},{"$f":"IF(AND(Расчет!A602<2000,Расчет!B602<2000),Расчет!G602,0)","v":0},null,null,{"$f":"IF(OR(Расчет!A602>=2000,Расчет!B602>=2000),Расчет!J602,0)","v":0},{"$f":"IF(AND(Расчет!A602<2000,Расчет!B602<2000),Расчет!J602,0)","v":0},null,null,{"$f":"IF(OR(Расчет!A602>=2000,Расчет!B602>=2000),Расчет!M602,0)","v":0},{"$f":"IF(AND(Расчет!A602<2000,Расчет!B602<2000),Расчет!M602,0)","v":0}]
[{"$f":"IF(OR(Расчет!A603>=2000,Расчет!B603>=2000),Расчет!G603,0)","v":0},{"$f":"IF(AND(Расчет!A603<2000,Расчет!B603<2000),Расчет!G603,0)","v":0},null,null,{"$f":"IF(OR(Расчет!A603>=2000,Расчет!B603>=2000),Расчет!J603,0)","v":0},{"$f":"IF(AND(Расчет!A603<2000,Расчет!B603<2000),Расчет!J603,0)","v":0},null,null,{"$f":"IF(OR(Расчет!A603>=2000,Расчет!B603>=2000),Расчет!M603,0)","v":0},{"$f":"IF(AND(Расчет!A603<2000,Расчет!B603<2000),Расчет!M603,0)","v":0}]
[{"$f":"IF(OR(Расчет!A604>=2000,Расчет!B604>=2000),Расчет!G604,0)","v":0},{"$f":"IF(AND(Расчет!A604<2000,Расчет!B604<2000),Расчет!G604,0)","v":0},null,null,{"$f":"IF(OR(Расчет!A604>=2000,Расчет!B604>=2000),Расчет!J604,0)","v":0},{"$f":"IF(AND(Расчет!A604<2000,Расчет!B604<2000),Расчет!J604,0)","v":0},null,null,{"$f":"IF(OR(Расчет!A604>=2000,Расчет!B604>=2000),Расчет!M604,0)","v":0},{"$f":"IF(AND(Расчет!A604<2000,Расчет!B604<2000),Расчет!M604,0)","v":0}]
[{"$f":"IF(OR(Расчет!A605>=2000,Расчет!B605>=2000),Расчет!G605,0)","v":0},{"$f":"IF(AND(Расчет!A605<2000,Расчет!B605<2000),Расчет!G605,0)","v":0},null,null,{"$f":"IF(OR(Расчет!A605>=2000,Расчет!B605>=2000),Расчет!J605,0)","v":0},{"$f":"IF(AND(Расчет!A605<2000,Расчет!B605<2000),Расчет!J605,0)","v":0},null,null,{"$f":"IF(OR(Расчет!A605>=2000,Расчет!B605>=2000),Расчет!M605,0)","v":0},{"$f":"IF(AND(Расчет!A605<2000,Расчет!B605<2000),Расчет!M605,0)","v":0}]
[{"$f":"IF(OR(Расчет!A606>=2000,Расчет!B606>=2000),Расчет!G606,0)","v":0},{"$f":"IF(AND(Расчет!A606<2000,Расчет!B606<2000),Расчет!G606,0)","v":0},null,null,{"$f":"IF(OR(Расчет!A606>=2000,Расчет!B606>=2000),Расчет!J606,0)","v":0},{"$f":"IF(AND(Расчет!A606<2000,Расчет!B606<2000),Расчет!J606,0)","v":0},null,null,{"$f":"IF(OR(Расчет!A606>=2000,Расчет!B606>=2000),Расчет!M606,0)","v":0},{"$f":"IF(AND(Расчет!A606<2000,Расчет!B606<2000),Расчет!M606,0)","v":0}]
[{"$f":"IF(OR(Расчет!A607>=2000,Расчет!B607>=2000),Расчет!G607,0)","v":0},{"$f":"IF(AND(Расчет!A607<2000,Расчет!B607<2000),Расчет!G607,0)","v":0},null,null,{"$f":"IF(OR(Расчет!A607>=2000,Расчет!B607>=2000),Расчет!J607,0)","v":0},{"$f":"IF(AND(Расчет!A607<2000,Расчет!B607<2000),Расчет!J607,0)","v":0},null,null,{"$f":"IF(OR(Расчет!A607>=2000,Расчет!B607>=2000),Расчет!M607,0)","v":0},{"$f":"IF(AND(Расчет!A607<2000,Расчет!B607<2000),Расчет!M607,0)","v":0}]
[{"$f":"IF(OR(Расчет!A608>=2000,Расчет!B608>=2000),Расчет!G608,0)","v":0},{"$f":"IF(AND(Расчет!A608<2000,Расчет!B608<2000),Расчет!G608,0)","v":0},null,null,{"$f":"IF(OR(Расчет!A608>=2000,Расчет!B608>=2000),Расчет!J608,0)","v":0},{"$f":"IF(AND(Расчет!A608<2000,Расчет!B608<2000),Расчет!J608,0)","v":0},null,null,{"$f":"IF(OR(Расчет!A608>=2000,Расчет!B608>=2000),Расчет!M608,0)","v":0},{"$f":"IF(AND(Расчет!A608<2000,Расчет!B608<2000),Расчет!M608,0)","v":0}]
[{"$f":"IF(OR(Расчет!A609>=2000,Расчет!B609>=2000),Расчет!G609,0)","v":0},{"$f":"IF(AND(Расчет!A609<2000,Расчет!B609<2000),Расчет!G609,0)","v":0},null,null,{"$f":"IF(OR(Расчет!A609>=2000,Расчет!B609>=2000),Расчет!J609,0)","v":0},{"$f":"IF(AND(Расчет!A609<2000,Расчет!B609<2000),Расчет!J609,0)","v":0},null,null,{"$f":"IF(OR(Расчет!A609>=2000,Расчет!B609>=2000),Расчет!M609,0)","v":0},{"$f":"IF(AND(Расчет!A609<2000,Расчет!B609<2000),Расчет!M609,0)","v":0}]
[{"$f":"IF(OR(Расчет!A610>=2000,Расчет!B610>=2000),Расчет!G610,0)","v":0},{"$f":"IF(AND(Расчет!A610<2000,Расчет!B610<2000),Расчет!G610,0)","v":0},null,null,{"$f":"IF(OR(Расчет!A610>=2000,Расчет!B610>=2000),Расчет!J610,0)","v":0},{"$f":"IF(AND(Расчет!A610<2000,Расчет!B610<2000),Расчет!J610,0)","v":0},null,null,{"$f":"IF(OR(Расчет!A610>=2000,Расчет!B610>=2000),Расчет!M610,0)","v":0},{"$f":"IF(AND(Расчет!A610<2000,Расчет!B610<2000),Расчет!M610,0)","v":0}]
[{"$f":"IF(OR(Расчет!A611>=2000,Расчет!B611>=2000),Расчет!G611,0)","v":0},{"$f":"IF(AND(Расчет!A611<2000,Расчет!B611<2000),Расчет!G611,0)","v":0},null,null,{"$f":"IF(OR(Расчет!A611>=2000,Расчет!B611>=2000),Расчет!J611,0)","v":0},{"$f":"IF(AND(Расчет!A611<2000,Расчет!B611<2000),Расчет!J611,0)","v":0},null,null,{"$f":"IF(OR(Расчет!A611>=2000,Расчет!B611>=2000),Расчет!M611,0)","v":0},{"$f":"IF(AND(Расчет!A611<2000,Расчет!B611<2000),Расчет!M611,0)","v":0}]
[{"$f":"IF(OR(Расчет!A612>=2000,Расчет!B612>=2000),Расчет!G612,0)","v":0},{"$f":"IF(AND(Расчет!A612<2000,Расчет!B612<2000),Расчет!G612,0)","v":0},null,null,{"$f":"IF(OR(Расчет!A612>=2000,Расчет!B612>=2000),Расчет!J612,0)","v":0},{"$f":"IF(AND(Расчет!A612<2000,Расчет!B612<2000),Расчет!J612,0)","v":0},null,null,{"$f":"IF(OR(Расчет!A612>=2000,Расчет!B612>=2000),Расчет!M612,0)","v":0},{"$f":"IF(AND(Расчет!A612<2000,Расчет!B612<2000),Расчет!M612,0)","v":0}]
[{"$f":"IF(OR(Расчет!A613>=2000,Расчет!B613>=2000),Расчет!G613,0)","v":0},{"$f":"IF(AND(Расчет!A613<2000,Расчет!B613<2000),Расчет!G613,0)","v":0},null,null,{"$f":"IF(OR(Расчет!A613>=2000,Расчет!B613>=2000),Расчет!J613,0)","v":0},{"$f":"IF(AND(Расчет!A613<2000,Расчет!B613<2000),Расчет!J613,0)","v":0},null,null,{"$f":"IF(OR(Расчет!A613>=2000,Расчет!B613>=2000),Расчет!M613,0)","v":0},{"$f":"IF(AND(Расчет!A613<2000,Расчет!B613<2000),Расчет!M613,0)","v":0}]
[{"$f":"IF(OR(Расчет!A614>=2000,Расчет!B614>=2000),Расчет!G614,0)","v":0},{"$f":"IF(AND(Расчет!A614<2000,Расчет!B614<2000),Расчет!G614,0)","v":0},null,null,{"$f":"IF(OR(Расчет!A614>=2000,Расчет!B614>=2000),Расчет!J614,0)","v":0},{"$f":"IF(AND(Расчет!A614<2000,Расчет!B614<2000),Расчет!J614,0)","v":0},null,null,{"$f":"IF(OR(Расчет!A614>=2000,Расчет!B614>=2000),Расчет!M614,0)","v":0},{"$f":"IF(AND(Расчет!A614<2000,Расчет!B614<2000),Расчет!M614,0)","v":0}]
[{"$f":"IF(OR(Расчет!A615>=2000,Расчет!B615>=2000),Расчет!G615,0)","v":0},{"$f":"IF(AND(Расчет!A615<2000,Расчет!B615<2000),Расчет!G615,0)","v":0},null,null,{"$f":"IF(OR(Расчет!A615>=2000,Расчет!B615>=2000),Расчет!J615,0)","v":0},{"$f":"IF(AND(Расчет!A615<2000,Расчет!B615<2000),Расчет!J615,0)","v":0},null,null,{"$f":"IF(OR(Расчет!A615>=2000,Расчет!B615>=2000),Расчет!M615,0)","v":0},{"$f":"IF(AND(Расчет!A615<2000,Расчет!B615<2000),Расчет!M615,0)","v":0}]
[{"$f":"IF(OR(Расчет!A616>=2000,Расчет!B616>=2000),Расчет!G616,0)","v":0},{"$f":"IF(AND(Расчет!A616<2000,Расчет!B616<2000),Расчет!G616,0)","v":0},null,null,{"$f":"IF(OR(Расчет!A616>=2000,Расчет!B616>=2000),Расчет!J616,0)","v":0},{"$f":"IF(AND(Расчет!A616<2000,Расчет!B616<2000),Расчет!J616,0)","v":0},null,null,{"$f":"IF(OR(Расчет!A616>=2000,Расчет!B616>=2000),Расчет!M616,0)","v":0},{"$f":"IF(AND(Расчет!A616<2000,Расчет!B616<2000),Расчет!M616,0)","v":0}]
[{"$f":"IF(OR(Расчет!A617>=2000,Расчет!B617>=2000),Расчет!G617,0)","v":0},{"$f":"IF(AND(Расчет!A617<2000,Расчет!B617<2000),Расчет!G617,0)","v":0},null,null,{"$f":"IF(OR(Расчет!A617>=2000,Расчет!B617>=2000),Расчет!J617,0)","v":0},{"$f":"IF(AND(Расчет!A617<2000,Расчет!B617<2000),Расчет!J617,0)","v":0},null,null,{"$f":"IF(OR(Расчет!A617>=2000,Расчет!B617>=2000),Расчет!M617,0)","v":0},{"$f":"IF(AND(Расчет!A617<2000,Расчет!B617<2000),Расчет!M617,0)","v":0}]
[{"$f":"IF(OR(Расчет!A618>=2000,Расчет!B618>=2000),Расчет!G618,0)","v":0},{"$f":"IF(AND(Расчет!A618<2000,Расчет!B618<2000),Расчет!G618,0)","v":0},null,null,{"$f":"IF(OR(Расчет!A618>=2000,Расчет!B618>=2000),Расчет!J618,0)","v":0},{"$f":"IF(AND(Расчет!A618<2000,Расчет!B618<2000),Расчет!J618,0)","v":0},null,null,{"$f":"IF(OR(Расчет!A618>=2000,Расчет!B618>=2000),Расчет!M618,0)","v":0},{"$f":"IF(AND(Расчет!A618<2000,Расчет!B618<2000),Расчет!M618,0)","v":0}]
[{"$f":"IF(OR(Расчет!A619>=2000,Расчет!B619>=2000),Расчет!G619,0)","v":0},{"$f":"IF(AND(Расчет!A619<2000,Расчет!B619<2000),Расчет!G619,0)","v":0},null,null,{"$f":"IF(OR(Расчет!A619>=2000,Расчет!B619>=2000),Расчет!J619,0)","v":0},{"$f":"IF(AND(Расчет!A619<2000,Расчет!B619<2000),Расчет!J619,0)","v":0},null,null,{"$f":"IF(OR(Расчет!A619>=2000,Расчет!B619>=2000),Расчет!M619,0)","v":0},{"$f":"IF(AND(Расчет!A619<2000,Расчет!B619<2000),Расчет!M619,0)","v":0}]
[{"$f":"IF(OR(Расчет!A620>=2000,Расчет!B620>=2000),Расчет!G620,0)","v":0},{"$f":"IF(AND(Расчет!A620<2000,Расчет!B620<2000),Расчет!G620,0)","v":0},null,null,{"$f":"IF(OR(Расчет!A620>=2000,Расчет!B620>=2000),Расчет!J620,0)","v":0},{"$f":"IF(AND(Расчет!A620<2000,Расчет!B620<2000),Расчет!J620,0)","v":0},null,null,{"$f":"IF(OR(Расчет!A620>=2000,Расчет!B620>=2000),Расчет!M620,0)","v":0},{"$f":"IF(AND(Расчет!A620<2000,Расчет!B620<2000),Расчет!M620,0)","v":0}]
[{"$f":"IF(OR(Расчет!A621>=2000,Расчет!B621>=2000),Расчет!G621,0)","v":0},{"$f":"IF(AND(Расчет!A621<2000,Расчет!B621<2000),Расчет!G621,0)","v":0},null,null,{"$f":"IF(OR(Расчет!A621>=2000,Расчет!B621>=2000),Расчет!J621,0)","v":0},{"$f":"IF(AND(Расчет!A621<2000,Расчет!B621<2000),Расчет!J621,0)","v":0},null,null,{"$f":"IF(OR(Расчет!A621>=2000,Расчет!B621>=2000),Расчет!M621,0)","v":0},{"$f":"IF(AND(Расчет!A621<2000,Расчет!B621<2000),Расчет!M621,0)","v":0}]
[{"$f":"IF(OR(Расчет!A622>=2000,Расчет!B622>=2000),Расчет!G622,0)","v":0},{"$f":"IF(AND(Расчет!A622<2000,Расчет!B622<2000),Расчет!G622,0)","v":0},null,null,{"$f":"IF(OR(Расчет!A622>=2000,Расчет!B622>=2000),Расчет!J622,0)","v":0},{"$f":"IF(AND(Расчет!A622<2000,Расчет!B622<2000),Расчет!J622,0)","v":0},null,null,{"$f":"IF(OR(Расчет!A622>=2000,Расчет!B622>=2000),Расчет!M622,0)","v":0},{"$f":"IF(AND(Расчет!A622<2000,Расчет!B622<2000),Расчет!M622,0)","v":0}]
[{"$f":"IF(OR(Расчет!A623>=2000,Расчет!B623>=2000),Расчет!G623,0)","v":0},{"$f":"IF(AND(Расчет!A623<2000,Расчет!B623<2000),Расчет!G623,0)","v":0},null,null,{"$f":"IF(OR(Расчет!A623>=2000,Расчет!B623>=2000),Расчет!J623,0)","v":0},{"$f":"IF(AND(Расчет!A623<2000,Расчет!B623<2000),Расчет!J623,0)","v":0},null,null,{"$f":"IF(OR(Расчет!A623>=2000,Расчет!B623>=2000),Расчет!M623,0)","v":0},{"$f":"IF(AND(Расчет!A623<2000,Расчет!B623<2000),Расчет!M623,0)","v":0}]
[{"$f":"IF(OR(Расчет!A624>=2000,Расчет!B624>=2000),Расчет!G624,0)","v":0},{"$f":"IF(AND(Расчет!A624<2000,Расчет!B624<2000),Расчет!G624,0)","v":0},null,null,{"$f":"IF(OR(Расчет!A624>=2000,Расчет!B624>=2000),Расчет!J624,0)","v":0},{"$f":"IF(AND(Расчет!A624<2000,Расчет!B624<2000),Расчет!J624,0)","v":0},null,null,{"$f":"IF(OR(Расчет!A624>=2000,Расчет!B624>=2000),Расчет!M624,0)","v":0},{"$f":"IF(AND(Расчет!A624<2000,Расчет!B624<2000),Расчет!M624,0)","v":0}]
[{"$f":"IF(OR(Расчет!A625>=2000,Расчет!B625>=2000),Расчет!G625,0)","v":0},{"$f":"IF(AND(Расчет!A625<2000,Расчет!B625<2000),Расчет!G625,0)","v":0},null,null,{"$f":"IF(OR(Расчет!A625>=2000,Расчет!B625>=2000),Расчет!J625,0)","v":0},{"$f":"IF(AND(Расчет!A625<2000,Расчет!B625<2000),Расчет!J625,0)","v":0},null,null,{"$f":"IF(OR(Расчет!A625>=2000,Расчет!B625>=2000),Расчет!M625,0)","v":0},{"$f":"IF(AND(Расчет!A625<2000,Расчет!B625<2000),Расчет!M625,0)","v":0}]
[{"$f":"IF(OR(Расчет!A626>=2000,Расчет!B626>=2000),Расчет!G626,0)","v":0},{"$f":"IF(AND(Расчет!A626<2000,Расчет!B626<2000),Расчет!G626,0)","v":0},null,null,{"$f":"IF(OR(Расчет!A626>=2000,Расчет!B626>=2000),Расчет!J626,0)","v":0},{"$f":"IF(AND(Расчет!A626<2000,Расчет!B626<2000),Расчет!J626,0)","v":0},null,null,{"$f":"IF(OR(Расчет!A626>=2000,Расчет!B626>=2000),Расчет!M626,0)","v":0},{"$f":"IF(AND(Расчет!A626<2000,Расчет!B626<2000),Расчет!M626,0)","v":0}]
[{"$f":"IF(OR(Расчет!A627>=2000,Расчет!B627>=2000),Расчет!G627,0)","v":0},{"$f":"IF(AND(Расчет!A627<2000,Расчет!B627<2000),Расчет!G627,0)","v":0},null,null,{"$f":"IF(OR(Расчет!A627>=2000,Расчет!B627>=2000),Расчет!J627,0)","v":0},{"$f":"IF(AND(Расчет!A627<2000,Расчет!B627<2000),Расчет!J627,0)","v":0},null,null,{"$f":"IF(OR(Расчет!A627>=2000,Расчет!B627>=2000),Расчет!M627,0)","v":0},{"$f":"IF(AND(Расчет!A627<2000,Расчет!B627<2000),Расчет!M627,0)","v":0}]
[{"$f":"IF(OR(Расчет!A628>=2000,Расчет!B628>=2000),Расчет!G628,0)","v":0},{"$f":"IF(AND(Расчет!A628<2000,Расчет!B628<2000),Расчет!G628,0)","v":0},null,null,{"$f":"IF(OR(Расчет!A628>=2000,Расчет!B628>=2000),Расчет!J628,0)","v":0},{"$f":"IF(AND(Расчет!A628<2000,Расчет!B628<2000),Расчет!J628,0)","v":0},null,null,{"$f":"IF(OR(Расчет!A628>=2000,Расчет!B628>=2000),Расчет!M628,0)","v":0},{"$f":"IF(AND(Расчет!A628<2000,Расчет!B628<2000),Расчет!M628,0)","v":0}]
[{"$f":"IF(OR(Расчет!A629>=2000,Расчет!B629>=2000),Расчет!G629,0)","v":0},{"$f":"IF(AND(Расчет!A629<2000,Расчет!B629<2000),Расчет!G629,0)","v":0},null,null,{"$f":"IF(OR(Расчет!A629>=2000,Расчет!B629>=2000),Расчет!J629,0)","v":0},{"$f":"IF(AND(Расчет!A629<2000,Расчет!B629<2000),Расчет!J629,0)","v":0},null,null,{"$f":"IF(OR(Расчет!A629>=2000,Расчет!B629>=2000),Расчет!M629,0)","v":0},{"$f":"IF(AND(Расчет!A629<2000,Расчет!B629<2000),Расчет!M629,0)","v":0}]
[{"$f":"IF(OR(Расчет!A630>=2000,Расчет!B630>=2000),Расчет!G630,0)","v":0},{"$f":"IF(AND(Расчет!A630<2000,Расчет!B630<2000),Расчет!G630,0)","v":0},null,null,{"$f":"IF(OR(Расчет!A630>=2000,Расчет!B630>=2000),Расчет!J630,0)","v":0},{"$f":"IF(AND(Расчет!A630<2000,Расчет!B630<2000),Расчет!J630,0)","v":0},null,null,{"$f":"IF(OR(Расчет!A630>=2000,Расчет!B630>=2000),Расчет!M630,0)","v":0},{"$f":"IF(AND(Расчет!A630<2000,Расчет!B630<2000),Расчет!M630,0)","v":0}]
[{"$f":"IF(OR(Расчет!A631>=2000,Расчет!B631>=2000),Расчет!G631,0)","v":0},{"$f":"IF(AND(Расчет!A631<2000,Расчет!B631<2000),Расчет!G631,0)","v":0},null,null,{"$f":"IF(OR(Расчет!A631>=2000,Расчет!B631>=2000),Расчет!J631,0)","v":0},{"$f":"IF(AND(Расчет!A631<2000,Расчет!B631<2000),Расчет!J631,0)","v":0},null,null,{"$f":"IF(OR(Расчет!A631>=2000,Расчет!B631>=2000),Расчет!M631,0)","v":0},{"$f":"IF(AND(Расчет!A631<2000,Расчет!B631<2000),Расчет!M631,0)","v":0}]
[{"$f":"IF(OR(Расчет!A632>=2000,Расчет!B632>=2000),Расчет!G632,0)","v":0},{"$f":"IF(AND(Расчет!A632<2000,Расчет!B632<2000),Расчет!G632,0)","v":0},null,null,{"$f":"IF(OR(Расчет!A632>=2000,Расчет!B632>=2000),Расчет!J632,0)","v":0},{"$f":"IF(AND(Расчет!A632<2000,Расчет!B632<2000),Расчет!J632,0)","v":0},null,null,{"$f":"IF(OR(Расчет!A632>=2000,Расчет!B632>=2000),Расчет!M632,0)","v":0},{"$f":"IF(AND(Расчет!A632<2000,Расчет!B632<2000),Расчет!M632,0)","v":0}]
[{"$f":"IF(OR(Расчет!A633>=2000,Расчет!B633>=2000),Расчет!G633,0)","v":0},{"$f":"IF(AND(Расчет!A633<2000,Расчет!B633<2000),Расчет!G633,0)","v":0},null,null,{"$f":"IF(OR(Расчет!A633>=2000,Расчет!B633>=2000),Расчет!J633,0)","v":0},{"$f":"IF(AND(Расчет!A633<2000,Расчет!B633<2000),Расчет!J633,0)","v":0},null,null,{"$f":"IF(OR(Расчет!A633>=2000,Расчет!B633>=2000),Расчет!M633,0)","v":0},{"$f":"IF(AND(Расчет!A633<2000,Расчет!B633<2000),Расчет!M633,0)","v":0}]
[{"$f":"IF(OR(Расчет!A634>=2000,Расчет!B634>=2000),Расчет!G634,0)","v":0},{"$f":"IF(AND(Расчет!A634<2000,Расчет!B634<2000),Расчет!G634,0)","v":0},null,null,{"$f":"IF(OR(Расчет!A634>=2000,Расчет!B634>=2000),Расчет!J634,0)","v":0},{"$f":"IF(AND(Расчет!A634<2000,Расчет!B634<2000),Расчет!J634,0)","v":0},null,null,{"$f":"IF(OR(Расчет!A634>=2000,Расчет!B634>=2000),Расчет!M634,0)","v":0},{"$f":"IF(AND(Расчет!A634<2000,Расчет!B634<2000),Расчет!M634,0)","v":0}]
[{"$f":"IF(OR(Расчет!A635>=2000,Расчет!B635>=2000),Расчет!G635,0)","v":0},{"$f":"IF(AND(Расчет!A635<2000,Расчет!B635<2000),Расчет!G635,0)","v":0},null,null,{"$f":"IF(OR(Расчет!A635>=2000,Расчет!B635>=2000),Расчет!J635,0)","v":0},{"$f":"IF(AND(Расчет!A635<2000,Расчет!B635<2000),Расчет!J635,0)","v":0},null,null,{"$f":"IF(OR(Расчет!A635>=2000,Расчет!B635>=2000),Расчет!M635,0)","v":0},{"$f":"IF(AND(Расчет!A635<2000,Расчет!B635<2000),Расчет!M635,0)","v":0}]
[{"$f":"IF(OR(Расчет!A636>=2000,Расчет!B636>=2000),Расчет!G636,0)","v":0},{"$f":"IF(AND(Расчет!A636<2000,Расчет!B636<2000),Расчет!G636,0)","v":0},null,null,{"$f":"IF(OR(Расчет!A636>=2000,Расчет!B636>=2000),Расчет!J636,0)","v":0},{"$f":"IF(AND(Расчет!A636<2000,Расчет!B636<2000),Расчет!J636,0)","v":0},null,null,{"$f":"IF(OR(Расчет!A636>=2000,Расчет!B636>=2000),Расчет!M636,0)","v":0},{"$f":"IF(AND(Расчет!A636<2000,Расчет!B636<2000),Расчет!M636,0)","v":0}]
[{"$f":"IF(OR(Расчет!A637>=2000,Расчет!B637>=2000),Расчет!G637,0)","v":0},{"$f":"IF(AND(Расчет!A637<2000,Расчет!B637<2000),Расчет!G637,0)","v":0},null,null,{"$f":"IF(OR(Расчет!A637>=2000,Расчет!B637>=2000),Расчет!J637,0)","v":0},{"$f":"IF(AND(Расчет!A637<2000,Расчет!B637<2000),Расчет!J637,0)","v":0},null,null,{"$f":"IF(OR(Расчет!A637>=2000,Расчет!B637>=2000),Расчет!M637,0)","v":0},{"$f":"IF(AND(Расчет!A637<2000,Расчет!B637<2000),Расчет!M637,0)","v":0}]
[{"$f":"IF(OR(Расчет!A638>=2000,Расчет!B638>=2000),Расчет!G638,0)","v":0},{"$f":"IF(AND(Расчет!A638<2000,Расчет!B638<2000),Расчет!G638,0)","v":0},null,null,{"$f":"IF(OR(Расчет!A638>=2000,Расчет!B638>=2000),Расчет!J638,0)","v":0},{"$f":"IF(AND(Расчет!A638<2000,Расчет!B638<2000),Расчет!J638,0)","v":0},null,null,{"$f":"IF(OR(Расчет!A638>=2000,Расчет!B638>=2000),Расчет!M638,0)","v":0},{"$f":"IF(AND(Расчет!A638<2000,Расчет!B638<2000),Расчет!M638,0)","v":0}]
[{"$f":"IF(OR(Расчет!A639>=2000,Расчет!B639>=2000),Расчет!G639,0)","v":0},{"$f":"IF(AND(Расчет!A639<2000,Расчет!B639<2000),Расчет!G639,0)","v":0},null,null,{"$f":"IF(OR(Расчет!A639>=2000,Расчет!B639>=2000),Расчет!J639,0)","v":0},{"$f":"IF(AND(Расчет!A639<2000,Расчет!B639<2000),Расчет!J639,0)","v":0},null,null,{"$f":"IF(OR(Расчет!A639>=2000,Расчет!B639>=2000),Расчет!M639,0)","v":0},{"$f":"IF(AND(Расчет!A639<2000,Расчет!B639<2000),Расчет!M639,0)","v":0}]
[{"$f":"IF(OR(Расчет!A640>=2000,Расчет!B640>=2000),Расчет!G640,0)","v":0},{"$f":"IF(AND(Расчет!A640<2000,Расчет!B640<2000),Расчет!G640,0)","v":0},null,null,{"$f":"IF(OR(Расчет!A640>=2000,Расчет!B640>=2000),Расчет!J640,0)","v":0},{"$f":"IF(AND(Расчет!A640<2000,Расчет!B640<2000),Расчет!J640,0)","v":0},null,null,{"$f":"IF(OR(Расчет!A640>=2000,Расчет!B640>=2000),Расчет!M640,0)","v":0},{"$f":"IF(AND(Расчет!A640<2000,Расчет!B640<2000),Расчет!M640,0)","v":0}]
[{"$f":"IF(OR(Расчет!A641>=2000,Расчет!B641>=2000),Расчет!G641,0)","v":0},{"$f":"IF(AND(Расчет!A641<2000,Расчет!B641<2000),Расчет!G641,0)","v":0},null,null,{"$f":"IF(OR(Расчет!A641>=2000,Расчет!B641>=2000),Расчет!J641,0)","v":0},{"$f":"IF(AND(Расчет!A641<2000,Расчет!B641<2000),Расчет!J641,0)","v":0},null,null,{"$f":"IF(OR(Расчет!A641>=2000,Расчет!B641>=2000),Расчет!M641,0)","v":0},{"$f":"IF(AND(Расчет!A641<2000,Расчет!B641<2000),Расчет!M641,0)","v":0}]
[{"$f":"IF(OR(Расчет!A642>=2000,Расчет!B642>=2000),Расчет!G642,0)","v":0},{"$f":"IF(AND(Расчет!A642<2000,Расчет!B642<2000),Расчет!G642,0)","v":0},null,null,{"$f":"IF(OR(Расчет!A642>=2000,Расчет!B642>=2000),Расчет!J642,0)","v":0},{"$f":"IF(AND(Расчет!A642<2000,Расчет!B642<2000),Расчет!J642,0)","v":0},null,null,{"$f":"IF(OR(Расчет!A642>=2000,Расчет!B642>=2000),Расчет!M642,0)","v":0},{"$f":"IF(AND(Расчет!A642<2000,Расчет!B642<2000),Расчет!M642,0)","v":0}]
[{"$f":"IF(OR(Расчет!A643>=2000,Расчет!B643>=2000),Расчет!G643,0)","v":0},{"$f":"IF(AND(Расчет!A643<2000,Расчет!B643<2000),Расчет!G643,0)","v":0},null,null,{"$f":"IF(OR(Расчет!A643>=2000,Расчет!B643>=2000),Расчет!J643,0)","v":0},{"$f":"IF(AND(Расчет!A643<2000,Расчет!B643<2000),Расчет!J643,0)","v":0},null,null,{"$f":"IF(OR(Расчет!A643>=2000,Расчет!B643>=2000),Расчет!M643,0)","v":0},{"$f":"IF(AND(Расчет!A643<2000,Расчет!B643<2000),Расчет!M643,0)","v":0}]
[{"$f":"IF(OR(Расчет!A644>=2000,Расчет!B644>=2000),Расчет!G644,0)","v":0},{"$f":"IF(AND(Расчет!A644<2000,Расчет!B644<2000),Расчет!G644,0)","v":0},null,null,{"$f":"IF(OR(Расчет!A644>=2000,Расчет!B644>=2000),Расчет!J644,0)","v":0},{"$f":"IF(AND(Расчет!A644<2000,Расчет!B644<2000),Расчет!J644,0)","v":0},null,null,{"$f":"IF(OR(Расчет!A644>=2000,Расчет!B644>=2000),Расчет!M644,0)","v":0},{"$f":"IF(AND(Расчет!A644<2000,Расчет!B644<2000),Расчет!M644,0)","v":0}]
[{"$f":"IF(OR(Расчет!A645>=2000,Расчет!B645>=2000),Расчет!G645,0)","v":0},{"$f":"IF(AND(Расчет!A645<2000,Расчет!B645<2000),Расчет!G645,0)","v":0},null,null,{"$f":"IF(OR(Расчет!A645>=2000,Расчет!B645>=2000),Расчет!J645,0)","v":0},{"$f":"IF(AND(Расчет!A645<2000,Расчет!B645<2000),Расчет!J645,0)","v":0},null,null,{"$f":"IF(OR(Расчет!A645>=2000,Расчет!B645>=2000),Расчет!M645,0)","v":0},{"$f":"IF(AND(Расчет!A645<2000,Расчет!B645<2000),Расчет!M645,0)","v":0}]
[{"$f":"IF(OR(Расчет!A646>=2000,Расчет!B646>=2000),Расчет!G646,0)","v":0},{"$f":"IF(AND(Расчет!A646<2000,Расчет!B646<2000),Расчет!G646,0)","v":0},null,null,{"$f":"IF(OR(Расчет!A646>=2000,Расчет!B646>=2000),Расчет!J646,0)","v":0},{"$f":"IF(AND(Расчет!A646<2000,Расчет!B646<2000),Расчет!J646,0)","v":0},null,null,{"$f":"IF(OR(Расчет!A646>=2000,Расчет!B646>=2000),Расчет!M646,0)","v":0},{"$f":"IF(AND(Расчет!A646<2000,Расчет!B646<2000),Расчет!M646,0)","v":0}]
[{"$f":"IF(OR(Расчет!A647>=2000,Расчет!B647>=2000),Расчет!G647,0)","v":0},{"$f":"IF(AND(Расчет!A647<2000,Расчет!B647<2000),Расчет!G647,0)","v":0},null,null,{"$f":"IF(OR(Расчет!A647>=2000,Расчет!B647>=2000),Расчет!J647,0)","v":0},{"$f":"IF(AND(Расчет!A647<2000,Расчет!B647<2000),Расчет!J647,0)","v":0},null,null,{"$f":"IF(OR(Расчет!A647>=2000,Расчет!B647>=2000),Расчет!M647,0)","v":0},{"$f":"IF(AND(Расчет!A647<2000,Расчет!B647<2000),Расчет!M647,0)","v":0}]
[{"$f":"IF(OR(Расчет!A648>=2000,Расчет!B648>=2000),Расчет!G648,0)","v":0},{"$f":"IF(AND(Расчет!A648<2000,Расчет!B648<2000),Расчет!G648,0)","v":0},null,null,{"$f":"IF(OR(Расчет!A648>=2000,Расчет!B648>=2000),Расчет!J648,0)","v":0},{"$f":"IF(AND(Расчет!A648<2000,Расчет!B648<2000),Расчет!J648,0)","v":0},null,null,{"$f":"IF(OR(Расчет!A648>=2000,Расчет!B648>=2000),Расчет!M648,0)","v":0},{"$f":"IF(AND(Расчет!A648<2000,Расчет!B648<2000),Расчет!M648,0)","v":0}]
[{"$f":"IF(OR(Расчет!A649>=2000,Расчет!B649>=2000),Расчет!G649,0)","v":0},{"$f":"IF(AND(Расчет!A649<2000,Расчет!B649<2000),Расчет!G649,0)","v":0},null,null,{"$f":"IF(OR(Расчет!A649>=2000,Расчет!B649>=2000),Расчет!J649,0)","v":0},{"$f":"IF(AND(Расчет!A649<2000,Расчет!B649<2000),Расчет!J649,0)","v":0},null,null,{"$f":"IF(OR(Расчет!A649>=2000,Расчет!B649>=2000),Расчет!M649,0)","v":0},{"$f":"IF(AND(Расчет!A649<2000,Расчет!B649<2000),Расчет!M649,0)","v":0}]
[{"$f":"IF(OR(Расчет!A650>=2000,Расчет!B650>=2000),Расчет!G650,0)","v":0},{"$f":"IF(AND(Расчет!A650<2000,Расчет!B650<2000),Расчет!G650,0)","v":0},null,null,{"$f":"IF(OR(Расчет!A650>=2000,Расчет!B650>=2000),Расчет!J650,0)","v":0},{"$f":"IF(AND(Расчет!A650<2000,Расчет!B650<2000),Расчет!J650,0)","v":0},null,null,{"$f":"IF(OR(Расчет!A650>=2000,Расчет!B650>=2000),Расчет!M650,0)","v":0},{"$f":"IF(AND(Расчет!A650<2000,Расчет!B650<2000),Расчет!M650,0)","v":0}]
[{"$f":"IF(OR(Расчет!A651>=2000,Расчет!B651>=2000),Расчет!G651,0)","v":0},{"$f":"IF(AND(Расчет!A651<2000,Расчет!B651<2000),Расчет!G651,0)","v":0},null,null,{"$f":"IF(OR(Расчет!A651>=2000,Расчет!B651>=2000),Расчет!J651,0)","v":0},{"$f":"IF(AND(Расчет!A651<2000,Расчет!B651<2000),Расчет!J651,0)","v":0},null,null,{"$f":"IF(OR(Расчет!A651>=2000,Расчет!B651>=2000),Расчет!M651,0)","v":0},{"$f":"IF(AND(Расчет!A651<2000,Расчет!B651<2000),Расчет!M651,0)","v":0}]
[{"$f":"IF(OR(Расчет!A652>=2000,Расчет!B652>=2000),Расчет!G652,0)","v":0},{"$f":"IF(AND(Расчет!A652<2000,Расчет!B652<2000),Расчет!G652,0)","v":0},null,null,{"$f":"IF(OR(Расчет!A652>=2000,Расчет!B652>=2000),Расчет!J652,0)","v":0},{"$f":"IF(AND(Расчет!A652<2000,Расчет!B652<2000),Расчет!J652,0)","v":0},null,null,{"$f":"IF(OR(Расчет!A652>=2000,Расчет!B652>=2000),Расчет!M652,0)","v":0},{"$f":"IF(AND(Расчет!A652<2000,Расчет!B652<2000),Расчет!M652,0)","v":0}]
[{"$f":"IF(OR(Расчет!A653>=2000,Расчет!B653>=2000),Расчет!G653,0)","v":0},{"$f":"IF(AND(Расчет!A653<2000,Расчет!B653<2000),Расчет!G653,0)","v":0},null,null,{"$f":"IF(OR(Расчет!A653>=2000,Расчет!B653>=2000),Расчет!J653,0)","v":0},{"$f":"IF(AND(Расчет!A653<2000,Расчет!B653<2000),Расчет!J653,0)","v":0},null,null,{"$f":"IF(OR(Расчет!A653>=2000,Расчет!B653>=2000),Расчет!M653,0)","v":0},{"$f":"IF(AND(Расчет!A653<2000,Расчет!B653<2000),Расчет!M653,0)","v":0}]
[{"$f":"IF(OR(Расчет!A654>=2000,Расчет!B654>=2000),Расчет!G654,0)","v":0},{"$f":"IF(AND(Расчет!A654<2000,Расчет!B654<2000),Расчет!G654,0)","v":0},null,null,{"$f":"IF(OR(Расчет!A654>=2000,Расчет!B654>=2000),Расчет!J654,0)","v":0},{"$f":"IF(AND(Расчет!A654<2000,Расчет!B654<2000),Расчет!J654,0)","v":0},null,null,{"$f":"IF(OR(Расчет!A654>=2000,Расчет!B654>=2000),Расчет!M654,0)","v":0},{"$f":"IF(AND(Расчет!A654<2000,Расчет!B654<2000),Расчет!M654,0)","v":0}]
[{"$f":"IF(OR(Расчет!A655>=2000,Расчет!B655>=2000),Расчет!G655,0)","v":0},{"$f":"IF(AND(Расчет!A655<2000,Расчет!B655<2000),Расчет!G655,0)","v":0},null,null,{"$f":"IF(OR(Расчет!A655>=2000,Расчет!B655>=2000),Расчет!J655,0)","v":0},{"$f":"IF(AND(Расчет!A655<2000,Расчет!B655<2000),Расчет!J655,0)","v":0},null,null,{"$f":"IF(OR(Расчет!A655>=2000,Расчет!B655>=2000),Расчет!M655,0)","v":0},{"$f":"IF(AND(Расчет!A655<2000,Расчет!B655<2000),Расчет!M655,0)","v":0}]
[{"$f":"IF(OR(Расчет!A656>=2000,Расчет!B656>=2000),Расчет!G656,0)","v":0},{"$f":"IF(AND(Расчет!A656<2000,Расчет!B656<2000),Расчет!G656,0)","v":0},null,null,{"$f":"IF(OR(Расчет!A656>=2000,Расчет!B656>=2000),Расчет!J656,0)","v":0},{"$f":"IF(AND(Расчет!A656<2000,Расчет!B656<2000),Расчет!J656,0)","v":0},null,null,{"$f":"IF(OR(Расчет!A656>=2000,Расчет!B656>=2000),Расчет!M656,0)","v":0},{"$f":"IF(AND(Расчет!A656<2000,Расчет!B656<2000),Расчет!M656,0)","v":0}]
[{"$f":"IF(OR(Расчет!A657>=2000,Расчет!B657>=2000),Расчет!G657,0)","v":0},{"$f":"IF(AND(Расчет!A657<2000,Расчет!B657<2000),Расчет!G657,0)","v":0},null,null,{"$f":"IF(OR(Расчет!A657>=2000,Расчет!B657>=2000),Расчет!J657,0)","v":0},{"$f":"IF(AND(Расчет!A657<2000,Расчет!B657<2000),Расчет!J657,0)","v":0},null,null,{"$f":"IF(OR(Расчет!A657>=2000,Расчет!B657>=2000),Расчет!M657,0)","v":0},{"$f":"IF(AND(Расчет!A657<2000,Расчет!B657<2000),Расчет!M657,0)","v":0}]
[{"$f":"IF(OR(Расчет!A658>=2000,Расчет!B658>=2000),Расчет!G658,0)","v":0},{"$f":"IF(AND(Расчет!A658<2000,Расчет!B658<2000),Расчет!G658,0)","v":0},null,null,{"$f":"IF(OR(Расчет!A658>=2000,Расчет!B658>=2000),Расчет!J658,0)","v":0},{"$f":"IF(AND(Расчет!A658<2000,Расчет!B658<2000),Расчет!J658,0)","v":0},null,null,{"$f":"IF(OR(Расчет!A658>=2000,Расчет!B658>=2000),Расчет!M658,0)","v":0},{"$f":"IF(AND(Расчет!A658<2000,Расчет!B658<2000),Расчет!M658,0)","v":0}]
[{"$f":"IF(OR(Расчет!A659>=2000,Расчет!B659>=2000),Расчет!G659,0)","v":0},{"$f":"IF(AND(Расчет!A659<2000,Расчет!B659<2000),Расчет!G659,0)","v":0},null,null,{"$f":"IF(OR(Расчет!A659>=2000,Расчет!B659>=2000),Расчет!J659,0)","v":0},{"$f":"IF(AND(Расчет!A659<2000,Расчет!B659<2000),Расчет!J659,0)","v":0},null,null,{"$f":"IF(OR(Расчет!A659>=2000,Расчет!B659>=2000),Расчет!M659,0)","v":0},{"$f":"IF(AND(Расчет!A659<2000,Расчет!B659<2000),Расчет!M659,0)","v":0}]
[{"$f":"IF(OR(Расчет!A660>=2000,Расчет!B660>=2000),Расчет!G660,0)","v":0},{"$f":"IF(AND(Расчет!A660<2000,Расчет!B660<2000),Расчет!G660,0)","v":0},null,null,{"$f":"IF(OR(Расчет!A660>=2000,Расчет!B660>=2000),Расчет!J660,0)","v":0},{"$f":"IF(AND(Расчет!A660<2000,Расчет!B660<2000),Расчет!J660,0)","v":0},null,null,{"$f":"IF(OR(Расчет!A660>=2000,Расчет!B660>=2000),Расчет!M660,0)","v":0},{"$f":"IF(AND(Расчет!A660<2000,Расчет!B660<2000),Расчет!M660,0)","v":0}]
[{"$f":"IF(OR(Расчет!A661>=2000,Расчет!B661>=2000),Расчет!G661,0)","v":0},{"$f":"IF(AND(Расчет!A661<2000,Расчет!B661<2000),Расчет!G661,0)","v":0},null,null,{"$f":"IF(OR(Расчет!A661>=2000,Расчет!B661>=2000),Расчет!J661,0)","v":0},{"$f":"IF(AND(Расчет!A661<2000,Расчет!B661<2000),Расчет!J661,0)","v":0},null,null,{"$f":"IF(OR(Расчет!A661>=2000,Расчет!B661>=2000),Расчет!M661,0)","v":0},{"$f":"IF(AND(Расчет!A661<2000,Расчет!B661<2000),Расчет!M661,0)","v":0}]
[{"$f":"IF(OR(Расчет!A662>=2000,Расчет!B662>=2000),Расчет!G662,0)","v":0},{"$f":"IF(AND(Расчет!A662<2000,Расчет!B662<2000),Расчет!G662,0)","v":0},null,null,{"$f":"IF(OR(Расчет!A662>=2000,Расчет!B662>=2000),Расчет!J662,0)","v":0},{"$f":"IF(AND(Расчет!A662<2000,Расчет!B662<2000),Расчет!J662,0)","v":0},null,null,{"$f":"IF(OR(Расчет!A662>=2000,Расчет!B662>=2000),Расчет!M662,0)","v":0},{"$f":"IF(AND(Расчет!A662<2000,Расчет!B662<2000),Расчет!M662,0)","v":0}]
[{"$f":"IF(OR(Расчет!A663>=2000,Расчет!B663>=2000),Расчет!G663,0)","v":0},{"$f":"IF(AND(Расчет!A663<2000,Расчет!B663<2000),Расчет!G663,0)","v":0},null,null,{"$f":"IF(OR(Расчет!A663>=2000,Расчет!B663>=2000),Расчет!J663,0)","v":0},{"$f":"IF(AND(Расчет!A663<2000,Расчет!B663<2000),Расчет!J663,0)","v":0},null,null,{"$f":"IF(OR(Расчет!A663>=2000,Расчет!B663>=2000),Расчет!M663,0)","v":0},{"$f":"IF(AND(Расчет!A663<2000,Расчет!B663<2000),Расчет!M663,0)","v":0}]
[{"$f":"IF(OR(Расчет!A664>=2000,Расчет!B664>=2000),Расчет!G664,0)","v":0},{"$f":"IF(AND(Расчет!A664<2000,Расчет!B664<2000),Расчет!G664,0)","v":0},null,null,{"$f":"IF(OR(Расчет!A664>=2000,Расчет!B664>=2000),Расчет!J664,0)","v":0},{"$f":"IF(AND(Расчет!A664<2000,Расчет!B664<2000),Расчет!J664,0)","v":0},null,null,{"$f":"IF(OR(Расчет!A664>=2000,Расчет!B664>=2000),Расчет!M664,0)","v":0},{"$f":"IF(AND(Расчет!A664<2000,Расчет!B664<2000),Расчет!M664,0)","v":0}]
[{"$f":"IF(OR(Расчет!A665>=2000,Расчет!B665>=2000),Расчет!G665,0)","v":0},{"$f":"IF(AND(Расчет!A665<2000,Расчет!B665<2000),Расчет!G665,0)","v":0},null,null,{"$f":"IF(OR(Расчет!A665>=2000,Расчет!B665>=2000),Расчет!J665,0)","v":0},{"$f":"IF(AND(Расчет!A665<2000,Расчет!B665<2000),Расчет!J665,0)","v":0},null,null,{"$f":"IF(OR(Расчет!A665>=2000,Расчет!B665>=2000),Расчет!M665,0)","v":0},{"$f":"IF(AND(Расчет!A665<2000,Расчет!B665<2000),Расчет!M665,0)","v":0}]
[{"$f":"IF(OR(Расчет!A666>=2000,Расчет!B666>=2000),Расчет!G666,0)","v":0},{"$f":"IF(AND(Расчет!A666<2000,Расчет!B666<2000),Расчет!G666,0)","v":0},null,null,{"$f":"IF(OR(Расчет!A666>=2000,Расчет!B666>=2000),Расчет!J666,0)","v":0},{"$f":"IF(AND(Расчет!A666<2000,Расчет!B666<2000),Расчет!J666,0)","v":0},null,null,{"$f":"IF(OR(Расчет!A666>=2000,Расчет!B666>=2000),Расчет!M666,0)","v":0},{"$f":"IF(AND(Расчет!A666<2000,Расчет!B666<2000),Расчет!M666,0)","v":0}]
[{"$f":"IF(OR(Расчет!A667>=2000,Расчет!B667>=2000),Расчет!G667,0)","v":0},{"$f":"IF(AND(Расчет!A667<2000,Расчет!B667<2000),Расчет!G667,0)","v":0},null,null,{"$f":"IF(OR(Расчет!A667>=2000,Расчет!B667>=2000),Расчет!J667,0)","v":0},{"$f":"IF(AND(Расчет!A667<2000,Расчет!B667<2000),Расчет!J667,0)","v":0},null,null,{"$f":"IF(OR(Расчет!A667>=2000,Расчет!B667>=2000),Расчет!M667,0)","v":0},{"$f":"IF(AND(Расчет!A667<2000,Расчет!B667<2000),Расчет!M667,0)","v":0}]
[{"$f":"IF(OR(Расчет!A668>=2000,Расчет!B668>=2000),Расчет!G668,0)","v":0},{"$f":"IF(AND(Расчет!A668<2000,Расчет!B668<2000),Расчет!G668,0)","v":0},null,null,{"$f":"IF(OR(Расчет!A668>=2000,Расчет!B668>=2000),Расчет!J668,0)","v":0},{"$f":"IF(AND(Расчет!A668<2000,Расчет!B668<2000),Расчет!J668,0)","v":0},null,null,{"$f":"IF(OR(Расчет!A668>=2000,Расчет!B668>=2000),Расчет!M668,0)","v":0},{"$f":"IF(AND(Расчет!A668<2000,Расчет!B668<2000),Расчет!M668,0)","v":0}]
[{"$f":"IF(OR(Расчет!A669>=2000,Расчет!B669>=2000),Расчет!G669,0)","v":0},{"$f":"IF(AND(Расчет!A669<2000,Расчет!B669<2000),Расчет!G669,0)","v":0},null,null,{"$f":"IF(OR(Расчет!A669>=2000,Расчет!B669>=2000),Расчет!J669,0)","v":0},{"$f":"IF(AND(Расчет!A669<2000,Расчет!B669<2000),Расчет!J669,0)","v":0},null,null,{"$f":"IF(OR(Расчет!A669>=2000,Расчет!B669>=2000),Расчет!M669,0)","v":0},{"$f":"IF(AND(Расчет!A669<2000,Расчет!B669<2000),Расчет!M669,0)","v":0}]
[{"$f":"IF(OR(Расчет!A670>=2000,Расчет!B670>=2000),Расчет!G670,0)","v":0},{"$f":"IF(AND(Расчет!A670<2000,Расчет!B670<2000),Расчет!G670,0)","v":0},null,null,{"$f":"IF(OR(Расчет!A670>=2000,Расчет!B670>=2000),Расчет!J670,0)","v":0},{"$f":"IF(AND(Расчет!A670<2000,Расчет!B670<2000),Расчет!J670,0)","v":0},null,null,{"$f":"IF(OR(Расчет!A670>=2000,Расчет!B670>=2000),Расчет!M670,0)","v":0},{"$f":"IF(AND(Расчет!A670<2000,Расчет!B670<2000),Расчет!M670,0)","v":0}]
[{"$f":"IF(OR(Расчет!A671>=2000,Расчет!B671>=2000),Расчет!G671,0)","v":0},{"$f":"IF(AND(Расчет!A671<2000,Расчет!B671<2000),Расчет!G671,0)","v":0},null,null,{"$f":"IF(OR(Расчет!A671>=2000,Расчет!B671>=2000),Расчет!J671,0)","v":0},{"$f":"IF(AND(Расчет!A671<2000,Расчет!B671<2000),Расчет!J671,0)","v":0},null,null,{"$f":"IF(OR(Расчет!A671>=2000,Расчет!B671>=2000),Расчет!M671,0)","v":0},{"$f":"IF(AND(Расчет!A671<2000,Расчет!B671<2000),Расчет!M671,0)","v":0}]
[{"$f":"IF(OR(Расчет!A672>=2000,Расчет!B672>=2000),Расчет!G672,0)","v":0},{"$f":"IF(AND(Расчет!A672<2000,Расчет!B672<2000),Расчет!G672,0)","v":0},null,null,{"$f":"IF(OR(Расчет!A672>=2000,Расчет!B672>=2000),Расчет!J672,0)","v":0},{"$f":"IF(AND(Расчет!A672<2000,Расчет!B672<2000),Расчет!J672,0)","v":0},null,null,{"$f":"IF(OR(Расчет!A672>=2000,Расчет!B672>=2000),Расчет!M672,0)","v":0},{"$f":"IF(AND(Расчет!A672<2000,Расчет!B672<2000),Расчет!M672,0)","v":0}]
[{"$f":"IF(OR(Расчет!A673>=2000,Расчет!B673>=2000),Расчет!G673,0)","v":0},{"$f":"IF(AND(Расчет!A673<2000,Расчет!B673<2000),Расчет!G673,0)","v":0},null,null,{"$f":"IF(OR(Расчет!A673>=2000,Расчет!B673>=2000),Расчет!J673,0)","v":0},{"$f":"IF(AND(Расчет!A673<2000,Расчет!B673<2000),Расчет!J673,0)","v":0},null,null,{"$f":"IF(OR(Расчет!A673>=2000,Расчет!B673>=2000),Расчет!M673,0)","v":0},{"$f":"IF(AND(Расчет!A673<2000,Расчет!B673<2000),Расчет!M673,0)","v":0}]
[{"$f":"IF(OR(Расчет!A674>=2000,Расчет!B674>=2000),Расчет!G674,0)","v":0},{"$f":"IF(AND(Расчет!A674<2000,Расчет!B674<2000),Расчет!G674,0)","v":0},null,null,{"$f":"IF(OR(Расчет!A674>=2000,Расчет!B674>=2000),Расчет!J674,0)","v":0},{"$f":"IF(AND(Расчет!A674<2000,Расчет!B674<2000),Расчет!J674,0)","v":0},null,null,{"$f":"IF(OR(Расчет!A674>=2000,Расчет!B674>=2000),Расчет!M674,0)","v":0},{"$f":"IF(AND(Расчет!A674<2000,Расчет!B674<2000),Расчет!M674,0)","v":0}]
[{"$f":"IF(OR(Расчет!A675>=2000,Расчет!B675>=2000),Расчет!G675,0)","v":0},{"$f":"IF(AND(Расчет!A675<2000,Расчет!B675<2000),Расчет!G675,0)","v":0},null,null,{"$f":"IF(OR(Расчет!A675>=2000,Расчет!B675>=2000),Расчет!J675,0)","v":0},{"$f":"IF(AND(Расчет!A675<2000,Расчет!B675<2000),Расчет!J675,0)","v":0},null,null,{"$f":"IF(OR(Расчет!A675>=2000,Расчет!B675>=2000),Расчет!M675,0)","v":0},{"$f":"IF(AND(Расчет!A675<2000,Расчет!B675<2000),Расчет!M675,0)","v":0}]
[{"$f":"IF(OR(Расчет!A676>=2000,Расчет!B676>=2000),Расчет!G676,0)","v":0},{"$f":"IF(AND(Расчет!A676<2000,Расчет!B676<2000),Расчет!G676,0)","v":0},null,null,{"$f":"IF(OR(Расчет!A676>=2000,Расчет!B676>=2000),Расчет!J676,0)","v":0},{"$f":"IF(AND(Расчет!A676<2000,Расчет!B676<2000),Расчет!J676,0)","v":0},null,null,{"$f":"IF(OR(Расчет!A676>=2000,Расчет!B676>=2000),Расчет!M676,0)","v":0},{"$f":"IF(AND(Расчет!A676<2000,Расчет!B676<2000),Расчет!M676,0)","v":0}]
[{"$f":"IF(OR(Расчет!A677>=2000,Расчет!B677>=2000),Расчет!G677,0)","v":0},{"$f":"IF(AND(Расчет!A677<2000,Расчет!B677<2000),Расчет!G677,0)","v":0},null,null,{"$f":"IF(OR(Расчет!A677>=2000,Расчет!B677>=2000),Расчет!J677,0)","v":0},{"$f":"IF(AND(Расчет!A677<2000,Расчет!B677<2000),Расчет!J677,0)","v":0},null,null,{"$f":"IF(OR(Расчет!A677>=2000,Расчет!B677>=2000),Расчет!M677,0)","v":0},{"$f":"IF(AND(Расчет!A677<2000,Расчет!B677<2000),Расчет!M677,0)","v":0}]
[{"$f":"IF(OR(Расчет!A678>=2000,Расчет!B678>=2000),Расчет!G678,0)","v":0},{"$f":"IF(AND(Расчет!A678<2000,Расчет!B678<2000),Расчет!G678,0)","v":0},null,null,{"$f":"IF(OR(Расчет!A678>=2000,Расчет!B678>=2000),Расчет!J678,0)","v":0},{"$f":"IF(AND(Расчет!A678<2000,Расчет!B678<2000),Расчет!J678,0)","v":0},null,null,{"$f":"IF(OR(Расчет!A678>=2000,Расчет!B678>=2000),Расчет!M678,0)","v":0},{"$f":"IF(AND(Расчет!A678<2000,Расчет!B678<2000),Расчет!M678,0)","v":0}]
[{"$f":"IF(OR(Расчет!A679>=2000,Расчет!B679>=2000),Расчет!G679,0)","v":0},{"$f":"IF(AND(Расчет!A679<2000,Расчет!B679<2000),Расчет!G679,0)","v":0},null,null,{"$f":"IF(OR(Расчет!A679>=2000,Расчет!B679>=2000),Расчет!J679,0)","v":0},{"$f":"IF(AND(Расчет!A679<2000,Расчет!B679<2000),Расчет!J679,0)","v":0},null,null,{"$f":"IF(OR(Расчет!A679>=2000,Расчет!B679>=2000),Расчет!M679,0)","v":0},{"$f":"IF(AND(Расчет!A679<2000,Расчет!B679<2000),Расчет!M679,0)","v":0}]
[{"$f":"IF(OR(Расчет!A680>=2000,Расчет!B680>=2000),Расчет!G680,0)","v":0},{"$f":"IF(AND(Расчет!A680<2000,Расчет!B680<2000),Расчет!G680,0)","v":0},null,null,{"$f":"IF(OR(Расчет!A680>=2000,Расчет!B680>=2000),Расчет!J680,0)","v":0},{"$f":"IF(AND(Расчет!A680<2000,Расчет!B680<2000),Расчет!J680,0)","v":0},null,null,{"$f":"IF(OR(Расчет!A680>=2000,Расчет!B680>=2000),Расчет!M680,0)","v":0},{"$f":"IF(AND(Расчет!A680<2000,Расчет!B680<2000),Расчет!M680,0)","v":0}]
[{"$f":"IF(OR(Расчет!A681>=2000,Расчет!B681>=2000),Расчет!G681,0)","v":0},{"$f":"IF(AND(Расчет!A681<2000,Расчет!B681<2000),Расчет!G681,0)","v":0},null,null,{"$f":"IF(OR(Расчет!A681>=2000,Расчет!B681>=2000),Расчет!J681,0)","v":0},{"$f":"IF(AND(Расчет!A681<2000,Расчет!B681<2000),Расчет!J681,0)","v":0},null,null,{"$f":"IF(OR(Расчет!A681>=2000,Расчет!B681>=2000),Расчет!M681,0)","v":0},{"$f":"IF(AND(Расчет!A681<2000,Расчет!B681<2000),Расчет!M681,0)","v":0}]
[{"$f":"IF(OR(Расчет!A682>=2000,Расчет!B682>=2000),Расчет!G682,0)","v":0},{"$f":"IF(AND(Расчет!A682<2000,Расчет!B682<2000),Расчет!G682,0)","v":0},null,null,{"$f":"IF(OR(Расчет!A682>=2000,Расчет!B682>=2000),Расчет!J682,0)","v":0},{"$f":"IF(AND(Расчет!A682<2000,Расчет!B682<2000),Расчет!J682,0)","v":0},null,null,{"$f":"IF(OR(Расчет!A682>=2000,Расчет!B682>=2000),Расчет!M682,0)","v":0},{"$f":"IF(AND(Расчет!A682<2000,Расчет!B682<2000),Расчет!M682,0)","v":0}]
[{"$f":"IF(OR(Расчет!A683>=2000,Расчет!B683>=2000),Расчет!G683,0)","v":0},{"$f":"IF(AND(Расчет!A683<2000,Расчет!B683<2000),Расчет!G683,0)","v":0},null,null,{"$f":"IF(OR(Расчет!A683>=2000,Расчет!B683>=2000),Расчет!J683,0)","v":0},{"$f":"IF(AND(Расчет!A683<2000,Расчет!B683<2000),Расчет!J683,0)","v":0},null,null,{"$f":"IF(OR(Расчет!A683>=2000,Расчет!B683>=2000),Расчет!M683,0)","v":0},{"$f":"IF(AND(Расчет!A683<2000,Расчет!B683<2000),Расчет!M683,0)","v":0}]
[{"$f":"IF(OR(Расчет!A684>=2000,Расчет!B684>=2000),Расчет!G684,0)","v":0},{"$f":"IF(AND(Расчет!A684<2000,Расчет!B684<2000),Расчет!G684,0)","v":0},null,null,{"$f":"IF(OR(Расчет!A684>=2000,Расчет!B684>=2000),Расчет!J684,0)","v":0},{"$f":"IF(AND(Расчет!A684<2000,Расчет!B684<2000),Расчет!J684,0)","v":0},null,null,{"$f":"IF(OR(Расчет!A684>=2000,Расчет!B684>=2000),Расчет!M684,0)","v":0},{"$f":"IF(AND(Расчет!A684<2000,Расчет!B684<2000),Расчет!M684,0)","v":0}]
[{"$f":"IF(OR(Расчет!A685>=2000,Расчет!B685>=2000),Расчет!G685,0)","v":0},{"$f":"IF(AND(Расчет!A685<2000,Расчет!B685<2000),Расчет!G685,0)","v":0},null,null,{"$f":"IF(OR(Расчет!A685>=2000,Расчет!B685>=2000),Расчет!J685,0)","v":0},{"$f":"IF(AND(Расчет!A685<2000,Расчет!B685<2000),Расчет!J685,0)","v":0},null,null,{"$f":"IF(OR(Расчет!A685>=2000,Расчет!B685>=2000),Расчет!M685,0)","v":0},{"$f":"IF(AND(Расчет!A685<2000,Расчет!B685<2000),Расчет!M685,0)","v":0}]
[{"$f":"IF(OR(Расчет!A686>=2000,Расчет!B686>=2000),Расчет!G686,0)","v":0},{"$f":"IF(AND(Расчет!A686<2000,Расчет!B686<2000),Расчет!G686,0)","v":0},null,null,{"$f":"IF(OR(Расчет!A686>=2000,Расчет!B686>=2000),Расчет!J686,0)","v":0},{"$f":"IF(AND(Расчет!A686<2000,Расчет!B686<2000),Расчет!J686,0)","v":0},null,null,{"$f":"IF(OR(Расчет!A686>=2000,Расчет!B686>=2000),Расчет!M686,0)","v":0},{"$f":"IF(AND(Расчет!A686<2000,Расчет!B686<2000),Расчет!M686,0)","v":0}]
[{"$f":"IF(OR(Расчет!A687>=2000,Расчет!B687>=2000),Расчет!G687,0)","v":0},{"$f":"IF(AND(Расчет!A687<2000,Расчет!B687<2000),Расчет!G687,0)","v":0},null,null,{"$f":"IF(OR(Расчет!A687>=2000,Расчет!B687>=2000),Расчет!J687,0)","v":0},{"$f":"IF(AND(Расчет!A687<2000,Расчет!B687<2000),Расчет!J687,0)","v":0},null,null,{"$f":"IF(OR(Расчет!A687>=2000,Расчет!B687>=2000),Расчет!M687,0)","v":0},{"$f":"IF(AND(Расчет!A687<2000,Расчет!B687<2000),Расчет!M687,0)","v":0}]
[{"$f":"IF(OR(Расчет!A688>=2000,Расчет!B688>=2000),Расчет!G688,0)","v":0},{"$f":"IF(AND(Расчет!A688<2000,Расчет!B688<2000),Расчет!G688,0)","v":0},null,null,{"$f":"IF(OR(Расчет!A688>=2000,Расчет!B688>=2000),Расчет!J688,0)","v":0},{"$f":"IF(AND(Расчет!A688<2000,Расчет!B688<2000),Расчет!J688,0)","v":0},null,null,{"$f":"IF(OR(Расчет!A688>=2000,Расчет!B688>=2000),Расчет!M688,0)","v":0},{"$f":"IF(AND(Расчет!A688<2000,Расчет!B688<2000),Расчет!M688,0)","v":0}]
[{"$f":"IF(OR(Расчет!A689>=2000,Расчет!B689>=2000),Расчет!G689,0)","v":0},{"$f":"IF(AND(Расчет!A689<2000,Расчет!B689<2000),Расчет!G689,0)","v":0},null,null,{"$f":"IF(OR(Расчет!A689>=2000,Расчет!B689>=2000),Расчет!J689,0)","v":0},{"$f":"IF(AND(Расчет!A689<2000,Расчет!B689<2000),Расчет!J689,0)","v":0},null,null,{"$f":"IF(OR(Расчет!A689>=2000,Расчет!B689>=2000),Расчет!M689,0)","v":0},{"$f":"IF(AND(Расчет!A689<2000,Расчет!B689<2000),Расчет!M689,0)","v":0}]
[{"$f":"IF(OR(Расчет!A690>=2000,Расчет!B690>=2000),Расчет!G690,0)","v":0},{"$f":"IF(AND(Расчет!A690<2000,Расчет!B690<2000),Расчет!G690,0)","v":0},null,null,{"$f":"IF(OR(Расчет!A690>=2000,Расчет!B690>=2000),Расчет!J690,0)","v":0},{"$f":"IF(AND(Расчет!A690<2000,Расчет!B690<2000),Расчет!J690,0)","v":0},null,null,{"$f":"IF(OR(Расчет!A690>=2000,Расчет!B690>=2000),Расчет!M690,0)","v":0},{"$f":"IF(AND(Расчет!A690<2000,Расчет!B690<2000),Расчет!M690,0)","v":0}]
[{"$f":"IF(OR(Расчет!A691>=2000,Расчет!B691>=2000),Расчет!G691,0)","v":0},{"$f":"IF(AND(Расчет!A691<2000,Расчет!B691<2000),Расчет!G691,0)","v":0},null,null,{"$f":"IF(OR(Расчет!A691>=2000,Расчет!B691>=2000),Расчет!J691,0)","v":0},{"$f":"IF(AND(Расчет!A691<2000,Расчет!B691<2000),Расчет!J691,0)","v":0},null,null,{"$f":"IF(OR(Расчет!A691>=2000,Расчет!B691>=2000),Расчет!M691,0)","v":0},{"$f":"IF(AND(Расчет!A691<2000,Расчет!B691<2000),Расчет!M691,0)","v":0}]
[{"$f":"IF(OR(Расчет!A692>=2000,Расчет!B692>=2000),Расчет!G692,0)","v":0},{"$f":"IF(AND(Расчет!A692<2000,Расчет!B692<2000),Расчет!G692,0)","v":0},null,null,{"$f":"IF(OR(Расчет!A692>=2000,Расчет!B692>=2000),Расчет!J692,0)","v":0},{"$f":"IF(AND(Расчет!A692<2000,Расчет!B692<2000),Расчет!J692,0)","v":0},null,null,{"$f":"IF(OR(Расчет!A692>=2000,Расчет!B692>=2000),Расчет!M692,0)","v":0},{"$f":"IF(AND(Расчет!A692<2000,Расчет!B692<2000),Расчет!M692,0)","v":0}]
[{"$f":"IF(OR(Расчет!A693>=2000,Расчет!B693>=2000),Расчет!G693,0)","v":0},{"$f":"IF(AND(Расчет!A693<2000,Расчет!B693<2000),Расчет!G693,0)","v":0},null,null,{"$f":"IF(OR(Расчет!A693>=2000,Расчет!B693>=2000),Расчет!J693,0)","v":0},{"$f":"IF(AND(Расчет!A693<2000,Расчет!B693<2000),Расчет!J693,0)","v":0},null,null,{"$f":"IF(OR(Расчет!A693>=2000,Расчет!B693>=2000),Расчет!M693,0)","v":0},{"$f":"IF(AND(Расчет!A693<2000,Расчет!B693<2000),Расчет!M693,0)","v":0}]
[{"$f":"IF(OR(Расчет!A694>=2000,Расчет!B694>=2000),Расчет!G694,0)","v":0},{"$f":"IF(AND(Расчет!A694<2000,Расчет!B694<2000),Расчет!G694,0)","v":0},null,null,{"$f":"IF(OR(Расчет!A694>=2000,Расчет!B694>=2000),Расчет!J694,0)","v":0},{"$f":"IF(AND(Расчет!A694<2000,Расчет!B694<2000),Расчет!J694,0)","v":0},null,null,{"$f":"IF(OR(Расчет!A694>=2000,Расчет!B694>=2000),Расчет!M694,0)","v":0},{"$f":"IF(AND(Расчет!A694<2000,Расчет!B694<2000),Расчет!M694,0)","v":0}]
[{"$f":"IF(OR(Расчет!A695>=2000,Расчет!B695>=2000),Расчет!G695,0)","v":0},{"$f":"IF(AND(Расчет!A695<2000,Расчет!B695<2000),Расчет!G695,0)","v":0},null,null,{"$f":"IF(OR(Расчет!A695>=2000,Расчет!B695>=2000),Расчет!J695,0)","v":0},{"$f":"IF(AND(Расчет!A695<2000,Расчет!B695<2000),Расчет!J695,0)","v":0},null,null,{"$f":"IF(OR(Расчет!A695>=2000,Расчет!B695>=2000),Расчет!M695,0)","v":0},{"$f":"IF(AND(Расчет!A695<2000,Расчет!B695<2000),Расчет!M695,0)","v":0}]
[{"$f":"IF(OR(Расчет!A696>=2000,Расчет!B696>=2000),Расчет!G696,0)","v":0},{"$f":"IF(AND(Расчет!A696<2000,Расчет!B696<2000),Расчет!G696,0)","v":0},null,null,{"$f":"IF(OR(Расчет!A696>=2000,Расчет!B696>=2000),Расчет!J696,0)","v":0},{"$f":"IF(AND(Расчет!A696<2000,Расчет!B696<2000),Расчет!J696,0)","v":0},null,null,{"$f":"IF(OR(Расчет!A696>=2000,Расчет!B696>=2000),Расчет!M696,0)","v":0},{"$f":"IF(AND(Расчет!A696<2000,Расчет!B696<2000),Расчет!M696,0)","v":0}]
[{"$f":"IF(OR(Расчет!A697>=2000,Расчет!B697>=2000),Расчет!G697,0)","v":0},{"$f":"IF(AND(Расчет!A697<2000,Расчет!B697<2000),Расчет!G697,0)","v":0},null,null,{"$f":"IF(OR(Расчет!A697>=2000,Расчет!B697>=2000),Расчет!J697,0)","v":0},{"$f":"IF(AND(Расчет!A697<2000,Расчет!B697<2000),Расчет!J697,0)","v":0},null,null,{"$f":"IF(OR(Расчет!A697>=2000,Расчет!B697>=2000),Расчет!M697,0)","v":0},{"$f":"IF(AND(Расчет!A697<2000,Расчет!B697<2000),Расчет!M697,0)","v":0}]
[{"$f":"IF(OR(Расчет!A698>=2000,Расчет!B698>=2000),Расчет!G698,0)","v":0},{"$f":"IF(AND(Расчет!A698<2000,Расчет!B698<2000),Расчет!G698,0)","v":0},null,null,{"$f":"IF(OR(Расчет!A698>=2000,Расчет!B698>=2000),Расчет!J698,0)","v":0},{"$f":"IF(AND(Расчет!A698<2000,Расчет!B698<2000),Расчет!J698,0)","v":0},null,null,{"$f":"IF(OR(Расчет!A698>=2000,Расчет!B698>=2000),Расчет!M698,0)","v":0},{"$f":"IF(AND(Расчет!A698<2000,Расчет!B698<2000),Расчет!M698,0)","v":0}]
[{"$f":"IF(OR(Расчет!A699>=2000,Расчет!B699>=2000),Расчет!G699,0)","v":0},{"$f":"IF(AND(Расчет!A699<2000,Расчет!B699<2000),Расчет!G699,0)","v":0},null,null,{"$f":"IF(OR(Расчет!A699>=2000,Расчет!B699>=2000),Расчет!J699,0)","v":0},{"$f":"IF(AND(Расчет!A699<2000,Расчет!B699<2000),Расчет!J699,0)","v":0},null,null,{"$f":"IF(OR(Расчет!A699>=2000,Расчет!B699>=2000),Расчет!M699,0)","v":0},{"$f":"IF(AND(Расчет!A699<2000,Расчет!B699<2000),Расчет!M699,0)","v":0}]
[{"$f":"IF(OR(Расчет!A700>=2000,Расчет!B700>=2000),Расчет!G700,0)","v":0},{"$f":"IF(AND(Расчет!A700<2000,Расчет!B700<2000),Расчет!G700,0)","v":0},null,null,{"$f":"IF(OR(Расчет!A700>=2000,Расчет!B700>=2000),Расчет!J700,0)","v":0},{"$f":"IF(AND(Расчет!A700<2000,Расчет!B700<2000),Расчет!J700,0)","v":0},null,null,{"$f":"IF(OR(Расчет!A700>=2000,Расчет!B700>=2000),Расчет!M700,0)","v":0},{"$f":"IF(AND(Расчет!A700<2000,Расчет!B700<2000),Расчет!M700,0)","v":0}]
[{"$f":"IF(OR(Расчет!A701>=2000,Расчет!B701>=2000),Расчет!G701,0)","v":0},{"$f":"IF(AND(Расчет!A701<2000,Расчет!B701<2000),Расчет!G701,0)","v":0},null,null,{"$f":"IF(OR(Расчет!A701>=2000,Расчет!B701>=2000),Расчет!J701,0)","v":0},{"$f":"IF(AND(Расчет!A701<2000,Расчет!B701<2000),Расчет!J701,0)","v":0},null,null,{"$f":"IF(OR(Расчет!A701>=2000,Расчет!B701>=2000),Расчет!M701,0)","v":0},{"$f":"IF(AND(Расчет!A701<2000,Расчет!B701<2000),Расчет!M701,0)","v":0}]
[{"$f":"IF(OR(Расчет!A702>=2000,Расчет!B702>=2000),Расчет!G702,0)","v":0},{"$f":"IF(AND(Расчет!A702<2000,Расчет!B702<2000),Расчет!G702,0)","v":0},null,null,{"$f":"IF(OR(Расчет!A702>=2000,Расчет!B702>=2000),Расчет!J702,0)","v":0},{"$f":"IF(AND(Расчет!A702<2000,Расчет!B702<2000),Расчет!J702,0)","v":0},null,null,{"$f":"IF(OR(Расчет!A702>=2000,Расчет!B702>=2000),Расчет!M702,0)","v":0},{"$f":"IF(AND(Расчет!A702<2000,Расчет!B702<2000),Расчет!M702,0)","v":0}]
[{"$f":"IF(OR(Расчет!A703>=2000,Расчет!B703>=2000),Расчет!G703,0)","v":0},{"$f":"IF(AND(Расчет!A703<2000,Расчет!B703<2000),Расчет!G703,0)","v":0},null,null,{"$f":"IF(OR(Расчет!A703>=2000,Расчет!B703>=2000),Расчет!J703,0)","v":0},{"$f":"IF(AND(Расчет!A703<2000,Расчет!B703<2000),Расчет!J703,0)","v":0},null,null,{"$f":"IF(OR(Расчет!A703>=2000,Расчет!B703>=2000),Расчет!M703,0)","v":0},{"$f":"IF(AND(Расчет!A703<2000,Расчет!B703<2000),Расчет!M703,0)","v":0}]
[{"$f":"IF(OR(Расчет!A704>=2000,Расчет!B704>=2000),Расчет!G704,0)","v":0},{"$f":"IF(AND(Расчет!A704<2000,Расчет!B704<2000),Расчет!G704,0)","v":0},null,null,{"$f":"IF(OR(Расчет!A704>=2000,Расчет!B704>=2000),Расчет!J704,0)","v":0},{"$f":"IF(AND(Расчет!A704<2000,Расчет!B704<2000),Расчет!J704,0)","v":0},null,null,{"$f":"IF(OR(Расчет!A704>=2000,Расчет!B704>=2000),Расчет!M704,0)","v":0},{"$f":"IF(AND(Расчет!A704<2000,Расчет!B704<2000),Расчет!M704,0)","v":0}]
[{"$f":"IF(OR(Расчет!A705>=2000,Расчет!B705>=2000),Расчет!G705,0)","v":0},{"$f":"IF(AND(Расчет!A705<2000,Расчет!B705<2000),Расчет!G705,0)","v":0},null,null,{"$f":"IF(OR(Расчет!A705>=2000,Расчет!B705>=2000),Расчет!J705,0)","v":0},{"$f":"IF(AND(Расчет!A705<2000,Расчет!B705<2000),Расчет!J705,0)","v":0},null,null,{"$f":"IF(OR(Расчет!A705>=2000,Расчет!B705>=2000),Расчет!M705,0)","v":0},{"$f":"IF(AND(Расчет!A705<2000,Расчет!B705<2000),Расчет!M705,0)","v":0}]
[{"$f":"IF(OR(Расчет!A706>=2000,Расчет!B706>=2000),Расчет!G706,0)","v":0},{"$f":"IF(AND(Расчет!A706<2000,Расчет!B706<2000),Расчет!G706,0)","v":0},null,null,{"$f":"IF(OR(Расчет!A706>=2000,Расчет!B706>=2000),Расчет!J706,0)","v":0},{"$f":"IF(AND(Расчет!A706<2000,Расчет!B706<2000),Расчет!J706,0)","v":0},null,null,{"$f":"IF(OR(Расчет!A706>=2000,Расчет!B706>=2000),Расчет!M706,0)","v":0},{"$f":"IF(AND(Расчет!A706<2000,Расчет!B706<2000),Расчет!M706,0)","v":0}]
[{"$f":"IF(OR(Расчет!A707>=2000,Расчет!B707>=2000),Расчет!G707,0)","v":0},{"$f":"IF(AND(Расчет!A707<2000,Расчет!B707<2000),Расчет!G707,0)","v":0},null,null,{"$f":"IF(OR(Расчет!A707>=2000,Расчет!B707>=2000),Расчет!J707,0)","v":0},{"$f":"IF(AND(Расчет!A707<2000,Расчет!B707<2000),Расчет!J707,0)","v":0},null,null,{"$f":"IF(OR(Расчет!A707>=2000,Расчет!B707>=2000),Расчет!M707,0)","v":0},{"$f":"IF(AND(Расчет!A707<2000,Расчет!B707<2000),Расчет!M707,0)","v":0}]
[{"$f":"IF(OR(Расчет!A708>=2000,Расчет!B708>=2000),Расчет!G708,0)","v":0},{"$f":"IF(AND(Расчет!A708<2000,Расчет!B708<2000),Расчет!G708,0)","v":0},null,null,{"$f":"IF(OR(Расчет!A708>=2000,Расчет!B708>=2000),Расчет!J708,0)","v":0},{"$f":"IF(AND(Расчет!A708<2000,Расчет!B708<2000),Расчет!J708,0)","v":0},null,null,{"$f":"IF(OR(Расчет!A708>=2000,Расчет!B708>=2000),Расчет!M708,0)","v":0},{"$f":"IF(AND(Расчет!A708<2000,Расчет!B708<2000),Расчет!M708,0)","v":0}]
[{"$f":"IF(OR(Расчет!A709>=2000,Расчет!B709>=2000),Расчет!G709,0)","v":0},{"$f":"IF(AND(Расчет!A709<2000,Расчет!B709<2000),Расчет!G709,0)","v":0},null,null,{"$f":"IF(OR(Расчет!A709>=2000,Расчет!B709>=2000),Расчет!J709,0)","v":0},{"$f":"IF(AND(Расчет!A709<2000,Расчет!B709<2000),Расчет!J709,0)","v":0},null,null,{"$f":"IF(OR(Расчет!A709>=2000,Расчет!B709>=2000),Расчет!M709,0)","v":0},{"$f":"IF(AND(Расчет!A709<2000,Расчет!B709<2000),Расчет!M709,0)","v":0}]
[{"$f":"IF(OR(Расчет!A710>=2000,Расчет!B710>=2000),Расчет!G710,0)","v":0},{"$f":"IF(AND(Расчет!A710<2000,Расчет!B710<2000),Расчет!G710,0)","v":0},null,null,{"$f":"IF(OR(Расчет!A710>=2000,Расчет!B710>=2000),Расчет!J710,0)","v":0},{"$f":"IF(AND(Расчет!A710<2000,Расчет!B710<2000),Расчет!J710,0)","v":0},null,null,{"$f":"IF(OR(Расчет!A710>=2000,Расчет!B710>=2000),Расчет!M710,0)","v":0},{"$f":"IF(AND(Расчет!A710<2000,Расчет!B710<2000),Расчет!M710,0)","v":0}]
[{"$f":"IF(OR(Расчет!A711>=2000,Расчет!B711>=2000),Расчет!G711,0)","v":0},{"$f":"IF(AND(Расчет!A711<2000,Расчет!B711<2000),Расчет!G711,0)","v":0},null,null,{"$f":"IF(OR(Расчет!A711>=2000,Расчет!B711>=2000),Расчет!J711,0)","v":0},{"$f":"IF(AND(Расчет!A711<2000,Расчет!B711<2000),Расчет!J711,0)","v":0},null,null,{"$f":"IF(OR(Расчет!A711>=2000,Расчет!B711>=2000),Расчет!M711,0)","v":0},{"$f":"IF(AND(Расчет!A711<2000,Расчет!B711<2000),Расчет!M711,0)","v":0}]
[{"$f":"IF(OR(Расчет!A712>=2000,Расчет!B712>=2000),Расчет!G712,0)","v":0},{"$f":"IF(AND(Расчет!A712<2000,Расчет!B712<2000),Расчет!G712,0)","v":0},null,null,{"$f":"IF(OR(Расчет!A712>=2000,Расчет!B712>=2000),Расчет!J712,0)","v":0},{"$f":"IF(AND(Расчет!A712<2000,Расчет!B712<2000),Расчет!J712,0)","v":0},null,null,{"$f":"IF(OR(Расчет!A712>=2000,Расчет!B712>=2000),Расчет!M712,0)","v":0},{"$f":"IF(AND(Расчет!A712<2000,Расчет!B712<2000),Расчет!M712,0)","v":0}]
[{"$f":"IF(OR(Расчет!A713>=2000,Расчет!B713>=2000),Расчет!G713,0)","v":0},{"$f":"IF(AND(Расчет!A713<2000,Расчет!B713<2000),Расчет!G713,0)","v":0},null,null,{"$f":"IF(OR(Расчет!A713>=2000,Расчет!B713>=2000),Расчет!J713,0)","v":0},{"$f":"IF(AND(Расчет!A713<2000,Расчет!B713<2000),Расчет!J713,0)","v":0},null,null,{"$f":"IF(OR(Расчет!A713>=2000,Расчет!B713>=2000),Расчет!M713,0)","v":0},{"$f":"IF(AND(Расчет!A713<2000,Расчет!B713<2000),Расчет!M713,0)","v":0}]
[{"$f":"IF(OR(Расчет!A714>=2000,Расчет!B714>=2000),Расчет!G714,0)","v":0},{"$f":"IF(AND(Расчет!A714<2000,Расчет!B714<2000),Расчет!G714,0)","v":0},null,null,{"$f":"IF(OR(Расчет!A714>=2000,Расчет!B714>=2000),Расчет!J714,0)","v":0},{"$f":"IF(AND(Расчет!A714<2000,Расчет!B714<2000),Расчет!J714,0)","v":0},null,null,{"$f":"IF(OR(Расчет!A714>=2000,Расчет!B714>=2000),Расчет!M714,0)","v":0},{"$f":"IF(AND(Расчет!A714<2000,Расчет!B714<2000),Расчет!M714,0)","v":0}]
[{"$f":"IF(OR(Расчет!A715>=2000,Расчет!B715>=2000),Расчет!G715,0)","v":0},{"$f":"IF(AND(Расчет!A715<2000,Расчет!B715<2000),Расчет!G715,0)","v":0},null,null,{"$f":"IF(OR(Расчет!A715>=2000,Расчет!B715>=2000),Расчет!J715,0)","v":0},{"$f":"IF(AND(Расчет!A715<2000,Расчет!B715<2000),Расчет!J715,0)","v":0},null,null,{"$f":"IF(OR(Расчет!A715>=2000,Расчет!B715>=2000),Расчет!M715,0)","v":0},{"$f":"IF(AND(Расчет!A715<2000,Расчет!B715<2000),Расчет!M715,0)","v":0}]
[{"$f":"IF(OR(Расчет!A716>=2000,Расчет!B716>=2000),Расчет!G716,0)","v":0},{"$f":"IF(AND(Расчет!A716<2000,Расчет!B716<2000),Расчет!G716,0)","v":0},null,null,{"$f":"IF(OR(Расчет!A716>=2000,Расчет!B716>=2000),Расчет!J716,0)","v":0},{"$f":"IF(AND(Расчет!A716<2000,Расчет!B716<2000),Расчет!J716,0)","v":0},null,null,{"$f":"IF(OR(Расчет!A716>=2000,Расчет!B716>=2000),Расчет!M716,0)","v":0},{"$f":"IF(AND(Расчет!A716<2000,Расчет!B716<2000),Расчет!M716,0)","v":0}]
[{"$f":"IF(OR(Расчет!A717>=2000,Расчет!B717>=2000),Расчет!G717,0)","v":0},{"$f":"IF(AND(Расчет!A717<2000,Расчет!B717<2000),Расчет!G717,0)","v":0},null,null,{"$f":"IF(OR(Расчет!A717>=2000,Расчет!B717>=2000),Расчет!J717,0)","v":0},{"$f":"IF(AND(Расчет!A717<2000,Расчет!B717<2000),Расчет!J717,0)","v":0},null,null,{"$f":"IF(OR(Расчет!A717>=2000,Расчет!B717>=2000),Расчет!M717,0)","v":0},{"$f":"IF(AND(Расчет!A717<2000,Расчет!B717<2000),Расчет!M717,0)","v":0}]
[{"$f":"IF(OR(Расчет!A718>=2000,Расчет!B718>=2000),Расчет!G718,0)","v":0},{"$f":"IF(AND(Расчет!A718<2000,Расчет!B718<2000),Расчет!G718,0)","v":0},null,null,{"$f":"IF(OR(Расчет!A718>=2000,Расчет!B718>=2000),Расчет!J718,0)","v":0},{"$f":"IF(AND(Расчет!A718<2000,Расчет!B718<2000),Расчет!J718,0)","v":0},null,null,{"$f":"IF(OR(Расчет!A718>=2000,Расчет!B718>=2000),Расчет!M718,0)","v":0},{"$f":"IF(AND(Расчет!A718<2000,Расчет!B718<2000),Расчет!M718,0)","v":0}]
[{"$f":"IF(OR(Расчет!A719>=2000,Расчет!B719>=2000),Расчет!G719,0)","v":0},{"$f":"IF(AND(Расчет!A719<2000,Расчет!B719<2000),Расчет!G719,0)","v":0},null,null,{"$f":"IF(OR(Расчет!A719>=2000,Расчет!B719>=2000),Расчет!J719,0)","v":0},{"$f":"IF(AND(Расчет!A719<2000,Расчет!B719<2000),Расчет!J719,0)","v":0},null,null,{"$f":"IF(OR(Расчет!A719>=2000,Расчет!B719>=2000),Расчет!M719,0)","v":0},{"$f":"IF(AND(Расчет!A719<2000,Расчет!B719<2000),Расчет!M719,0)","v":0}]
[{"$f":"IF(OR(Расчет!A720>=2000,Расчет!B720>=2000),Расчет!G720,0)","v":0},{"$f":"IF(AND(Расчет!A720<2000,Расчет!B720<2000),Расчет!G720,0)","v":0},null,null,{"$f":"IF(OR(Расчет!A720>=2000,Расчет!B720>=2000),Расчет!J720,0)","v":0},{"$f":"IF(AND(Расчет!A720<2000,Расчет!B720<2000),Расчет!J720,0)","v":0},null,null,{"$f":"IF(OR(Расчет!A720>=2000,Расчет!B720>=2000),Расчет!M720,0)","v":0},{"$f":"IF(AND(Расчет!A720<2000,Расчет!B720<2000),Расчет!M720,0)","v":0}]
[{"$f":"IF(OR(Расчет!A721>=2000,Расчет!B721>=2000),Расчет!G721,0)","v":0},{"$f":"IF(AND(Расчет!A721<2000,Расчет!B721<2000),Расчет!G721,0)","v":0},null,null,{"$f":"IF(OR(Расчет!A721>=2000,Расчет!B721>=2000),Расчет!J721,0)","v":0},{"$f":"IF(AND(Расчет!A721<2000,Расчет!B721<2000),Расчет!J721,0)","v":0},null,null,{"$f":"IF(OR(Расчет!A721>=2000,Расчет!B721>=2000),Расчет!M721,0)","v":0},{"$f":"IF(AND(Расчет!A721<2000,Расчет!B721<2000),Расчет!M721,0)","v":0}]
[{"$f":"IF(OR(Расчет!A722>=2000,Расчет!B722>=2000),Расчет!G722,0)","v":0},{"$f":"IF(AND(Расчет!A722<2000,Расчет!B722<2000),Расчет!G722,0)","v":0},null,null,{"$f":"IF(OR(Расчет!A722>=2000,Расчет!B722>=2000),Расчет!J722,0)","v":0},{"$f":"IF(AND(Расчет!A722<2000,Расчет!B722<2000),Расчет!J722,0)","v":0},null,null,{"$f":"IF(OR(Расчет!A722>=2000,Расчет!B722>=2000),Расчет!M722,0)","v":0},{"$f":"IF(AND(Расчет!A722<2000,Расчет!B722<2000),Расчет!M722,0)","v":0}]
[{"$f":"IF(OR(Расчет!A723>=2000,Расчет!B723>=2000),Расчет!G723,0)","v":0},{"$f":"IF(AND(Расчет!A723<2000,Расчет!B723<2000),Расчет!G723,0)","v":0},null,null,{"$f":"IF(OR(Расчет!A723>=2000,Расчет!B723>=2000),Расчет!J723,0)","v":0},{"$f":"IF(AND(Расчет!A723<2000,Расчет!B723<2000),Расчет!J723,0)","v":0},null,null,{"$f":"IF(OR(Расчет!A723>=2000,Расчет!B723>=2000),Расчет!M723,0)","v":0},{"$f":"IF(AND(Расчет!A723<2000,Расчет!B723<2000),Расчет!M723,0)","v":0}]
[{"$f":"IF(OR(Расчет!A724>=2000,Расчет!B724>=2000),Расчет!G724,0)","v":0},{"$f":"IF(AND(Расчет!A724<2000,Расчет!B724<2000),Расчет!G724,0)","v":0},null,null,{"$f":"IF(OR(Расчет!A724>=2000,Расчет!B724>=2000),Расчет!J724,0)","v":0},{"$f":"IF(AND(Расчет!A724<2000,Расчет!B724<2000),Расчет!J724,0)","v":0},null,null,{"$f":"IF(OR(Расчет!A724>=2000,Расчет!B724>=2000),Расчет!M724,0)","v":0},{"$f":"IF(AND(Расчет!A724<2000,Расчет!B724<2000),Расчет!M724,0)","v":0}]
[{"$f":"IF(OR(Расчет!A725>=2000,Расчет!B725>=2000),Расчет!G725,0)","v":0},{"$f":"IF(AND(Расчет!A725<2000,Расчет!B725<2000),Расчет!G725,0)","v":0},null,null,{"$f":"IF(OR(Расчет!A725>=2000,Расчет!B725>=2000),Расчет!J725,0)","v":0},{"$f":"IF(AND(Расчет!A725<2000,Расчет!B725<2000),Расчет!J725,0)","v":0},null,null,{"$f":"IF(OR(Расчет!A725>=2000,Расчет!B725>=2000),Расчет!M725,0)","v":0},{"$f":"IF(AND(Расчет!A725<2000,Расчет!B725<2000),Расчет!M725,0)","v":0}]
[{"$f":"IF(OR(Расчет!A726>=2000,Расчет!B726>=2000),Расчет!G726,0)","v":0},{"$f":"IF(AND(Расчет!A726<2000,Расчет!B726<2000),Расчет!G726,0)","v":0},null,null,{"$f":"IF(OR(Расчет!A726>=2000,Расчет!B726>=2000),Расчет!J726,0)","v":0},{"$f":"IF(AND(Расчет!A726<2000,Расчет!B726<2000),Расчет!J726,0)","v":0},null,null,{"$f":"IF(OR(Расчет!A726>=2000,Расчет!B726>=2000),Расчет!M726,0)","v":0},{"$f":"IF(AND(Расчет!A726<2000,Расчет!B726<2000),Расчет!M726,0)","v":0}]
[{"$f":"IF(OR(Расчет!A727>=2000,Расчет!B727>=2000),Расчет!G727,0)","v":0},{"$f":"IF(AND(Расчет!A727<2000,Расчет!B727<2000),Расчет!G727,0)","v":0},null,null,{"$f":"IF(OR(Расчет!A727>=2000,Расчет!B727>=2000),Расчет!J727,0)","v":0},{"$f":"IF(AND(Расчет!A727<2000,Расчет!B727<2000),Расчет!J727,0)","v":0},null,null,{"$f":"IF(OR(Расчет!A727>=2000,Расчет!B727>=2000),Расчет!M727,0)","v":0},{"$f":"IF(AND(Расчет!A727<2000,Расчет!B727<2000),Расчет!M727,0)","v":0}]
[{"$f":"IF(OR(Расчет!A728>=2000,Расчет!B728>=2000),Расчет!G728,0)","v":0},{"$f":"IF(AND(Расчет!A728<2000,Расчет!B728<2000),Расчет!G728,0)","v":0},null,null,{"$f":"IF(OR(Расчет!A728>=2000,Расчет!B728>=2000),Расчет!J728,0)","v":0},{"$f":"IF(AND(Расчет!A728<2000,Расчет!B728<2000),Расчет!J728,0)","v":0},null,null,{"$f":"IF(OR(Расчет!A728>=2000,Расчет!B728>=2000),Расчет!M728,0)","v":0},{"$f":"IF(AND(Расчет!A728<2000,Расчет!B728<2000),Расчет!M728,0)","v":0}]
[{"$f":"IF(OR(Расчет!A729>=2000,Расчет!B729>=2000),Расчет!G729,0)","v":0},{"$f":"IF(AND(Расчет!A729<2000,Расчет!B729<2000),Расчет!G729,0)","v":0},null,null,{"$f":"IF(OR(Расчет!A729>=2000,Расчет!B729>=2000),Расчет!J729,0)","v":0},{"$f":"IF(AND(Расчет!A729<2000,Расчет!B729<2000),Расчет!J729,0)","v":0},null,null,{"$f":"IF(OR(Расчет!A729>=2000,Расчет!B729>=2000),Расчет!M729,0)","v":0},{"$f":"IF(AND(Расчет!A729<2000,Расчет!B729<2000),Расчет!M729,0)","v":0}]
[{"$f":"IF(OR(Расчет!A730>=2000,Расчет!B730>=2000),Расчет!G730,0)","v":0},{"$f":"IF(AND(Расчет!A730<2000,Расчет!B730<2000),Расчет!G730,0)","v":0},null,null,{"$f":"IF(OR(Расчет!A730>=2000,Расчет!B730>=2000),Расчет!J730,0)","v":0},{"$f":"IF(AND(Расчет!A730<2000,Расчет!B730<2000),Расчет!J730,0)","v":0},null,null,{"$f":"IF(OR(Расчет!A730>=2000,Расчет!B730>=2000),Расчет!M730,0)","v":0},{"$f":"IF(AND(Расчет!A730<2000,Расчет!B730<2000),Расчет!M730,0)","v":0}]
[{"$f":"IF(OR(Расчет!A731>=2000,Расчет!B731>=2000),Расчет!G731,0)","v":0},{"$f":"IF(AND(Расчет!A731<2000,Расчет!B731<2000),Расчет!G731,0)","v":0},null,null,{"$f":"IF(OR(Расчет!A731>=2000,Расчет!B731>=2000),Расчет!J731,0)","v":0},{"$f":"IF(AND(Расчет!A731<2000,Расчет!B731<2000),Расчет!J731,0)","v":0},null,null,{"$f":"IF(OR(Расчет!A731>=2000,Расчет!B731>=2000),Расчет!M731,0)","v":0},{"$f":"IF(AND(Расчет!A731<2000,Расчет!B731<2000),Расчет!M731,0)","v":0}]
[{"$f":"IF(OR(Расчет!A732>=2000,Расчет!B732>=2000),Расчет!G732,0)","v":0},{"$f":"IF(AND(Расчет!A732<2000,Расчет!B732<2000),Расчет!G732,0)","v":0},null,null,{"$f":"IF(OR(Расчет!A732>=2000,Расчет!B732>=2000),Расчет!J732,0)","v":0},{"$f":"IF(AND(Расчет!A732<2000,Расчет!B732<2000),Расчет!J732,0)","v":0},null,null,{"$f":"IF(OR(Расчет!A732>=2000,Расчет!B732>=2000),Расчет!M732,0)","v":0},{"$f":"IF(AND(Расчет!A732<2000,Расчет!B732<2000),Расчет!M732,0)","v":0}]
[{"$f":"IF(OR(Расчет!A733>=2000,Расчет!B733>=2000),Расчет!G733,0)","v":0},{"$f":"IF(AND(Расчет!A733<2000,Расчет!B733<2000),Расчет!G733,0)","v":0},null,null,{"$f":"IF(OR(Расчет!A733>=2000,Расчет!B733>=2000),Расчет!J733,0)","v":0},{"$f":"IF(AND(Расчет!A733<2000,Расчет!B733<2000),Расчет!J733,0)","v":0},null,null,{"$f":"IF(OR(Расчет!A733>=2000,Расчет!B733>=2000),Расчет!M733,0)","v":0},{"$f":"IF(AND(Расчет!A733<2000,Расчет!B733<2000),Расчет!M733,0)","v":0}]
[{"$f":"IF(OR(Расчет!A734>=2000,Расчет!B734>=2000),Расчет!G734,0)","v":0},{"$f":"IF(AND(Расчет!A734<2000,Расчет!B734<2000),Расчет!G734,0)","v":0},null,null,{"$f":"IF(OR(Расчет!A734>=2000,Расчет!B734>=2000),Расчет!J734,0)","v":0},{"$f":"IF(AND(Расчет!A734<2000,Расчет!B734<2000),Расчет!J734,0)","v":0},null,null,{"$f":"IF(OR(Расчет!A734>=2000,Расчет!B734>=2000),Расчет!M734,0)","v":0},{"$f":"IF(AND(Расчет!A734<2000,Расчет!B734<2000),Расчет!M734,0)","v":0}]
[{"$f":"IF(OR(Расчет!A735>=2000,Расчет!B735>=2000),Расчет!G735,0)","v":0},{"$f":"IF(AND(Расчет!A735<2000,Расчет!B735<2000),Расчет!G735,0)","v":0},null,null,{"$f":"IF(OR(Расчет!A735>=2000,Расчет!B735>=2000),Расчет!J735,0)","v":0},{"$f":"IF(AND(Расчет!A735<2000,Расчет!B735<2000),Расчет!J735,0)","v":0},null,null,{"$f":"IF(OR(Расчет!A735>=2000,Расчет!B735>=2000),Расчет!M735,0)","v":0},{"$f":"IF(AND(Расчет!A735<2000,Расчет!B735<2000),Расчет!M735,0)","v":0}]
[{"$f":"IF(OR(Расчет!A736>=2000,Расчет!B736>=2000),Расчет!G736,0)","v":0},{"$f":"IF(AND(Расчет!A736<2000,Расчет!B736<2000),Расчет!G736,0)","v":0},null,null,{"$f":"IF(OR(Расчет!A736>=2000,Расчет!B736>=2000),Расчет!J736,0)","v":0},{"$f":"IF(AND(Расчет!A736<2000,Расчет!B736<2000),Расчет!J736,0)","v":0},null,null,{"$f":"IF(OR(Расчет!A736>=2000,Расчет!B736>=2000),Расчет!M736,0)","v":0},{"$f":"IF(AND(Расчет!A736<2000,Расчет!B736<2000),Расчет!M736,0)","v":0}]
[{"$f":"IF(OR(Расчет!A737>=2000,Расчет!B737>=2000),Расчет!G737,0)","v":0},{"$f":"IF(AND(Расчет!A737<2000,Расчет!B737<2000),Расчет!G737,0)","v":0},null,null,{"$f":"IF(OR(Расчет!A737>=2000,Расчет!B737>=2000),Расчет!J737,0)","v":0},{"$f":"IF(AND(Расчет!A737<2000,Расчет!B737<2000),Расчет!J737,0)","v":0},null,null,{"$f":"IF(OR(Расчет!A737>=2000,Расчет!B737>=2000),Расчет!M737,0)","v":0},{"$f":"IF(AND(Расчет!A737<2000,Расчет!B737<2000),Расчет!M737,0)","v":0}]
[{"$f":"IF(OR(Расчет!A738>=2000,Расчет!B738>=2000),Расчет!G738,0)","v":0},{"$f":"IF(AND(Расчет!A738<2000,Расчет!B738<2000),Расчет!G738,0)","v":0},null,null,{"$f":"IF(OR(Расчет!A738>=2000,Расчет!B738>=2000),Расчет!J738,0)","v":0},{"$f":"IF(AND(Расчет!A738<2000,Расчет!B738<2000),Расчет!J738,0)","v":0},null,null,{"$f":"IF(OR(Расчет!A738>=2000,Расчет!B738>=2000),Расчет!M738,0)","v":0},{"$f":"IF(AND(Расчет!A738<2000,Расчет!B738<2000),Расчет!M738,0)","v":0}]
[{"$f":"IF(OR(Расчет!A739>=2000,Расчет!B739>=2000),Расчет!G739,0)","v":0},{"$f":"IF(AND(Расчет!A739<2000,Расчет!B739<2000),Расчет!G739,0)","v":0},null,null,{"$f":"IF(OR(Расчет!A739>=2000,Расчет!B739>=2000),Расчет!J739,0)","v":0},{"$f":"IF(AND(Расчет!A739<2000,Расчет!B739<2000),Расчет!J739,0)","v":0},null,null,{"$f":"IF(OR(Расчет!A739>=2000,Расчет!B739>=2000),Расчет!M739,0)","v":0},{"$f":"IF(AND(Расчет!A739<2000,Расчет!B739<2000),Расчет!M739,0)","v":0}]
[{"$f":"IF(OR(Расчет!A740>=2000,Расчет!B740>=2000),Расчет!G740,0)","v":0},{"$f":"IF(AND(Расчет!A740<2000,Расчет!B740<2000),Расчет!G740,0)","v":0},null,null,{"$f":"IF(OR(Расчет!A740>=2000,Расчет!B740>=2000),Расчет!J740,0)","v":0},{"$f":"IF(AND(Расчет!A740<2000,Расчет!B740<2000),Расчет!J740,0)","v":0},null,null,{"$f":"IF(OR(Расчет!A740>=2000,Расчет!B740>=2000),Расчет!M740,0)","v":0},{"$f":"IF(AND(Расчет!A740<2000,Расчет!B740<2000),Расчет!M740,0)","v":0}]
[{"$f":"IF(OR(Расчет!A741>=2000,Расчет!B741>=2000),Расчет!G741,0)","v":0},{"$f":"IF(AND(Расчет!A741<2000,Расчет!B741<2000),Расчет!G741,0)","v":0},null,null,{"$f":"IF(OR(Расчет!A741>=2000,Расчет!B741>=2000),Расчет!J741,0)","v":0},{"$f":"IF(AND(Расчет!A741<2000,Расчет!B741<2000),Расчет!J741,0)","v":0},null,null,{"$f":"IF(OR(Расчет!A741>=2000,Расчет!B741>=2000),Расчет!M741,0)","v":0},{"$f":"IF(AND(Расчет!A741<2000,Расчет!B741<2000),Расчет!M741,0)","v":0}]
[{"$f":"IF(OR(Расчет!A742>=2000,Расчет!B742>=2000),Расчет!G742,0)","v":0},{"$f":"IF(AND(Расчет!A742<2000,Расчет!B742<2000),Расчет!G742,0)","v":0},null,null,{"$f":"IF(OR(Расчет!A742>=2000,Расчет!B742>=2000),Расчет!J742,0)","v":0},{"$f":"IF(AND(Расчет!A742<2000,Расчет!B742<2000),Расчет!J742,0)","v":0},null,null,{"$f":"IF(OR(Расчет!A742>=2000,Расчет!B742>=2000),Расчет!M742,0)","v":0},{"$f":"IF(AND(Расчет!A742<2000,Расчет!B742<2000),Расчет!M742,0)","v":0}]
[{"$f":"IF(OR(Расчет!A743>=2000,Расчет!B743>=2000),Расчет!G743,0)","v":0},{"$f":"IF(AND(Расчет!A743<2000,Расчет!B743<2000),Расчет!G743,0)","v":0},null,null,{"$f":"IF(OR(Расчет!A743>=2000,Расчет!B743>=2000),Расчет!J743,0)","v":0},{"$f":"IF(AND(Расчет!A743<2000,Расчет!B743<2000),Расчет!J743,0)","v":0},null,null,{"$f":"IF(OR(Расчет!A743>=2000,Расчет!B743>=2000),Расчет!M743,0)","v":0},{"$f":"IF(AND(Расчет!A743<2000,Расчет!B743<2000),Расчет!M743,0)","v":0}]
[{"$f":"IF(OR(Расчет!A744>=2000,Расчет!B744>=2000),Расчет!G744,0)","v":0},{"$f":"IF(AND(Расчет!A744<2000,Расчет!B744<2000),Расчет!G744,0)","v":0},null,null,{"$f":"IF(OR(Расчет!A744>=2000,Расчет!B744>=2000),Расчет!J744,0)","v":0},{"$f":"IF(AND(Расчет!A744<2000,Расчет!B744<2000),Расчет!J744,0)","v":0},null,null,{"$f":"IF(OR(Расчет!A744>=2000,Расчет!B744>=2000),Расчет!M744,0)","v":0},{"$f":"IF(AND(Расчет!A744<2000,Расчет!B744<2000),Расчет!M744,0)","v":0}]
[{"$f":"IF(OR(Расчет!A745>=2000,Расчет!B745>=2000),Расчет!G745,0)","v":0},{"$f":"IF(AND(Расчет!A745<2000,Расчет!B745<2000),Расчет!G745,0)","v":0},null,null,{"$f":"IF(OR(Расчет!A745>=2000,Расчет!B745>=2000),Расчет!J745,0)","v":0},{"$f":"IF(AND(Расчет!A745<2000,Расчет!B745<2000),Расчет!J745,0)","v":0},null,null,{"$f":"IF(OR(Расчет!A745>=2000,Расчет!B745>=2000),Расчет!M745,0)","v":0},{"$f":"IF(AND(Расчет!A745<2000,Расчет!B745<2000),Расчет!M745,0)","v":0}]
[{"$f":"IF(OR(Расчет!A746>=2000,Расчет!B746>=2000),Расчет!G746,0)","v":0},{"$f":"IF(AND(Расчет!A746<2000,Расчет!B746<2000),Расчет!G746,0)","v":0},null,null,{"$f":"IF(OR(Расчет!A746>=2000,Расчет!B746>=2000),Расчет!J746,0)","v":0},{"$f":"IF(AND(Расчет!A746<2000,Расчет!B746<2000),Расчет!J746,0)","v":0},null,null,{"$f":"IF(OR(Расчет!A746>=2000,Расчет!B746>=2000),Расчет!M746,0)","v":0},{"$f":"IF(AND(Расчет!A746<2000,Расчет!B746<2000),Расчет!M746,0)","v":0}]
[{"$f":"IF(OR(Расчет!A747>=2000,Расчет!B747>=2000),Расчет!G747,0)","v":0},{"$f":"IF(AND(Расчет!A747<2000,Расчет!B747<2000),Расчет!G747,0)","v":0},null,null,{"$f":"IF(OR(Расчет!A747>=2000,Расчет!B747>=2000),Расчет!J747,0)","v":0},{"$f":"IF(AND(Расчет!A747<2000,Расчет!B747<2000),Расчет!J747,0)","v":0},null,null,{"$f":"IF(OR(Расчет!A747>=2000,Расчет!B747>=2000),Расчет!M747,0)","v":0},{"$f":"IF(AND(Расчет!A747<2000,Расчет!B747<2000),Расчет!M747,0)","v":0}]
[{"$f":"IF(OR(Расчет!A748>=2000,Расчет!B748>=2000),Расчет!G748,0)","v":0},{"$f":"IF(AND(Расчет!A748<2000,Расчет!B748<2000),Расчет!G748,0)","v":0},null,null,{"$f":"IF(OR(Расчет!A748>=2000,Расчет!B748>=2000),Расчет!J748,0)","v":0},{"$f":"IF(AND(Расчет!A748<2000,Расчет!B748<2000),Расчет!J748,0)","v":0},null,null,{"$f":"IF(OR(Расчет!A748>=2000,Расчет!B748>=2000),Расчет!M748,0)","v":0},{"$f":"IF(AND(Расчет!A748<2000,Расчет!B748<2000),Расчет!M748,0)","v":0}]
[{"$f":"IF(OR(Расчет!A749>=2000,Расчет!B749>=2000),Расчет!G749,0)","v":0},{"$f":"IF(AND(Расчет!A749<2000,Расчет!B749<2000),Расчет!G749,0)","v":0},null,null,{"$f":"IF(OR(Расчет!A749>=2000,Расчет!B749>=2000),Расчет!J749,0)","v":0},{"$f":"IF(AND(Расчет!A749<2000,Расчет!B749<2000),Расчет!J749,0)","v":0},null,null,{"$f":"IF(OR(Расчет!A749>=2000,Расчет!B749>=2000),Расчет!M749,0)","v":0},{"$f":"IF(AND(Расчет!A749<2000,Расчет!B749<2000),Расчет!M749,0)","v":0}]
[{"$f":"IF(OR(Расчет!A750>=2000,Расчет!B750>=2000),Расчет!G750,0)","v":0},{"$f":"IF(AND(Расчет!A750<2000,Расчет!B750<2000),Расчет!G750,0)","v":0},null,null,{"$f":"IF(OR(Расчет!A750>=2000,Расчет!B750>=2000),Расчет!J750,0)","v":0},{"$f":"IF(AND(Расчет!A750<2000,Расчет!B750<2000),Расчет!J750,0)","v":0},null,null,{"$f":"IF(OR(Расчет!A750>=2000,Расчет!B750>=2000),Расчет!M750,0)","v":0},{"$f":"IF(AND(Расчет!A750<2000,Расчет!B750<2000),Расчет!M750,0)","v":0}]
[{"$f":"IF(OR(Расчет!A751>=2000,Расчет!B751>=2000),Расчет!G751,0)","v":0},{"$f":"IF(AND(Расчет!A751<2000,Расчет!B751<2000),Расчет!G751,0)","v":0},null,null,{"$f":"IF(OR(Расчет!A751>=2000,Расчет!B751>=2000),Расчет!J751,0)","v":0},{"$f":"IF(AND(Расчет!A751<2000,Расчет!B751<2000),Расчет!J751,0)","v":0},null,null,{"$f":"IF(OR(Расчет!A751>=2000,Расчет!B751>=2000),Расчет!M751,0)","v":0},{"$f":"IF(AND(Расчет!A751<2000,Расчет!B751<2000),Расчет!M751,0)","v":0}]
[{"$f":"IF(OR(Расчет!A752>=2000,Расчет!B752>=2000),Расчет!G752,0)","v":0},{"$f":"IF(AND(Расчет!A752<2000,Расчет!B752<2000),Расчет!G752,0)","v":0},null,null,{"$f":"IF(OR(Расчет!A752>=2000,Расчет!B752>=2000),Расчет!J752,0)","v":0},{"$f":"IF(AND(Расчет!A752<2000,Расчет!B752<2000),Расчет!J752,0)","v":0},null,null,{"$f":"IF(OR(Расчет!A752>=2000,Расчет!B752>=2000),Расчет!M752,0)","v":0},{"$f":"IF(AND(Расчет!A752<2000,Расчет!B752<2000),Расчет!M752,0)","v":0}]
[{"$f":"IF(OR(Расчет!A753>=2000,Расчет!B753>=2000),Расчет!G753,0)","v":0},{"$f":"IF(AND(Расчет!A753<2000,Расчет!B753<2000),Расчет!G753,0)","v":0},null,null,{"$f":"IF(OR(Расчет!A753>=2000,Расчет!B753>=2000),Расчет!J753,0)","v":0},{"$f":"IF(AND(Расчет!A753<2000,Расчет!B753<2000),Расчет!J753,0)","v":0},null,null,{"$f":"IF(OR(Расчет!A753>=2000,Расчет!B753>=2000),Расчет!M753,0)","v":0},{"$f":"IF(AND(Расчет!A753<2000,Расчет!B753<2000),Расчет!M753,0)","v":0}]
[{"$f":"IF(OR(Расчет!A754>=2000,Расчет!B754>=2000),Расчет!G754,0)","v":0},{"$f":"IF(AND(Расчет!A754<2000,Расчет!B754<2000),Расчет!G754,0)","v":0},null,null,{"$f":"IF(OR(Расчет!A754>=2000,Расчет!B754>=2000),Расчет!J754,0)","v":0},{"$f":"IF(AND(Расчет!A754<2000,Расчет!B754<2000),Расчет!J754,0)","v":0},null,null,{"$f":"IF(OR(Расчет!A754>=2000,Расчет!B754>=2000),Расчет!M754,0)","v":0},{"$f":"IF(AND(Расчет!A754<2000,Расчет!B754<2000),Расчет!M754,0)","v":0}]
[{"$f":"IF(OR(Расчет!A755>=2000,Расчет!B755>=2000),Расчет!G755,0)","v":0},{"$f":"IF(AND(Расчет!A755<2000,Расчет!B755<2000),Расчет!G755,0)","v":0},null,null,{"$f":"IF(OR(Расчет!A755>=2000,Расчет!B755>=2000),Расчет!J755,0)","v":0},{"$f":"IF(AND(Расчет!A755<2000,Расчет!B755<2000),Расчет!J755,0)","v":0},null,null,{"$f":"IF(OR(Расчет!A755>=2000,Расчет!B755>=2000),Расчет!M755,0)","v":0},{"$f":"IF(AND(Расчет!A755<2000,Расчет!B755<2000),Расчет!M755,0)","v":0}]
[{"$f":"IF(OR(Расчет!A756>=2000,Расчет!B756>=2000),Расчет!G756,0)","v":0},{"$f":"IF(AND(Расчет!A756<2000,Расчет!B756<2000),Расчет!G756,0)","v":0},null,null,{"$f":"IF(OR(Расчет!A756>=2000,Расчет!B756>=2000),Расчет!J756,0)","v":0},{"$f":"IF(AND(Расчет!A756<2000,Расчет!B756<2000),Расчет!J756,0)","v":0},null,null,{"$f":"IF(OR(Расчет!A756>=2000,Расчет!B756>=2000),Расчет!M756,0)","v":0},{"$f":"IF(AND(Расчет!A756<2000,Расчет!B756<2000),Расчет!M756,0)","v":0}]
[{"$f":"IF(OR(Расчет!A757>=2000,Расчет!B757>=2000),Расчет!G757,0)","v":0},{"$f":"IF(AND(Расчет!A757<2000,Расчет!B757<2000),Расчет!G757,0)","v":0},null,null,{"$f":"IF(OR(Расчет!A757>=2000,Расчет!B757>=2000),Расчет!J757,0)","v":0},{"$f":"IF(AND(Расчет!A757<2000,Расчет!B757<2000),Расчет!J757,0)","v":0},null,null,{"$f":"IF(OR(Расчет!A757>=2000,Расчет!B757>=2000),Расчет!M757,0)","v":0},{"$f":"IF(AND(Расчет!A757<2000,Расчет!B757<2000),Расчет!M757,0)","v":0}]
[{"$f":"IF(OR(Расчет!A758>=2000,Расчет!B758>=2000),Расчет!G758,0)","v":0},{"$f":"IF(AND(Расчет!A758<2000,Расчет!B758<2000),Расчет!G758,0)","v":0},null,null,{"$f":"IF(OR(Расчет!A758>=2000,Расчет!B758>=2000),Расчет!J758,0)","v":0},{"$f":"IF(AND(Расчет!A758<2000,Расчет!B758<2000),Расчет!J758,0)","v":0},null,null,{"$f":"IF(OR(Расчет!A758>=2000,Расчет!B758>=2000),Расчет!M758,0)","v":0},{"$f":"IF(AND(Расчет!A758<2000,Расчет!B758<2000),Расчет!M758,0)","v":0}]
[{"$f":"IF(OR(Расчет!A759>=2000,Расчет!B759>=2000),Расчет!G759,0)","v":0},{"$f":"IF(AND(Расчет!A759<2000,Расчет!B759<2000),Расчет!G759,0)","v":0},null,null,{"$f":"IF(OR(Расчет!A759>=2000,Расчет!B759>=2000),Расчет!J759,0)","v":0},{"$f":"IF(AND(Расчет!A759<2000,Расчет!B759<2000),Расчет!J759,0)","v":0},null,null,{"$f":"IF(OR(Расчет!A759>=2000,Расчет!B759>=2000),Расчет!M759,0)","v":0},{"$f":"IF(AND(Расчет!A759<2000,Расчет!B759<2000),Расчет!M759,0)","v":0}]
[{"$f":"IF(OR(Расчет!A760>=2000,Расчет!B760>=2000),Расчет!G760,0)","v":0},{"$f":"IF(AND(Расчет!A760<2000,Расчет!B760<2000),Расчет!G760,0)","v":0},null,null,{"$f":"IF(OR(Расчет!A760>=2000,Расчет!B760>=2000),Расчет!J760,0)","v":0},{"$f":"IF(AND(Расчет!A760<2000,Расчет!B760<2000),Расчет!J760,0)","v":0},null,null,{"$f":"IF(OR(Расчет!A760>=2000,Расчет!B760>=2000),Расчет!M760,0)","v":0},{"$f":"IF(AND(Расчет!A760<2000,Расчет!B760<2000),Расчет!M760,0)","v":0}]
[{"$f":"IF(OR(Расчет!A761>=2000,Расчет!B761>=2000),Расчет!G761,0)","v":0},{"$f":"IF(AND(Расчет!A761<2000,Расчет!B761<2000),Расчет!G761,0)","v":0},null,null,{"$f":"IF(OR(Расчет!A761>=2000,Расчет!B761>=2000),Расчет!J761,0)","v":0},{"$f":"IF(AND(Расчет!A761<2000,Расчет!B761<2000),Расчет!J761,0)","v":0},null,null,{"$f":"IF(OR(Расчет!A761>=2000,Расчет!B761>=2000),Расчет!M761,0)","v":0},{"$f":"IF(AND(Расчет!A761<2000,Расчет!B761<2000),Расчет!M761,0)","v":0}]
[{"$f":"IF(OR(Расчет!A762>=2000,Расчет!B762>=2000),Расчет!G762,0)","v":0},{"$f":"IF(AND(Расчет!A762<2000,Расчет!B762<2000),Расчет!G762,0)","v":0},null,null,{"$f":"IF(OR(Расчет!A762>=2000,Расчет!B762>=2000),Расчет!J762,0)","v":0},{"$f":"IF(AND(Расчет!A762<2000,Расчет!B762<2000),Расчет!J762,0)","v":0},null,null,{"$f":"IF(OR(Расчет!A762>=2000,Расчет!B762>=2000),Расчет!M762,0)","v":0},{"$f":"IF(AND(Расчет!A762<2000,Расчет!B762<2000),Расчет!M762,0)","v":0}]
[{"$f":"IF(OR(Расчет!A763>=2000,Расчет!B763>=2000),Расчет!G763,0)","v":0},{"$f":"IF(AND(Расчет!A763<2000,Расчет!B763<2000),Расчет!G763,0)","v":0},null,null,{"$f":"IF(OR(Расчет!A763>=2000,Расчет!B763>=2000),Расчет!J763,0)","v":0},{"$f":"IF(AND(Расчет!A763<2000,Расчет!B763<2000),Расчет!J763,0)","v":0},null,null,{"$f":"IF(OR(Расчет!A763>=2000,Расчет!B763>=2000),Расчет!M763,0)","v":0},{"$f":"IF(AND(Расчет!A763<2000,Расчет!B763<2000),Расчет!M763,0)","v":0}]
[{"$f":"IF(OR(Расчет!A764>=2000,Расчет!B764>=2000),Расчет!G764,0)","v":0},{"$f":"IF(AND(Расчет!A764<2000,Расчет!B764<2000),Расчет!G764,0)","v":0},null,null,{"$f":"IF(OR(Расчет!A764>=2000,Расчет!B764>=2000),Расчет!J764,0)","v":0},{"$f":"IF(AND(Расчет!A764<2000,Расчет!B764<2000),Расчет!J764,0)","v":0},null,null,{"$f":"IF(OR(Расчет!A764>=2000,Расчет!B764>=2000),Расчет!M764,0)","v":0},{"$f":"IF(AND(Расчет!A764<2000,Расчет!B764<2000),Расчет!M764,0)","v":0}]
[{"$f":"IF(OR(Расчет!A765>=2000,Расчет!B765>=2000),Расчет!G765,0)","v":0},{"$f":"IF(AND(Расчет!A765<2000,Расчет!B765<2000),Расчет!G765,0)","v":0},null,null,{"$f":"IF(OR(Расчет!A765>=2000,Расчет!B765>=2000),Расчет!J765,0)","v":0},{"$f":"IF(AND(Расчет!A765<2000,Расчет!B765<2000),Расчет!J765,0)","v":0},null,null,{"$f":"IF(OR(Расчет!A765>=2000,Расчет!B765>=2000),Расчет!M765,0)","v":0},{"$f":"IF(AND(Расчет!A765<2000,Расчет!B765<2000),Расчет!M765,0)","v":0}]
[{"$f":"IF(OR(Расчет!A766>=2000,Расчет!B766>=2000),Расчет!G766,0)","v":0},{"$f":"IF(AND(Расчет!A766<2000,Расчет!B766<2000),Расчет!G766,0)","v":0},null,null,{"$f":"IF(OR(Расчет!A766>=2000,Расчет!B766>=2000),Расчет!J766,0)","v":0},{"$f":"IF(AND(Расчет!A766<2000,Расчет!B766<2000),Расчет!J766,0)","v":0},null,null,{"$f":"IF(OR(Расчет!A766>=2000,Расчет!B766>=2000),Расчет!M766,0)","v":0},{"$f":"IF(AND(Расчет!A766<2000,Расчет!B766<2000),Расчет!M766,0)","v":0}]
[{"$f":"IF(OR(Расчет!A767>=2000,Расчет!B767>=2000),Расчет!G767,0)","v":0},{"$f":"IF(AND(Расчет!A767<2000,Расчет!B767<2000),Расчет!G767,0)","v":0},null,null,{"$f":"IF(OR(Расчет!A767>=2000,Расчет!B767>=2000),Расчет!J767,0)","v":0},{"$f":"IF(AND(Расчет!A767<2000,Расчет!B767<2000),Расчет!J767,0)","v":0},null,null,{"$f":"IF(OR(Расчет!A767>=2000,Расчет!B767>=2000),Расчет!M767,0)","v":0},{"$f":"IF(AND(Расчет!A767<2000,Расчет!B767<2000),Расчет!M767,0)","v":0}]
[{"$f":"IF(OR(Расчет!A768>=2000,Расчет!B768>=2000),Расчет!G768,0)","v":0},{"$f":"IF(AND(Расчет!A768<2000,Расчет!B768<2000),Расчет!G768,0)","v":0},null,null,{"$f":"IF(OR(Расчет!A768>=2000,Расчет!B768>=2000),Расчет!J768,0)","v":0},{"$f":"IF(AND(Расчет!A768<2000,Расчет!B768<2000),Расчет!J768,0)","v":0},null,null,{"$f":"IF(OR(Расчет!A768>=2000,Расчет!B768>=2000),Расчет!M768,0)","v":0},{"$f":"IF(AND(Расчет!A768<2000,Расчет!B768<2000),Расчет!M768,0)","v":0}]
[{"$f":"IF(OR(Расчет!A769>=2000,Расчет!B769>=2000),Расчет!G769,0)","v":0},{"$f":"IF(AND(Расчет!A769<2000,Расчет!B769<2000),Расчет!G769,0)","v":0},null,null,{"$f":"IF(OR(Расчет!A769>=2000,Расчет!B769>=2000),Расчет!J769,0)","v":0},{"$f":"IF(AND(Расчет!A769<2000,Расчет!B769<2000),Расчет!J769,0)","v":0},null,null,{"$f":"IF(OR(Расчет!A769>=2000,Расчет!B769>=2000),Расчет!M769,0)","v":0},{"$f":"IF(AND(Расчет!A769<2000,Расчет!B769<2000),Расчет!M769,0)","v":0}]
[{"$f":"IF(OR(Расчет!A770>=2000,Расчет!B770>=2000),Расчет!G770,0)","v":0},{"$f":"IF(AND(Расчет!A770<2000,Расчет!B770<2000),Расчет!G770,0)","v":0},null,null,{"$f":"IF(OR(Расчет!A770>=2000,Расчет!B770>=2000),Расчет!J770,0)","v":0},{"$f":"IF(AND(Расчет!A770<2000,Расчет!B770<2000),Расчет!J770,0)","v":0},null,null,{"$f":"IF(OR(Расчет!A770>=2000,Расчет!B770>=2000),Расчет!M770,0)","v":0},{"$f":"IF(AND(Расчет!A770<2000,Расчет!B770<2000),Расчет!M770,0)","v":0}]
[{"$f":"IF(OR(Расчет!A771>=2000,Расчет!B771>=2000),Расчет!G771,0)","v":0},{"$f":"IF(AND(Расчет!A771<2000,Расчет!B771<2000),Расчет!G771,0)","v":0},null,null,{"$f":"IF(OR(Расчет!A771>=2000,Расчет!B771>=2000),Расчет!J771,0)","v":0},{"$f":"IF(AND(Расчет!A771<2000,Расчет!B771<2000),Расчет!J771,0)","v":0},null,null,{"$f":"IF(OR(Расчет!A771>=2000,Расчет!B771>=2000),Расчет!M771,0)","v":0},{"$f":"IF(AND(Расчет!A771<2000,Расчет!B771<2000),Расчет!M771,0)","v":0}]
[{"$f":"IF(OR(Расчет!A772>=2000,Расчет!B772>=2000),Расчет!G772,0)","v":0},{"$f":"IF(AND(Расчет!A772<2000,Расчет!B772<2000),Расчет!G772,0)","v":0},null,null,{"$f":"IF(OR(Расчет!A772>=2000,Расчет!B772>=2000),Расчет!J772,0)","v":0},{"$f":"IF(AND(Расчет!A772<2000,Расчет!B772<2000),Расчет!J772,0)","v":0},null,null,{"$f":"IF(OR(Расчет!A772>=2000,Расчет!B772>=2000),Расчет!M772,0)","v":0},{"$f":"IF(AND(Расчет!A772<2000,Расчет!B772<2000),Расчет!M772,0)","v":0}]
[{"$f":"IF(OR(Расчет!A773>=2000,Расчет!B773>=2000),Расчет!G773,0)","v":0},{"$f":"IF(AND(Расчет!A773<2000,Расчет!B773<2000),Расчет!G773,0)","v":0},null,null,{"$f":"IF(OR(Расчет!A773>=2000,Расчет!B773>=2000),Расчет!J773,0)","v":0},{"$f":"IF(AND(Расчет!A773<2000,Расчет!B773<2000),Расчет!J773,0)","v":0},null,null,{"$f":"IF(OR(Расчет!A773>=2000,Расчет!B773>=2000),Расчет!M773,0)","v":0},{"$f":"IF(AND(Расчет!A773<2000,Расчет!B773<2000),Расчет!M773,0)","v":0}]
[{"$f":"IF(OR(Расчет!A774>=2000,Расчет!B774>=2000),Расчет!G774,0)","v":0},{"$f":"IF(AND(Расчет!A774<2000,Расчет!B774<2000),Расчет!G774,0)","v":0},null,null,{"$f":"IF(OR(Расчет!A774>=2000,Расчет!B774>=2000),Расчет!J774,0)","v":0},{"$f":"IF(AND(Расчет!A774<2000,Расчет!B774<2000),Расчет!J774,0)","v":0},null,null,{"$f":"IF(OR(Расчет!A774>=2000,Расчет!B774>=2000),Расчет!M774,0)","v":0},{"$f":"IF(AND(Расчет!A774<2000,Расчет!B774<2000),Расчет!M774,0)","v":0}]
[{"$f":"IF(OR(Расчет!A775>=2000,Расчет!B775>=2000),Расчет!G775,0)","v":0},{"$f":"IF(AND(Расчет!A775<2000,Расчет!B775<2000),Расчет!G775,0)","v":0},null,null,{"$f":"IF(OR(Расчет!A775>=2000,Расчет!B775>=2000),Расчет!J775,0)","v":0},{"$f":"IF(AND(Расчет!A775<2000,Расчет!B775<2000),Расчет!J775,0)","v":0},null,null,{"$f":"IF(OR(Расчет!A775>=2000,Расчет!B775>=2000),Расчет!M775,0)","v":0},{"$f":"IF(AND(Расчет!A775<2000,Расчет!B775<2000),Расчет!M775,0)","v":0}]
[{"$f":"IF(OR(Расчет!A776>=2000,Расчет!B776>=2000),Расчет!G776,0)","v":0},{"$f":"IF(AND(Расчет!A776<2000,Расчет!B776<2000),Расчет!G776,0)","v":0},null,null,{"$f":"IF(OR(Расчет!A776>=2000,Расчет!B776>=2000),Расчет!J776,0)","v":0},{"$f":"IF(AND(Расчет!A776<2000,Расчет!B776<2000),Расчет!J776,0)","v":0},null,null,{"$f":"IF(OR(Расчет!A776>=2000,Расчет!B776>=2000),Расчет!M776,0)","v":0},{"$f":"IF(AND(Расчет!A776<2000,Расчет!B776<2000),Расчет!M776,0)","v":0}]
[{"$f":"IF(OR(Расчет!A777>=2000,Расчет!B777>=2000),Расчет!G777,0)","v":0},{"$f":"IF(AND(Расчет!A777<2000,Расчет!B777<2000),Расчет!G777,0)","v":0},null,null,{"$f":"IF(OR(Расчет!A777>=2000,Расчет!B777>=2000),Расчет!J777,0)","v":0},{"$f":"IF(AND(Расчет!A777<2000,Расчет!B777<2000),Расчет!J777,0)","v":0},null,null,{"$f":"IF(OR(Расчет!A777>=2000,Расчет!B777>=2000),Расчет!M777,0)","v":0},{"$f":"IF(AND(Расчет!A777<2000,Расчет!B777<2000),Расчет!M777,0)","v":0}]
[{"$f":"IF(OR(Расчет!A778>=2000,Расчет!B778>=2000),Расчет!G778,0)","v":0},{"$f":"IF(AND(Расчет!A778<2000,Расчет!B778<2000),Расчет!G778,0)","v":0},null,null,{"$f":"IF(OR(Расчет!A778>=2000,Расчет!B778>=2000),Расчет!J778,0)","v":0},{"$f":"IF(AND(Расчет!A778<2000,Расчет!B778<2000),Расчет!J778,0)","v":0},null,null,{"$f":"IF(OR(Расчет!A778>=2000,Расчет!B778>=2000),Расчет!M778,0)","v":0},{"$f":"IF(AND(Расчет!A778<2000,Расчет!B778<2000),Расчет!M778,0)","v":0}]
[{"$f":"IF(OR(Расчет!A779>=2000,Расчет!B779>=2000),Расчет!G779,0)","v":0},{"$f":"IF(AND(Расчет!A779<2000,Расчет!B779<2000),Расчет!G779,0)","v":0},null,null,{"$f":"IF(OR(Расчет!A779>=2000,Расчет!B779>=2000),Расчет!J779,0)","v":0},{"$f":"IF(AND(Расчет!A779<2000,Расчет!B779<2000),Расчет!J779,0)","v":0},null,null,{"$f":"IF(OR(Расчет!A779>=2000,Расчет!B779>=2000),Расчет!M779,0)","v":0},{"$f":"IF(AND(Расчет!A779<2000,Расчет!B779<2000),Расчет!M779,0)","v":0}]
[{"$f":"IF(OR(Расчет!A780>=2000,Расчет!B780>=2000),Расчет!G780,0)","v":0},{"$f":"IF(AND(Расчет!A780<2000,Расчет!B780<2000),Расчет!G780,0)","v":0},null,null,{"$f":"IF(OR(Расчет!A780>=2000,Расчет!B780>=2000),Расчет!J780,0)","v":0},{"$f":"IF(AND(Расчет!A780<2000,Расчет!B780<2000),Расчет!J780,0)","v":0},null,null,{"$f":"IF(OR(Расчет!A780>=2000,Расчет!B780>=2000),Расчет!M780,0)","v":0},{"$f":"IF(AND(Расчет!A780<2000,Расчет!B780<2000),Расчет!M780,0)","v":0}]
[{"$f":"IF(OR(Расчет!A781>=2000,Расчет!B781>=2000),Расчет!G781,0)","v":0},{"$f":"IF(AND(Расчет!A781<2000,Расчет!B781<2000),Расчет!G781,0)","v":0},null,null,{"$f":"IF(OR(Расчет!A781>=2000,Расчет!B781>=2000),Расчет!J781,0)","v":0},{"$f":"IF(AND(Расчет!A781<2000,Расчет!B781<2000),Расчет!J781,0)","v":0},null,null,{"$f":"IF(OR(Расчет!A781>=2000,Расчет!B781>=2000),Расчет!M781,0)","v":0},{"$f":"IF(AND(Расчет!A781<2000,Расчет!B781<2000),Расчет!M781,0)","v":0}]
[{"$f":"IF(OR(Расчет!A782>=2000,Расчет!B782>=2000),Расчет!G782,0)","v":0},{"$f":"IF(AND(Расчет!A782<2000,Расчет!B782<2000),Расчет!G782,0)","v":0},null,null,{"$f":"IF(OR(Расчет!A782>=2000,Расчет!B782>=2000),Расчет!J782,0)","v":0},{"$f":"IF(AND(Расчет!A782<2000,Расчет!B782<2000),Расчет!J782,0)","v":0},null,null,{"$f":"IF(OR(Расчет!A782>=2000,Расчет!B782>=2000),Расчет!M782,0)","v":0},{"$f":"IF(AND(Расчет!A782<2000,Расчет!B782<2000),Расчет!M782,0)","v":0}]
[{"$f":"IF(OR(Расчет!A783>=2000,Расчет!B783>=2000),Расчет!G783,0)","v":0},{"$f":"IF(AND(Расчет!A783<2000,Расчет!B783<2000),Расчет!G783,0)","v":0},null,null,{"$f":"IF(OR(Расчет!A783>=2000,Расчет!B783>=2000),Расчет!J783,0)","v":0},{"$f":"IF(AND(Расчет!A783<2000,Расчет!B783<2000),Расчет!J783,0)","v":0},null,null,{"$f":"IF(OR(Расчет!A783>=2000,Расчет!B783>=2000),Расчет!M783,0)","v":0},{"$f":"IF(AND(Расчет!A783<2000,Расчет!B783<2000),Расчет!M783,0)","v":0}]
[{"$f":"IF(OR(Расчет!A784>=2000,Расчет!B784>=2000),Расчет!G784,0)","v":0},{"$f":"IF(AND(Расчет!A784<2000,Расчет!B784<2000),Расчет!G784,0)","v":0},null,null,{"$f":"IF(OR(Расчет!A784>=2000,Расчет!B784>=2000),Расчет!J784,0)","v":0},{"$f":"IF(AND(Расчет!A784<2000,Расчет!B784<2000),Расчет!J784,0)","v":0},null,null,{"$f":"IF(OR(Расчет!A784>=2000,Расчет!B784>=2000),Расчет!M784,0)","v":0},{"$f":"IF(AND(Расчет!A784<2000,Расчет!B784<2000),Расчет!M784,0)","v":0}]
[{"$f":"IF(OR(Расчет!A785>=2000,Расчет!B785>=2000),Расчет!G785,0)","v":0},{"$f":"IF(AND(Расчет!A785<2000,Расчет!B785<2000),Расчет!G785,0)","v":0},null,null,{"$f":"IF(OR(Расчет!A785>=2000,Расчет!B785>=2000),Расчет!J785,0)","v":0},{"$f":"IF(AND(Расчет!A785<2000,Расчет!B785<2000),Расчет!J785,0)","v":0},null,null,{"$f":"IF(OR(Расчет!A785>=2000,Расчет!B785>=2000),Расчет!M785,0)","v":0},{"$f":"IF(AND(Расчет!A785<2000,Расчет!B785<2000),Расчет!M785,0)","v":0}]
[{"$f":"IF(OR(Расчет!A786>=2000,Расчет!B786>=2000),Расчет!G786,0)","v":0},{"$f":"IF(AND(Расчет!A786<2000,Расчет!B786<2000),Расчет!G786,0)","v":0},null,null,{"$f":"IF(OR(Расчет!A786>=2000,Расчет!B786>=2000),Расчет!J786,0)","v":0},{"$f":"IF(AND(Расчет!A786<2000,Расчет!B786<2000),Расчет!J786,0)","v":0},null,null,{"$f":"IF(OR(Расчет!A786>=2000,Расчет!B786>=2000),Расчет!M786,0)","v":0},{"$f":"IF(AND(Расчет!A786<2000,Расчет!B786<2000),Расчет!M786,0)","v":0}]
[{"$f":"IF(OR(Расчет!A787>=2000,Расчет!B787>=2000),Расчет!G787,0)","v":0},{"$f":"IF(AND(Расчет!A787<2000,Расчет!B787<2000),Расчет!G787,0)","v":0},null,null,{"$f":"IF(OR(Расчет!A787>=2000,Расчет!B787>=2000),Расчет!J787,0)","v":0},{"$f":"IF(AND(Расчет!A787<2000,Расчет!B787<2000),Расчет!J787,0)","v":0},null,null,{"$f":"IF(OR(Расчет!A787>=2000,Расчет!B787>=2000),Расчет!M787,0)","v":0},{"$f":"IF(AND(Расчет!A787<2000,Расчет!B787<2000),Расчет!M787,0)","v":0}]
[{"$f":"IF(OR(Расчет!A788>=2000,Расчет!B788>=2000),Расчет!G788,0)","v":0},{"$f":"IF(AND(Расчет!A788<2000,Расчет!B788<2000),Расчет!G788,0)","v":0},null,null,{"$f":"IF(OR(Расчет!A788>=2000,Расчет!B788>=2000),Расчет!J788,0)","v":0},{"$f":"IF(AND(Расчет!A788<2000,Расчет!B788<2000),Расчет!J788,0)","v":0},null,null,{"$f":"IF(OR(Расчет!A788>=2000,Расчет!B788>=2000),Расчет!M788,0)","v":0},{"$f":"IF(AND(Расчет!A788<2000,Расчет!B788<2000),Расчет!M788,0)","v":0}]
[{"$f":"IF(OR(Расчет!A789>=2000,Расчет!B789>=2000),Расчет!G789,0)","v":0},{"$f":"IF(AND(Расчет!A789<2000,Расчет!B789<2000),Расчет!G789,0)","v":0},null,null,{"$f":"IF(OR(Расчет!A789>=2000,Расчет!B789>=2000),Расчет!J789,0)","v":0},{"$f":"IF(AND(Расчет!A789<2000,Расчет!B789<2000),Расчет!J789,0)","v":0},null,null,{"$f":"IF(OR(Расчет!A789>=2000,Расчет!B789>=2000),Расчет!M789,0)","v":0},{"$f":"IF(AND(Расчет!A789<2000,Расчет!B789<2000),Расчет!M789,0)","v":0}]
[{"$f":"IF(OR(Расчет!A790>=2000,Расчет!B790>=2000),Расчет!G790,0)","v":0},{"$f":"IF(AND(Расчет!A790<2000,Расчет!B790<2000),Расчет!G790,0)","v":0},null,null,{"$f":"IF(OR(Расчет!A790>=2000,Расчет!B790>=2000),Расчет!J790,0)","v":0},{"$f":"IF(AND(Расчет!A790<2000,Расчет!B790<2000),Расчет!J790,0)","v":0},null,null,{"$f":"IF(OR(Расчет!A790>=2000,Расчет!B790>=2000),Расчет!M790,0)","v":0},{"$f":"IF(AND(Расчет!A790<2000,Расчет!B790<2000),Расчет!M790,0)","v":0}]
[{"$f":"IF(OR(Расчет!A791>=2000,Расчет!B791>=2000),Расчет!G791,0)","v":0},{"$f":"IF(AND(Расчет!A791<2000,Расчет!B791<2000),Расчет!G791,0)","v":0},null,null,{"$f":"IF(OR(Расчет!A791>=2000,Расчет!B791>=2000),Расчет!J791,0)","v":0},{"$f":"IF(AND(Расчет!A791<2000,Расчет!B791<2000),Расчет!J791,0)","v":0},null,null,{"$f":"IF(OR(Расчет!A791>=2000,Расчет!B791>=2000),Расчет!M791,0)","v":0},{"$f":"IF(AND(Расчет!A791<2000,Расчет!B791<2000),Расчет!M791,0)","v":0}]
[{"$f":"IF(OR(Расчет!A792>=2000,Расчет!B792>=2000),Расчет!G792,0)","v":0},{"$f":"IF(AND(Расчет!A792<2000,Расчет!B792<2000),Расчет!G792,0)","v":0},null,null,{"$f":"IF(OR(Расчет!A792>=2000,Расчет!B792>=2000),Расчет!J792,0)","v":0},{"$f":"IF(AND(Расчет!A792<2000,Расчет!B792<2000),Расчет!J792,0)","v":0},null,null,{"$f":"IF(OR(Расчет!A792>=2000,Расчет!B792>=2000),Расчет!M792,0)","v":0},{"$f":"IF(AND(Расчет!A792<2000,Расчет!B792<2000),Расчет!M792,0)","v":0}]
[{"$f":"IF(OR(Расчет!A793>=2000,Расчет!B793>=2000),Расчет!G793,0)","v":0},{"$f":"IF(AND(Расчет!A793<2000,Расчет!B793<2000),Расчет!G793,0)","v":0},null,null,{"$f":"IF(OR(Расчет!A793>=2000,Расчет!B793>=2000),Расчет!J793,0)","v":0},{"$f":"IF(AND(Расчет!A793<2000,Расчет!B793<2000),Расчет!J793,0)","v":0},null,null,{"$f":"IF(OR(Расчет!A793>=2000,Расчет!B793>=2000),Расчет!M793,0)","v":0},{"$f":"IF(AND(Расчет!A793<2000,Расчет!B793<2000),Расчет!M793,0)","v":0}]
[{"$f":"IF(OR(Расчет!A794>=2000,Расчет!B794>=2000),Расчет!G794,0)","v":0},{"$f":"IF(AND(Расчет!A794<2000,Расчет!B794<2000),Расчет!G794,0)","v":0},null,null,{"$f":"IF(OR(Расчет!A794>=2000,Расчет!B794>=2000),Расчет!J794,0)","v":0},{"$f":"IF(AND(Расчет!A794<2000,Расчет!B794<2000),Расчет!J794,0)","v":0},null,null,{"$f":"IF(OR(Расчет!A794>=2000,Расчет!B794>=2000),Расчет!M794,0)","v":0},{"$f":"IF(AND(Расчет!A794<2000,Расчет!B794<2000),Расчет!M794,0)","v":0}]
[{"$f":"IF(OR(Расчет!A795>=2000,Расчет!B795>=2000),Расчет!G795,0)","v":0},{"$f":"IF(AND(Расчет!A795<2000,Расчет!B795<2000),Расчет!G795,0)","v":0},null,null,{"$f":"IF(OR(Расчет!A795>=2000,Расчет!B795>=2000),Расчет!J795,0)","v":0},{"$f":"IF(AND(Расчет!A795<2000,Расчет!B795<2000),Расчет!J795,0)","v":0},null,null,{"$f":"IF(OR(Расчет!A795>=2000,Расчет!B795>=2000),Расчет!M795,0)","v":0},{"$f":"IF(AND(Расчет!A795<2000,Расчет!B795<2000),Расчет!M795,0)","v":0}]
[{"$f":"IF(OR(Расчет!A796>=2000,Расчет!B796>=2000),Расчет!G796,0)","v":0},{"$f":"IF(AND(Расчет!A796<2000,Расчет!B796<2000),Расчет!G796,0)","v":0},null,null,{"$f":"IF(OR(Расчет!A796>=2000,Расчет!B796>=2000),Расчет!J796,0)","v":0},{"$f":"IF(AND(Расчет!A796<2000,Расчет!B796<2000),Расчет!J796,0)","v":0},null,null,{"$f":"IF(OR(Расчет!A796>=2000,Расчет!B796>=2000),Расчет!M796,0)","v":0},{"$f":"IF(AND(Расчет!A796<2000,Расчет!B796<2000),Расчет!M796,0)","v":0}]
[{"$f":"IF(OR(Расчет!A797>=2000,Расчет!B797>=2000),Расчет!G797,0)","v":0},{"$f":"IF(AND(Расчет!A797<2000,Расчет!B797<2000),Расчет!G797,0)","v":0},null,null,{"$f":"IF(OR(Расчет!A797>=2000,Расчет!B797>=2000),Расчет!J797,0)","v":0},{"$f":"IF(AND(Расчет!A797<2000,Расчет!B797<2000),Расчет!J797,0)","v":0},null,null,{"$f":"IF(OR(Расчет!A797>=2000,Расчет!B797>=2000),Расчет!M797,0)","v":0},{"$f":"IF(AND(Расчет!A797<2000,Расчет!B797<2000),Расчет!M797,0)","v":0}]
[{"$f":"IF(OR(Расчет!A798>=2000,Расчет!B798>=2000),Расчет!G798,0)","v":0},{"$f":"IF(AND(Расчет!A798<2000,Расчет!B798<2000),Расчет!G798,0)","v":0},null,null,{"$f":"IF(OR(Расчет!A798>=2000,Расчет!B798>=2000),Расчет!J798,0)","v":0},{"$f":"IF(AND(Расчет!A798<2000,Расчет!B798<2000),Расчет!J798,0)","v":0},null,null,{"$f":"IF(OR(Расчет!A798>=2000,Расчет!B798>=2000),Расчет!M798,0)","v":0},{"$f":"IF(AND(Расчет!A798<2000,Расчет!B798<2000),Расчет!M798,0)","v":0}]
[{"$f":"IF(OR(Расчет!A799>=2000,Расчет!B799>=2000),Расчет!G799,0)","v":0},{"$f":"IF(AND(Расчет!A799<2000,Расчет!B799<2000),Расчет!G799,0)","v":0},null,null,{"$f":"IF(OR(Расчет!A799>=2000,Расчет!B799>=2000),Расчет!J799,0)","v":0},{"$f":"IF(AND(Расчет!A799<2000,Расчет!B799<2000),Расчет!J799,0)","v":0},null,null,{"$f":"IF(OR(Расчет!A799>=2000,Расчет!B799>=2000),Расчет!M799,0)","v":0},{"$f":"IF(AND(Расчет!A799<2000,Расчет!B799<2000),Расчет!M799,0)","v":0}]
[{"$f":"IF(OR(Расчет!A800>=2000,Расчет!B800>=2000),Расчет!G800,0)","v":0},{"$f":"IF(AND(Расчет!A800<2000,Расчет!B800<2000),Расчет!G800,0)","v":0},null,null,{"$f":"IF(OR(Расчет!A800>=2000,Расчет!B800>=2000),Расчет!J800,0)","v":0},{"$f":"IF(AND(Расчет!A800<2000,Расчет!B800<2000),Расчет!J800,0)","v":0},null,null,{"$f":"IF(OR(Расчет!A800>=2000,Расчет!B800>=2000),Расчет!M800,0)","v":0},{"$f":"IF(AND(Расчет!A800<2000,Расчет!B800<2000),Расчет!M800,0)","v":0}]
[{"$f":"IF(OR(Расчет!A801>=2000,Расчет!B801>=2000),Расчет!G801,0)","v":0},{"$f":"IF(AND(Расчет!A801<2000,Расчет!B801<2000),Расчет!G801,0)","v":0},null,null,{"$f":"IF(OR(Расчет!A801>=2000,Расчет!B801>=2000),Расчет!J801,0)","v":0},{"$f":"IF(AND(Расчет!A801<2000,Расчет!B801<2000),Расчет!J801,0)","v":0},null,null,{"$f":"IF(OR(Расчет!A801>=2000,Расчет!B801>=2000),Расчет!M801,0)","v":0},{"$f":"IF(AND(Расчет!A801<2000,Расчет!B801<2000),Расчет!M801,0)","v":0}]
[{"$f":"IF(OR(Расчет!A802>=2000,Расчет!B802>=2000),Расчет!G802,0)","v":0},{"$f":"IF(AND(Расчет!A802<2000,Расчет!B802<2000),Расчет!G802,0)","v":0},null,null,{"$f":"IF(OR(Расчет!A802>=2000,Расчет!B802>=2000),Расчет!J802,0)","v":0},{"$f":"IF(AND(Расчет!A802<2000,Расчет!B802<2000),Расчет!J802,0)","v":0},null,null,{"$f":"IF(OR(Расчет!A802>=2000,Расчет!B802>=2000),Расчет!M802,0)","v":0},{"$f":"IF(AND(Расчет!A802<2000,Расчет!B802<2000),Расчет!M802,0)","v":0}]
[{"$f":"IF(OR(Расчет!A803>=2000,Расчет!B803>=2000),Расчет!G803,0)","v":0},{"$f":"IF(AND(Расчет!A803<2000,Расчет!B803<2000),Расчет!G803,0)","v":0},null,null,{"$f":"IF(OR(Расчет!A803>=2000,Расчет!B803>=2000),Расчет!J803,0)","v":0},{"$f":"IF(AND(Расчет!A803<2000,Расчет!B803<2000),Расчет!J803,0)","v":0},null,null,{"$f":"IF(OR(Расчет!A803>=2000,Расчет!B803>=2000),Расчет!M803,0)","v":0},{"$f":"IF(AND(Расчет!A803<2000,Расчет!B803<2000),Расчет!M803,0)","v":0}]
[{"$f":"IF(OR(Расчет!A804>=2000,Расчет!B804>=2000),Расчет!G804,0)","v":0},{"$f":"IF(AND(Расчет!A804<2000,Расчет!B804<2000),Расчет!G804,0)","v":0},null,null,{"$f":"IF(OR(Расчет!A804>=2000,Расчет!B804>=2000),Расчет!J804,0)","v":0},{"$f":"IF(AND(Расчет!A804<2000,Расчет!B804<2000),Расчет!J804,0)","v":0},null,null,{"$f":"IF(OR(Расчет!A804>=2000,Расчет!B804>=2000),Расчет!M804,0)","v":0},{"$f":"IF(AND(Расчет!A804<2000,Расчет!B804<2000),Расчет!M804,0)","v":0}]
[{"$f":"IF(OR(Расчет!A805>=2000,Расчет!B805>=2000),Расчет!G805,0)","v":0},{"$f":"IF(AND(Расчет!A805<2000,Расчет!B805<2000),Расчет!G805,0)","v":0},null,null,{"$f":"IF(OR(Расчет!A805>=2000,Расчет!B805>=2000),Расчет!J805,0)","v":0},{"$f":"IF(AND(Расчет!A805<2000,Расчет!B805<2000),Расчет!J805,0)","v":0},null,null,{"$f":"IF(OR(Расчет!A805>=2000,Расчет!B805>=2000),Расчет!M805,0)","v":0},{"$f":"IF(AND(Расчет!A805<2000,Расчет!B805<2000),Расчет!M805,0)","v":0}]
[{"$f":"IF(OR(Расчет!A806>=2000,Расчет!B806>=2000),Расчет!G806,0)","v":0},{"$f":"IF(AND(Расчет!A806<2000,Расчет!B806<2000),Расчет!G806,0)","v":0},null,null,{"$f":"IF(OR(Расчет!A806>=2000,Расчет!B806>=2000),Расчет!J806,0)","v":0},{"$f":"IF(AND(Расчет!A806<2000,Расчет!B806<2000),Расчет!J806,0)","v":0},null,null,{"$f":"IF(OR(Расчет!A806>=2000,Расчет!B806>=2000),Расчет!M806,0)","v":0},{"$f":"IF(AND(Расчет!A806<2000,Расчет!B806<2000),Расчет!M806,0)","v":0}]
[{"$f":"IF(OR(Расчет!A807>=2000,Расчет!B807>=2000),Расчет!G807,0)","v":0},{"$f":"IF(AND(Расчет!A807<2000,Расчет!B807<2000),Расчет!G807,0)","v":0},null,null,{"$f":"IF(OR(Расчет!A807>=2000,Расчет!B807>=2000),Расчет!J807,0)","v":0},{"$f":"IF(AND(Расчет!A807<2000,Расчет!B807<2000),Расчет!J807,0)","v":0},null,null,{"$f":"IF(OR(Расчет!A807>=2000,Расчет!B807>=2000),Расчет!M807,0)","v":0},{"$f":"IF(AND(Расчет!A807<2000,Расчет!B807<2000),Расчет!M807,0)","v":0}]
[{"$f":"IF(OR(Расчет!A808>=2000,Расчет!B808>=2000),Расчет!G808,0)","v":0},{"$f":"IF(AND(Расчет!A808<2000,Расчет!B808<2000),Расчет!G808,0)","v":0},null,null,{"$f":"IF(OR(Расчет!A808>=2000,Расчет!B808>=2000),Расчет!J808,0)","v":0},{"$f":"IF(AND(Расчет!A808<2000,Расчет!B808<2000),Расчет!J808,0)","v":0},null,null,{"$f":"IF(OR(Расчет!A808>=2000,Расчет!B808>=2000),Расчет!M808,0)","v":0},{"$f":"IF(AND(Расчет!A808<2000,Расчет!B808<2000),Расчет!M808,0)","v":0}]
[{"$f":"IF(OR(Расчет!A809>=2000,Расчет!B809>=2000),Расчет!G809,0)","v":0},{"$f":"IF(AND(Расчет!A809<2000,Расчет!B809<2000),Расчет!G809,0)","v":0},null,null,{"$f":"IF(OR(Расчет!A809>=2000,Расчет!B809>=2000),Расчет!J809,0)","v":0},{"$f":"IF(AND(Расчет!A809<2000,Расчет!B809<2000),Расчет!J809,0)","v":0},null,null,{"$f":"IF(OR(Расчет!A809>=2000,Расчет!B809>=2000),Расчет!M809,0)","v":0},{"$f":"IF(AND(Расчет!A809<2000,Расчет!B809<2000),Расчет!M809,0)","v":0}]
[{"$f":"IF(OR(Расчет!A810>=2000,Расчет!B810>=2000),Расчет!G810,0)","v":0},{"$f":"IF(AND(Расчет!A810<2000,Расчет!B810<2000),Расчет!G810,0)","v":0},null,null,{"$f":"IF(OR(Расчет!A810>=2000,Расчет!B810>=2000),Расчет!J810,0)","v":0},{"$f":"IF(AND(Расчет!A810<2000,Расчет!B810<2000),Расчет!J810,0)","v":0},null,null,{"$f":"IF(OR(Расчет!A810>=2000,Расчет!B810>=2000),Расчет!M810,0)","v":0},{"$f":"IF(AND(Расчет!A810<2000,Расчет!B810<2000),Расчет!M810,0)","v":0}]
[{"$f":"IF(OR(Расчет!A811>=2000,Расчет!B811>=2000),Расчет!G811,0)","v":0},{"$f":"IF(AND(Расчет!A811<2000,Расчет!B811<2000),Расчет!G811,0)","v":0},null,null,{"$f":"IF(OR(Расчет!A811>=2000,Расчет!B811>=2000),Расчет!J811,0)","v":0},{"$f":"IF(AND(Расчет!A811<2000,Расчет!B811<2000),Расчет!J811,0)","v":0},null,null,{"$f":"IF(OR(Расчет!A811>=2000,Расчет!B811>=2000),Расчет!M811,0)","v":0},{"$f":"IF(AND(Расчет!A811<2000,Расчет!B811<2000),Расчет!M811,0)","v":0}]
[{"$f":"IF(OR(Расчет!A812>=2000,Расчет!B812>=2000),Расчет!G812,0)","v":0},{"$f":"IF(AND(Расчет!A812<2000,Расчет!B812<2000),Расчет!G812,0)","v":0},null,null,{"$f":"IF(OR(Расчет!A812>=2000,Расчет!B812>=2000),Расчет!J812,0)","v":0},{"$f":"IF(AND(Расчет!A812<2000,Расчет!B812<2000),Расчет!J812,0)","v":0},null,null,{"$f":"IF(OR(Расчет!A812>=2000,Расчет!B812>=2000),Расчет!M812,0)","v":0},{"$f":"IF(AND(Расчет!A812<2000,Расчет!B812<2000),Расчет!M812,0)","v":0}]
[{"$f":"IF(OR(Расчет!A813>=2000,Расчет!B813>=2000),Расчет!G813,0)","v":0},{"$f":"IF(AND(Расчет!A813<2000,Расчет!B813<2000),Расчет!G813,0)","v":0},null,null,{"$f":"IF(OR(Расчет!A813>=2000,Расчет!B813>=2000),Расчет!J813,0)","v":0},{"$f":"IF(AND(Расчет!A813<2000,Расчет!B813<2000),Расчет!J813,0)","v":0},null,null,{"$f":"IF(OR(Расчет!A813>=2000,Расчет!B813>=2000),Расчет!M813,0)","v":0},{"$f":"IF(AND(Расчет!A813<2000,Расчет!B813<2000),Расчет!M813,0)","v":0}]
[{"$f":"IF(OR(Расчет!A814>=2000,Расчет!B814>=2000),Расчет!G814,0)","v":0},{"$f":"IF(AND(Расчет!A814<2000,Расчет!B814<2000),Расчет!G814,0)","v":0},null,null,{"$f":"IF(OR(Расчет!A814>=2000,Расчет!B814>=2000),Расчет!J814,0)","v":0},{"$f":"IF(AND(Расчет!A814<2000,Расчет!B814<2000),Расчет!J814,0)","v":0},null,null,{"$f":"IF(OR(Расчет!A814>=2000,Расчет!B814>=2000),Расчет!M814,0)","v":0},{"$f":"IF(AND(Расчет!A814<2000,Расчет!B814<2000),Расчет!M814,0)","v":0}]
[{"$f":"IF(OR(Расчет!A815>=2000,Расчет!B815>=2000),Расчет!G815,0)","v":0},{"$f":"IF(AND(Расчет!A815<2000,Расчет!B815<2000),Расчет!G815,0)","v":0},null,null,{"$f":"IF(OR(Расчет!A815>=2000,Расчет!B815>=2000),Расчет!J815,0)","v":0},{"$f":"IF(AND(Расчет!A815<2000,Расчет!B815<2000),Расчет!J815,0)","v":0},null,null,{"$f":"IF(OR(Расчет!A815>=2000,Расчет!B815>=2000),Расчет!M815,0)","v":0},{"$f":"IF(AND(Расчет!A815<2000,Расчет!B815<2000),Расчет!M815,0)","v":0}]
[{"$f":"IF(OR(Расчет!A816>=2000,Расчет!B816>=2000),Расчет!G816,0)","v":0},{"$f":"IF(AND(Расчет!A816<2000,Расчет!B816<2000),Расчет!G816,0)","v":0},null,null,{"$f":"IF(OR(Расчет!A816>=2000,Расчет!B816>=2000),Расчет!J816,0)","v":0},{"$f":"IF(AND(Расчет!A816<2000,Расчет!B816<2000),Расчет!J816,0)","v":0},null,null,{"$f":"IF(OR(Расчет!A816>=2000,Расчет!B816>=2000),Расчет!M816,0)","v":0},{"$f":"IF(AND(Расчет!A816<2000,Расчет!B816<2000),Расчет!M816,0)","v":0}]
[{"$f":"IF(OR(Расчет!A817>=2000,Расчет!B817>=2000),Расчет!G817,0)","v":0},{"$f":"IF(AND(Расчет!A817<2000,Расчет!B817<2000),Расчет!G817,0)","v":0},null,null,{"$f":"IF(OR(Расчет!A817>=2000,Расчет!B817>=2000),Расчет!J817,0)","v":0},{"$f":"IF(AND(Расчет!A817<2000,Расчет!B817<2000),Расчет!J817,0)","v":0},null,null,{"$f":"IF(OR(Расчет!A817>=2000,Расчет!B817>=2000),Расчет!M817,0)","v":0},{"$f":"IF(AND(Расчет!A817<2000,Расчет!B817<2000),Расчет!M817,0)","v":0}]
[{"$f":"IF(OR(Расчет!A818>=2000,Расчет!B818>=2000),Расчет!G818,0)","v":0},{"$f":"IF(AND(Расчет!A818<2000,Расчет!B818<2000),Расчет!G818,0)","v":0},null,null,{"$f":"IF(OR(Расчет!A818>=2000,Расчет!B818>=2000),Расчет!J818,0)","v":0},{"$f":"IF(AND(Расчет!A818<2000,Расчет!B818<2000),Расчет!J818,0)","v":0},null,null,{"$f":"IF(OR(Расчет!A818>=2000,Расчет!B818>=2000),Расчет!M818,0)","v":0},{"$f":"IF(AND(Расчет!A818<2000,Расчет!B818<2000),Расчет!M818,0)","v":0}]
[{"$f":"IF(OR(Расчет!A819>=2000,Расчет!B819>=2000),Расчет!G819,0)","v":0},{"$f":"IF(AND(Расчет!A819<2000,Расчет!B819<2000),Расчет!G819,0)","v":0},null,null,{"$f":"IF(OR(Расчет!A819>=2000,Расчет!B819>=2000),Расчет!J819,0)","v":0},{"$f":"IF(AND(Расчет!A819<2000,Расчет!B819<2000),Расчет!J819,0)","v":0},null,null,{"$f":"IF(OR(Расчет!A819>=2000,Расчет!B819>=2000),Расчет!M819,0)","v":0},{"$f":"IF(AND(Расчет!A819<2000,Расчет!B819<2000),Расчет!M819,0)","v":0}]
[{"$f":"IF(OR(Расчет!A820>=2000,Расчет!B820>=2000),Расчет!G820,0)","v":0},{"$f":"IF(AND(Расчет!A820<2000,Расчет!B820<2000),Расчет!G820,0)","v":0},null,null,{"$f":"IF(OR(Расчет!A820>=2000,Расчет!B820>=2000),Расчет!J820,0)","v":0},{"$f":"IF(AND(Расчет!A820<2000,Расчет!B820<2000),Расчет!J820,0)","v":0},null,null,{"$f":"IF(OR(Расчет!A820>=2000,Расчет!B820>=2000),Расчет!M820,0)","v":0},{"$f":"IF(AND(Расчет!A820<2000,Расчет!B820<2000),Расчет!M820,0)","v":0}]
[{"$f":"IF(OR(Расчет!A821>=2000,Расчет!B821>=2000),Расчет!G821,0)","v":0},{"$f":"IF(AND(Расчет!A821<2000,Расчет!B821<2000),Расчет!G821,0)","v":0},null,null,{"$f":"IF(OR(Расчет!A821>=2000,Расчет!B821>=2000),Расчет!J821,0)","v":0},{"$f":"IF(AND(Расчет!A821<2000,Расчет!B821<2000),Расчет!J821,0)","v":0},null,null,{"$f":"IF(OR(Расчет!A821>=2000,Расчет!B821>=2000),Расчет!M821,0)","v":0},{"$f":"IF(AND(Расчет!A821<2000,Расчет!B821<2000),Расчет!M821,0)","v":0}]
[{"$f":"IF(OR(Расчет!A822>=2000,Расчет!B822>=2000),Расчет!G822,0)","v":0},{"$f":"IF(AND(Расчет!A822<2000,Расчет!B822<2000),Расчет!G822,0)","v":0},null,null,{"$f":"IF(OR(Расчет!A822>=2000,Расчет!B822>=2000),Расчет!J822,0)","v":0},{"$f":"IF(AND(Расчет!A822<2000,Расчет!B822<2000),Расчет!J822,0)","v":0},null,null,{"$f":"IF(OR(Расчет!A822>=2000,Расчет!B822>=2000),Расчет!M822,0)","v":0},{"$f":"IF(AND(Расчет!A822<2000,Расчет!B822<2000),Расчет!M822,0)","v":0}]
[{"$f":"IF(OR(Расчет!A823>=2000,Расчет!B823>=2000),Расчет!G823,0)","v":0},{"$f":"IF(AND(Расчет!A823<2000,Расчет!B823<2000),Расчет!G823,0)","v":0},null,null,{"$f":"IF(OR(Расчет!A823>=2000,Расчет!B823>=2000),Расчет!J823,0)","v":0},{"$f":"IF(AND(Расчет!A823<2000,Расчет!B823<2000),Расчет!J823,0)","v":0},null,null,{"$f":"IF(OR(Расчет!A823>=2000,Расчет!B823>=2000),Расчет!M823,0)","v":0},{"$f":"IF(AND(Расчет!A823<2000,Расчет!B823<2000),Расчет!M823,0)","v":0}]
[{"$f":"IF(OR(Расчет!A824>=2000,Расчет!B824>=2000),Расчет!G824,0)","v":0},{"$f":"IF(AND(Расчет!A824<2000,Расчет!B824<2000),Расчет!G824,0)","v":0},null,null,{"$f":"IF(OR(Расчет!A824>=2000,Расчет!B824>=2000),Расчет!J824,0)","v":0},{"$f":"IF(AND(Расчет!A824<2000,Расчет!B824<2000),Расчет!J824,0)","v":0},null,null,{"$f":"IF(OR(Расчет!A824>=2000,Расчет!B824>=2000),Расчет!M824,0)","v":0},{"$f":"IF(AND(Расчет!A824<2000,Расчет!B824<2000),Расчет!M824,0)","v":0}]
[{"$f":"IF(OR(Расчет!A825>=2000,Расчет!B825>=2000),Расчет!G825,0)","v":0},{"$f":"IF(AND(Расчет!A825<2000,Расчет!B825<2000),Расчет!G825,0)","v":0},null,null,{"$f":"IF(OR(Расчет!A825>=2000,Расчет!B825>=2000),Расчет!J825,0)","v":0},{"$f":"IF(AND(Расчет!A825<2000,Расчет!B825<2000),Расчет!J825,0)","v":0},null,null,{"$f":"IF(OR(Расчет!A825>=2000,Расчет!B825>=2000),Расчет!M825,0)","v":0},{"$f":"IF(AND(Расчет!A825<2000,Расчет!B825<2000),Расчет!M825,0)","v":0}]
[{"$f":"IF(OR(Расчет!A826>=2000,Расчет!B826>=2000),Расчет!G826,0)","v":0},{"$f":"IF(AND(Расчет!A826<2000,Расчет!B826<2000),Расчет!G826,0)","v":0},null,null,{"$f":"IF(OR(Расчет!A826>=2000,Расчет!B826>=2000),Расчет!J826,0)","v":0},{"$f":"IF(AND(Расчет!A826<2000,Расчет!B826<2000),Расчет!J826,0)","v":0},null,null,{"$f":"IF(OR(Расчет!A826>=2000,Расчет!B826>=2000),Расчет!M826,0)","v":0},{"$f":"IF(AND(Расчет!A826<2000,Расчет!B826<2000),Расчет!M826,0)","v":0}]
[{"$f":"IF(OR(Расчет!A827>=2000,Расчет!B827>=2000),Расчет!G827,0)","v":0},{"$f":"IF(AND(Расчет!A827<2000,Расчет!B827<2000),Расчет!G827,0)","v":0},null,null,{"$f":"IF(OR(Расчет!A827>=2000,Расчет!B827>=2000),Расчет!J827,0)","v":0},{"$f":"IF(AND(Расчет!A827<2000,Расчет!B827<2000),Расчет!J827,0)","v":0},null,null,{"$f":"IF(OR(Расчет!A827>=2000,Расчет!B827>=2000),Расчет!M827,0)","v":0},{"$f":"IF(AND(Расчет!A827<2000,Расчет!B827<2000),Расчет!M827,0)","v":0}]
[{"$f":"IF(OR(Расчет!A828>=2000,Расчет!B828>=2000),Расчет!G828,0)","v":0},{"$f":"IF(AND(Расчет!A828<2000,Расчет!B828<2000),Расчет!G828,0)","v":0},null,null,{"$f":"IF(OR(Расчет!A828>=2000,Расчет!B828>=2000),Расчет!J828,0)","v":0},{"$f":"IF(AND(Расчет!A828<2000,Расчет!B828<2000),Расчет!J828,0)","v":0},null,null,{"$f":"IF(OR(Расчет!A828>=2000,Расчет!B828>=2000),Расчет!M828,0)","v":0},{"$f":"IF(AND(Расчет!A828<2000,Расчет!B828<2000),Расчет!M828,0)","v":0}]
[{"$f":"IF(OR(Расчет!A829>=2000,Расчет!B829>=2000),Расчет!G829,0)","v":0},{"$f":"IF(AND(Расчет!A829<2000,Расчет!B829<2000),Расчет!G829,0)","v":0},null,null,{"$f":"IF(OR(Расчет!A829>=2000,Расчет!B829>=2000),Расчет!J829,0)","v":0},{"$f":"IF(AND(Расчет!A829<2000,Расчет!B829<2000),Расчет!J829,0)","v":0},null,null,{"$f":"IF(OR(Расчет!A829>=2000,Расчет!B829>=2000),Расчет!M829,0)","v":0},{"$f":"IF(AND(Расчет!A829<2000,Расчет!B829<2000),Расчет!M829,0)","v":0}]
[{"$f":"IF(OR(Расчет!A830>=2000,Расчет!B830>=2000),Расчет!G830,0)","v":0},{"$f":"IF(AND(Расчет!A830<2000,Расчет!B830<2000),Расчет!G830,0)","v":0},null,null,{"$f":"IF(OR(Расчет!A830>=2000,Расчет!B830>=2000),Расчет!J830,0)","v":0},{"$f":"IF(AND(Расчет!A830<2000,Расчет!B830<2000),Расчет!J830,0)","v":0},null,null,{"$f":"IF(OR(Расчет!A830>=2000,Расчет!B830>=2000),Расчет!M830,0)","v":0},{"$f":"IF(AND(Расчет!A830<2000,Расчет!B830<2000),Расчет!M830,0)","v":0}]
[{"$f":"IF(OR(Расчет!A831>=2000,Расчет!B831>=2000),Расчет!G831,0)","v":0},{"$f":"IF(AND(Расчет!A831<2000,Расчет!B831<2000),Расчет!G831,0)","v":0},null,null,{"$f":"IF(OR(Расчет!A831>=2000,Расчет!B831>=2000),Расчет!J831,0)","v":0},{"$f":"IF(AND(Расчет!A831<2000,Расчет!B831<2000),Расчет!J831,0)","v":0},null,null,{"$f":"IF(OR(Расчет!A831>=2000,Расчет!B831>=2000),Расчет!M831,0)","v":0},{"$f":"IF(AND(Расчет!A831<2000,Расчет!B831<2000),Расчет!M831,0)","v":0}]
[{"$f":"IF(OR(Расчет!A832>=2000,Расчет!B832>=2000),Расчет!G832,0)","v":0},{"$f":"IF(AND(Расчет!A832<2000,Расчет!B832<2000),Расчет!G832,0)","v":0},null,null,{"$f":"IF(OR(Расчет!A832>=2000,Расчет!B832>=2000),Расчет!J832,0)","v":0},{"$f":"IF(AND(Расчет!A832<2000,Расчет!B832<2000),Расчет!J832,0)","v":0},null,null,{"$f":"IF(OR(Расчет!A832>=2000,Расчет!B832>=2000),Расчет!M832,0)","v":0},{"$f":"IF(AND(Расчет!A832<2000,Расчет!B832<2000),Расчет!M832,0)","v":0}]
[{"$f":"IF(OR(Расчет!A833>=2000,Расчет!B833>=2000),Расчет!G833,0)","v":0},{"$f":"IF(AND(Расчет!A833<2000,Расчет!B833<2000),Расчет!G833,0)","v":0},null,null,{"$f":"IF(OR(Расчет!A833>=2000,Расчет!B833>=2000),Расчет!J833,0)","v":0},{"$f":"IF(AND(Расчет!A833<2000,Расчет!B833<2000),Расчет!J833,0)","v":0},null,null,{"$f":"IF(OR(Расчет!A833>=2000,Расчет!B833>=2000),Расчет!M833,0)","v":0},{"$f":"IF(AND(Расчет!A833<2000,Расчет!B833<2000),Расчет!M833,0)","v":0}]
[{"$f":"IF(OR(Расчет!A834>=2000,Расчет!B834>=2000),Расчет!G834,0)","v":0},{"$f":"IF(AND(Расчет!A834<2000,Расчет!B834<2000),Расчет!G834,0)","v":0},null,null,{"$f":"IF(OR(Расчет!A834>=2000,Расчет!B834>=2000),Расчет!J834,0)","v":0},{"$f":"IF(AND(Расчет!A834<2000,Расчет!B834<2000),Расчет!J834,0)","v":0},null,null,{"$f":"IF(OR(Расчет!A834>=2000,Расчет!B834>=2000),Расчет!M834,0)","v":0},{"$f":"IF(AND(Расчет!A834<2000,Расчет!B834<2000),Расчет!M834,0)","v":0}]
[{"$f":"IF(OR(Расчет!A835>=2000,Расчет!B835>=2000),Расчет!G835,0)","v":0},{"$f":"IF(AND(Расчет!A835<2000,Расчет!B835<2000),Расчет!G835,0)","v":0},null,null,{"$f":"IF(OR(Расчет!A835>=2000,Расчет!B835>=2000),Расчет!J835,0)","v":0},{"$f":"IF(AND(Расчет!A835<2000,Расчет!B835<2000),Расчет!J835,0)","v":0},null,null,{"$f":"IF(OR(Расчет!A835>=2000,Расчет!B835>=2000),Расчет!M835,0)","v":0},{"$f":"IF(AND(Расчет!A835<2000,Расчет!B835<2000),Расчет!M835,0)","v":0}]
[{"$f":"IF(OR(Расчет!A836>=2000,Расчет!B836>=2000),Расчет!G836,0)","v":0},{"$f":"IF(AND(Расчет!A836<2000,Расчет!B836<2000),Расчет!G836,0)","v":0},null,null,{"$f":"IF(OR(Расчет!A836>=2000,Расчет!B836>=2000),Расчет!J836,0)","v":0},{"$f":"IF(AND(Расчет!A836<2000,Расчет!B836<2000),Расчет!J836,0)","v":0},null,null,{"$f":"IF(OR(Расчет!A836>=2000,Расчет!B836>=2000),Расчет!M836,0)","v":0},{"$f":"IF(AND(Расчет!A836<2000,Расчет!B836<2000),Расчет!M836,0)","v":0}]
[{"$f":"IF(OR(Расчет!A837>=2000,Расчет!B837>=2000),Расчет!G837,0)","v":0},{"$f":"IF(AND(Расчет!A837<2000,Расчет!B837<2000),Расчет!G837,0)","v":0},null,null,{"$f":"IF(OR(Расчет!A837>=2000,Расчет!B837>=2000),Расчет!J837,0)","v":0},{"$f":"IF(AND(Расчет!A837<2000,Расчет!B837<2000),Расчет!J837,0)","v":0},null,null,{"$f":"IF(OR(Расчет!A837>=2000,Расчет!B837>=2000),Расчет!M837,0)","v":0},{"$f":"IF(AND(Расчет!A837<2000,Расчет!B837<2000),Расчет!M837,0)","v":0}]
[{"$f":"IF(OR(Расчет!A838>=2000,Расчет!B838>=2000),Расчет!G838,0)","v":0},{"$f":"IF(AND(Расчет!A838<2000,Расчет!B838<2000),Расчет!G838,0)","v":0},null,null,{"$f":"IF(OR(Расчет!A838>=2000,Расчет!B838>=2000),Расчет!J838,0)","v":0},{"$f":"IF(AND(Расчет!A838<2000,Расчет!B838<2000),Расчет!J838,0)","v":0},null,null,{"$f":"IF(OR(Расчет!A838>=2000,Расчет!B838>=2000),Расчет!M838,0)","v":0},{"$f":"IF(AND(Расчет!A838<2000,Расчет!B838<2000),Расчет!M838,0)","v":0}]
[{"$f":"IF(OR(Расчет!A839>=2000,Расчет!B839>=2000),Расчет!G839,0)","v":0},{"$f":"IF(AND(Расчет!A839<2000,Расчет!B839<2000),Расчет!G839,0)","v":0},null,null,{"$f":"IF(OR(Расчет!A839>=2000,Расчет!B839>=2000),Расчет!J839,0)","v":0},{"$f":"IF(AND(Расчет!A839<2000,Расчет!B839<2000),Расчет!J839,0)","v":0},null,null,{"$f":"IF(OR(Расчет!A839>=2000,Расчет!B839>=2000),Расчет!M839,0)","v":0},{"$f":"IF(AND(Расчет!A839<2000,Расчет!B839<2000),Расчет!M839,0)","v":0}]
[{"$f":"IF(OR(Расчет!A840>=2000,Расчет!B840>=2000),Расчет!G840,0)","v":0},{"$f":"IF(AND(Расчет!A840<2000,Расчет!B840<2000),Расчет!G840,0)","v":0},null,null,{"$f":"IF(OR(Расчет!A840>=2000,Расчет!B840>=2000),Расчет!J840,0)","v":0},{"$f":"IF(AND(Расчет!A840<2000,Расчет!B840<2000),Расчет!J840,0)","v":0},null,null,{"$f":"IF(OR(Расчет!A840>=2000,Расчет!B840>=2000),Расчет!M840,0)","v":0},{"$f":"IF(AND(Расчет!A840<2000,Расчет!B840<2000),Расчет!M840,0)","v":0}]
[{"$f":"IF(OR(Расчет!A841>=2000,Расчет!B841>=2000),Расчет!G841,0)","v":0},{"$f":"IF(AND(Расчет!A841<2000,Расчет!B841<2000),Расчет!G841,0)","v":0},null,null,{"$f":"IF(OR(Расчет!A841>=2000,Расчет!B841>=2000),Расчет!J841,0)","v":0},{"$f":"IF(AND(Расчет!A841<2000,Расчет!B841<2000),Расчет!J841,0)","v":0},null,null,{"$f":"IF(OR(Расчет!A841>=2000,Расчет!B841>=2000),Расчет!M841,0)","v":0},{"$f":"IF(AND(Расчет!A841<2000,Расчет!B841<2000),Расчет!M841,0)","v":0}]
[{"$f":"IF(OR(Расчет!A842>=2000,Расчет!B842>=2000),Расчет!G842,0)","v":0},{"$f":"IF(AND(Расчет!A842<2000,Расчет!B842<2000),Расчет!G842,0)","v":0},null,null,{"$f":"IF(OR(Расчет!A842>=2000,Расчет!B842>=2000),Расчет!J842,0)","v":0},{"$f":"IF(AND(Расчет!A842<2000,Расчет!B842<2000),Расчет!J842,0)","v":0},null,null,{"$f":"IF(OR(Расчет!A842>=2000,Расчет!B842>=2000),Расчет!M842,0)","v":0},{"$f":"IF(AND(Расчет!A842<2000,Расчет!B842<2000),Расчет!M842,0)","v":0}]
[{"$f":"IF(OR(Расчет!A843>=2000,Расчет!B843>=2000),Расчет!G843,0)","v":0},{"$f":"IF(AND(Расчет!A843<2000,Расчет!B843<2000),Расчет!G843,0)","v":0},null,null,{"$f":"IF(OR(Расчет!A843>=2000,Расчет!B843>=2000),Расчет!J843,0)","v":0},{"$f":"IF(AND(Расчет!A843<2000,Расчет!B843<2000),Расчет!J843,0)","v":0},null,null,{"$f":"IF(OR(Расчет!A843>=2000,Расчет!B843>=2000),Расчет!M843,0)","v":0},{"$f":"IF(AND(Расчет!A843<2000,Расчет!B843<2000),Расчет!M843,0)","v":0}]
[{"$f":"IF(OR(Расчет!A844>=2000,Расчет!B844>=2000),Расчет!G844,0)","v":0},{"$f":"IF(AND(Расчет!A844<2000,Расчет!B844<2000),Расчет!G844,0)","v":0},null,null,{"$f":"IF(OR(Расчет!A844>=2000,Расчет!B844>=2000),Расчет!J844,0)","v":0},{"$f":"IF(AND(Расчет!A844<2000,Расчет!B844<2000),Расчет!J844,0)","v":0},null,null,{"$f":"IF(OR(Расчет!A844>=2000,Расчет!B844>=2000),Расчет!M844,0)","v":0},{"$f":"IF(AND(Расчет!A844<2000,Расчет!B844<2000),Расчет!M844,0)","v":0}]
[{"$f":"IF(OR(Расчет!A845>=2000,Расчет!B845>=2000),Расчет!G845,0)","v":0},{"$f":"IF(AND(Расчет!A845<2000,Расчет!B845<2000),Расчет!G845,0)","v":0},null,null,{"$f":"IF(OR(Расчет!A845>=2000,Расчет!B845>=2000),Расчет!J845,0)","v":0},{"$f":"IF(AND(Расчет!A845<2000,Расчет!B845<2000),Расчет!J845,0)","v":0},null,null,{"$f":"IF(OR(Расчет!A845>=2000,Расчет!B845>=2000),Расчет!M845,0)","v":0},{"$f":"IF(AND(Расчет!A845<2000,Расчет!B845<2000),Расчет!M845,0)","v":0}]
[{"$f":"IF(OR(Расчет!A846>=2000,Расчет!B846>=2000),Расчет!G846,0)","v":0},{"$f":"IF(AND(Расчет!A846<2000,Расчет!B846<2000),Расчет!G846,0)","v":0},null,null,{"$f":"IF(OR(Расчет!A846>=2000,Расчет!B846>=2000),Расчет!J846,0)","v":0},{"$f":"IF(AND(Расчет!A846<2000,Расчет!B846<2000),Расчет!J846,0)","v":0},null,null,{"$f":"IF(OR(Расчет!A846>=2000,Расчет!B846>=2000),Расчет!M846,0)","v":0},{"$f":"IF(AND(Расчет!A846<2000,Расчет!B846<2000),Расчет!M846,0)","v":0}]
[{"$f":"IF(OR(Расчет!A847>=2000,Расчет!B847>=2000),Расчет!G847,0)","v":0},{"$f":"IF(AND(Расчет!A847<2000,Расчет!B847<2000),Расчет!G847,0)","v":0},null,null,{"$f":"IF(OR(Расчет!A847>=2000,Расчет!B847>=2000),Расчет!J847,0)","v":0},{"$f":"IF(AND(Расчет!A847<2000,Расчет!B847<2000),Расчет!J847,0)","v":0},null,null,{"$f":"IF(OR(Расчет!A847>=2000,Расчет!B847>=2000),Расчет!M847,0)","v":0},{"$f":"IF(AND(Расчет!A847<2000,Расчет!B847<2000),Расчет!M847,0)","v":0}]
[{"$f":"IF(OR(Расчет!A848>=2000,Расчет!B848>=2000),Расчет!G848,0)","v":0},{"$f":"IF(AND(Расчет!A848<2000,Расчет!B848<2000),Расчет!G848,0)","v":0},null,null,{"$f":"IF(OR(Расчет!A848>=2000,Расчет!B848>=2000),Расчет!J848,0)","v":0},{"$f":"IF(AND(Расчет!A848<2000,Расчет!B848<2000),Расчет!J848,0)","v":0},null,null,{"$f":"IF(OR(Расчет!A848>=2000,Расчет!B848>=2000),Расчет!M848,0)","v":0},{"$f":"IF(AND(Расчет!A848<2000,Расчет!B848<2000),Расчет!M848,0)","v":0}]
[{"$f":"IF(OR(Расчет!A849>=2000,Расчет!B849>=2000),Расчет!G849,0)","v":0},{"$f":"IF(AND(Расчет!A849<2000,Расчет!B849<2000),Расчет!G849,0)","v":0},null,null,{"$f":"IF(OR(Расчет!A849>=2000,Расчет!B849>=2000),Расчет!J849,0)","v":0},{"$f":"IF(AND(Расчет!A849<2000,Расчет!B849<2000),Расчет!J849,0)","v":0},null,null,{"$f":"IF(OR(Расчет!A849>=2000,Расчет!B849>=2000),Расчет!M849,0)","v":0},{"$f":"IF(AND(Расчет!A849<2000,Расчет!B849<2000),Расчет!M849,0)","v":0}]
[{"$f":"IF(OR(Расчет!A850>=2000,Расчет!B850>=2000),Расчет!G850,0)","v":0},{"$f":"IF(AND(Расчет!A850<2000,Расчет!B850<2000),Расчет!G850,0)","v":0},null,null,{"$f":"IF(OR(Расчет!A850>=2000,Расчет!B850>=2000),Расчет!J850,0)","v":0},{"$f":"IF(AND(Расчет!A850<2000,Расчет!B850<2000),Расчет!J850,0)","v":0},null,null,{"$f":"IF(OR(Расчет!A850>=2000,Расчет!B850>=2000),Расчет!M850,0)","v":0},{"$f":"IF(AND(Расчет!A850<2000,Расчет!B850<2000),Расчет!M850,0)","v":0}]
[{"$f":"IF(OR(Расчет!A851>=2000,Расчет!B851>=2000),Расчет!G851,0)","v":0},{"$f":"IF(AND(Расчет!A851<2000,Расчет!B851<2000),Расчет!G851,0)","v":0},null,null,{"$f":"IF(OR(Расчет!A851>=2000,Расчет!B851>=2000),Расчет!J851,0)","v":0},{"$f":"IF(AND(Расчет!A851<2000,Расчет!B851<2000),Расчет!J851,0)","v":0},null,null,{"$f":"IF(OR(Расчет!A851>=2000,Расчет!B851>=2000),Расчет!M851,0)","v":0},{"$f":"IF(AND(Расчет!A851<2000,Расчет!B851<2000),Расчет!M851,0)","v":0}]
[{"$f":"IF(OR(Расчет!A852>=2000,Расчет!B852>=2000),Расчет!G852,0)","v":0},{"$f":"IF(AND(Расчет!A852<2000,Расчет!B852<2000),Расчет!G852,0)","v":0},null,null,{"$f":"IF(OR(Расчет!A852>=2000,Расчет!B852>=2000),Расчет!J852,0)","v":0},{"$f":"IF(AND(Расчет!A852<2000,Расчет!B852<2000),Расчет!J852,0)","v":0},null,null,{"$f":"IF(OR(Расчет!A852>=2000,Расчет!B852>=2000),Расчет!M852,0)","v":0},{"$f":"IF(AND(Расчет!A852<2000,Расчет!B852<2000),Расчет!M852,0)","v":0}]
[{"$f":"IF(OR(Расчет!A853>=2000,Расчет!B853>=2000),Расчет!G853,0)","v":0},{"$f":"IF(AND(Расчет!A853<2000,Расчет!B853<2000),Расчет!G853,0)","v":0},null,null,{"$f":"IF(OR(Расчет!A853>=2000,Расчет!B853>=2000),Расчет!J853,0)","v":0},{"$f":"IF(AND(Расчет!A853<2000,Расчет!B853<2000),Расчет!J853,0)","v":0},null,null,{"$f":"IF(OR(Расчет!A853>=2000,Расчет!B853>=2000),Расчет!M853,0)","v":0},{"$f":"IF(AND(Расчет!A853<2000,Расчет!B853<2000),Расчет!M853,0)","v":0}]
[{"$f":"IF(OR(Расчет!A854>=2000,Расчет!B854>=2000),Расчет!G854,0)","v":0},{"$f":"IF(AND(Расчет!A854<2000,Расчет!B854<2000),Расчет!G854,0)","v":0},null,null,{"$f":"IF(OR(Расчет!A854>=2000,Расчет!B854>=2000),Расчет!J854,0)","v":0},{"$f":"IF(AND(Расчет!A854<2000,Расчет!B854<2000),Расчет!J854,0)","v":0},null,null,{"$f":"IF(OR(Расчет!A854>=2000,Расчет!B854>=2000),Расчет!M854,0)","v":0},{"$f":"IF(AND(Расчет!A854<2000,Расчет!B854<2000),Расчет!M854,0)","v":0}]
[{"$f":"IF(OR(Расчет!A855>=2000,Расчет!B855>=2000),Расчет!G855,0)","v":0},{"$f":"IF(AND(Расчет!A855<2000,Расчет!B855<2000),Расчет!G855,0)","v":0},null,null,{"$f":"IF(OR(Расчет!A855>=2000,Расчет!B855>=2000),Расчет!J855,0)","v":0},{"$f":"IF(AND(Расчет!A855<2000,Расчет!B855<2000),Расчет!J855,0)","v":0},null,null,{"$f":"IF(OR(Расчет!A855>=2000,Расчет!B855>=2000),Расчет!M855,0)","v":0},{"$f":"IF(AND(Расчет!A855<2000,Расчет!B855<2000),Расчет!M855,0)","v":0}]
[{"$f":"IF(OR(Расчет!A856>=2000,Расчет!B856>=2000),Расчет!G856,0)","v":0},{"$f":"IF(AND(Расчет!A856<2000,Расчет!B856<2000),Расчет!G856,0)","v":0},null,null,{"$f":"IF(OR(Расчет!A856>=2000,Расчет!B856>=2000),Расчет!J856,0)","v":0},{"$f":"IF(AND(Расчет!A856<2000,Расчет!B856<2000),Расчет!J856,0)","v":0},null,null,{"$f":"IF(OR(Расчет!A856>=2000,Расчет!B856>=2000),Расчет!M856,0)","v":0},{"$f":"IF(AND(Расчет!A856<2000,Расчет!B856<2000),Расчет!M856,0)","v":0}]
[{"$f":"IF(OR(Расчет!A857>=2000,Расчет!B857>=2000),Расчет!G857,0)","v":0},{"$f":"IF(AND(Расчет!A857<2000,Расчет!B857<2000),Расчет!G857,0)","v":0},null,null,{"$f":"IF(OR(Расчет!A857>=2000,Расчет!B857>=2000),Расчет!J857,0)","v":0},{"$f":"IF(AND(Расчет!A857<2000,Расчет!B857<2000),Расчет!J857,0)","v":0},null,null,{"$f":"IF(OR(Расчет!A857>=2000,Расчет!B857>=2000),Расчет!M857,0)","v":0},{"$f":"IF(AND(Расчет!A857<2000,Расчет!B857<2000),Расчет!M857,0)","v":0}]
[{"$f":"IF(OR(Расчет!A858>=2000,Расчет!B858>=2000),Расчет!G858,0)","v":0},{"$f":"IF(AND(Расчет!A858<2000,Расчет!B858<2000),Расчет!G858,0)","v":0},null,null,{"$f":"IF(OR(Расчет!A858>=2000,Расчет!B858>=2000),Расчет!J858,0)","v":0},{"$f":"IF(AND(Расчет!A858<2000,Расчет!B858<2000),Расчет!J858,0)","v":0},null,null,{"$f":"IF(OR(Расчет!A858>=2000,Расчет!B858>=2000),Расчет!M858,0)","v":0},{"$f":"IF(AND(Расчет!A858<2000,Расчет!B858<2000),Расчет!M858,0)","v":0}]
[{"$f":"IF(OR(Расчет!A859>=2000,Расчет!B859>=2000),Расчет!G859,0)","v":0},{"$f":"IF(AND(Расчет!A859<2000,Расчет!B859<2000),Расчет!G859,0)","v":0},null,null,{"$f":"IF(OR(Расчет!A859>=2000,Расчет!B859>=2000),Расчет!J859,0)","v":0},{"$f":"IF(AND(Расчет!A859<2000,Расчет!B859<2000),Расчет!J859,0)","v":0},null,null,{"$f":"IF(OR(Расчет!A859>=2000,Расчет!B859>=2000),Расчет!M859,0)","v":0},{"$f":"IF(AND(Расчет!A859<2000,Расчет!B859<2000),Расчет!M859,0)","v":0}]
[{"$f":"IF(OR(Расчет!A860>=2000,Расчет!B860>=2000),Расчет!G860,0)","v":0},{"$f":"IF(AND(Расчет!A860<2000,Расчет!B860<2000),Расчет!G860,0)","v":0},null,null,{"$f":"IF(OR(Расчет!A860>=2000,Расчет!B860>=2000),Расчет!J860,0)","v":0},{"$f":"IF(AND(Расчет!A860<2000,Расчет!B860<2000),Расчет!J860,0)","v":0},null,null,{"$f":"IF(OR(Расчет!A860>=2000,Расчет!B860>=2000),Расчет!M860,0)","v":0},{"$f":"IF(AND(Расчет!A860<2000,Расчет!B860<2000),Расчет!M860,0)","v":0}]
[{"$f":"IF(OR(Расчет!A861>=2000,Расчет!B861>=2000),Расчет!G861,0)","v":0},{"$f":"IF(AND(Расчет!A861<2000,Расчет!B861<2000),Расчет!G861,0)","v":0},null,null,{"$f":"IF(OR(Расчет!A861>=2000,Расчет!B861>=2000),Расчет!J861,0)","v":0},{"$f":"IF(AND(Расчет!A861<2000,Расчет!B861<2000),Расчет!J861,0)","v":0},null,null,{"$f":"IF(OR(Расчет!A861>=2000,Расчет!B861>=2000),Расчет!M861,0)","v":0},{"$f":"IF(AND(Расчет!A861<2000,Расчет!B861<2000),Расчет!M861,0)","v":0}]
[{"$f":"IF(OR(Расчет!A862>=2000,Расчет!B862>=2000),Расчет!G862,0)","v":0},{"$f":"IF(AND(Расчет!A862<2000,Расчет!B862<2000),Расчет!G862,0)","v":0},null,null,{"$f":"IF(OR(Расчет!A862>=2000,Расчет!B862>=2000),Расчет!J862,0)","v":0},{"$f":"IF(AND(Расчет!A862<2000,Расчет!B862<2000),Расчет!J862,0)","v":0},null,null,{"$f":"IF(OR(Расчет!A862>=2000,Расчет!B862>=2000),Расчет!M862,0)","v":0},{"$f":"IF(AND(Расчет!A862<2000,Расчет!B862<2000),Расчет!M862,0)","v":0}]
[{"$f":"IF(OR(Расчет!A863>=2000,Расчет!B863>=2000),Расчет!G863,0)","v":0},{"$f":"IF(AND(Расчет!A863<2000,Расчет!B863<2000),Расчет!G863,0)","v":0},null,null,{"$f":"IF(OR(Расчет!A863>=2000,Расчет!B863>=2000),Расчет!J863,0)","v":0},{"$f":"IF(AND(Расчет!A863<2000,Расчет!B863<2000),Расчет!J863,0)","v":0},null,null,{"$f":"IF(OR(Расчет!A863>=2000,Расчет!B863>=2000),Расчет!M863,0)","v":0},{"$f":"IF(AND(Расчет!A863<2000,Расчет!B863<2000),Расчет!M863,0)","v":0}]
[{"$f":"IF(OR(Расчет!A864>=2000,Расчет!B864>=2000),Расчет!G864,0)","v":0},{"$f":"IF(AND(Расчет!A864<2000,Расчет!B864<2000),Расчет!G864,0)","v":0},null,null,{"$f":"IF(OR(Расчет!A864>=2000,Расчет!B864>=2000),Расчет!J864,0)","v":0},{"$f":"IF(AND(Расчет!A864<2000,Расчет!B864<2000),Расчет!J864,0)","v":0},null,null,{"$f":"IF(OR(Расчет!A864>=2000,Расчет!B864>=2000),Расчет!M864,0)","v":0},{"$f":"IF(AND(Расчет!A864<2000,Расчет!B864<2000),Расчет!M864,0)","v":0}]
[{"$f":"IF(OR(Расчет!A865>=2000,Расчет!B865>=2000),Расчет!G865,0)","v":0},{"$f":"IF(AND(Расчет!A865<2000,Расчет!B865<2000),Расчет!G865,0)","v":0},null,null,{"$f":"IF(OR(Расчет!A865>=2000,Расчет!B865>=2000),Расчет!J865,0)","v":0},{"$f":"IF(AND(Расчет!A865<2000,Расчет!B865<2000),Расчет!J865,0)","v":0},null,null,{"$f":"IF(OR(Расчет!A865>=2000,Расчет!B865>=2000),Расчет!M865,0)","v":0},{"$f":"IF(AND(Расчет!A865<2000,Расчет!B865<2000),Расчет!M865,0)","v":0}]
[{"$f":"IF(OR(Расчет!A866>=2000,Расчет!B866>=2000),Расчет!G866,0)","v":0},{"$f":"IF(AND(Расчет!A866<2000,Расчет!B866<2000),Расчет!G866,0)","v":0},null,null,{"$f":"IF(OR(Расчет!A866>=2000,Расчет!B866>=2000),Расчет!J866,0)","v":0},{"$f":"IF(AND(Расчет!A866<2000,Расчет!B866<2000),Расчет!J866,0)","v":0},null,null,{"$f":"IF(OR(Расчет!A866>=2000,Расчет!B866>=2000),Расчет!M866,0)","v":0},{"$f":"IF(AND(Расчет!A866<2000,Расчет!B866<2000),Расчет!M866,0)","v":0}]
[{"$f":"IF(OR(Расчет!A867>=2000,Расчет!B867>=2000),Расчет!G867,0)","v":0},{"$f":"IF(AND(Расчет!A867<2000,Расчет!B867<2000),Расчет!G867,0)","v":0},null,null,{"$f":"IF(OR(Расчет!A867>=2000,Расчет!B867>=2000),Расчет!J867,0)","v":0},{"$f":"IF(AND(Расчет!A867<2000,Расчет!B867<2000),Расчет!J867,0)","v":0},null,null,{"$f":"IF(OR(Расчет!A867>=2000,Расчет!B867>=2000),Расчет!M867,0)","v":0},{"$f":"IF(AND(Расчет!A867<2000,Расчет!B867<2000),Расчет!M867,0)","v":0}]
[{"$f":"IF(OR(Расчет!A868>=2000,Расчет!B868>=2000),Расчет!G868,0)","v":0},{"$f":"IF(AND(Расчет!A868<2000,Расчет!B868<2000),Расчет!G868,0)","v":0},null,null,{"$f":"IF(OR(Расчет!A868>=2000,Расчет!B868>=2000),Расчет!J868,0)","v":0},{"$f":"IF(AND(Расчет!A868<2000,Расчет!B868<2000),Расчет!J868,0)","v":0},null,null,{"$f":"IF(OR(Расчет!A868>=2000,Расчет!B868>=2000),Расчет!M868,0)","v":0},{"$f":"IF(AND(Расчет!A868<2000,Расчет!B868<2000),Расчет!M868,0)","v":0}]
[{"$f":"IF(OR(Расчет!A869>=2000,Расчет!B869>=2000),Расчет!G869,0)","v":0},{"$f":"IF(AND(Расчет!A869<2000,Расчет!B869<2000),Расчет!G869,0)","v":0},null,null,{"$f":"IF(OR(Расчет!A869>=2000,Расчет!B869>=2000),Расчет!J869,0)","v":0},{"$f":"IF(AND(Расчет!A869<2000,Расчет!B869<2000),Расчет!J869,0)","v":0},null,null,{"$f":"IF(OR(Расчет!A869>=2000,Расчет!B869>=2000),Расчет!M869,0)","v":0},{"$f":"IF(AND(Расчет!A869<2000,Расчет!B869<2000),Расчет!M869,0)","v":0}]
[{"$f":"IF(OR(Расчет!A870>=2000,Расчет!B870>=2000),Расчет!G870,0)","v":0},{"$f":"IF(AND(Расчет!A870<2000,Расчет!B870<2000),Расчет!G870,0)","v":0},null,null,{"$f":"IF(OR(Расчет!A870>=2000,Расчет!B870>=2000),Расчет!J870,0)","v":0},{"$f":"IF(AND(Расчет!A870<2000,Расчет!B870<2000),Расчет!J870,0)","v":0},null,null,{"$f":"IF(OR(Расчет!A870>=2000,Расчет!B870>=2000),Расчет!M870,0)","v":0},{"$f":"IF(AND(Расчет!A870<2000,Расчет!B870<2000),Расчет!M870,0)","v":0}]
[{"$f":"IF(OR(Расчет!A871>=2000,Расчет!B871>=2000),Расчет!G871,0)","v":0},{"$f":"IF(AND(Расчет!A871<2000,Расчет!B871<2000),Расчет!G871,0)","v":0},null,null,{"$f":"IF(OR(Расчет!A871>=2000,Расчет!B871>=2000),Расчет!J871,0)","v":0},{"$f":"IF(AND(Расчет!A871<2000,Расчет!B871<2000),Расчет!J871,0)","v":0},null,null,{"$f":"IF(OR(Расчет!A871>=2000,Расчет!B871>=2000),Расчет!M871,0)","v":0},{"$f":"IF(AND(Расчет!A871<2000,Расчет!B871<2000),Расчет!M871,0)","v":0}]
[{"$f":"IF(OR(Расчет!A872>=2000,Расчет!B872>=2000),Расчет!G872,0)","v":0},{"$f":"IF(AND(Расчет!A872<2000,Расчет!B872<2000),Расчет!G872,0)","v":0},null,null,{"$f":"IF(OR(Расчет!A872>=2000,Расчет!B872>=2000),Расчет!J872,0)","v":0},{"$f":"IF(AND(Расчет!A872<2000,Расчет!B872<2000),Расчет!J872,0)","v":0},null,null,{"$f":"IF(OR(Расчет!A872>=2000,Расчет!B872>=2000),Расчет!M872,0)","v":0},{"$f":"IF(AND(Расчет!A872<2000,Расчет!B872<2000),Расчет!M872,0)","v":0}]
[{"$f":"IF(OR(Расчет!A873>=2000,Расчет!B873>=2000),Расчет!G873,0)","v":0},{"$f":"IF(AND(Расчет!A873<2000,Расчет!B873<2000),Расчет!G873,0)","v":0},null,null,{"$f":"IF(OR(Расчет!A873>=2000,Расчет!B873>=2000),Расчет!J873,0)","v":0},{"$f":"IF(AND(Расчет!A873<2000,Расчет!B873<2000),Расчет!J873,0)","v":0},null,null,{"$f":"IF(OR(Расчет!A873>=2000,Расчет!B873>=2000),Расчет!M873,0)","v":0},{"$f":"IF(AND(Расчет!A873<2000,Расчет!B873<2000),Расчет!M873,0)","v":0}]
[{"$f":"IF(OR(Расчет!A874>=2000,Расчет!B874>=2000),Расчет!G874,0)","v":0},{"$f":"IF(AND(Расчет!A874<2000,Расчет!B874<2000),Расчет!G874,0)","v":0},null,null,{"$f":"IF(OR(Расчет!A874>=2000,Расчет!B874>=2000),Расчет!J874,0)","v":0},{"$f":"IF(AND(Расчет!A874<2000,Расчет!B874<2000),Расчет!J874,0)","v":0},null,null,{"$f":"IF(OR(Расчет!A874>=2000,Расчет!B874>=2000),Расчет!M874,0)","v":0},{"$f":"IF(AND(Расчет!A874<2000,Расчет!B874<2000),Расчет!M874,0)","v":0}]
[{"$f":"IF(OR(Расчет!A875>=2000,Расчет!B875>=2000),Расчет!G875,0)","v":0},{"$f":"IF(AND(Расчет!A875<2000,Расчет!B875<2000),Расчет!G875,0)","v":0},null,null,{"$f":"IF(OR(Расчет!A875>=2000,Расчет!B875>=2000),Расчет!J875,0)","v":0},{"$f":"IF(AND(Расчет!A875<2000,Расчет!B875<2000),Расчет!J875,0)","v":0},null,null,{"$f":"IF(OR(Расчет!A875>=2000,Расчет!B875>=2000),Расчет!M875,0)","v":0},{"$f":"IF(AND(Расчет!A875<2000,Расчет!B875<2000),Расчет!M875,0)","v":0}]
[{"$f":"IF(OR(Расчет!A876>=2000,Расчет!B876>=2000),Расчет!G876,0)","v":0},{"$f":"IF(AND(Расчет!A876<2000,Расчет!B876<2000),Расчет!G876,0)","v":0},null,null,{"$f":"IF(OR(Расчет!A876>=2000,Расчет!B876>=2000),Расчет!J876,0)","v":0},{"$f":"IF(AND(Расчет!A876<2000,Расчет!B876<2000),Расчет!J876,0)","v":0},null,null,{"$f":"IF(OR(Расчет!A876>=2000,Расчет!B876>=2000),Расчет!M876,0)","v":0},{"$f":"IF(AND(Расчет!A876<2000,Расчет!B876<2000),Расчет!M876,0)","v":0}]
[{"$f":"IF(OR(Расчет!A877>=2000,Расчет!B877>=2000),Расчет!G877,0)","v":0},{"$f":"IF(AND(Расчет!A877<2000,Расчет!B877<2000),Расчет!G877,0)","v":0},null,null,{"$f":"IF(OR(Расчет!A877>=2000,Расчет!B877>=2000),Расчет!J877,0)","v":0},{"$f":"IF(AND(Расчет!A877<2000,Расчет!B877<2000),Расчет!J877,0)","v":0},null,null,{"$f":"IF(OR(Расчет!A877>=2000,Расчет!B877>=2000),Расчет!M877,0)","v":0},{"$f":"IF(AND(Расчет!A877<2000,Расчет!B877<2000),Расчет!M877,0)","v":0}]
[{"$f":"IF(OR(Расчет!A878>=2000,Расчет!B878>=2000),Расчет!G878,0)","v":0},{"$f":"IF(AND(Расчет!A878<2000,Расчет!B878<2000),Расчет!G878,0)","v":0},null,null,{"$f":"IF(OR(Расчет!A878>=2000,Расчет!B878>=2000),Расчет!J878,0)","v":0},{"$f":"IF(AND(Расчет!A878<2000,Расчет!B878<2000),Расчет!J878,0)","v":0},null,null,{"$f":"IF(OR(Расчет!A878>=2000,Расчет!B878>=2000),Расчет!M878,0)","v":0},{"$f":"IF(AND(Расчет!A878<2000,Расчет!B878<2000),Расчет!M878,0)","v":0}]
[{"$f":"IF(OR(Расчет!A879>=2000,Расчет!B879>=2000),Расчет!G879,0)","v":0},{"$f":"IF(AND(Расчет!A879<2000,Расчет!B879<2000),Расчет!G879,0)","v":0},null,null,{"$f":"IF(OR(Расчет!A879>=2000,Расчет!B879>=2000),Расчет!J879,0)","v":0},{"$f":"IF(AND(Расчет!A879<2000,Расчет!B879<2000),Расчет!J879,0)","v":0},null,null,{"$f":"IF(OR(Расчет!A879>=2000,Расчет!B879>=2000),Расчет!M879,0)","v":0},{"$f":"IF(AND(Расчет!A879<2000,Расчет!B879<2000),Расчет!M879,0)","v":0}]
[{"$f":"IF(OR(Расчет!A880>=2000,Расчет!B880>=2000),Расчет!G880,0)","v":0},{"$f":"IF(AND(Расчет!A880<2000,Расчет!B880<2000),Расчет!G880,0)","v":0},null,null,{"$f":"IF(OR(Расчет!A880>=2000,Расчет!B880>=2000),Расчет!J880,0)","v":0},{"$f":"IF(AND(Расчет!A880<2000,Расчет!B880<2000),Расчет!J880,0)","v":0},null,null,{"$f":"IF(OR(Расчет!A880>=2000,Расчет!B880>=2000),Расчет!M880,0)","v":0},{"$f":"IF(AND(Расчет!A880<2000,Расчет!B880<2000),Расчет!M880,0)","v":0}]
[{"$f":"IF(OR(Расчет!A881>=2000,Расчет!B881>=2000),Расчет!G881,0)","v":0},{"$f":"IF(AND(Расчет!A881<2000,Расчет!B881<2000),Расчет!G881,0)","v":0},null,null,{"$f":"IF(OR(Расчет!A881>=2000,Расчет!B881>=2000),Расчет!J881,0)","v":0},{"$f":"IF(AND(Расчет!A881<2000,Расчет!B881<2000),Расчет!J881,0)","v":0},null,null,{"$f":"IF(OR(Расчет!A881>=2000,Расчет!B881>=2000),Расчет!M881,0)","v":0},{"$f":"IF(AND(Расчет!A881<2000,Расчет!B881<2000),Расчет!M881,0)","v":0}]
[{"$f":"IF(OR(Расчет!A882>=2000,Расчет!B882>=2000),Расчет!G882,0)","v":0},{"$f":"IF(AND(Расчет!A882<2000,Расчет!B882<2000),Расчет!G882,0)","v":0},null,null,{"$f":"IF(OR(Расчет!A882>=2000,Расчет!B882>=2000),Расчет!J882,0)","v":0},{"$f":"IF(AND(Расчет!A882<2000,Расчет!B882<2000),Расчет!J882,0)","v":0},null,null,{"$f":"IF(OR(Расчет!A882>=2000,Расчет!B882>=2000),Расчет!M882,0)","v":0},{"$f":"IF(AND(Расчет!A882<2000,Расчет!B882<2000),Расчет!M882,0)","v":0}]
[{"$f":"IF(OR(Расчет!A883>=2000,Расчет!B883>=2000),Расчет!G883,0)","v":0},{"$f":"IF(AND(Расчет!A883<2000,Расчет!B883<2000),Расчет!G883,0)","v":0},null,null,{"$f":"IF(OR(Расчет!A883>=2000,Расчет!B883>=2000),Расчет!J883,0)","v":0},{"$f":"IF(AND(Расчет!A883<2000,Расчет!B883<2000),Расчет!J883,0)","v":0},null,null,{"$f":"IF(OR(Расчет!A883>=2000,Расчет!B883>=2000),Расчет!M883,0)","v":0},{"$f":"IF(AND(Расчет!A883<2000,Расчет!B883<2000),Расчет!M883,0)","v":0}]
[{"$f":"IF(OR(Расчет!A884>=2000,Расчет!B884>=2000),Расчет!G884,0)","v":0},{"$f":"IF(AND(Расчет!A884<2000,Расчет!B884<2000),Расчет!G884,0)","v":0},null,null,{"$f":"IF(OR(Расчет!A884>=2000,Расчет!B884>=2000),Расчет!J884,0)","v":0},{"$f":"IF(AND(Расчет!A884<2000,Расчет!B884<2000),Расчет!J884,0)","v":0},null,null,{"$f":"IF(OR(Расчет!A884>=2000,Расчет!B884>=2000),Расчет!M884,0)","v":0},{"$f":"IF(AND(Расчет!A884<2000,Расчет!B884<2000),Расчет!M884,0)","v":0}]
[{"$f":"IF(OR(Расчет!A885>=2000,Расчет!B885>=2000),Расчет!G885,0)","v":0},{"$f":"IF(AND(Расчет!A885<2000,Расчет!B885<2000),Расчет!G885,0)","v":0},null,null,{"$f":"IF(OR(Расчет!A885>=2000,Расчет!B885>=2000),Расчет!J885,0)","v":0},{"$f":"IF(AND(Расчет!A885<2000,Расчет!B885<2000),Расчет!J885,0)","v":0},null,null,{"$f":"IF(OR(Расчет!A885>=2000,Расчет!B885>=2000),Расчет!M885,0)","v":0},{"$f":"IF(AND(Расчет!A885<2000,Расчет!B885<2000),Расчет!M885,0)","v":0}]
[{"$f":"IF(OR(Расчет!A886>=2000,Расчет!B886>=2000),Расчет!G886,0)","v":0},{"$f":"IF(AND(Расчет!A886<2000,Расчет!B886<2000),Расчет!G886,0)","v":0},null,null,{"$f":"IF(OR(Расчет!A886>=2000,Расчет!B886>=2000),Расчет!J886,0)","v":0},{"$f":"IF(AND(Расчет!A886<2000,Расчет!B886<2000),Расчет!J886,0)","v":0},null,null,{"$f":"IF(OR(Расчет!A886>=2000,Расчет!B886>=2000),Расчет!M886,0)","v":0},{"$f":"IF(AND(Расчет!A886<2000,Расчет!B886<2000),Расчет!M886,0)","v":0}]
[{"$f":"IF(OR(Расчет!A887>=2000,Расчет!B887>=2000),Расчет!G887,0)","v":0},{"$f":"IF(AND(Расчет!A887<2000,Расчет!B887<2000),Расчет!G887,0)","v":0},null,null,{"$f":"IF(OR(Расчет!A887>=2000,Расчет!B887>=2000),Расчет!J887,0)","v":0},{"$f":"IF(AND(Расчет!A887<2000,Расчет!B887<2000),Расчет!J887,0)","v":0},null,null,{"$f":"IF(OR(Расчет!A887>=2000,Расчет!B887>=2000),Расчет!M887,0)","v":0},{"$f":"IF(AND(Расчет!A887<2000,Расчет!B887<2000),Расчет!M887,0)","v":0}]
[{"$f":"IF(OR(Расчет!A888>=2000,Расчет!B888>=2000),Расчет!G888,0)","v":0},{"$f":"IF(AND(Расчет!A888<2000,Расчет!B888<2000),Расчет!G888,0)","v":0},null,null,{"$f":"IF(OR(Расчет!A888>=2000,Расчет!B888>=2000),Расчет!J888,0)","v":0},{"$f":"IF(AND(Расчет!A888<2000,Расчет!B888<2000),Расчет!J888,0)","v":0},null,null,{"$f":"IF(OR(Расчет!A888>=2000,Расчет!B888>=2000),Расчет!M888,0)","v":0},{"$f":"IF(AND(Расчет!A888<2000,Расчет!B888<2000),Расчет!M888,0)","v":0}]
[{"$f":"IF(OR(Расчет!A889>=2000,Расчет!B889>=2000),Расчет!G889,0)","v":0},{"$f":"IF(AND(Расчет!A889<2000,Расчет!B889<2000),Расчет!G889,0)","v":0},null,null,{"$f":"IF(OR(Расчет!A889>=2000,Расчет!B889>=2000),Расчет!J889,0)","v":0},{"$f":"IF(AND(Расчет!A889<2000,Расчет!B889<2000),Расчет!J889,0)","v":0},null,null,{"$f":"IF(OR(Расчет!A889>=2000,Расчет!B889>=2000),Расчет!M889,0)","v":0},{"$f":"IF(AND(Расчет!A889<2000,Расчет!B889<2000),Расчет!M889,0)","v":0}]
[{"$f":"IF(OR(Расчет!A890>=2000,Расчет!B890>=2000),Расчет!G890,0)","v":0},{"$f":"IF(AND(Расчет!A890<2000,Расчет!B890<2000),Расчет!G890,0)","v":0},null,null,{"$f":"IF(OR(Расчет!A890>=2000,Расчет!B890>=2000),Расчет!J890,0)","v":0},{"$f":"IF(AND(Расчет!A890<2000,Расчет!B890<2000),Расчет!J890,0)","v":0},null,null,{"$f":"IF(OR(Расчет!A890>=2000,Расчет!B890>=2000),Расчет!M890,0)","v":0},{"$f":"IF(AND(Расчет!A890<2000,Расчет!B890<2000),Расчет!M890,0)","v":0}]
[{"$f":"IF(OR(Расчет!A891>=2000,Расчет!B891>=2000),Расчет!G891,0)","v":0},{"$f":"IF(AND(Расчет!A891<2000,Расчет!B891<2000),Расчет!G891,0)","v":0},null,null,{"$f":"IF(OR(Расчет!A891>=2000,Расчет!B891>=2000),Расчет!J891,0)","v":0},{"$f":"IF(AND(Расчет!A891<2000,Расчет!B891<2000),Расчет!J891,0)","v":0},null,null,{"$f":"IF(OR(Расчет!A891>=2000,Расчет!B891>=2000),Расчет!M891,0)","v":0},{"$f":"IF(AND(Расчет!A891<2000,Расчет!B891<2000),Расчет!M891,0)","v":0}]
[{"$f":"IF(OR(Расчет!A892>=2000,Расчет!B892>=2000),Расчет!G892,0)","v":0},{"$f":"IF(AND(Расчет!A892<2000,Расчет!B892<2000),Расчет!G892,0)","v":0},null,null,{"$f":"IF(OR(Расчет!A892>=2000,Расчет!B892>=2000),Расчет!J892,0)","v":0},{"$f":"IF(AND(Расчет!A892<2000,Расчет!B892<2000),Расчет!J892,0)","v":0},null,null,{"$f":"IF(OR(Расчет!A892>=2000,Расчет!B892>=2000),Расчет!M892,0)","v":0},{"$f":"IF(AND(Расчет!A892<2000,Расчет!B892<2000),Расчет!M892,0)","v":0}]
[{"$f":"IF(OR(Расчет!A893>=2000,Расчет!B893>=2000),Расчет!G893,0)","v":0},{"$f":"IF(AND(Расчет!A893<2000,Расчет!B893<2000),Расчет!G893,0)","v":0},null,null,{"$f":"IF(OR(Расчет!A893>=2000,Расчет!B893>=2000),Расчет!J893,0)","v":0},{"$f":"IF(AND(Расчет!A893<2000,Расчет!B893<2000),Расчет!J893,0)","v":0},null,null,{"$f":"IF(OR(Расчет!A893>=2000,Расчет!B893>=2000),Расчет!M893,0)","v":0},{"$f":"IF(AND(Расчет!A893<2000,Расчет!B893<2000),Расчет!M893,0)","v":0}]
[{"$f":"IF(OR(Расчет!A894>=2000,Расчет!B894>=2000),Расчет!G894,0)","v":0},{"$f":"IF(AND(Расчет!A894<2000,Расчет!B894<2000),Расчет!G894,0)","v":0},null,null,{"$f":"IF(OR(Расчет!A894>=2000,Расчет!B894>=2000),Расчет!J894,0)","v":0},{"$f":"IF(AND(Расчет!A894<2000,Расчет!B894<2000),Расчет!J894,0)","v":0},null,null,{"$f":"IF(OR(Расчет!A894>=2000,Расчет!B894>=2000),Расчет!M894,0)","v":0},{"$f":"IF(AND(Расчет!A894<2000,Расчет!B894<2000),Расчет!M894,0)","v":0}]
[{"$f":"IF(OR(Расчет!A895>=2000,Расчет!B895>=2000),Расчет!G895,0)","v":0},{"$f":"IF(AND(Расчет!A895<2000,Расчет!B895<2000),Расчет!G895,0)","v":0},null,null,{"$f":"IF(OR(Расчет!A895>=2000,Расчет!B895>=2000),Расчет!J895,0)","v":0},{"$f":"IF(AND(Расчет!A895<2000,Расчет!B895<2000),Расчет!J895,0)","v":0},null,null,{"$f":"IF(OR(Расчет!A895>=2000,Расчет!B895>=2000),Расчет!M895,0)","v":0},{"$f":"IF(AND(Расчет!A895<2000,Расчет!B895<2000),Расчет!M895,0)","v":0}]
[{"$f":"IF(OR(Расчет!A896>=2000,Расчет!B896>=2000),Расчет!G896,0)","v":0},{"$f":"IF(AND(Расчет!A896<2000,Расчет!B896<2000),Расчет!G896,0)","v":0},null,null,{"$f":"IF(OR(Расчет!A896>=2000,Расчет!B896>=2000),Расчет!J896,0)","v":0},{"$f":"IF(AND(Расчет!A896<2000,Расчет!B896<2000),Расчет!J896,0)","v":0},null,null,{"$f":"IF(OR(Расчет!A896>=2000,Расчет!B896>=2000),Расчет!M896,0)","v":0},{"$f":"IF(AND(Расчет!A896<2000,Расчет!B896<2000),Расчет!M896,0)","v":0}]
[{"$f":"IF(OR(Расчет!A897>=2000,Расчет!B897>=2000),Расчет!G897,0)","v":0},{"$f":"IF(AND(Расчет!A897<2000,Расчет!B897<2000),Расчет!G897,0)","v":0},null,null,{"$f":"IF(OR(Расчет!A897>=2000,Расчет!B897>=2000),Расчет!J897,0)","v":0},{"$f":"IF(AND(Расчет!A897<2000,Расчет!B897<2000),Расчет!J897,0)","v":0},null,null,{"$f":"IF(OR(Расчет!A897>=2000,Расчет!B897>=2000),Расчет!M897,0)","v":0},{"$f":"IF(AND(Расчет!A897<2000,Расчет!B897<2000),Расчет!M897,0)","v":0}]
[{"$f":"IF(OR(Расчет!A898>=2000,Расчет!B898>=2000),Расчет!G898,0)","v":0},{"$f":"IF(AND(Расчет!A898<2000,Расчет!B898<2000),Расчет!G898,0)","v":0},null,null,{"$f":"IF(OR(Расчет!A898>=2000,Расчет!B898>=2000),Расчет!J898,0)","v":0},{"$f":"IF(AND(Расчет!A898<2000,Расчет!B898<2000),Расчет!J898,0)","v":0},null,null,{"$f":"IF(OR(Расчет!A898>=2000,Расчет!B898>=2000),Расчет!M898,0)","v":0},{"$f":"IF(AND(Расчет!A898<2000,Расчет!B898<2000),Расчет!M898,0)","v":0}]
[{"$f":"IF(OR(Расчет!A899>=2000,Расчет!B899>=2000),Расчет!G899,0)","v":0},{"$f":"IF(AND(Расчет!A899<2000,Расчет!B899<2000),Расчет!G899,0)","v":0},null,null,{"$f":"IF(OR(Расчет!A899>=2000,Расчет!B899>=2000),Расчет!J899,0)","v":0},{"$f":"IF(AND(Расчет!A899<2000,Расчет!B899<2000),Расчет!J899,0)","v":0},null,null,{"$f":"IF(OR(Расчет!A899>=2000,Расчет!B899>=2000),Расчет!M899,0)","v":0},{"$f":"IF(AND(Расчет!A899<2000,Расчет!B899<2000),Расчет!M899,0)","v":0}]
[{"$f":"IF(OR(Расчет!A900>=2000,Расчет!B900>=2000),Расчет!G900,0)","v":0},{"$f":"IF(AND(Расчет!A900<2000,Расчет!B900<2000),Расчет!G900,0)","v":0},null,null,{"$f":"IF(OR(Расчет!A900>=2000,Расчет!B900>=2000),Расчет!J900,0)","v":0},{"$f":"IF(AND(Расчет!A900<2000,Расчет!B900<2000),Расчет!J900,0)","v":0},null,null,{"$f":"IF(OR(Расчет!A900>=2000,Расчет!B900>=2000),Расчет!M900,0)","v":0},{"$f":"IF(AND(Расчет!A900<2000,Расчет!B900<2000),Расчет!M900,0)","v":0}]
[{"$f":"IF(OR(Расчет!A901>=2000,Расчет!B901>=2000),Расчет!G901,0)","v":0},{"$f":"IF(AND(Расчет!A901<2000,Расчет!B901<2000),Расчет!G901,0)","v":0},null,null,{"$f":"IF(OR(Расчет!A901>=2000,Расчет!B901>=2000),Расчет!J901,0)","v":0},{"$f":"IF(AND(Расчет!A901<2000,Расчет!B901<2000),Расчет!J901,0)","v":0},null,null,{"$f":"IF(OR(Расчет!A901>=2000,Расчет!B901>=2000),Расчет!M901,0)","v":0},{"$f":"IF(AND(Расчет!A901<2000,Расчет!B901<2000),Расчет!M901,0)","v":0}]
[{"$f":"IF(OR(Расчет!A902>=2000,Расчет!B902>=2000),Расчет!G902,0)","v":0},{"$f":"IF(AND(Расчет!A902<2000,Расчет!B902<2000),Расчет!G902,0)","v":0},null,null,{"$f":"IF(OR(Расчет!A902>=2000,Расчет!B902>=2000),Расчет!J902,0)","v":0},{"$f":"IF(AND(Расчет!A902<2000,Расчет!B902<2000),Расчет!J902,0)","v":0},null,null,{"$f":"IF(OR(Расчет!A902>=2000,Расчет!B902>=2000),Расчет!M902,0)","v":0},{"$f":"IF(AND(Расчет!A902<2000,Расчет!B902<2000),Расчет!M902,0)","v":0}]
[{"$f":"IF(OR(Расчет!A903>=2000,Расчет!B903>=2000),Расчет!G903,0)","v":0},{"$f":"IF(AND(Расчет!A903<2000,Расчет!B903<2000),Расчет!G903,0)","v":0},null,null,{"$f":"IF(OR(Расчет!A903>=2000,Расчет!B903>=2000),Расчет!J903,0)","v":0},{"$f":"IF(AND(Расчет!A903<2000,Расчет!B903<2000),Расчет!J903,0)","v":0},null,null,{"$f":"IF(OR(Расчет!A903>=2000,Расчет!B903>=2000),Расчет!M903,0)","v":0},{"$f":"IF(AND(Расчет!A903<2000,Расчет!B903<2000),Расчет!M903,0)","v":0}]
[{"$f":"IF(OR(Расчет!A904>=2000,Расчет!B904>=2000),Расчет!G904,0)","v":0},{"$f":"IF(AND(Расчет!A904<2000,Расчет!B904<2000),Расчет!G904,0)","v":0},null,null,{"$f":"IF(OR(Расчет!A904>=2000,Расчет!B904>=2000),Расчет!J904,0)","v":0},{"$f":"IF(AND(Расчет!A904<2000,Расчет!B904<2000),Расчет!J904,0)","v":0},null,null,{"$f":"IF(OR(Расчет!A904>=2000,Расчет!B904>=2000),Расчет!M904,0)","v":0},{"$f":"IF(AND(Расчет!A904<2000,Расчет!B904<2000),Расчет!M904,0)","v":0}]
[{"$f":"IF(OR(Расчет!A905>=2000,Расчет!B905>=2000),Расчет!G905,0)","v":0},{"$f":"IF(AND(Расчет!A905<2000,Расчет!B905<2000),Расчет!G905,0)","v":0},null,null,{"$f":"IF(OR(Расчет!A905>=2000,Расчет!B905>=2000),Расчет!J905,0)","v":0},{"$f":"IF(AND(Расчет!A905<2000,Расчет!B905<2000),Расчет!J905,0)","v":0},null,null,{"$f":"IF(OR(Расчет!A905>=2000,Расчет!B905>=2000),Расчет!M905,0)","v":0},{"$f":"IF(AND(Расчет!A905<2000,Расчет!B905<2000),Расчет!M905,0)","v":0}]
[{"$f":"IF(OR(Расчет!A906>=2000,Расчет!B906>=2000),Расчет!G906,0)","v":0},{"$f":"IF(AND(Расчет!A906<2000,Расчет!B906<2000),Расчет!G906,0)","v":0},null,null,{"$f":"IF(OR(Расчет!A906>=2000,Расчет!B906>=2000),Расчет!J906,0)","v":0},{"$f":"IF(AND(Расчет!A906<2000,Расчет!B906<2000),Расчет!J906,0)","v":0},null,null,{"$f":"IF(OR(Расчет!A906>=2000,Расчет!B906>=2000),Расчет!M906,0)","v":0},{"$f":"IF(AND(Расчет!A906<2000,Расчет!B906<2000),Расчет!M906,0)","v":0}]
[{"$f":"IF(OR(Расчет!A907>=2000,Расчет!B907>=2000),Расчет!G907,0)","v":0},{"$f":"IF(AND(Расчет!A907<2000,Расчет!B907<2000),Расчет!G907,0)","v":0},null,null,{"$f":"IF(OR(Расчет!A907>=2000,Расчет!B907>=2000),Расчет!J907,0)","v":0},{"$f":"IF(AND(Расчет!A907<2000,Расчет!B907<2000),Расчет!J907,0)","v":0},null,null,{"$f":"IF(OR(Расчет!A907>=2000,Расчет!B907>=2000),Расчет!M907,0)","v":0},{"$f":"IF(AND(Расчет!A907<2000,Расчет!B907<2000),Расчет!M907,0)","v":0}]
[{"$f":"IF(OR(Расчет!A908>=2000,Расчет!B908>=2000),Расчет!G908,0)","v":0},{"$f":"IF(AND(Расчет!A908<2000,Расчет!B908<2000),Расчет!G908,0)","v":0},null,null,{"$f":"IF(OR(Расчет!A908>=2000,Расчет!B908>=2000),Расчет!J908,0)","v":0},{"$f":"IF(AND(Расчет!A908<2000,Расчет!B908<2000),Расчет!J908,0)","v":0},null,null,{"$f":"IF(OR(Расчет!A908>=2000,Расчет!B908>=2000),Расчет!M908,0)","v":0},{"$f":"IF(AND(Расчет!A908<2000,Расчет!B908<2000),Расчет!M908,0)","v":0}]
[{"$f":"IF(OR(Расчет!A909>=2000,Расчет!B909>=2000),Расчет!G909,0)","v":0},{"$f":"IF(AND(Расчет!A909<2000,Расчет!B909<2000),Расчет!G909,0)","v":0},null,null,{"$f":"IF(OR(Расчет!A909>=2000,Расчет!B909>=2000),Расчет!J909,0)","v":0},{"$f":"IF(AND(Расчет!A909<2000,Расчет!B909<2000),Расчет!J909,0)","v":0},null,null,{"$f":"IF(OR(Расчет!A909>=2000,Расчет!B909>=2000),Расчет!M909,0)","v":0},{"$f":"IF(AND(Расчет!A909<2000,Расчет!B909<2000),Расчет!M909,0)","v":0}]
[{"$f":"IF(OR(Расчет!A910>=2000,Расчет!B910>=2000),Расчет!G910,0)","v":0},{"$f":"IF(AND(Расчет!A910<2000,Расчет!B910<2000),Расчет!G910,0)","v":0},null,null,{"$f":"IF(OR(Расчет!A910>=2000,Расчет!B910>=2000),Расчет!J910,0)","v":0},{"$f":"IF(AND(Расчет!A910<2000,Расчет!B910<2000),Расчет!J910,0)","v":0},null,null,{"$f":"IF(OR(Расчет!A910>=2000,Расчет!B910>=2000),Расчет!M910,0)","v":0},{"$f":"IF(AND(Расчет!A910<2000,Расчет!B910<2000),Расчет!M910,0)","v":0}]
[{"$f":"IF(OR(Расчет!A911>=2000,Расчет!B911>=2000),Расчет!G911,0)","v":0},{"$f":"IF(AND(Расчет!A911<2000,Расчет!B911<2000),Расчет!G911,0)","v":0},null,null,{"$f":"IF(OR(Расчет!A911>=2000,Расчет!B911>=2000),Расчет!J911,0)","v":0},{"$f":"IF(AND(Расчет!A911<2000,Расчет!B911<2000),Расчет!J911,0)","v":0},null,null,{"$f":"IF(OR(Расчет!A911>=2000,Расчет!B911>=2000),Расчет!M911,0)","v":0},{"$f":"IF(AND(Расчет!A911<2000,Расчет!B911<2000),Расчет!M911,0)","v":0}]
[{"$f":"IF(OR(Расчет!A912>=2000,Расчет!B912>=2000),Расчет!G912,0)","v":0},{"$f":"IF(AND(Расчет!A912<2000,Расчет!B912<2000),Расчет!G912,0)","v":0},null,null,{"$f":"IF(OR(Расчет!A912>=2000,Расчет!B912>=2000),Расчет!J912,0)","v":0},{"$f":"IF(AND(Расчет!A912<2000,Расчет!B912<2000),Расчет!J912,0)","v":0},null,null,{"$f":"IF(OR(Расчет!A912>=2000,Расчет!B912>=2000),Расчет!M912,0)","v":0},{"$f":"IF(AND(Расчет!A912<2000,Расчет!B912<2000),Расчет!M912,0)","v":0}]
[{"$f":"IF(OR(Расчет!A913>=2000,Расчет!B913>=2000),Расчет!G913,0)","v":0},{"$f":"IF(AND(Расчет!A913<2000,Расчет!B913<2000),Расчет!G913,0)","v":0},null,null,{"$f":"IF(OR(Расчет!A913>=2000,Расчет!B913>=2000),Расчет!J913,0)","v":0},{"$f":"IF(AND(Расчет!A913<2000,Расчет!B913<2000),Расчет!J913,0)","v":0},null,null,{"$f":"IF(OR(Расчет!A913>=2000,Расчет!B913>=2000),Расчет!M913,0)","v":0},{"$f":"IF(AND(Расчет!A913<2000,Расчет!B913<2000),Расчет!M913,0)","v":0}]
[{"$f":"IF(OR(Расчет!A914>=2000,Расчет!B914>=2000),Расчет!G914,0)","v":0},{"$f":"IF(AND(Расчет!A914<2000,Расчет!B914<2000),Расчет!G914,0)","v":0},null,null,{"$f":"IF(OR(Расчет!A914>=2000,Расчет!B914>=2000),Расчет!J914,0)","v":0},{"$f":"IF(AND(Расчет!A914<2000,Расчет!B914<2000),Расчет!J914,0)","v":0},null,null,{"$f":"IF(OR(Расчет!A914>=2000,Расчет!B914>=2000),Расчет!M914,0)","v":0},{"$f":"IF(AND(Расчет!A914<2000,Расчет!B914<2000),Расчет!M914,0)","v":0}]
[{"$f":"IF(OR(Расчет!A915>=2000,Расчет!B915>=2000),Расчет!G915,0)","v":0},{"$f":"IF(AND(Расчет!A915<2000,Расчет!B915<2000),Расчет!G915,0)","v":0},null,null,{"$f":"IF(OR(Расчет!A915>=2000,Расчет!B915>=2000),Расчет!J915,0)","v":0},{"$f":"IF(AND(Расчет!A915<2000,Расчет!B915<2000),Расчет!J915,0)","v":0},null,null,{"$f":"IF(OR(Расчет!A915>=2000,Расчет!B915>=2000),Расчет!M915,0)","v":0},{"$f":"IF(AND(Расчет!A915<2000,Расчет!B915<2000),Расчет!M915,0)","v":0}]
[{"$f":"IF(OR(Расчет!A916>=2000,Расчет!B916>=2000),Расчет!G916,0)","v":0},{"$f":"IF(AND(Расчет!A916<2000,Расчет!B916<2000),Расчет!G916,0)","v":0},null,null,{"$f":"IF(OR(Расчет!A916>=2000,Расчет!B916>=2000),Расчет!J916,0)","v":0},{"$f":"IF(AND(Расчет!A916<2000,Расчет!B916<2000),Расчет!J916,0)","v":0},null,null,{"$f":"IF(OR(Расчет!A916>=2000,Расчет!B916>=2000),Расчет!M916,0)","v":0},{"$f":"IF(AND(Расчет!A916<2000,Расчет!B916<2000),Расчет!M916,0)","v":0}]
[{"$f":"IF(OR(Расчет!A917>=2000,Расчет!B917>=2000),Расчет!G917,0)","v":0},{"$f":"IF(AND(Расчет!A917<2000,Расчет!B917<2000),Расчет!G917,0)","v":0},null,null,{"$f":"IF(OR(Расчет!A917>=2000,Расчет!B917>=2000),Расчет!J917,0)","v":0},{"$f":"IF(AND(Расчет!A917<2000,Расчет!B917<2000),Расчет!J917,0)","v":0},null,null,{"$f":"IF(OR(Расчет!A917>=2000,Расчет!B917>=2000),Расчет!M917,0)","v":0},{"$f":"IF(AND(Расчет!A917<2000,Расчет!B917<2000),Расчет!M917,0)","v":0}]
[{"$f":"IF(OR(Расчет!A918>=2000,Расчет!B918>=2000),Расчет!G918,0)","v":0},{"$f":"IF(AND(Расчет!A918<2000,Расчет!B918<2000),Расчет!G918,0)","v":0},null,null,{"$f":"IF(OR(Расчет!A918>=2000,Расчет!B918>=2000),Расчет!J918,0)","v":0},{"$f":"IF(AND(Расчет!A918<2000,Расчет!B918<2000),Расчет!J918,0)","v":0},null,null,{"$f":"IF(OR(Расчет!A918>=2000,Расчет!B918>=2000),Расчет!M918,0)","v":0},{"$f":"IF(AND(Расчет!A918<2000,Расчет!B918<2000),Расчет!M918,0)","v":0}]
[{"$f":"IF(OR(Расчет!A919>=2000,Расчет!B919>=2000),Расчет!G919,0)","v":0},{"$f":"IF(AND(Расчет!A919<2000,Расчет!B919<2000),Расчет!G919,0)","v":0},null,null,{"$f":"IF(OR(Расчет!A919>=2000,Расчет!B919>=2000),Расчет!J919,0)","v":0},{"$f":"IF(AND(Расчет!A919<2000,Расчет!B919<2000),Расчет!J919,0)","v":0},null,null,{"$f":"IF(OR(Расчет!A919>=2000,Расчет!B919>=2000),Расчет!M919,0)","v":0},{"$f":"IF(AND(Расчет!A919<2000,Расчет!B919<2000),Расчет!M919,0)","v":0}]
[{"$f":"IF(OR(Расчет!A920>=2000,Расчет!B920>=2000),Расчет!G920,0)","v":0},{"$f":"IF(AND(Расчет!A920<2000,Расчет!B920<2000),Расчет!G920,0)","v":0},null,null,{"$f":"IF(OR(Расчет!A920>=2000,Расчет!B920>=2000),Расчет!J920,0)","v":0},{"$f":"IF(AND(Расчет!A920<2000,Расчет!B920<2000),Расчет!J920,0)","v":0},null,null,{"$f":"IF(OR(Расчет!A920>=2000,Расчет!B920>=2000),Расчет!M920,0)","v":0},{"$f":"IF(AND(Расчет!A920<2000,Расчет!B920<2000),Расчет!M920,0)","v":0}]
[{"$f":"IF(OR(Расчет!A921>=2000,Расчет!B921>=2000),Расчет!G921,0)","v":0},{"$f":"IF(AND(Расчет!A921<2000,Расчет!B921<2000),Расчет!G921,0)","v":0},null,null,{"$f":"IF(OR(Расчет!A921>=2000,Расчет!B921>=2000),Расчет!J921,0)","v":0},{"$f":"IF(AND(Расчет!A921<2000,Расчет!B921<2000),Расчет!J921,0)","v":0},null,null,{"$f":"IF(OR(Расчет!A921>=2000,Расчет!B921>=2000),Расчет!M921,0)","v":0},{"$f":"IF(AND(Расчет!A921<2000,Расчет!B921<2000),Расчет!M921,0)","v":0}]
[{"$f":"IF(OR(Расчет!A922>=2000,Расчет!B922>=2000),Расчет!G922,0)","v":0},{"$f":"IF(AND(Расчет!A922<2000,Расчет!B922<2000),Расчет!G922,0)","v":0},null,null,{"$f":"IF(OR(Расчет!A922>=2000,Расчет!B922>=2000),Расчет!J922,0)","v":0},{"$f":"IF(AND(Расчет!A922<2000,Расчет!B922<2000),Расчет!J922,0)","v":0},null,null,{"$f":"IF(OR(Расчет!A922>=2000,Расчет!B922>=2000),Расчет!M922,0)","v":0},{"$f":"IF(AND(Расчет!A922<2000,Расчет!B922<2000),Расчет!M922,0)","v":0}]
[{"$f":"IF(OR(Расчет!A923>=2000,Расчет!B923>=2000),Расчет!G923,0)","v":0},{"$f":"IF(AND(Расчет!A923<2000,Расчет!B923<2000),Расчет!G923,0)","v":0},null,null,{"$f":"IF(OR(Расчет!A923>=2000,Расчет!B923>=2000),Расчет!J923,0)","v":0},{"$f":"IF(AND(Расчет!A923<2000,Расчет!B923<2000),Расчет!J923,0)","v":0},null,null,{"$f":"IF(OR(Расчет!A923>=2000,Расчет!B923>=2000),Расчет!M923,0)","v":0},{"$f":"IF(AND(Расчет!A923<2000,Расчет!B923<2000),Расчет!M923,0)","v":0}]
[{"$f":"IF(OR(Расчет!A924>=2000,Расчет!B924>=2000),Расчет!G924,0)","v":0},{"$f":"IF(AND(Расчет!A924<2000,Расчет!B924<2000),Расчет!G924,0)","v":0},null,null,{"$f":"IF(OR(Расчет!A924>=2000,Расчет!B924>=2000),Расчет!J924,0)","v":0},{"$f":"IF(AND(Расчет!A924<2000,Расчет!B924<2000),Расчет!J924,0)","v":0},null,null,{"$f":"IF(OR(Расчет!A924>=2000,Расчет!B924>=2000),Расчет!M924,0)","v":0},{"$f":"IF(AND(Расчет!A924<2000,Расчет!B924<2000),Расчет!M924,0)","v":0}]
[{"$f":"IF(OR(Расчет!A925>=2000,Расчет!B925>=2000),Расчет!G925,0)","v":0},{"$f":"IF(AND(Расчет!A925<2000,Расчет!B925<2000),Расчет!G925,0)","v":0},null,null,{"$f":"IF(OR(Расчет!A925>=2000,Расчет!B925>=2000),Расчет!J925,0)","v":0},{"$f":"IF(AND(Расчет!A925<2000,Расчет!B925<2000),Расчет!J925,0)","v":0},null,null,{"$f":"IF(OR(Расчет!A925>=2000,Расчет!B925>=2000),Расчет!M925,0)","v":0},{"$f":"IF(AND(Расчет!A925<2000,Расчет!B925<2000),Расчет!M925,0)","v":0}]
[{"$f":"IF(OR(Расчет!A926>=2000,Расчет!B926>=2000),Расчет!G926,0)","v":0},{"$f":"IF(AND(Расчет!A926<2000,Расчет!B926<2000),Расчет!G926,0)","v":0},null,null,{"$f":"IF(OR(Расчет!A926>=2000,Расчет!B926>=2000),Расчет!J926,0)","v":0},{"$f":"IF(AND(Расчет!A926<2000,Расчет!B926<2000),Расчет!J926,0)","v":0},null,null,{"$f":"IF(OR(Расчет!A926>=2000,Расчет!B926>=2000),Расчет!M926,0)","v":0},{"$f":"IF(AND(Расчет!A926<2000,Расчет!B926<2000),Расчет!M926,0)","v":0}]
[{"$f":"IF(OR(Расчет!A927>=2000,Расчет!B927>=2000),Расчет!G927,0)","v":0},{"$f":"IF(AND(Расчет!A927<2000,Расчет!B927<2000),Расчет!G927,0)","v":0},null,null,{"$f":"IF(OR(Расчет!A927>=2000,Расчет!B927>=2000),Расчет!J927,0)","v":0},{"$f":"IF(AND(Расчет!A927<2000,Расчет!B927<2000),Расчет!J927,0)","v":0},null,null,{"$f":"IF(OR(Расчет!A927>=2000,Расчет!B927>=2000),Расчет!M927,0)","v":0},{"$f":"IF(AND(Расчет!A927<2000,Расчет!B927<2000),Расчет!M927,0)","v":0}]
[{"$f":"IF(OR(Расчет!A928>=2000,Расчет!B928>=2000),Расчет!G928,0)","v":0},{"$f":"IF(AND(Расчет!A928<2000,Расчет!B928<2000),Расчет!G928,0)","v":0},null,null,{"$f":"IF(OR(Расчет!A928>=2000,Расчет!B928>=2000),Расчет!J928,0)","v":0},{"$f":"IF(AND(Расчет!A928<2000,Расчет!B928<2000),Расчет!J928,0)","v":0},null,null,{"$f":"IF(OR(Расчет!A928>=2000,Расчет!B928>=2000),Расчет!M928,0)","v":0},{"$f":"IF(AND(Расчет!A928<2000,Расчет!B928<2000),Расчет!M928,0)","v":0}]
[{"$f":"IF(OR(Расчет!A929>=2000,Расчет!B929>=2000),Расчет!G929,0)","v":0},{"$f":"IF(AND(Расчет!A929<2000,Расчет!B929<2000),Расчет!G929,0)","v":0},null,null,{"$f":"IF(OR(Расчет!A929>=2000,Расчет!B929>=2000),Расчет!J929,0)","v":0},{"$f":"IF(AND(Расчет!A929<2000,Расчет!B929<2000),Расчет!J929,0)","v":0},null,null,{"$f":"IF(OR(Расчет!A929>=2000,Расчет!B929>=2000),Расчет!M929,0)","v":0},{"$f":"IF(AND(Расчет!A929<2000,Расчет!B929<2000),Расчет!M929,0)","v":0}]
[{"$f":"IF(OR(Расчет!A930>=2000,Расчет!B930>=2000),Расчет!G930,0)","v":0},{"$f":"IF(AND(Расчет!A930<2000,Расчет!B930<2000),Расчет!G930,0)","v":0},null,null,{"$f":"IF(OR(Расчет!A930>=2000,Расчет!B930>=2000),Расчет!J930,0)","v":0},{"$f":"IF(AND(Расчет!A930<2000,Расчет!B930<2000),Расчет!J930,0)","v":0},null,null,{"$f":"IF(OR(Расчет!A930>=2000,Расчет!B930>=2000),Расчет!M930,0)","v":0},{"$f":"IF(AND(Расчет!A930<2000,Расчет!B930<2000),Расчет!M930,0)","v":0}]
[{"$f":"IF(OR(Расчет!A931>=2000,Расчет!B931>=2000),Расчет!G931,0)","v":0},{"$f":"IF(AND(Расчет!A931<2000,Расчет!B931<2000),Расчет!G931,0)","v":0},null,null,{"$f":"IF(OR(Расчет!A931>=2000,Расчет!B931>=2000),Расчет!J931,0)","v":0},{"$f":"IF(AND(Расчет!A931<2000,Расчет!B931<2000),Расчет!J931,0)","v":0},null,null,{"$f":"IF(OR(Расчет!A931>=2000,Расчет!B931>=2000),Расчет!M931,0)","v":0},{"$f":"IF(AND(Расчет!A931<2000,Расчет!B931<2000),Расчет!M931,0)","v":0}]
[{"$f":"IF(OR(Расчет!A932>=2000,Расчет!B932>=2000),Расчет!G932,0)","v":0},{"$f":"IF(AND(Расчет!A932<2000,Расчет!B932<2000),Расчет!G932,0)","v":0},null,null,{"$f":"IF(OR(Расчет!A932>=2000,Расчет!B932>=2000),Расчет!J932,0)","v":0},{"$f":"IF(AND(Расчет!A932<2000,Расчет!B932<2000),Расчет!J932,0)","v":0},null,null,{"$f":"IF(OR(Расчет!A932>=2000,Расчет!B932>=2000),Расчет!M932,0)","v":0},{"$f":"IF(AND(Расчет!A932<2000,Расчет!B932<2000),Расчет!M932,0)","v":0}]
[{"$f":"IF(OR(Расчет!A933>=2000,Расчет!B933>=2000),Расчет!G933,0)","v":0},{"$f":"IF(AND(Расчет!A933<2000,Расчет!B933<2000),Расчет!G933,0)","v":0},null,null,{"$f":"IF(OR(Расчет!A933>=2000,Расчет!B933>=2000),Расчет!J933,0)","v":0},{"$f":"IF(AND(Расчет!A933<2000,Расчет!B933<2000),Расчет!J933,0)","v":0},null,null,{"$f":"IF(OR(Расчет!A933>=2000,Расчет!B933>=2000),Расчет!M933,0)","v":0},{"$f":"IF(AND(Расчет!A933<2000,Расчет!B933<2000),Расчет!M933,0)","v":0}]
[{"$f":"IF(OR(Расчет!A934>=2000,Расчет!B934>=2000),Расчет!G934,0)","v":0},{"$f":"IF(AND(Расчет!A934<2000,Расчет!B934<2000),Расчет!G934,0)","v":0},null,null,{"$f":"IF(OR(Расчет!A934>=2000,Расчет!B934>=2000),Расчет!J934,0)","v":0},{"$f":"IF(AND(Расчет!A934<2000,Расчет!B934<2000),Расчет!J934,0)","v":0},null,null,{"$f":"IF(OR(Расчет!A934>=2000,Расчет!B934>=2000),Расчет!M934,0)","v":0},{"$f":"IF(AND(Расчет!A934<2000,Расчет!B934<2000),Расчет!M934,0)","v":0}]
[{"$f":"IF(OR(Расчет!A935>=2000,Расчет!B935>=2000),Расчет!G935,0)","v":0},{"$f":"IF(AND(Расчет!A935<2000,Расчет!B935<2000),Расчет!G935,0)","v":0},null,null,{"$f":"IF(OR(Расчет!A935>=2000,Расчет!B935>=2000),Расчет!J935,0)","v":0},{"$f":"IF(AND(Расчет!A935<2000,Расчет!B935<2000),Расчет!J935,0)","v":0},null,null,{"$f":"IF(OR(Расчет!A935>=2000,Расчет!B935>=2000),Расчет!M935,0)","v":0},{"$f":"IF(AND(Расчет!A935<2000,Расчет!B935<2000),Расчет!M935,0)","v":0}]
[{"$f":"IF(OR(Расчет!A936>=2000,Расчет!B936>=2000),Расчет!G936,0)","v":0},{"$f":"IF(AND(Расчет!A936<2000,Расчет!B936<2000),Расчет!G936,0)","v":0},null,null,{"$f":"IF(OR(Расчет!A936>=2000,Расчет!B936>=2000),Расчет!J936,0)","v":0},{"$f":"IF(AND(Расчет!A936<2000,Расчет!B936<2000),Расчет!J936,0)","v":0},null,null,{"$f":"IF(OR(Расчет!A936>=2000,Расчет!B936>=2000),Расчет!M936,0)","v":0},{"$f":"IF(AND(Расчет!A936<2000,Расчет!B936<2000),Расчет!M936,0)","v":0}]
[{"$f":"IF(OR(Расчет!A937>=2000,Расчет!B937>=2000),Расчет!G937,0)","v":0},{"$f":"IF(AND(Расчет!A937<2000,Расчет!B937<2000),Расчет!G937,0)","v":0},null,null,{"$f":"IF(OR(Расчет!A937>=2000,Расчет!B937>=2000),Расчет!J937,0)","v":0},{"$f":"IF(AND(Расчет!A937<2000,Расчет!B937<2000),Расчет!J937,0)","v":0},null,null,{"$f":"IF(OR(Расчет!A937>=2000,Расчет!B937>=2000),Расчет!M937,0)","v":0},{"$f":"IF(AND(Расчет!A937<2000,Расчет!B937<2000),Расчет!M937,0)","v":0}]
[{"$f":"IF(OR(Расчет!A938>=2000,Расчет!B938>=2000),Расчет!G938,0)","v":0},{"$f":"IF(AND(Расчет!A938<2000,Расчет!B938<2000),Расчет!G938,0)","v":0},null,null,{"$f":"IF(OR(Расчет!A938>=2000,Расчет!B938>=2000),Расчет!J938,0)","v":0},{"$f":"IF(AND(Расчет!A938<2000,Расчет!B938<2000),Расчет!J938,0)","v":0},null,null,{"$f":"IF(OR(Расчет!A938>=2000,Расчет!B938>=2000),Расчет!M938,0)","v":0},{"$f":"IF(AND(Расчет!A938<2000,Расчет!B938<2000),Расчет!M938,0)","v":0}]
[{"$f":"IF(OR(Расчет!A939>=2000,Расчет!B939>=2000),Расчет!G939,0)","v":0},{"$f":"IF(AND(Расчет!A939<2000,Расчет!B939<2000),Расчет!G939,0)","v":0},null,null,{"$f":"IF(OR(Расчет!A939>=2000,Расчет!B939>=2000),Расчет!J939,0)","v":0},{"$f":"IF(AND(Расчет!A939<2000,Расчет!B939<2000),Расчет!J939,0)","v":0},null,null,{"$f":"IF(OR(Расчет!A939>=2000,Расчет!B939>=2000),Расчет!M939,0)","v":0},{"$f":"IF(AND(Расчет!A939<2000,Расчет!B939<2000),Расчет!M939,0)","v":0}]
[{"$f":"IF(OR(Расчет!A940>=2000,Расчет!B940>=2000),Расчет!G940,0)","v":0},{"$f":"IF(AND(Расчет!A940<2000,Расчет!B940<2000),Расчет!G940,0)","v":0},null,null,{"$f":"IF(OR(Расчет!A940>=2000,Расчет!B940>=2000),Расчет!J940,0)","v":0},{"$f":"IF(AND(Расчет!A940<2000,Расчет!B940<2000),Расчет!J940,0)","v":0},null,null,{"$f":"IF(OR(Расчет!A940>=2000,Расчет!B940>=2000),Расчет!M940,0)","v":0},{"$f":"IF(AND(Расчет!A940<2000,Расчет!B940<2000),Расчет!M940,0)","v":0}]
[{"$f":"IF(OR(Расчет!A941>=2000,Расчет!B941>=2000),Расчет!G941,0)","v":0},{"$f":"IF(AND(Расчет!A941<2000,Расчет!B941<2000),Расчет!G941,0)","v":0},null,null,{"$f":"IF(OR(Расчет!A941>=2000,Расчет!B941>=2000),Расчет!J941,0)","v":0},{"$f":"IF(AND(Расчет!A941<2000,Расчет!B941<2000),Расчет!J941,0)","v":0},null,null,{"$f":"IF(OR(Расчет!A941>=2000,Расчет!B941>=2000),Расчет!M941,0)","v":0},{"$f":"IF(AND(Расчет!A941<2000,Расчет!B941<2000),Расчет!M941,0)","v":0}]
[{"$f":"IF(OR(Расчет!A942>=2000,Расчет!B942>=2000),Расчет!G942,0)","v":0},{"$f":"IF(AND(Расчет!A942<2000,Расчет!B942<2000),Расчет!G942,0)","v":0},null,null,{"$f":"IF(OR(Расчет!A942>=2000,Расчет!B942>=2000),Расчет!J942,0)","v":0},{"$f":"IF(AND(Расчет!A942<2000,Расчет!B942<2000),Расчет!J942,0)","v":0},null,null,{"$f":"IF(OR(Расчет!A942>=2000,Расчет!B942>=2000),Расчет!M942,0)","v":0},{"$f":"IF(AND(Расчет!A942<2000,Расчет!B942<2000),Расчет!M942,0)","v":0}]
[{"$f":"IF(OR(Расчет!A943>=2000,Расчет!B943>=2000),Расчет!G943,0)","v":0},{"$f":"IF(AND(Расчет!A943<2000,Расчет!B943<2000),Расчет!G943,0)","v":0},null,null,{"$f":"IF(OR(Расчет!A943>=2000,Расчет!B943>=2000),Расчет!J943,0)","v":0},{"$f":"IF(AND(Расчет!A943<2000,Расчет!B943<2000),Расчет!J943,0)","v":0},null,null,{"$f":"IF(OR(Расчет!A943>=2000,Расчет!B943>=2000),Расчет!M943,0)","v":0},{"$f":"IF(AND(Расчет!A943<2000,Расчет!B943<2000),Расчет!M943,0)","v":0}]
[{"$f":"IF(OR(Расчет!A944>=2000,Расчет!B944>=2000),Расчет!G944,0)","v":0},{"$f":"IF(AND(Расчет!A944<2000,Расчет!B944<2000),Расчет!G944,0)","v":0},null,null,{"$f":"IF(OR(Расчет!A944>=2000,Расчет!B944>=2000),Расчет!J944,0)","v":0},{"$f":"IF(AND(Расчет!A944<2000,Расчет!B944<2000),Расчет!J944,0)","v":0},null,null,{"$f":"IF(OR(Расчет!A944>=2000,Расчет!B944>=2000),Расчет!M944,0)","v":0},{"$f":"IF(AND(Расчет!A944<2000,Расчет!B944<2000),Расчет!M944,0)","v":0}]
[{"$f":"IF(OR(Расчет!A945>=2000,Расчет!B945>=2000),Расчет!G945,0)","v":0},{"$f":"IF(AND(Расчет!A945<2000,Расчет!B945<2000),Расчет!G945,0)","v":0},null,null,{"$f":"IF(OR(Расчет!A945>=2000,Расчет!B945>=2000),Расчет!J945,0)","v":0},{"$f":"IF(AND(Расчет!A945<2000,Расчет!B945<2000),Расчет!J945,0)","v":0},null,null,{"$f":"IF(OR(Расчет!A945>=2000,Расчет!B945>=2000),Расчет!M945,0)","v":0},{"$f":"IF(AND(Расчет!A945<2000,Расчет!B945<2000),Расчет!M945,0)","v":0}]
[{"$f":"IF(OR(Расчет!A946>=2000,Расчет!B946>=2000),Расчет!G946,0)","v":0},{"$f":"IF(AND(Расчет!A946<2000,Расчет!B946<2000),Расчет!G946,0)","v":0},null,null,{"$f":"IF(OR(Расчет!A946>=2000,Расчет!B946>=2000),Расчет!J946,0)","v":0},{"$f":"IF(AND(Расчет!A946<2000,Расчет!B946<2000),Расчет!J946,0)","v":0},null,null,{"$f":"IF(OR(Расчет!A946>=2000,Расчет!B946>=2000),Расчет!M946,0)","v":0},{"$f":"IF(AND(Расчет!A946<2000,Расчет!B946<2000),Расчет!M946,0)","v":0}]
[{"$f":"IF(OR(Расчет!A947>=2000,Расчет!B947>=2000),Расчет!G947,0)","v":0},{"$f":"IF(AND(Расчет!A947<2000,Расчет!B947<2000),Расчет!G947,0)","v":0},null,null,{"$f":"IF(OR(Расчет!A947>=2000,Расчет!B947>=2000),Расчет!J947,0)","v":0},{"$f":"IF(AND(Расчет!A947<2000,Расчет!B947<2000),Расчет!J947,0)","v":0},null,null,{"$f":"IF(OR(Расчет!A947>=2000,Расчет!B947>=2000),Расчет!M947,0)","v":0},{"$f":"IF(AND(Расчет!A947<2000,Расчет!B947<2000),Расчет!M947,0)","v":0}]
[{"$f":"IF(OR(Расчет!A948>=2000,Расчет!B948>=2000),Расчет!G948,0)","v":0},{"$f":"IF(AND(Расчет!A948<2000,Расчет!B948<2000),Расчет!G948,0)","v":0},null,null,{"$f":"IF(OR(Расчет!A948>=2000,Расчет!B948>=2000),Расчет!J948,0)","v":0},{"$f":"IF(AND(Расчет!A948<2000,Расчет!B948<2000),Расчет!J948,0)","v":0},null,null,{"$f":"IF(OR(Расчет!A948>=2000,Расчет!B948>=2000),Расчет!M948,0)","v":0},{"$f":"IF(AND(Расчет!A948<2000,Расчет!B948<2000),Расчет!M948,0)","v":0}]
[{"$f":"IF(OR(Расчет!A949>=2000,Расчет!B949>=2000),Расчет!G949,0)","v":0},{"$f":"IF(AND(Расчет!A949<2000,Расчет!B949<2000),Расчет!G949,0)","v":0},null,null,{"$f":"IF(OR(Расчет!A949>=2000,Расчет!B949>=2000),Расчет!J949,0)","v":0},{"$f":"IF(AND(Расчет!A949<2000,Расчет!B949<2000),Расчет!J949,0)","v":0},null,null,{"$f":"IF(OR(Расчет!A949>=2000,Расчет!B949>=2000),Расчет!M949,0)","v":0},{"$f":"IF(AND(Расчет!A949<2000,Расчет!B949<2000),Расчет!M949,0)","v":0}]
[{"$f":"IF(OR(Расчет!A950>=2000,Расчет!B950>=2000),Расчет!G950,0)","v":0},{"$f":"IF(AND(Расчет!A950<2000,Расчет!B950<2000),Расчет!G950,0)","v":0},null,null,{"$f":"IF(OR(Расчет!A950>=2000,Расчет!B950>=2000),Расчет!J950,0)","v":0},{"$f":"IF(AND(Расчет!A950<2000,Расчет!B950<2000),Расчет!J950,0)","v":0},null,null,{"$f":"IF(OR(Расчет!A950>=2000,Расчет!B950>=2000),Расчет!M950,0)","v":0},{"$f":"IF(AND(Расчет!A950<2000,Расчет!B950<2000),Расчет!M950,0)","v":0}]
[{"$f":"IF(OR(Расчет!A951>=2000,Расчет!B951>=2000),Расчет!G951,0)","v":0},{"$f":"IF(AND(Расчет!A951<2000,Расчет!B951<2000),Расчет!G951,0)","v":0},null,null,{"$f":"IF(OR(Расчет!A951>=2000,Расчет!B951>=2000),Расчет!J951,0)","v":0},{"$f":"IF(AND(Расчет!A951<2000,Расчет!B951<2000),Расчет!J951,0)","v":0},null,null,{"$f":"IF(OR(Расчет!A951>=2000,Расчет!B951>=2000),Расчет!M951,0)","v":0},{"$f":"IF(AND(Расчет!A951<2000,Расчет!B951<2000),Расчет!M951,0)","v":0}]
[{"$f":"IF(OR(Расчет!A952>=2000,Расчет!B952>=2000),Расчет!G952,0)","v":0},{"$f":"IF(AND(Расчет!A952<2000,Расчет!B952<2000),Расчет!G952,0)","v":0},null,null,{"$f":"IF(OR(Расчет!A952>=2000,Расчет!B952>=2000),Расчет!J952,0)","v":0},{"$f":"IF(AND(Расчет!A952<2000,Расчет!B952<2000),Расчет!J952,0)","v":0},null,null,{"$f":"IF(OR(Расчет!A952>=2000,Расчет!B952>=2000),Расчет!M952,0)","v":0},{"$f":"IF(AND(Расчет!A952<2000,Расчет!B952<2000),Расчет!M952,0)","v":0}]
[{"$f":"IF(OR(Расчет!A953>=2000,Расчет!B953>=2000),Расчет!G953,0)","v":0},{"$f":"IF(AND(Расчет!A953<2000,Расчет!B953<2000),Расчет!G953,0)","v":0},null,null,{"$f":"IF(OR(Расчет!A953>=2000,Расчет!B953>=2000),Расчет!J953,0)","v":0},{"$f":"IF(AND(Расчет!A953<2000,Расчет!B953<2000),Расчет!J953,0)","v":0},null,null,{"$f":"IF(OR(Расчет!A953>=2000,Расчет!B953>=2000),Расчет!M953,0)","v":0},{"$f":"IF(AND(Расчет!A953<2000,Расчет!B953<2000),Расчет!M953,0)","v":0}]
[{"$f":"IF(OR(Расчет!A954>=2000,Расчет!B954>=2000),Расчет!G954,0)","v":0},{"$f":"IF(AND(Расчет!A954<2000,Расчет!B954<2000),Расчет!G954,0)","v":0},null,null,{"$f":"IF(OR(Расчет!A954>=2000,Расчет!B954>=2000),Расчет!J954,0)","v":0},{"$f":"IF(AND(Расчет!A954<2000,Расчет!B954<2000),Расчет!J954,0)","v":0},null,null,{"$f":"IF(OR(Расчет!A954>=2000,Расчет!B954>=2000),Расчет!M954,0)","v":0},{"$f":"IF(AND(Расчет!A954<2000,Расчет!B954<2000),Расчет!M954,0)","v":0}]
[{"$f":"IF(OR(Расчет!A955>=2000,Расчет!B955>=2000),Расчет!G955,0)","v":0},{"$f":"IF(AND(Расчет!A955<2000,Расчет!B955<2000),Расчет!G955,0)","v":0},null,null,{"$f":"IF(OR(Расчет!A955>=2000,Расчет!B955>=2000),Расчет!J955,0)","v":0},{"$f":"IF(AND(Расчет!A955<2000,Расчет!B955<2000),Расчет!J955,0)","v":0},null,null,{"$f":"IF(OR(Расчет!A955>=2000,Расчет!B955>=2000),Расчет!M955,0)","v":0},{"$f":"IF(AND(Расчет!A955<2000,Расчет!B955<2000),Расчет!M955,0)","v":0}]
[{"$f":"IF(OR(Расчет!A956>=2000,Расчет!B956>=2000),Расчет!G956,0)","v":0},{"$f":"IF(AND(Расчет!A956<2000,Расчет!B956<2000),Расчет!G956,0)","v":0},null,null,{"$f":"IF(OR(Расчет!A956>=2000,Расчет!B956>=2000),Расчет!J956,0)","v":0},{"$f":"IF(AND(Расчет!A956<2000,Расчет!B956<2000),Расчет!J956,0)","v":0},null,null,{"$f":"IF(OR(Расчет!A956>=2000,Расчет!B956>=2000),Расчет!M956,0)","v":0},{"$f":"IF(AND(Расчет!A956<2000,Расчет!B956<2000),Расчет!M956,0)","v":0}]
[{"$f":"IF(OR(Расчет!A957>=2000,Расчет!B957>=2000),Расчет!G957,0)","v":0},{"$f":"IF(AND(Расчет!A957<2000,Расчет!B957<2000),Расчет!G957,0)","v":0},null,null,{"$f":"IF(OR(Расчет!A957>=2000,Расчет!B957>=2000),Расчет!J957,0)","v":0},{"$f":"IF(AND(Расчет!A957<2000,Расчет!B957<2000),Расчет!J957,0)","v":0},null,null,{"$f":"IF(OR(Расчет!A957>=2000,Расчет!B957>=2000),Расчет!M957,0)","v":0},{"$f":"IF(AND(Расчет!A957<2000,Расчет!B957<2000),Расчет!M957,0)","v":0}]
[{"$f":"IF(OR(Расчет!A958>=2000,Расчет!B958>=2000),Расчет!G958,0)","v":0},{"$f":"IF(AND(Расчет!A958<2000,Расчет!B958<2000),Расчет!G958,0)","v":0},null,null,{"$f":"IF(OR(Расчет!A958>=2000,Расчет!B958>=2000),Расчет!J958,0)","v":0},{"$f":"IF(AND(Расчет!A958<2000,Расчет!B958<2000),Расчет!J958,0)","v":0},null,null,{"$f":"IF(OR(Расчет!A958>=2000,Расчет!B958>=2000),Расчет!M958,0)","v":0},{"$f":"IF(AND(Расчет!A958<2000,Расчет!B958<2000),Расчет!M958,0)","v":0}]
[{"$f":"IF(OR(Расчет!A959>=2000,Расчет!B959>=2000),Расчет!G959,0)","v":0},{"$f":"IF(AND(Расчет!A959<2000,Расчет!B959<2000),Расчет!G959,0)","v":0},null,null,{"$f":"IF(OR(Расчет!A959>=2000,Расчет!B959>=2000),Расчет!J959,0)","v":0},{"$f":"IF(AND(Расчет!A959<2000,Расчет!B959<2000),Расчет!J959,0)","v":0},null,null,{"$f":"IF(OR(Расчет!A959>=2000,Расчет!B959>=2000),Расчет!M959,0)","v":0},{"$f":"IF(AND(Расчет!A959<2000,Расчет!B959<2000),Расчет!M959,0)","v":0}]
[{"$f":"IF(OR(Расчет!A960>=2000,Расчет!B960>=2000),Расчет!G960,0)","v":0},{"$f":"IF(AND(Расчет!A960<2000,Расчет!B960<2000),Расчет!G960,0)","v":0},null,null,{"$f":"IF(OR(Расчет!A960>=2000,Расчет!B960>=2000),Расчет!J960,0)","v":0},{"$f":"IF(AND(Расчет!A960<2000,Расчет!B960<2000),Расчет!J960,0)","v":0},null,null,{"$f":"IF(OR(Расчет!A960>=2000,Расчет!B960>=2000),Расчет!M960,0)","v":0},{"$f":"IF(AND(Расчет!A960<2000,Расчет!B960<2000),Расчет!M960,0)","v":0}]
[{"$f":"IF(OR(Расчет!A961>=2000,Расчет!B961>=2000),Расчет!G961,0)","v":0},{"$f":"IF(AND(Расчет!A961<2000,Расчет!B961<2000),Расчет!G961,0)","v":0},null,null,{"$f":"IF(OR(Расчет!A961>=2000,Расчет!B961>=2000),Расчет!J961,0)","v":0},{"$f":"IF(AND(Расчет!A961<2000,Расчет!B961<2000),Расчет!J961,0)","v":0},null,null,{"$f":"IF(OR(Расчет!A961>=2000,Расчет!B961>=2000),Расчет!M961,0)","v":0},{"$f":"IF(AND(Расчет!A961<2000,Расчет!B961<2000),Расчет!M961,0)","v":0}]
[{"$f":"IF(OR(Расчет!A962>=2000,Расчет!B962>=2000),Расчет!G962,0)","v":0},{"$f":"IF(AND(Расчет!A962<2000,Расчет!B962<2000),Расчет!G962,0)","v":0},null,null,{"$f":"IF(OR(Расчет!A962>=2000,Расчет!B962>=2000),Расчет!J962,0)","v":0},{"$f":"IF(AND(Расчет!A962<2000,Расчет!B962<2000),Расчет!J962,0)","v":0},null,null,{"$f":"IF(OR(Расчет!A962>=2000,Расчет!B962>=2000),Расчет!M962,0)","v":0},{"$f":"IF(AND(Расчет!A962<2000,Расчет!B962<2000),Расчет!M962,0)","v":0}]
[{"$f":"IF(OR(Расчет!A963>=2000,Расчет!B963>=2000),Расчет!G963,0)","v":0},{"$f":"IF(AND(Расчет!A963<2000,Расчет!B963<2000),Расчет!G963,0)","v":0},null,null,{"$f":"IF(OR(Расчет!A963>=2000,Расчет!B963>=2000),Расчет!J963,0)","v":0},{"$f":"IF(AND(Расчет!A963<2000,Расчет!B963<2000),Расчет!J963,0)","v":0},null,null,{"$f":"IF(OR(Расчет!A963>=2000,Расчет!B963>=2000),Расчет!M963,0)","v":0},{"$f":"IF(AND(Расчет!A963<2000,Расчет!B963<2000),Расчет!M963,0)","v":0}]
[{"$f":"IF(OR(Расчет!A964>=2000,Расчет!B964>=2000),Расчет!G964,0)","v":0},{"$f":"IF(AND(Расчет!A964<2000,Расчет!B964<2000),Расчет!G964,0)","v":0},null,null,{"$f":"IF(OR(Расчет!A964>=2000,Расчет!B964>=2000),Расчет!J964,0)","v":0},{"$f":"IF(AND(Расчет!A964<2000,Расчет!B964<2000),Расчет!J964,0)","v":0},null,null,{"$f":"IF(OR(Расчет!A964>=2000,Расчет!B964>=2000),Расчет!M964,0)","v":0},{"$f":"IF(AND(Расчет!A964<2000,Расчет!B964<2000),Расчет!M964,0)","v":0}]
[{"$f":"IF(OR(Расчет!A965>=2000,Расчет!B965>=2000),Расчет!G965,0)","v":0},{"$f":"IF(AND(Расчет!A965<2000,Расчет!B965<2000),Расчет!G965,0)","v":0},null,null,{"$f":"IF(OR(Расчет!A965>=2000,Расчет!B965>=2000),Расчет!J965,0)","v":0},{"$f":"IF(AND(Расчет!A965<2000,Расчет!B965<2000),Расчет!J965,0)","v":0},null,null,{"$f":"IF(OR(Расчет!A965>=2000,Расчет!B965>=2000),Расчет!M965,0)","v":0},{"$f":"IF(AND(Расчет!A965<2000,Расчет!B965<2000),Расчет!M965,0)","v":0}]
[{"$f":"IF(OR(Расчет!A966>=2000,Расчет!B966>=2000),Расчет!G966,0)","v":0},{"$f":"IF(AND(Расчет!A966<2000,Расчет!B966<2000),Расчет!G966,0)","v":0},null,null,{"$f":"IF(OR(Расчет!A966>=2000,Расчет!B966>=2000),Расчет!J966,0)","v":0},{"$f":"IF(AND(Расчет!A966<2000,Расчет!B966<2000),Расчет!J966,0)","v":0},null,null,{"$f":"IF(OR(Расчет!A966>=2000,Расчет!B966>=2000),Расчет!M966,0)","v":0},{"$f":"IF(AND(Расчет!A966<2000,Расчет!B966<2000),Расчет!M966,0)","v":0}]
[{"$f":"IF(OR(Расчет!A967>=2000,Расчет!B967>=2000),Расчет!G967,0)","v":0},{"$f":"IF(AND(Расчет!A967<2000,Расчет!B967<2000),Расчет!G967,0)","v":0},null,null,{"$f":"IF(OR(Расчет!A967>=2000,Расчет!B967>=2000),Расчет!J967,0)","v":0},{"$f":"IF(AND(Расчет!A967<2000,Расчет!B967<2000),Расчет!J967,0)","v":0},null,null,{"$f":"IF(OR(Расчет!A967>=2000,Расчет!B967>=2000),Расчет!M967,0)","v":0},{"$f":"IF(AND(Расчет!A967<2000,Расчет!B967<2000),Расчет!M967,0)","v":0}]
[{"$f":"IF(OR(Расчет!A968>=2000,Расчет!B968>=2000),Расчет!G968,0)","v":0},{"$f":"IF(AND(Расчет!A968<2000,Расчет!B968<2000),Расчет!G968,0)","v":0},null,null,{"$f":"IF(OR(Расчет!A968>=2000,Расчет!B968>=2000),Расчет!J968,0)","v":0},{"$f":"IF(AND(Расчет!A968<2000,Расчет!B968<2000),Расчет!J968,0)","v":0},null,null,{"$f":"IF(OR(Расчет!A968>=2000,Расчет!B968>=2000),Расчет!M968,0)","v":0},{"$f":"IF(AND(Расчет!A968<2000,Расчет!B968<2000),Расчет!M968,0)","v":0}]
[{"$f":"IF(OR(Расчет!A969>=2000,Расчет!B969>=2000),Расчет!G969,0)","v":0},{"$f":"IF(AND(Расчет!A969<2000,Расчет!B969<2000),Расчет!G969,0)","v":0},null,null,{"$f":"IF(OR(Расчет!A969>=2000,Расчет!B969>=2000),Расчет!J969,0)","v":0},{"$f":"IF(AND(Расчет!A969<2000,Расчет!B969<2000),Расчет!J969,0)","v":0},null,null,{"$f":"IF(OR(Расчет!A969>=2000,Расчет!B969>=2000),Расчет!M969,0)","v":0},{"$f":"IF(AND(Расчет!A969<2000,Расчет!B969<2000),Расчет!M969,0)","v":0}]
[{"$f":"IF(OR(Расчет!A970>=2000,Расчет!B970>=2000),Расчет!G970,0)","v":0},{"$f":"IF(AND(Расчет!A970<2000,Расчет!B970<2000),Расчет!G970,0)","v":0},null,null,{"$f":"IF(OR(Расчет!A970>=2000,Расчет!B970>=2000),Расчет!J970,0)","v":0},{"$f":"IF(AND(Расчет!A970<2000,Расчет!B970<2000),Расчет!J970,0)","v":0},null,null,{"$f":"IF(OR(Расчет!A970>=2000,Расчет!B970>=2000),Расчет!M970,0)","v":0},{"$f":"IF(AND(Расчет!A970<2000,Расчет!B970<2000),Расчет!M970,0)","v":0}]
[{"$f":"IF(OR(Расчет!A971>=2000,Расчет!B971>=2000),Расчет!G971,0)","v":0},{"$f":"IF(AND(Расчет!A971<2000,Расчет!B971<2000),Расчет!G971,0)","v":0},null,null,{"$f":"IF(OR(Расчет!A971>=2000,Расчет!B971>=2000),Расчет!J971,0)","v":0},{"$f":"IF(AND(Расчет!A971<2000,Расчет!B971<2000),Расчет!J971,0)","v":0},null,null,{"$f":"IF(OR(Расчет!A971>=2000,Расчет!B971>=2000),Расчет!M971,0)","v":0},{"$f":"IF(AND(Расчет!A971<2000,Расчет!B971<2000),Расчет!M971,0)","v":0}]
[{"$f":"IF(OR(Расчет!A972>=2000,Расчет!B972>=2000),Расчет!G972,0)","v":0},{"$f":"IF(AND(Расчет!A972<2000,Расчет!B972<2000),Расчет!G972,0)","v":0},null,null,{"$f":"IF(OR(Расчет!A972>=2000,Расчет!B972>=2000),Расчет!J972,0)","v":0},{"$f":"IF(AND(Расчет!A972<2000,Расчет!B972<2000),Расчет!J972,0)","v":0},null,null,{"$f":"IF(OR(Расчет!A972>=2000,Расчет!B972>=2000),Расчет!M972,0)","v":0},{"$f":"IF(AND(Расчет!A972<2000,Расчет!B972<2000),Расчет!M972,0)","v":0}]
[{"$f":"IF(OR(Расчет!A973>=2000,Расчет!B973>=2000),Расчет!G973,0)","v":0},{"$f":"IF(AND(Расчет!A973<2000,Расчет!B973<2000),Расчет!G973,0)","v":0},null,null,{"$f":"IF(OR(Расчет!A973>=2000,Расчет!B973>=2000),Расчет!J973,0)","v":0},{"$f":"IF(AND(Расчет!A973<2000,Расчет!B973<2000),Расчет!J973,0)","v":0},null,null,{"$f":"IF(OR(Расчет!A973>=2000,Расчет!B973>=2000),Расчет!M973,0)","v":0},{"$f":"IF(AND(Расчет!A973<2000,Расчет!B973<2000),Расчет!M973,0)","v":0}]
[{"$f":"IF(OR(Расчет!A974>=2000,Расчет!B974>=2000),Расчет!G974,0)","v":0},{"$f":"IF(AND(Расчет!A974<2000,Расчет!B974<2000),Расчет!G974,0)","v":0},null,null,{"$f":"IF(OR(Расчет!A974>=2000,Расчет!B974>=2000),Расчет!J974,0)","v":0},{"$f":"IF(AND(Расчет!A974<2000,Расчет!B974<2000),Расчет!J974,0)","v":0},null,null,{"$f":"IF(OR(Расчет!A974>=2000,Расчет!B974>=2000),Расчет!M974,0)","v":0},{"$f":"IF(AND(Расчет!A974<2000,Расчет!B974<2000),Расчет!M974,0)","v":0}]
[{"$f":"IF(OR(Расчет!A975>=2000,Расчет!B975>=2000),Расчет!G975,0)","v":0},{"$f":"IF(AND(Расчет!A975<2000,Расчет!B975<2000),Расчет!G975,0)","v":0},null,null,{"$f":"IF(OR(Расчет!A975>=2000,Расчет!B975>=2000),Расчет!J975,0)","v":0},{"$f":"IF(AND(Расчет!A975<2000,Расчет!B975<2000),Расчет!J975,0)","v":0},null,null,{"$f":"IF(OR(Расчет!A975>=2000,Расчет!B975>=2000),Расчет!M975,0)","v":0},{"$f":"IF(AND(Расчет!A975<2000,Расчет!B975<2000),Расчет!M975,0)","v":0}]
[{"$f":"IF(OR(Расчет!A976>=2000,Расчет!B976>=2000),Расчет!G976,0)","v":0},{"$f":"IF(AND(Расчет!A976<2000,Расчет!B976<2000),Расчет!G976,0)","v":0},null,null,{"$f":"IF(OR(Расчет!A976>=2000,Расчет!B976>=2000),Расчет!J976,0)","v":0},{"$f":"IF(AND(Расчет!A976<2000,Расчет!B976<2000),Расчет!J976,0)","v":0},null,null,{"$f":"IF(OR(Расчет!A976>=2000,Расчет!B976>=2000),Расчет!M976,0)","v":0},{"$f":"IF(AND(Расчет!A976<2000,Расчет!B976<2000),Расчет!M976,0)","v":0}]
[{"$f":"IF(OR(Расчет!A977>=2000,Расчет!B977>=2000),Расчет!G977,0)","v":0},{"$f":"IF(AND(Расчет!A977<2000,Расчет!B977<2000),Расчет!G977,0)","v":0},null,null,{"$f":"IF(OR(Расчет!A977>=2000,Расчет!B977>=2000),Расчет!J977,0)","v":0},{"$f":"IF(AND(Расчет!A977<2000,Расчет!B977<2000),Расчет!J977,0)","v":0},null,null,{"$f":"IF(OR(Расчет!A977>=2000,Расчет!B977>=2000),Расчет!M977,0)","v":0},{"$f":"IF(AND(Расчет!A977<2000,Расчет!B977<2000),Расчет!M977,0)","v":0}]
[{"$f":"IF(OR(Расчет!A978>=2000,Расчет!B978>=2000),Расчет!G978,0)","v":0},{"$f":"IF(AND(Расчет!A978<2000,Расчет!B978<2000),Расчет!G978,0)","v":0},null,null,{"$f":"IF(OR(Расчет!A978>=2000,Расчет!B978>=2000),Расчет!J978,0)","v":0},{"$f":"IF(AND(Расчет!A978<2000,Расчет!B978<2000),Расчет!J978,0)","v":0},null,null,{"$f":"IF(OR(Расчет!A978>=2000,Расчет!B978>=2000),Расчет!M978,0)","v":0},{"$f":"IF(AND(Расчет!A978<2000,Расчет!B978<2000),Расчет!M978,0)","v":0}]
[{"$f":"IF(OR(Расчет!A979>=2000,Расчет!B979>=2000),Расчет!G979,0)","v":0},{"$f":"IF(AND(Расчет!A979<2000,Расчет!B979<2000),Расчет!G979,0)","v":0},null,null,{"$f":"IF(OR(Расчет!A979>=2000,Расчет!B979>=2000),Расчет!J979,0)","v":0},{"$f":"IF(AND(Расчет!A979<2000,Расчет!B979<2000),Расчет!J979,0)","v":0},null,null,{"$f":"IF(OR(Расчет!A979>=2000,Расчет!B979>=2000),Расчет!M979,0)","v":0},{"$f":"IF(AND(Расчет!A979<2000,Расчет!B979<2000),Расчет!M979,0)","v":0}]
[{"$f":"IF(OR(Расчет!A980>=2000,Расчет!B980>=2000),Расчет!G980,0)","v":0},{"$f":"IF(AND(Расчет!A980<2000,Расчет!B980<2000),Расчет!G980,0)","v":0},null,null,{"$f":"IF(OR(Расчет!A980>=2000,Расчет!B980>=2000),Расчет!J980,0)","v":0},{"$f":"IF(AND(Расчет!A980<2000,Расчет!B980<2000),Расчет!J980,0)","v":0},null,null,{"$f":"IF(OR(Расчет!A980>=2000,Расчет!B980>=2000),Расчет!M980,0)","v":0},{"$f":"IF(AND(Расчет!A980<2000,Расчет!B980<2000),Расчет!M980,0)","v":0}]
[{"$f":"IF(OR(Расчет!A981>=2000,Расчет!B981>=2000),Расчет!G981,0)","v":0},{"$f":"IF(AND(Расчет!A981<2000,Расчет!B981<2000),Расчет!G981,0)","v":0},null,null,{"$f":"IF(OR(Расчет!A981>=2000,Расчет!B981>=2000),Расчет!J981,0)","v":0},{"$f":"IF(AND(Расчет!A981<2000,Расчет!B981<2000),Расчет!J981,0)","v":0},null,null,{"$f":"IF(OR(Расчет!A981>=2000,Расчет!B981>=2000),Расчет!M981,0)","v":0},{"$f":"IF(AND(Расчет!A981<2000,Расчет!B981<2000),Расчет!M981,0)","v":0}]
[{"$f":"IF(OR(Расчет!A982>=2000,Расчет!B982>=2000),Расчет!G982,0)","v":0},{"$f":"IF(AND(Расчет!A982<2000,Расчет!B982<2000),Расчет!G982,0)","v":0},null,null,{"$f":"IF(OR(Расчет!A982>=2000,Расчет!B982>=2000),Расчет!J982,0)","v":0},{"$f":"IF(AND(Расчет!A982<2000,Расчет!B982<2000),Расчет!J982,0)","v":0},null,null,{"$f":"IF(OR(Расчет!A982>=2000,Расчет!B982>=2000),Расчет!M982,0)","v":0},{"$f":"IF(AND(Расчет!A982<2000,Расчет!B982<2000),Расчет!M982,0)","v":0}]
[{"$f":"IF(OR(Расчет!A983>=2000,Расчет!B983>=2000),Расчет!G983,0)","v":0},{"$f":"IF(AND(Расчет!A983<2000,Расчет!B983<2000),Расчет!G983,0)","v":0},null,null,{"$f":"IF(OR(Расчет!A983>=2000,Расчет!B983>=2000),Расчет!J983,0)","v":0},{"$f":"IF(AND(Расчет!A983<2000,Расчет!B983<2000),Расчет!J983,0)","v":0},null,null,{"$f":"IF(OR(Расчет!A983>=2000,Расчет!B983>=2000),Расчет!M983,0)","v":0},{"$f":"IF(AND(Расчет!A983<2000,Расчет!B983<2000),Расчет!M983,0)","v":0}]
[{"$f":"IF(OR(Расчет!A984>=2000,Расчет!B984>=2000),Расчет!G984,0)","v":0},{"$f":"IF(AND(Расчет!A984<2000,Расчет!B984<2000),Расчет!G984,0)","v":0},null,null,{"$f":"IF(OR(Расчет!A984>=2000,Расчет!B984>=2000),Расчет!J984,0)","v":0},{"$f":"IF(AND(Расчет!A984<2000,Расчет!B984<2000),Расчет!J984,0)","v":0},null,null,{"$f":"IF(OR(Расчет!A984>=2000,Расчет!B984>=2000),Расчет!M984,0)","v":0},{"$f":"IF(AND(Расчет!A984<2000,Расчет!B984<2000),Расчет!M984,0)","v":0}]
[{"$f":"IF(OR(Расчет!A985>=2000,Расчет!B985>=2000),Расчет!G985,0)","v":0},{"$f":"IF(AND(Расчет!A985<2000,Расчет!B985<2000),Расчет!G985,0)","v":0},null,null,{"$f":"IF(OR(Расчет!A985>=2000,Расчет!B985>=2000),Расчет!J985,0)","v":0},{"$f":"IF(AND(Расчет!A985<2000,Расчет!B985<2000),Расчет!J985,0)","v":0},null,null,{"$f":"IF(OR(Расчет!A985>=2000,Расчет!B985>=2000),Расчет!M985,0)","v":0},{"$f":"IF(AND(Расчет!A985<2000,Расчет!B985<2000),Расчет!M985,0)","v":0}]
[{"$f":"IF(OR(Расчет!A986>=2000,Расчет!B986>=2000),Расчет!G986,0)","v":0},{"$f":"IF(AND(Расчет!A986<2000,Расчет!B986<2000),Расчет!G986,0)","v":0},null,null,{"$f":"IF(OR(Расчет!A986>=2000,Расчет!B986>=2000),Расчет!J986,0)","v":0},{"$f":"IF(AND(Расчет!A986<2000,Расчет!B986<2000),Расчет!J986,0)","v":0},null,null,{"$f":"IF(OR(Расчет!A986>=2000,Расчет!B986>=2000),Расчет!M986,0)","v":0},{"$f":"IF(AND(Расчет!A986<2000,Расчет!B986<2000),Расчет!M986,0)","v":0}]
[{"$f":"IF(OR(Расчет!A987>=2000,Расчет!B987>=2000),Расчет!G987,0)","v":0},{"$f":"IF(AND(Расчет!A987<2000,Расчет!B987<2000),Расчет!G987,0)","v":0},null,null,{"$f":"IF(OR(Расчет!A987>=2000,Расчет!B987>=2000),Расчет!J987,0)","v":0},{"$f":"IF(AND(Расчет!A987<2000,Расчет!B987<2000),Расчет!J987,0)","v":0},null,null,{"$f":"IF(OR(Расчет!A987>=2000,Расчет!B987>=2000),Расчет!M987,0)","v":0},{"$f":"IF(AND(Расчет!A987<2000,Расчет!B987<2000),Расчет!M987,0)","v":0}]
[{"$f":"IF(OR(Расчет!A988>=2000,Расчет!B988>=2000),Расчет!G988,0)","v":0},{"$f":"IF(AND(Расчет!A988<2000,Расчет!B988<2000),Расчет!G988,0)","v":0},null,null,{"$f":"IF(OR(Расчет!A988>=2000,Расчет!B988>=2000),Расчет!J988,0)","v":0},{"$f":"IF(AND(Расчет!A988<2000,Расчет!B988<2000),Расчет!J988,0)","v":0},null,null,{"$f":"IF(OR(Расчет!A988>=2000,Расчет!B988>=2000),Расчет!M988,0)","v":0},{"$f":"IF(AND(Расчет!A988<2000,Расчет!B988<2000),Расчет!M988,0)","v":0}]
[{"$f":"IF(OR(Расчет!A989>=2000,Расчет!B989>=2000),Расчет!G989,0)","v":0},{"$f":"IF(AND(Расчет!A989<2000,Расчет!B989<2000),Расчет!G989,0)","v":0},null,null,{"$f":"IF(OR(Расчет!A989>=2000,Расчет!B989>=2000),Расчет!J989,0)","v":0},{"$f":"IF(AND(Расчет!A989<2000,Расчет!B989<2000),Расчет!J989,0)","v":0},null,null,{"$f":"IF(OR(Расчет!A989>=2000,Расчет!B989>=2000),Расчет!M989,0)","v":0},{"$f":"IF(AND(Расчет!A989<2000,Расчет!B989<2000),Расчет!M989,0)","v":0}]
[{"$f":"IF(OR(Расчет!A990>=2000,Расчет!B990>=2000),Расчет!G990,0)","v":0},{"$f":"IF(AND(Расчет!A990<2000,Расчет!B990<2000),Расчет!G990,0)","v":0},null,null,{"$f":"IF(OR(Расчет!A990>=2000,Расчет!B990>=2000),Расчет!J990,0)","v":0},{"$f":"IF(AND(Расчет!A990<2000,Расчет!B990<2000),Расчет!J990,0)","v":0},null,null,{"$f":"IF(OR(Расчет!A990>=2000,Расчет!B990>=2000),Расчет!M990,0)","v":0},{"$f":"IF(AND(Расчет!A990<2000,Расчет!B990<2000),Расчет!M990,0)","v":0}]
[{"$f":"IF(OR(Расчет!A991>=2000,Расчет!B991>=2000),Расчет!G991,0)","v":0},{"$f":"IF(AND(Расчет!A991<2000,Расчет!B991<2000),Расчет!G991,0)","v":0},null,null,{"$f":"IF(OR(Расчет!A991>=2000,Расчет!B991>=2000),Расчет!J991,0)","v":0},{"$f":"IF(AND(Расчет!A991<2000,Расчет!B991<2000),Расчет!J991,0)","v":0},null,null,{"$f":"IF(OR(Расчет!A991>=2000,Расчет!B991>=2000),Расчет!M991,0)","v":0},{"$f":"IF(AND(Расчет!A991<2000,Расчет!B991<2000),Расчет!M991,0)","v":0}]
[{"$f":"IF(OR(Расчет!A992>=2000,Расчет!B992>=2000),Расчет!G992,0)","v":0},{"$f":"IF(AND(Расчет!A992<2000,Расчет!B992<2000),Расчет!G992,0)","v":0},null,null,{"$f":"IF(OR(Расчет!A992>=2000,Расчет!B992>=2000),Расчет!J992,0)","v":0},{"$f":"IF(AND(Расчет!A992<2000,Расчет!B992<2000),Расчет!J992,0)","v":0},null,null,{"$f":"IF(OR(Расчет!A992>=2000,Расчет!B992>=2000),Расчет!M992,0)","v":0},{"$f":"IF(AND(Расчет!A992<2000,Расчет!B992<2000),Расчет!M992,0)","v":0}]
[{"$f":"IF(OR(Расчет!A993>=2000,Расчет!B993>=2000),Расчет!G993,0)","v":0},{"$f":"IF(AND(Расчет!A993<2000,Расчет!B993<2000),Расчет!G993,0)","v":0},null,null,{"$f":"IF(OR(Расчет!A993>=2000,Расчет!B993>=2000),Расчет!J993,0)","v":0},{"$f":"IF(AND(Расчет!A993<2000,Расчет!B993<2000),Расчет!J993,0)","v":0},null,null,{"$f":"IF(OR(Расчет!A993>=2000,Расчет!B993>=2000),Расчет!M993,0)","v":0},{"$f":"IF(AND(Расчет!A993<2000,Расчет!B993<2000),Расчет!M993,0)","v":0}]
[{"$f":"IF(OR(Расчет!A994>=2000,Расчет!B994>=2000),Расчет!G994,0)","v":0},{"$f":"IF(AND(Расчет!A994<2000,Расчет!B994<2000),Расчет!G994,0)","v":0},null,null,{"$f":"IF(OR(Расчет!A994>=2000,Расчет!B994>=2000),Расчет!J994,0)","v":0},{"$f":"IF(AND(Расчет!A994<2000,Расчет!B994<2000),Расчет!J994,0)","v":0},null,null,{"$f":"IF(OR(Расчет!A994>=2000,Расчет!B994>=2000),Расчет!M994,0)","v":0},{"$f":"IF(AND(Расчет!A994<2000,Расчет!B994<2000),Расчет!M994,0)","v":0}]
[{"$f":"IF(OR(Расчет!A995>=2000,Расчет!B995>=2000),Расчет!G995,0)","v":0},{"$f":"IF(AND(Расчет!A995<2000,Расчет!B995<2000),Расчет!G995,0)","v":0},null,null,{"$f":"IF(OR(Расчет!A995>=2000,Расчет!B995>=2000),Расчет!J995,0)","v":0},{"$f":"IF(AND(Расчет!A995<2000,Расчет!B995<2000),Расчет!J995,0)","v":0},null,null,{"$f":"IF(OR(Расчет!A995>=2000,Расчет!B995>=2000),Расчет!M995,0)","v":0},{"$f":"IF(AND(Расчет!A995<2000,Расчет!B995<2000),Расчет!M995,0)","v":0}]
[{"$f":"IF(OR(Расчет!A996>=2000,Расчет!B996>=2000),Расчет!G996,0)","v":0},{"$f":"IF(AND(Расчет!A996<2000,Расчет!B996<2000),Расчет!G996,0)","v":0},null,null,{"$f":"IF(OR(Расчет!A996>=2000,Расчет!B996>=2000),Расчет!J996,0)","v":0},{"$f":"IF(AND(Расчет!A996<2000,Расчет!B996<2000),Расчет!J996,0)","v":0},null,null,{"$f":"IF(OR(Расчет!A996>=2000,Расчет!B996>=2000),Расчет!M996,0)","v":0},{"$f":"IF(AND(Расчет!A996<2000,Расчет!B996<2000),Расчет!M996,0)","v":0}]
[{"$f":"IF(OR(Расчет!A997>=2000,Расчет!B997>=2000),Расчет!G997,0)","v":0},{"$f":"IF(AND(Расчет!A997<2000,Расчет!B997<2000),Расчет!G997,0)","v":0},null,null,{"$f":"IF(OR(Расчет!A997>=2000,Расчет!B997>=2000),Расчет!J997,0)","v":0},{"$f":"IF(AND(Расчет!A997<2000,Расчет!B997<2000),Расчет!J997,0)","v":0},null,null,{"$f":"IF(OR(Расчет!A997>=2000,Расчет!B997>=2000),Расчет!M997,0)","v":0},{"$f":"IF(AND(Расчет!A997<2000,Расчет!B997<2000),Расчет!M997,0)","v":0}]
[{"$f":"IF(OR(Расчет!A998>=2000,Расчет!B998>=2000),Расчет!G998,0)","v":0},{"$f":"IF(AND(Расчет!A998<2000,Расчет!B998<2000),Расчет!G998,0)","v":0},null,null,{"$f":"IF(OR(Расчет!A998>=2000,Расчет!B998>=2000),Расчет!J998,0)","v":0},{"$f":"IF(AND(Расчет!A998<2000,Расчет!B998<2000),Расчет!J998,0)","v":0},null,null,{"$f":"IF(OR(Расчет!A998>=2000,Расчет!B998>=2000),Расчет!M998,0)","v":0},{"$f":"IF(AND(Расчет!A998<2000,Расчет!B998<2000),Расчет!M998,0)","v":0}]
[{"$f":"IF(OR(Расчет!A999>=2000,Расчет!B999>=2000),Расчет!G999,0)","v":0},{"$f":"IF(AND(Расчет!A999<2000,Расчет!B999<2000),Расчет!G999,0)","v":0},null,null,{"$f":"IF(OR(Расчет!A999>=2000,Расчет!B999>=2000),Расчет!J999,0)","v":0},{"$f":"IF(AND(Расчет!A999<2000,Расчет!B999<2000),Расчет!J999,0)","v":0},null,null,{"$f":"IF(OR(Расчет!A999>=2000,Расчет!B999>=2000),Расчет!M999,0)","v":0},{"$f":"IF(AND(Расчет!A999<2000,Расчет!B999<2000),Расчет!M999,0)","v":0}]
[{"$f":"IF(OR(Расчет!A1000>=2000,Расчет!B1000>=2000),Расчет!G1000,0)","v":0},{"$f":"IF(AND(Расчет!A1000<2000,Расчет!B1000<2000),Расчет!G1000,0)","v":0},null,null,{"$f":"IF(OR(Расчет!A1000>=2000,Расчет!B1000>=2000),Расчет!J1000,0)","v":0},{"$f":"IF(AND(Расчет!A1000<2000,Расчет!B1000<2000),Расчет!J1000,0)","v":0},null,null,{"$f":"IF(OR(Расчет!A1000>=2000,Расчет!B1000>=2000),Расчет!M1000,0)","v":0},{"$f":"IF(AND(Расчет!A1000<2000,Расчет!B1000<2000),Расчет!M1000,0)","v":0}]
[{"$f":"IF(OR(Расчет!A1001>=2000,Расчет!B1001>=2000),Расчет!G1001,0)","v":0},{"$f":"IF(AND(Расчет!A1001<2000,Расчет!B1001<2000),Расчет!G1001,0)","v":0},null,null,{"$f":"IF(OR(Расчет!A1001>=2000,Расчет!B1001>=2000),Расчет!J1001,0)","v":0},{"$f":"IF(AND(Расчет!A1001<2000,Расчет!B1001<2000),Расчет!J1001,0)","v":0},null,null,{"$f":"IF(OR(Расчет!A1001>=2000,Расчет!B1001>=2000),Расчет!M1001,0)","v":0},{"$f":"IF(AND(Расчет!A1001<2000,Расчет!B1001<2000),Расчет!M1001,0)","v":0}]
[{"$f":"IF(OR(Расчет!A1002>=2000,Расчет!B1002>=2000),Расчет!G1002,0)","v":0},{"$f":"IF(AND(Расчет!A1002<2000,Расчет!B1002<2000),Расчет!G1002,0)","v":0},null,null,{"$f":"IF(OR(Расчет!A1002>=2000,Расчет!B1002>=2000),Расчет!J1002,0)","v":0},{"$f":"IF(AND(Расчет!A1002<2000,Расчет!B1002<2000),Расчет!J1002,0)","v":0},null,null,{"$f":"IF(OR(Расчет!A1002>=2000,Расчет!B1002>=2000),Расчет!M1002,0)","v":0},{"$f":"IF(AND(Расчет!A1002<2000,Расчет!B1002<2000),Расчет!M1002,0)","v":0}]
[{"$f":"IF(OR(Расчет!A1003>=2000,Расчет!B1003>=2000),Расчет!G1003,0)","v":0},{"$f":"IF(AND(Расчет!A1003<2000,Расчет!B1003<2000),Расчет!G1003,0)","v":0},null,null,{"$f":"IF(OR(Расчет!A1003>=2000,Расчет!B1003>=2000),Расчет!J1003,0)","v":0},{"$f":"IF(AND(Расчет!A1003<2000,Расчет!B1003<2000),Расчет!J1003,0)","v":0},null,null,{"$f":"IF(OR(Расчет!A1003>=2000,Расчет!B1003>=2000),Расчет!M1003,0)","v":0},{"$f":"IF(AND(Расчет!A1003<2000,Расчет!B1003<2000),Расчет!M1003,0)","v":0}]
[{"$f":"IF(OR(Расчет!A1004>=2000,Расчет!B1004>=2000),Расчет!G1004,0)","v":0},{"$f":"IF(AND(Расчет!A1004<2000,Расчет!B1004<2000),Расчет!G1004,0)","v":0},null,null,{"$f":"IF(OR(Расчет!A1004>=2000,Расчет!B1004>=2000),Расчет!J1004,0)","v":0},{"$f":"IF(AND(Расчет!A1004<2000,Расчет!B1004<2000),Расчет!J1004,0)","v":0},null,null,{"$f":"IF(OR(Расчет!A1004>=2000,Расчет!B1004>=2000),Расчет!M1004,0)","v":0},{"$f":"IF(AND(Расчет!A1004<2000,Расчет!B1004<2000),Расчет!M1004,0)","v":0}]
[{"$f":"IF(OR(Расчет!A1005>=2000,Расчет!B1005>=2000),Расчет!G1005,0)","v":0},{"$f":"IF(AND(Расчет!A1005<2000,Расчет!B1005<2000),Расчет!G1005,0)","v":0},null,null,{"$f":"IF(OR(Расчет!A1005>=2000,Расчет!B1005>=2000),Расчет!J1005,0)","v":0},{"$f":"IF(AND(Расчет!A1005<2000,Расчет!B1005<2000),Расчет!J1005,0)","v":0},null,null,{"$f":"IF(OR(Расчет!A1005>=2000,Расчет!B1005>=2000),Расчет!M1005,0)","v":0},{"$f":"IF(AND(Расчет!A1005<2000,Расчет!B1005<2000),Расчет!M1005,0)","v":0}]
[{"$f":"IF(OR(Расчет!A1006>=2000,Расчет!B1006>=2000),Расчет!G1006,0)","v":0},{"$f":"IF(AND(Расчет!A1006<2000,Расчет!B1006<2000),Расчет!G1006,0)","v":0},null,null,{"$f":"IF(OR(Расчет!A1006>=2000,Расчет!B1006>=2000),Расчет!J1006,0)","v":0},{"$f":"IF(AND(Расчет!A1006<2000,Расчет!B1006<2000),Расчет!J1006,0)","v":0},null,null,{"$f":"IF(OR(Расчет!A1006>=2000,Расчет!B1006>=2000),Расчет!M1006,0)","v":0},{"$f":"IF(AND(Расчет!A1006<2000,Расчет!B1006<2000),Расчет!M1006,0)","v":0}]
[{"$f":"IF(OR(Расчет!A1007>=2000,Расчет!B1007>=2000),Расчет!G1007,0)","v":0},{"$f":"IF(AND(Расчет!A1007<2000,Расчет!B1007<2000),Расчет!G1007,0)","v":0},null,null,{"$f":"IF(OR(Расчет!A1007>=2000,Расчет!B1007>=2000),Расчет!J1007,0)","v":0},{"$f":"IF(AND(Расчет!A1007<2000,Расчет!B1007<2000),Расчет!J1007,0)","v":0},null,null,{"$f":"IF(OR(Расчет!A1007>=2000,Расчет!B1007>=2000),Расчет!M1007,0)","v":0},{"$f":"IF(AND(Расчет!A1007<2000,Расчет!B1007<2000),Расчет!M1007,0)","v":0}]
[{"$f":"IF(OR(Расчет!A1008>=2000,Расчет!B1008>=2000),Расчет!G1008,0)","v":0},{"$f":"IF(AND(Расчет!A1008<2000,Расчет!B1008<2000),Расчет!G1008,0)","v":0},null,null,{"$f":"IF(OR(Расчет!A1008>=2000,Расчет!B1008>=2000),Расчет!J1008,0)","v":0},{"$f":"IF(AND(Расчет!A1008<2000,Расчет!B1008<2000),Расчет!J1008,0)","v":0},null,null,{"$f":"IF(OR(Расчет!A1008>=2000,Расчет!B1008>=2000),Расчет!M1008,0)","v":0},{"$f":"IF(AND(Расчет!A1008<2000,Расчет!B1008<2000),Расчет!M1008,0)","v":0}]
[{"$f":"IF(OR(Расчет!A1009>=2000,Расчет!B1009>=2000),Расчет!G1009,0)","v":0},{"$f":"IF(AND(Расчет!A1009<2000,Расчет!B1009<2000),Расчет!G1009,0)","v":0},null,null,{"$f":"IF(OR(Расчет!A1009>=2000,Расчет!B1009>=2000),Расчет!J1009,0)","v":0},{"$f":"IF(AND(Расчет!A1009<2000,Расчет!B1009<2000),Расчет!J1009,0)","v":0},null,null,{"$f":"IF(OR(Расчет!A1009>=2000,Расчет!B1009>=2000),Расчет!M1009,0)","v":0},{"$f":"IF(AND(Расчет!A1009<2000,Расчет!B1009<2000),Расчет!M1009,0)","v":0}]
[{"$f":"IF(OR(Расчет!A1010>=2000,Расчет!B1010>=2000),Расчет!G1010,0)","v":0},{"$f":"IF(AND(Расчет!A1010<2000,Расчет!B1010<2000),Расчет!G1010,0)","v":0},null,null,{"$f":"IF(OR(Расчет!A1010>=2000,Расчет!B1010>=2000),Расчет!J1010,0)","v":0},{"$f":"IF(AND(Расчет!A1010<2000,Расчет!B1010<2000),Расчет!J1010,0)","v":0},null,null,{"$f":"IF(OR(Расчет!A1010>=2000,Расчет!B1010>=2000),Расчет!M1010,0)","v":0},{"$f":"IF(AND(Расчет!A1010<2000,Расчет!B1010<2000),Расчет!M1010,0)","v":0}]
[{"$f":"IF(OR(Расчет!A1011>=2000,Расчет!B1011>=2000),Расчет!G1011,0)","v":0},{"$f":"IF(AND(Расчет!A1011<2000,Расчет!B1011<2000),Расчет!G1011,0)","v":0},null,null,{"$f":"IF(OR(Расчет!A1011>=2000,Расчет!B1011>=2000),Расчет!J1011,0)","v":0},{"$f":"IF(AND(Расчет!A1011<2000,Расчет!B1011<2000),Расчет!J1011,0)","v":0},null,null,{"$f":"IF(OR(Расчет!A1011>=2000,Расчет!B1011>=2000),Расчет!M1011,0)","v":0},{"$f":"IF(AND(Расчет!A1011<2000,Расчет!B1011<2000),Расчет!M1011,0)","v":0}]
[{"$f":"IF(OR(Расчет!A1012>=2000,Расчет!B1012>=2000),Расчет!G1012,0)","v":0},{"$f":"IF(AND(Расчет!A1012<2000,Расчет!B1012<2000),Расчет!G1012,0)","v":0},null,null,{"$f":"IF(OR(Расчет!A1012>=2000,Расчет!B1012>=2000),Расчет!J1012,0)","v":0},{"$f":"IF(AND(Расчет!A1012<2000,Расчет!B1012<2000),Расчет!J1012,0)","v":0},null,null,{"$f":"IF(OR(Расчет!A1012>=2000,Расчет!B1012>=2000),Расчет!M1012,0)","v":0},{"$f":"IF(AND(Расчет!A1012<2000,Расчет!B1012<2000),Расчет!M1012,0)","v":0}]
[{"$f":"IF(OR(Расчет!A1013>=2000,Расчет!B1013>=2000),Расчет!G1013,0)","v":0},{"$f":"IF(AND(Расчет!A1013<2000,Расчет!B1013<2000),Расчет!G1013,0)","v":0},null,null,{"$f":"IF(OR(Расчет!A1013>=2000,Расчет!B1013>=2000),Расчет!J1013,0)","v":0},{"$f":"IF(AND(Расчет!A1013<2000,Расчет!B1013<2000),Расчет!J1013,0)","v":0},null,null,{"$f":"IF(OR(Расчет!A1013>=2000,Расчет!B1013>=2000),Расчет!M1013,0)","v":0},{"$f":"IF(AND(Расчет!A1013<2000,Расчет!B1013<2000),Расчет!M1013,0)","v":0}]
[{"$f":"IF(OR(Расчет!A1014>=2000,Расчет!B1014>=2000),Расчет!G1014,0)","v":0},{"$f":"IF(AND(Расчет!A1014<2000,Расчет!B1014<2000),Расчет!G1014,0)","v":0},null,null,{"$f":"IF(OR(Расчет!A1014>=2000,Расчет!B1014>=2000),Расчет!J1014,0)","v":0},{"$f":"IF(AND(Расчет!A1014<2000,Расчет!B1014<2000),Расчет!J1014,0)","v":0},null,null,{"$f":"IF(OR(Расчет!A1014>=2000,Расчет!B1014>=2000),Расчет!M1014,0)","v":0},{"$f":"IF(AND(Расчет!A1014<2000,Расчет!B1014<2000),Расчет!M1014,0)","v":0}]
[{"$f":"IF(OR(Расчет!A1015>=2000,Расчет!B1015>=2000),Расчет!G1015,0)","v":0},{"$f":"IF(AND(Расчет!A1015<2000,Расчет!B1015<2000),Расчет!G1015,0)","v":0},null,null,{"$f":"IF(OR(Расчет!A1015>=2000,Расчет!B1015>=2000),Расчет!J1015,0)","v":0},{"$f":"IF(AND(Расчет!A1015<2000,Расчет!B1015<2000),Расчет!J1015,0)","v":0},null,null,{"$f":"IF(OR(Расчет!A1015>=2000,Расчет!B1015>=2000),Расчет!M1015,0)","v":0},{"$f":"IF(AND(Расчет!A1015<2000,Расчет!B1015<2000),Расчет!M1015,0)","v":0}]
[{"$f":"IF(OR(Расчет!A1016>=2000,Расчет!B1016>=2000),Расчет!G1016,0)","v":0},{"$f":"IF(AND(Расчет!A1016<2000,Расчет!B1016<2000),Расчет!G1016,0)","v":0},null,null,{"$f":"IF(OR(Расчет!A1016>=2000,Расчет!B1016>=2000),Расчет!J1016,0)","v":0},{"$f":"IF(AND(Расчет!A1016<2000,Расчет!B1016<2000),Расчет!J1016,0)","v":0},null,null,{"$f":"IF(OR(Расчет!A1016>=2000,Расчет!B1016>=2000),Расчет!M1016,0)","v":0},{"$f":"IF(AND(Расчет!A1016<2000,Расчет!B1016<2000),Расчет!M1016,0)","v":0}]
[{"$f":"IF(OR(Расчет!A1017>=2000,Расчет!B1017>=2000),Расчет!G1017,0)","v":0},{"$f":"IF(AND(Расчет!A1017<2000,Расчет!B1017<2000),Расчет!G1017,0)","v":0},null,null,{"$f":"IF(OR(Расчет!A1017>=2000,Расчет!B1017>=2000),Расчет!J1017,0)","v":0},{"$f":"IF(AND(Расчет!A1017<2000,Расчет!B1017<2000),Расчет!J1017,0)","v":0},null,null,{"$f":"IF(OR(Расчет!A1017>=2000,Расчет!B1017>=2000),Расчет!M1017,0)","v":0},{"$f":"IF(AND(Расчет!A1017<2000,Расчет!B1017<2000),Расчет!M1017,0)","v":0}]
[{"$f":"IF(OR(Расчет!A1018>=2000,Расчет!B1018>=2000),Расчет!G1018,0)","v":0},{"$f":"IF(AND(Расчет!A1018<2000,Расчет!B1018<2000),Расчет!G1018,0)","v":0},null,null,{"$f":"IF(OR(Расчет!A1018>=2000,Расчет!B1018>=2000),Расчет!J1018,0)","v":0},{"$f":"IF(AND(Расчет!A1018<2000,Расчет!B1018<2000),Расчет!J1018,0)","v":0},null,null,{"$f":"IF(OR(Расчет!A1018>=2000,Расчет!B1018>=2000),Расчет!M1018,0)","v":0},{"$f":"IF(AND(Расчет!A1018<2000,Расчет!B1018<2000),Расчет!M1018,0)","v":0}]
[{"$f":"IF(OR(Расчет!A1019>=2000,Расчет!B1019>=2000),Расчет!G1019,0)","v":0},{"$f":"IF(AND(Расчет!A1019<2000,Расчет!B1019<2000),Расчет!G1019,0)","v":0},null,null,{"$f":"IF(OR(Расчет!A1019>=2000,Расчет!B1019>=2000),Расчет!J1019,0)","v":0},{"$f":"IF(AND(Расчет!A1019<2000,Расчет!B1019<2000),Расчет!J1019,0)","v":0},null,null,{"$f":"IF(OR(Расчет!A1019>=2000,Расчет!B1019>=2000),Расчет!M1019,0)","v":0},{"$f":"IF(AND(Расчет!A1019<2000,Расчет!B1019<2000),Расчет!M1019,0)","v":0}]
[{"$f":"IF(OR(Расчет!A1020>=2000,Расчет!B1020>=2000),Расчет!G1020,0)","v":0},{"$f":"IF(AND(Расчет!A1020<2000,Расчет!B1020<2000),Расчет!G1020,0)","v":0},null,null,{"$f":"IF(OR(Расчет!A1020>=2000,Расчет!B1020>=2000),Расчет!J1020,0)","v":0},{"$f":"IF(AND(Расчет!A1020<2000,Расчет!B1020<2000),Расчет!J1020,0)","v":0},null,null,{"$f":"IF(OR(Расчет!A1020>=2000,Расчет!B1020>=2000),Расчет!M1020,0)","v":0},{"$f":"IF(AND(Расчет!A1020<2000,Расчет!B1020<2000),Расчет!M1020,0)","v":0}]
[{"$f":"IF(OR(Расчет!A1021>=2000,Расчет!B1021>=2000),Расчет!G1021,0)","v":0},{"$f":"IF(AND(Расчет!A1021<2000,Расчет!B1021<2000),Расчет!G1021,0)","v":0},null,null,{"$f":"IF(OR(Расчет!A1021>=2000,Расчет!B1021>=2000),Расчет!J1021,0)","v":0},{"$f":"IF(AND(Расчет!A1021<2000,Расчет!B1021<2000),Расчет!J1021,0)","v":0},null,null,{"$f":"IF(OR(Расчет!A1021>=2000,Расчет!B1021>=2000),Расчет!M1021,0)","v":0},{"$f":"IF(AND(Расчет!A1021<2000,Расчет!B1021<2000),Расчет!M1021,0)","v":0}]
[{"$f":"IF(OR(Расчет!A1022>=2000,Расчет!B1022>=2000),Расчет!G1022,0)","v":0},{"$f":"IF(AND(Расчет!A1022<2000,Расчет!B1022<2000),Расчет!G1022,0)","v":0},null,null,{"$f":"IF(OR(Расчет!A1022>=2000,Расчет!B1022>=2000),Расчет!J1022,0)","v":0},{"$f":"IF(AND(Расчет!A1022<2000,Расчет!B1022<2000),Расчет!J1022,0)","v":0},null,null,{"$f":"IF(OR(Расчет!A1022>=2000,Расчет!B1022>=2000),Расчет!M1022,0)","v":0},{"$f":"IF(AND(Расчет!A1022<2000,Расчет!B1022<2000),Расчет!M1022,0)","v":0}]
[{"$f":"IF(OR(Расчет!A1023>=2000,Расчет!B1023>=2000),Расчет!G1023,0)","v":0},{"$f":"IF(AND(Расчет!A1023<2000,Расчет!B1023<2000),Расчет!G1023,0)","v":0},null,null,{"$f":"IF(OR(Расчет!A1023>=2000,Расчет!B1023>=2000),Расчет!J1023,0)","v":0},{"$f":"IF(AND(Расчет!A1023<2000,Расчет!B1023<2000),Расчет!J1023,0)","v":0},null,null,{"$f":"IF(OR(Расчет!A1023>=2000,Расчет!B1023>=2000),Расчет!M1023,0)","v":0},{"$f":"IF(AND(Расчет!A1023<2000,Расчет!B1023<2000),Расчет!M1023,0)","v":0}]
[{"$f":"IF(OR(Расчет!A1024>=2000,Расчет!B1024>=2000),Расчет!G1024,0)","v":0},{"$f":"IF(AND(Расчет!A1024<2000,Расчет!B1024<2000),Расчет!G1024,0)","v":0},null,null,{"$f":"IF(OR(Расчет!A1024>=2000,Расчет!B1024>=2000),Расчет!J1024,0)","v":0},{"$f":"IF(AND(Расчет!A1024<2000,Расчет!B1024<2000),Расчет!J1024,0)","v":0},null,null,{"$f":"IF(OR(Расчет!A1024>=2000,Расчет!B1024>=2000),Расчет!M1024,0)","v":0},{"$f":"IF(AND(Расчет!A1024<2000,Расчет!B1024<2000),Расчет!M1024,0)","v":0}]
[{"$f":"IF(OR(Расчет!A1025>=2000,Расчет!B1025>=2000),Расчет!G1025,0)","v":0},{"$f":"IF(AND(Расчет!A1025<2000,Расчет!B1025<2000),Расчет!G1025,0)","v":0},null,null,{"$f":"IF(OR(Расчет!A1025>=2000,Расчет!B1025>=2000),Расчет!J1025,0)","v":0},{"$f":"IF(AND(Расчет!A1025<2000,Расчет!B1025<2000),Расчет!J1025,0)","v":0},null,null,{"$f":"IF(OR(Расчет!A1025>=2000,Расчет!B1025>=2000),Расчет!M1025,0)","v":0},{"$f":"IF(AND(Расчет!A1025<2000,Расчет!B1025<2000),Расчет!M1025,0)","v":0}]
[{"$f":"IF(OR(Расчет!A1026>=2000,Расчет!B1026>=2000),Расчет!G1026,0)","v":0},{"$f":"IF(AND(Расчет!A1026<2000,Расчет!B1026<2000),Расчет!G1026,0)","v":0},null,null,{"$f":"IF(OR(Расчет!A1026>=2000,Расчет!B1026>=2000),Расчет!J1026,0)","v":0},{"$f":"IF(AND(Расчет!A1026<2000,Расчет!B1026<2000),Расчет!J1026,0)","v":0},null,null,{"$f":"IF(OR(Расчет!A1026>=2000,Расчет!B1026>=2000),Расчет!M1026,0)","v":0},{"$f":"IF(AND(Расчет!A1026<2000,Расчет!B1026<2000),Расчет!M1026,0)","v":0}]
[{"$f":"IF(OR(Расчет!A1027>=2000,Расчет!B1027>=2000),Расчет!G1027,0)","v":0},{"$f":"IF(AND(Расчет!A1027<2000,Расчет!B1027<2000),Расчет!G1027,0)","v":0},null,null,{"$f":"IF(OR(Расчет!A1027>=2000,Расчет!B1027>=2000),Расчет!J1027,0)","v":0},{"$f":"IF(AND(Расчет!A1027<2000,Расчет!B1027<2000),Расчет!J1027,0)","v":0},null,null,{"$f":"IF(OR(Расчет!A1027>=2000,Расчет!B1027>=2000),Расчет!M1027,0)","v":0},{"$f":"IF(AND(Расчет!A1027<2000,Расчет!B1027<2000),Расчет!M1027,0)","v":0}]
[{"$f":"IF(OR(Расчет!A1028>=2000,Расчет!B1028>=2000),Расчет!G1028,0)","v":0},{"$f":"IF(AND(Расчет!A1028<2000,Расчет!B1028<2000),Расчет!G1028,0)","v":0},null,null,{"$f":"IF(OR(Расчет!A1028>=2000,Расчет!B1028>=2000),Расчет!J1028,0)","v":0},{"$f":"IF(AND(Расчет!A1028<2000,Расчет!B1028<2000),Расчет!J1028,0)","v":0},null,null,{"$f":"IF(OR(Расчет!A1028>=2000,Расчет!B1028>=2000),Расчет!M1028,0)","v":0},{"$f":"IF(AND(Расчет!A1028<2000,Расчет!B1028<2000),Расчет!M1028,0)","v":0}]
[{"$f":"IF(OR(Расчет!A1029>=2000,Расчет!B1029>=2000),Расчет!G1029,0)","v":0},{"$f":"IF(AND(Расчет!A1029<2000,Расчет!B1029<2000),Расчет!G1029,0)","v":0},null,null,{"$f":"IF(OR(Расчет!A1029>=2000,Расчет!B1029>=2000),Расчет!J1029,0)","v":0},{"$f":"IF(AND(Расчет!A1029<2000,Расчет!B1029<2000),Расчет!J1029,0)","v":0},null,null,{"$f":"IF(OR(Расчет!A1029>=2000,Расчет!B1029>=2000),Расчет!M1029,0)","v":0},{"$f":"IF(AND(Расчет!A1029<2000,Расчет!B1029<2000),Расчет!M1029,0)","v":0}]
[{"$f":"IF(OR(Расчет!A1030>=2000,Расчет!B1030>=2000),Расчет!G1030,0)","v":0},{"$f":"IF(AND(Расчет!A1030<2000,Расчет!B1030<2000),Расчет!G1030,0)","v":0},null,null,{"$f":"IF(OR(Расчет!A1030>=2000,Расчет!B1030>=2000),Расчет!J1030,0)","v":0},{"$f":"IF(AND(Расчет!A1030<2000,Расчет!B1030<2000),Расчет!J1030,0)","v":0},null,null,{"$f":"IF(OR(Расчет!A1030>=2000,Расчет!B1030>=2000),Расчет!M1030,0)","v":0},{"$f":"IF(AND(Расчет!A1030<2000,Расчет!B1030<2000),Расчет!M1030,0)","v":0}]
[{"$f":"IF(OR(Расчет!A1031>=2000,Расчет!B1031>=2000),Расчет!G1031,0)","v":0},{"$f":"IF(AND(Расчет!A1031<2000,Расчет!B1031<2000),Расчет!G1031,0)","v":0},null,null,{"$f":"IF(OR(Расчет!A1031>=2000,Расчет!B1031>=2000),Расчет!J1031,0)","v":0},{"$f":"IF(AND(Расчет!A1031<2000,Расчет!B1031<2000),Расчет!J1031,0)","v":0},null,null,{"$f":"IF(OR(Расчет!A1031>=2000,Расчет!B1031>=2000),Расчет!M1031,0)","v":0},{"$f":"IF(AND(Расчет!A1031<2000,Расчет!B1031<2000),Расчет!M1031,0)","v":0}]
[{"$f":"IF(OR(Расчет!A1032>=2000,Расчет!B1032>=2000),Расчет!G1032,0)","v":0},{"$f":"IF(AND(Расчет!A1032<2000,Расчет!B1032<2000),Расчет!G1032,0)","v":0},null,null,{"$f":"IF(OR(Расчет!A1032>=2000,Расчет!B1032>=2000),Расчет!J1032,0)","v":0},{"$f":"IF(AND(Расчет!A1032<2000,Расчет!B1032<2000),Расчет!J1032,0)","v":0},null,null,{"$f":"IF(OR(Расчет!A1032>=2000,Расчет!B1032>=2000),Расчет!M1032,0)","v":0},{"$f":"IF(AND(Расчет!A1032<2000,Расчет!B1032<2000),Расчет!M1032,0)","v":0}]
[{"$f":"IF(OR(Расчет!A1033>=2000,Расчет!B1033>=2000),Расчет!G1033,0)","v":0},{"$f":"IF(AND(Расчет!A1033<2000,Расчет!B1033<2000),Расчет!G1033,0)","v":0},null,null,{"$f":"IF(OR(Расчет!A1033>=2000,Расчет!B1033>=2000),Расчет!J1033,0)","v":0},{"$f":"IF(AND(Расчет!A1033<2000,Расчет!B1033<2000),Расчет!J1033,0)","v":0},null,null,{"$f":"IF(OR(Расчет!A1033>=2000,Расчет!B1033>=2000),Расчет!M1033,0)","v":0},{"$f":"IF(AND(Расчет!A1033<2000,Расчет!B1033<2000),Расчет!M1033,0)","v":0}]
[{"$f":"IF(OR(Расчет!A1034>=2000,Расчет!B1034>=2000),Расчет!G1034,0)","v":0},{"$f":"IF(AND(Расчет!A1034<2000,Расчет!B1034<2000),Расчет!G1034,0)","v":0},null,null,{"$f":"IF(OR(Расчет!A1034>=2000,Расчет!B1034>=2000),Расчет!J1034,0)","v":0},{"$f":"IF(AND(Расчет!A1034<2000,Расчет!B1034<2000),Расчет!J1034,0)","v":0},null,null,{"$f":"IF(OR(Расчет!A1034>=2000,Расчет!B1034>=2000),Расчет!M1034,0)","v":0},{"$f":"IF(AND(Расчет!A1034<2000,Расчет!B1034<2000),Расчет!M1034,0)","v":0}]
[{"$f":"IF(OR(Расчет!A1035>=2000,Расчет!B1035>=2000),Расчет!G1035,0)","v":0},{"$f":"IF(AND(Расчет!A1035<2000,Расчет!B1035<2000),Расчет!G1035,0)","v":0},null,null,{"$f":"IF(OR(Расчет!A1035>=2000,Расчет!B1035>=2000),Расчет!J1035,0)","v":0},{"$f":"IF(AND(Расчет!A1035<2000,Расчет!B1035<2000),Расчет!J1035,0)","v":0},null,null,{"$f":"IF(OR(Расчет!A1035>=2000,Расчет!B1035>=2000),Расчет!M1035,0)","v":0},{"$f":"IF(AND(Расчет!A1035<2000,Расчет!B1035<2000),Расчет!M1035,0)","v":0}]
[{"$f":"IF(OR(Расчет!A1036>=2000,Расчет!B1036>=2000),Расчет!G1036,0)","v":0},{"$f":"IF(AND(Расчет!A1036<2000,Расчет!B1036<2000),Расчет!G1036,0)","v":0},null,null,{"$f":"IF(OR(Расчет!A1036>=2000,Расчет!B1036>=2000),Расчет!J1036,0)","v":0},{"$f":"IF(AND(Расчет!A1036<2000,Расчет!B1036<2000),Расчет!J1036,0)","v":0},null,null,{"$f":"IF(OR(Расчет!A1036>=2000,Расчет!B1036>=2000),Расчет!M1036,0)","v":0},{"$f":"IF(AND(Расчет!A1036<2000,Расчет!B1036<2000),Расчет!M1036,0)","v":0}]
[{"$f":"IF(OR(Расчет!A1037>=2000,Расчет!B1037>=2000),Расчет!G1037,0)","v":0},{"$f":"IF(AND(Расчет!A1037<2000,Расчет!B1037<2000),Расчет!G1037,0)","v":0},null,null,{"$f":"IF(OR(Расчет!A1037>=2000,Расчет!B1037>=2000),Расчет!J1037,0)","v":0},{"$f":"IF(AND(Расчет!A1037<2000,Расчет!B1037<2000),Расчет!J1037,0)","v":0},null,null,{"$f":"IF(OR(Расчет!A1037>=2000,Расчет!B1037>=2000),Расчет!M1037,0)","v":0},{"$f":"IF(AND(Расчет!A1037<2000,Расчет!B1037<2000),Расчет!M1037,0)","v":0}]
[{"$f":"IF(OR(Расчет!A1038>=2000,Расчет!B1038>=2000),Расчет!G1038,0)","v":0},{"$f":"IF(AND(Расчет!A1038<2000,Расчет!B1038<2000),Расчет!G1038,0)","v":0},null,null,{"$f":"IF(OR(Расчет!A1038>=2000,Расчет!B1038>=2000),Расчет!J1038,0)","v":0},{"$f":"IF(AND(Расчет!A1038<2000,Расчет!B1038<2000),Расчет!J1038,0)","v":0},null,null,{"$f":"IF(OR(Расчет!A1038>=2000,Расчет!B1038>=2000),Расчет!M1038,0)","v":0},{"$f":"IF(AND(Расчет!A1038<2000,Расчет!B1038<2000),Расчет!M1038,0)","v":0}]
[{"$f":"IF(OR(Расчет!A1039>=2000,Расчет!B1039>=2000),Расчет!G1039,0)","v":0},{"$f":"IF(AND(Расчет!A1039<2000,Расчет!B1039<2000),Расчет!G1039,0)","v":0},null,null,{"$f":"IF(OR(Расчет!A1039>=2000,Расчет!B1039>=2000),Расчет!J1039,0)","v":0},{"$f":"IF(AND(Расчет!A1039<2000,Расчет!B1039<2000),Расчет!J1039,0)","v":0},null,null,{"$f":"IF(OR(Расчет!A1039>=2000,Расчет!B1039>=2000),Расчет!M1039,0)","v":0},{"$f":"IF(AND(Расчет!A1039<2000,Расчет!B1039<2000),Расчет!M1039,0)","v":0}]
[{"$f":"IF(OR(Расчет!A1040>=2000,Расчет!B1040>=2000),Расчет!G1040,0)","v":0},{"$f":"IF(AND(Расчет!A1040<2000,Расчет!B1040<2000),Расчет!G1040,0)","v":0},null,null,{"$f":"IF(OR(Расчет!A1040>=2000,Расчет!B1040>=2000),Расчет!J1040,0)","v":0},{"$f":"IF(AND(Расчет!A1040<2000,Расчет!B1040<2000),Расчет!J1040,0)","v":0},null,null,{"$f":"IF(OR(Расчет!A1040>=2000,Расчет!B1040>=2000),Расчет!M1040,0)","v":0},{"$f":"IF(AND(Расчет!A1040<2000,Расчет!B1040<2000),Расчет!M1040,0)","v":0}]
[{"$f":"IF(OR(Расчет!A1041>=2000,Расчет!B1041>=2000),Расчет!G1041,0)","v":0},{"$f":"IF(AND(Расчет!A1041<2000,Расчет!B1041<2000),Расчет!G1041,0)","v":0},null,null,{"$f":"IF(OR(Расчет!A1041>=2000,Расчет!B1041>=2000),Расчет!J1041,0)","v":0},{"$f":"IF(AND(Расчет!A1041<2000,Расчет!B1041<2000),Расчет!J1041,0)","v":0},null,null,{"$f":"IF(OR(Расчет!A1041>=2000,Расчет!B1041>=2000),Расчет!M1041,0)","v":0},{"$f":"IF(AND(Расчет!A1041<2000,Расчет!B1041<2000),Расчет!M1041,0)","v":0}]
[{"$f":"IF(OR(Расчет!A1042>=2000,Расчет!B1042>=2000),Расчет!G1042,0)","v":0},{"$f":"IF(AND(Расчет!A1042<2000,Расчет!B1042<2000),Расчет!G1042,0)","v":0},null,null,{"$f":"IF(OR(Расчет!A1042>=2000,Расчет!B1042>=2000),Расчет!J1042,0)","v":0},{"$f":"IF(AND(Расчет!A1042<2000,Расчет!B1042<2000),Расчет!J1042,0)","v":0},null,null,{"$f":"IF(OR(Расчет!A1042>=2000,Расчет!B1042>=2000),Расчет!M1042,0)","v":0},{"$f":"IF(AND(Расчет!A1042<2000,Расчет!B1042<2000),Расчет!M1042,0)","v":0}]
[{"$f":"IF(OR(Расчет!A1043>=2000,Расчет!B1043>=2000),Расчет!G1043,0)","v":0},{"$f":"IF(AND(Расчет!A1043<2000,Расчет!B1043<2000),Расчет!G1043,0)","v":0},null,null,{"$f":"IF(OR(Расчет!A1043>=2000,Расчет!B1043>=2000),Расчет!J1043,0)","v":0},{"$f":"IF(AND(Расчет!A1043<2000,Расчет!B1043<2000),Расчет!J1043,0)","v":0},null,null,{"$f":"IF(OR(Расчет!A1043>=2000,Расчет!B1043>=2000),Расчет!M1043,0)","v":0},{"$f":"IF(AND(Расчет!A1043<2000,Расчет!B1043<2000),Расчет!M1043,0)","v":0}]
[{"$f":"IF(OR(Расчет!A1044>=2000,Расчет!B1044>=2000),Расчет!G1044,0)","v":0},{"$f":"IF(AND(Расчет!A1044<2000,Расчет!B1044<2000),Расчет!G1044,0)","v":0},null,null,{"$f":"IF(OR(Расчет!A1044>=2000,Расчет!B1044>=2000),Расчет!J1044,0)","v":0},{"$f":"IF(AND(Расчет!A1044<2000,Расчет!B1044<2000),Расчет!J1044,0)","v":0},null,null,{"$f":"IF(OR(Расчет!A1044>=2000,Расчет!B1044>=2000),Расчет!M1044,0)","v":0},{"$f":"IF(AND(Расчет!A1044<2000,Расчет!B1044<2000),Расчет!M1044,0)","v":0}]
[{"$f":"IF(OR(Расчет!A1045>=2000,Расчет!B1045>=2000),Расчет!G1045,0)","v":0},{"$f":"IF(AND(Расчет!A1045<2000,Расчет!B1045<2000),Расчет!G1045,0)","v":0},null,null,{"$f":"IF(OR(Расчет!A1045>=2000,Расчет!B1045>=2000),Расчет!J1045,0)","v":0},{"$f":"IF(AND(Расчет!A1045<2000,Расчет!B1045<2000),Расчет!J1045,0)","v":0},null,null,{"$f":"IF(OR(Расчет!A1045>=2000,Расчет!B1045>=2000),Расчет!M1045,0)","v":0},{"$f":"IF(AND(Расчет!A1045<2000,Расчет!B1045<2000),Расчет!M1045,0)","v":0}]
[{"$f":"IF(OR(Расчет!A1046>=2000,Расчет!B1046>=2000),Расчет!G1046,0)","v":0},{"$f":"IF(AND(Расчет!A1046<2000,Расчет!B1046<2000),Расчет!G1046,0)","v":0},null,null,{"$f":"IF(OR(Расчет!A1046>=2000,Расчет!B1046>=2000),Расчет!J1046,0)","v":0},{"$f":"IF(AND(Расчет!A1046<2000,Расчет!B1046<2000),Расчет!J1046,0)","v":0},null,null,{"$f":"IF(OR(Расчет!A1046>=2000,Расчет!B1046>=2000),Расчет!M1046,0)","v":0},{"$f":"IF(AND(Расчет!A1046<2000,Расчет!B1046<2000),Расчет!M1046,0)","v":0}]
[{"$f":"IF(OR(Расчет!A1047>=2000,Расчет!B1047>=2000),Расчет!G1047,0)","v":0},{"$f":"IF(AND(Расчет!A1047<2000,Расчет!B1047<2000),Расчет!G1047,0)","v":0},null,null,{"$f":"IF(OR(Расчет!A1047>=2000,Расчет!B1047>=2000),Расчет!J1047,0)","v":0},{"$f":"IF(AND(Расчет!A1047<2000,Расчет!B1047<2000),Расчет!J1047,0)","v":0},null,null,{"$f":"IF(OR(Расчет!A1047>=2000,Расчет!B1047>=2000),Расчет!M1047,0)","v":0},{"$f":"IF(AND(Расчет!A1047<2000,Расчет!B1047<2000),Расчет!M1047,0)","v":0}]
[{"$f":"IF(OR(Расчет!A1048>=2000,Расчет!B1048>=2000),Расчет!G1048,0)","v":0},{"$f":"IF(AND(Расчет!A1048<2000,Расчет!B1048<2000),Расчет!G1048,0)","v":0},null,null,{"$f":"IF(OR(Расчет!A1048>=2000,Расчет!B1048>=2000),Расчет!J1048,0)","v":0},{"$f":"IF(AND(Расчет!A1048<2000,Расчет!B1048<2000),Расчет!J1048,0)","v":0},null,null,{"$f":"IF(OR(Расчет!A1048>=2000,Расчет!B1048>=2000),Расчет!M1048,0)","v":0},{"$f":"IF(AND(Расчет!A1048<2000,Расчет!B1048<2000),Расчет!M1048,0)","v":0}]
[{"$f":"IF(OR(Расчет!A1049>=2000,Расчет!B1049>=2000),Расчет!G1049,0)","v":0},{"$f":"IF(AND(Расчет!A1049<2000,Расчет!B1049<2000),Расчет!G1049,0)","v":0},null,null,{"$f":"IF(OR(Расчет!A1049>=2000,Расчет!B1049>=2000),Расчет!J1049,0)","v":0},{"$f":"IF(AND(Расчет!A1049<2000,Расчет!B1049<2000),Расчет!J1049,0)","v":0},null,null,{"$f":"IF(OR(Расчет!A1049>=2000,Расчет!B1049>=2000),Расчет!M1049,0)","v":0},{"$f":"IF(AND(Расчет!A1049<2000,Расчет!B1049<2000),Расчет!M1049,0)","v":0}]
[{"$f":"IF(OR(Расчет!A1050>=2000,Расчет!B1050>=2000),Расчет!G1050,0)","v":0},{"$f":"IF(AND(Расчет!A1050<2000,Расчет!B1050<2000),Расчет!G1050,0)","v":0},null,null,{"$f":"IF(OR(Расчет!A1050>=2000,Расчет!B1050>=2000),Расчет!J1050,0)","v":0},{"$f":"IF(AND(Расчет!A1050<2000,Расчет!B1050<2000),Расчет!J1050,0)","v":0},null,null,{"$f":"IF(OR(Расчет!A1050>=2000,Расчет!B1050>=2000),Расчет!M1050,0)","v":0},{"$f":"IF(AND(Расчет!A1050<2000,Расчет!B1050<2000),Расчет!M1050,0)","v":0}]
[{"$f":"IF(OR(Расчет!A1051>=2000,Расчет!B1051>=2000),Расчет!G1051,0)","v":0},{"$f":"IF(AND(Расчет!A1051<2000,Расчет!B1051<2000),Расчет!G1051,0)","v":0},null,null,{"$f":"IF(OR(Расчет!A1051>=2000,Расчет!B1051>=2000),Расчет!J1051,0)","v":0},{"$f":"IF(AND(Расчет!A1051<2000,Расчет!B1051<2000),Расчет!J1051,0)","v":0},null,null,{"$f":"IF(OR(Расчет!A1051>=2000,Расчет!B1051>=2000),Расчет!M1051,0)","v":0},{"$f":"IF(AND(Расчет!A1051<2000,Расчет!B1051<2000),Расчет!M1051,0)","v":0}]
[{"$f":"IF(OR(Расчет!A1052>=2000,Расчет!B1052>=2000),Расчет!G1052,0)","v":0},{"$f":"IF(AND(Расчет!A1052<2000,Расчет!B1052<2000),Расчет!G1052,0)","v":0},null,null,{"$f":"IF(OR(Расчет!A1052>=2000,Расчет!B1052>=2000),Расчет!J1052,0)","v":0},{"$f":"IF(AND(Расчет!A1052<2000,Расчет!B1052<2000),Расчет!J1052,0)","v":0},null,null,{"$f":"IF(OR(Расчет!A1052>=2000,Расчет!B1052>=2000),Расчет!M1052,0)","v":0},{"$f":"IF(AND(Расчет!A1052<2000,Расчет!B1052<2000),Расчет!M1052,0)","v":0}]
[{"$f":"IF(OR(Расчет!A1053>=2000,Расчет!B1053>=2000),Расчет!G1053,0)","v":0},{"$f":"IF(AND(Расчет!A1053<2000,Расчет!B1053<2000),Расчет!G1053,0)","v":0},null,null,{"$f":"IF(OR(Расчет!A1053>=2000,Расчет!B1053>=2000),Расчет!J1053,0)","v":0},{"$f":"IF(AND(Расчет!A1053<2000,Расчет!B1053<2000),Расчет!J1053,0)","v":0},null,null,{"$f":"IF(OR(Расчет!A1053>=2000,Расчет!B1053>=2000),Расчет!M1053,0)","v":0},{"$f":"IF(AND(Расчет!A1053<2000,Расчет!B1053<2000),Расчет!M1053,0)","v":0}]
[{"$f":"IF(OR(Расчет!A1054>=2000,Расчет!B1054>=2000),Расчет!G1054,0)","v":0},{"$f":"IF(AND(Расчет!A1054<2000,Расчет!B1054<2000),Расчет!G1054,0)","v":0},null,null,{"$f":"IF(OR(Расчет!A1054>=2000,Расчет!B1054>=2000),Расчет!J1054,0)","v":0},{"$f":"IF(AND(Расчет!A1054<2000,Расчет!B1054<2000),Расчет!J1054,0)","v":0},null,null,{"$f":"IF(OR(Расчет!A1054>=2000,Расчет!B1054>=2000),Расчет!M1054,0)","v":0},{"$f":"IF(AND(Расчет!A1054<2000,Расчет!B1054<2000),Расчет!M1054,0)","v":0}]
[{"$f":"IF(OR(Расчет!A1055>=2000,Расчет!B1055>=2000),Расчет!G1055,0)","v":0},{"$f":"IF(AND(Расчет!A1055<2000,Расчет!B1055<2000),Расчет!G1055,0)","v":0},null,null,{"$f":"IF(OR(Расчет!A1055>=2000,Расчет!B1055>=2000),Расчет!J1055,0)","v":0},{"$f":"IF(AND(Расчет!A1055<2000,Расчет!B1055<2000),Расчет!J1055,0)","v":0},null,null,{"$f":"IF(OR(Расчет!A1055>=2000,Расчет!B1055>=2000),Расчет!M1055,0)","v":0},{"$f":"IF(AND(Расчет!A1055<2000,Расчет!B1055<2000),Расчет!M1055,0)","v":0}]
[{"$f":"IF(OR(Расчет!A1056>=2000,Расчет!B1056>=2000),Расчет!G1056,0)","v":0},{"$f":"IF(AND(Расчет!A1056<2000,Расчет!B1056<2000),Расчет!G1056,0)","v":0},null,null,{"$f":"IF(OR(Расчет!A1056>=2000,Расчет!B1056>=2000),Расчет!J1056,0)","v":0},{"$f":"IF(AND(Расчет!A1056<2000,Расчет!B1056<2000),Расчет!J1056,0)","v":0},null,null,{"$f":"IF(OR(Расчет!A1056>=2000,Расчет!B1056>=2000),Расчет!M1056,0)","v":0},{"$f":"IF(AND(Расчет!A1056<2000,Расчет!B1056<2000),Расчет!M1056,0)","v":0}]
[{"$f":"IF(OR(Расчет!A1057>=2000,Расчет!B1057>=2000),Расчет!G1057,0)","v":0},{"$f":"IF(AND(Расчет!A1057<2000,Расчет!B1057<2000),Расчет!G1057,0)","v":0},null,null,{"$f":"IF(OR(Расчет!A1057>=2000,Расчет!B1057>=2000),Расчет!J1057,0)","v":0},{"$f":"IF(AND(Расчет!A1057<2000,Расчет!B1057<2000),Расчет!J1057,0)","v":0},null,null,{"$f":"IF(OR(Расчет!A1057>=2000,Расчет!B1057>=2000),Расчет!M1057,0)","v":0},{"$f":"IF(AND(Расчет!A1057<2000,Расчет!B1057<2000),Расчет!M1057,0)","v":0}]
[{"$f":"IF(OR(Расчет!A1058>=2000,Расчет!B1058>=2000),Расчет!G1058,0)","v":0},{"$f":"IF(AND(Расчет!A1058<2000,Расчет!B1058<2000),Расчет!G1058,0)","v":0},null,null,{"$f":"IF(OR(Расчет!A1058>=2000,Расчет!B1058>=2000),Расчет!J1058,0)","v":0},{"$f":"IF(AND(Расчет!A1058<2000,Расчет!B1058<2000),Расчет!J1058,0)","v":0},null,null,{"$f":"IF(OR(Расчет!A1058>=2000,Расчет!B1058>=2000),Расчет!M1058,0)","v":0},{"$f":"IF(AND(Расчет!A1058<2000,Расчет!B1058<2000),Расчет!M1058,0)","v":0}]
[{"$f":"IF(OR(Расчет!A1059>=2000,Расчет!B1059>=2000),Расчет!G1059,0)","v":0},{"$f":"IF(AND(Расчет!A1059<2000,Расчет!B1059<2000),Расчет!G1059,0)","v":0},null,null,{"$f":"IF(OR(Расчет!A1059>=2000,Расчет!B1059>=2000),Расчет!J1059,0)","v":0},{"$f":"IF(AND(Расчет!A1059<2000,Расчет!B1059<2000),Расчет!J1059,0)","v":0},null,null,{"$f":"IF(OR(Расчет!A1059>=2000,Расчет!B1059>=2000),Расчет!M1059,0)","v":0},{"$f":"IF(AND(Расчет!A1059<2000,Расчет!B1059<2000),Расчет!M1059,0)","v":0}]
[{"$f":"IF(OR(Расчет!A1060>=2000,Расчет!B1060>=2000),Расчет!G1060,0)","v":0},{"$f":"IF(AND(Расчет!A1060<2000,Расчет!B1060<2000),Расчет!G1060,0)","v":0},null,null,{"$f":"IF(OR(Расчет!A1060>=2000,Расчет!B1060>=2000),Расчет!J1060,0)","v":0},{"$f":"IF(AND(Расчет!A1060<2000,Расчет!B1060<2000),Расчет!J1060,0)","v":0},null,null,{"$f":"IF(OR(Расчет!A1060>=2000,Расчет!B1060>=2000),Расчет!M1060,0)","v":0},{"$f":"IF(AND(Расчет!A1060<2000,Расчет!B1060<2000),Расчет!M1060,0)","v":0}]
[{"$f":"IF(OR(Расчет!A1061>=2000,Расчет!B1061>=2000),Расчет!G1061,0)","v":0},{"$f":"IF(AND(Расчет!A1061<2000,Расчет!B1061<2000),Расчет!G1061,0)","v":0},null,null,{"$f":"IF(OR(Расчет!A1061>=2000,Расчет!B1061>=2000),Расчет!J1061,0)","v":0},{"$f":"IF(AND(Расчет!A1061<2000,Расчет!B1061<2000),Расчет!J1061,0)","v":0},null,null,{"$f":"IF(OR(Расчет!A1061>=2000,Расчет!B1061>=2000),Расчет!M1061,0)","v":0},{"$f":"IF(AND(Расчет!A1061<2000,Расчет!B1061<2000),Расчет!M1061,0)","v":0}]
[{"$f":"IF(OR(Расчет!A1062>=2000,Расчет!B1062>=2000),Расчет!G1062,0)","v":0},{"$f":"IF(AND(Расчет!A1062<2000,Расчет!B1062<2000),Расчет!G1062,0)","v":0},null,null,{"$f":"IF(OR(Расчет!A1062>=2000,Расчет!B1062>=2000),Расчет!J1062,0)","v":0},{"$f":"IF(AND(Расчет!A1062<2000,Расчет!B1062<2000),Расчет!J1062,0)","v":0},null,null,{"$f":"IF(OR(Расчет!A1062>=2000,Расчет!B1062>=2000),Расчет!M1062,0)","v":0},{"$f":"IF(AND(Расчет!A1062<2000,Расчет!B1062<2000),Расчет!M1062,0)","v":0}]
[{"$f":"IF(OR(Расчет!A1063>=2000,Расчет!B1063>=2000),Расчет!G1063,0)","v":0},{"$f":"IF(AND(Расчет!A1063<2000,Расчет!B1063<2000),Расчет!G1063,0)","v":0},null,null,{"$f":"IF(OR(Расчет!A1063>=2000,Расчет!B1063>=2000),Расчет!J1063,0)","v":0},{"$f":"IF(AND(Расчет!A1063<2000,Расчет!B1063<2000),Расчет!J1063,0)","v":0},null,null,{"$f":"IF(OR(Расчет!A1063>=2000,Расчет!B1063>=2000),Расчет!M1063,0)","v":0},{"$f":"IF(AND(Расчет!A1063<2000,Расчет!B1063<2000),Расчет!M1063,0)","v":0}]
[{"$f":"IF(OR(Расчет!A1064>=2000,Расчет!B1064>=2000),Расчет!G1064,0)","v":0},{"$f":"IF(AND(Расчет!A1064<2000,Расчет!B1064<2000),Расчет!G1064,0)","v":0},null,null,{"$f":"IF(OR(Расчет!A1064>=2000,Расчет!B1064>=2000),Расчет!J1064,0)","v":0},{"$f":"IF(AND(Расчет!A1064<2000,Расчет!B1064<2000),Расчет!J1064,0)","v":0},null,null,{"$f":"IF(OR(Расчет!A1064>=2000,Расчет!B1064>=2000),Расчет!M1064,0)","v":0},{"$f":"IF(AND(Расчет!A1064<2000,Расчет!B1064<2000),Расчет!M1064,0)","v":0}]
[{"$f":"IF(OR(Расчет!A1065>=2000,Расчет!B1065>=2000),Расчет!G1065,0)","v":0},{"$f":"IF(AND(Расчет!A1065<2000,Расчет!B1065<2000),Расчет!G1065,0)","v":0},null,null,{"$f":"IF(OR(Расчет!A1065>=2000,Расчет!B1065>=2000),Расчет!J1065,0)","v":0},{"$f":"IF(AND(Расчет!A1065<2000,Расчет!B1065<2000),Расчет!J1065,0)","v":0},null,null,{"$f":"IF(OR(Расчет!A1065>=2000,Расчет!B1065>=2000),Расчет!M1065,0)","v":0},{"$f":"IF(AND(Расчет!A1065<2000,Расчет!B1065<2000),Расчет!M1065,0)","v":0}]
[{"$f":"IF(OR(Расчет!A1066>=2000,Расчет!B1066>=2000),Расчет!G1066,0)","v":0},{"$f":"IF(AND(Расчет!A1066<2000,Расчет!B1066<2000),Расчет!G1066,0)","v":0},null,null,{"$f":"IF(OR(Расчет!A1066>=2000,Расчет!B1066>=2000),Расчет!J1066,0)","v":0},{"$f":"IF(AND(Расчет!A1066<2000,Расчет!B1066<2000),Расчет!J1066,0)","v":0},null,null,{"$f":"IF(OR(Расчет!A1066>=2000,Расчет!B1066>=2000),Расчет!M1066,0)","v":0},{"$f":"IF(AND(Расчет!A1066<2000,Расчет!B1066<2000),Расчет!M1066,0)","v":0}]
[{"$f":"IF(OR(Расчет!A1067>=2000,Расчет!B1067>=2000),Расчет!G1067,0)","v":0},{"$f":"IF(AND(Расчет!A1067<2000,Расчет!B1067<2000),Расчет!G1067,0)","v":0},null,null,{"$f":"IF(OR(Расчет!A1067>=2000,Расчет!B1067>=2000),Расчет!J1067,0)","v":0},{"$f":"IF(AND(Расчет!A1067<2000,Расчет!B1067<2000),Расчет!J1067,0)","v":0},null,null,{"$f":"IF(OR(Расчет!A1067>=2000,Расчет!B1067>=2000),Расчет!M1067,0)","v":0},{"$f":"IF(AND(Расчет!A1067<2000,Расчет!B1067<2000),Расчет!M1067,0)","v":0}]
[{"$f":"IF(OR(Расчет!A1068>=2000,Расчет!B1068>=2000),Расчет!G1068,0)","v":0},{"$f":"IF(AND(Расчет!A1068<2000,Расчет!B1068<2000),Расчет!G1068,0)","v":0},null,null,{"$f":"IF(OR(Расчет!A1068>=2000,Расчет!B1068>=2000),Расчет!J1068,0)","v":0},{"$f":"IF(AND(Расчет!A1068<2000,Расчет!B1068<2000),Расчет!J1068,0)","v":0},null,null,{"$f":"IF(OR(Расчет!A1068>=2000,Расчет!B1068>=2000),Расчет!M1068,0)","v":0},{"$f":"IF(AND(Расчет!A1068<2000,Расчет!B1068<2000),Расчет!M1068,0)","v":0}]
[{"$f":"IF(OR(Расчет!A1069>=2000,Расчет!B1069>=2000),Расчет!G1069,0)","v":0},{"$f":"IF(AND(Расчет!A1069<2000,Расчет!B1069<2000),Расчет!G1069,0)","v":0},null,null,{"$f":"IF(OR(Расчет!A1069>=2000,Расчет!B1069>=2000),Расчет!J1069,0)","v":0},{"$f":"IF(AND(Расчет!A1069<2000,Расчет!B1069<2000),Расчет!J1069,0)","v":0},null,null,{"$f":"IF(OR(Расчет!A1069>=2000,Расчет!B1069>=2000),Расчет!M1069,0)","v":0},{"$f":"IF(AND(Расчет!A1069<2000,Расчет!B1069<2000),Расчет!M1069,0)","v":0}]
[{"$f":"IF(OR(Расчет!A1070>=2000,Расчет!B1070>=2000),Расчет!G1070,0)","v":0},{"$f":"IF(AND(Расчет!A1070<2000,Расчет!B1070<2000),Расчет!G1070,0)","v":0},null,null,{"$f":"IF(OR(Расчет!A1070>=2000,Расчет!B1070>=2000),Расчет!J1070,0)","v":0},{"$f":"IF(AND(Расчет!A1070<2000,Расчет!B1070<2000),Расчет!J1070,0)","v":0},null,null,{"$f":"IF(OR(Расчет!A1070>=2000,Расчет!B1070>=2000),Расчет!M1070,0)","v":0},{"$f":"IF(AND(Расчет!A1070<2000,Расчет!B1070<2000),Расчет!M1070,0)","v":0}]
[{"$f":"IF(OR(Расчет!A1071>=2000,Расчет!B1071>=2000),Расчет!G1071,0)","v":0},{"$f":"IF(AND(Расчет!A1071<2000,Расчет!B1071<2000),Расчет!G1071,0)","v":0},null,null,{"$f":"IF(OR(Расчет!A1071>=2000,Расчет!B1071>=2000),Расчет!J1071,0)","v":0},{"$f":"IF(AND(Расчет!A1071<2000,Расчет!B1071<2000),Расчет!J1071,0)","v":0},null,null,{"$f":"IF(OR(Расчет!A1071>=2000,Расчет!B1071>=2000),Расчет!M1071,0)","v":0},{"$f":"IF(AND(Расчет!A1071<2000,Расчет!B1071<2000),Расчет!M1071,0)","v":0}]
[{"$f":"IF(OR(Расчет!A1072>=2000,Расчет!B1072>=2000),Расчет!G1072,0)","v":0},{"$f":"IF(AND(Расчет!A1072<2000,Расчет!B1072<2000),Расчет!G1072,0)","v":0},null,null,{"$f":"IF(OR(Расчет!A1072>=2000,Расчет!B1072>=2000),Расчет!J1072,0)","v":0},{"$f":"IF(AND(Расчет!A1072<2000,Расчет!B1072<2000),Расчет!J1072,0)","v":0},null,null,{"$f":"IF(OR(Расчет!A1072>=2000,Расчет!B1072>=2000),Расчет!M1072,0)","v":0},{"$f":"IF(AND(Расчет!A1072<2000,Расчет!B1072<2000),Расчет!M1072,0)","v":0}]
[{"$f":"IF(OR(Расчет!A1073>=2000,Расчет!B1073>=2000),Расчет!G1073,0)","v":0},{"$f":"IF(AND(Расчет!A1073<2000,Расчет!B1073<2000),Расчет!G1073,0)","v":0},null,null,{"$f":"IF(OR(Расчет!A1073>=2000,Расчет!B1073>=2000),Расчет!J1073,0)","v":0},{"$f":"IF(AND(Расчет!A1073<2000,Расчет!B1073<2000),Расчет!J1073,0)","v":0},null,null,{"$f":"IF(OR(Расчет!A1073>=2000,Расчет!B1073>=2000),Расчет!M1073,0)","v":0},{"$f":"IF(AND(Расчет!A1073<2000,Расчет!B1073<2000),Расчет!M1073,0)","v":0}]
[{"$f":"IF(OR(Расчет!A1074>=2000,Расчет!B1074>=2000),Расчет!G1074,0)","v":0},{"$f":"IF(AND(Расчет!A1074<2000,Расчет!B1074<2000),Расчет!G1074,0)","v":0},null,null,{"$f":"IF(OR(Расчет!A1074>=2000,Расчет!B1074>=2000),Расчет!J1074,0)","v":0},{"$f":"IF(AND(Расчет!A1074<2000,Расчет!B1074<2000),Расчет!J1074,0)","v":0},null,null,{"$f":"IF(OR(Расчет!A1074>=2000,Расчет!B1074>=2000),Расчет!M1074,0)","v":0},{"$f":"IF(AND(Расчет!A1074<2000,Расчет!B1074<2000),Расчет!M1074,0)","v":0}]
[{"$f":"IF(OR(Расчет!A1075>=2000,Расчет!B1075>=2000),Расчет!G1075,0)","v":0},{"$f":"IF(AND(Расчет!A1075<2000,Расчет!B1075<2000),Расчет!G1075,0)","v":0},null,null,{"$f":"IF(OR(Расчет!A1075>=2000,Расчет!B1075>=2000),Расчет!J1075,0)","v":0},{"$f":"IF(AND(Расчет!A1075<2000,Расчет!B1075<2000),Расчет!J1075,0)","v":0},null,null,{"$f":"IF(OR(Расчет!A1075>=2000,Расчет!B1075>=2000),Расчет!M1075,0)","v":0},{"$f":"IF(AND(Расчет!A1075<2000,Расчет!B1075<2000),Расчет!M1075,0)","v":0}]
[{"$f":"IF(OR(Расчет!A1076>=2000,Расчет!B1076>=2000),Расчет!G1076,0)","v":0},{"$f":"IF(AND(Расчет!A1076<2000,Расчет!B1076<2000),Расчет!G1076,0)","v":0},null,null,{"$f":"IF(OR(Расчет!A1076>=2000,Расчет!B1076>=2000),Расчет!J1076,0)","v":0},{"$f":"IF(AND(Расчет!A1076<2000,Расчет!B1076<2000),Расчет!J1076,0)","v":0},null,null,{"$f":"IF(OR(Расчет!A1076>=2000,Расчет!B1076>=2000),Расчет!M1076,0)","v":0},{"$f":"IF(AND(Расчет!A1076<2000,Расчет!B1076<2000),Расчет!M1076,0)","v":0}]
[{"$f":"IF(OR(Расчет!A1077>=2000,Расчет!B1077>=2000),Расчет!G1077,0)","v":0},{"$f":"IF(AND(Расчет!A1077<2000,Расчет!B1077<2000),Расчет!G1077,0)","v":0},null,null,{"$f":"IF(OR(Расчет!A1077>=2000,Расчет!B1077>=2000),Расчет!J1077,0)","v":0},{"$f":"IF(AND(Расчет!A1077<2000,Расчет!B1077<2000),Расчет!J1077,0)","v":0},null,null,{"$f":"IF(OR(Расчет!A1077>=2000,Расчет!B1077>=2000),Расчет!M1077,0)","v":0},{"$f":"IF(AND(Расчет!A1077<2000,Расчет!B1077<2000),Расчет!M1077,0)","v":0}]
[{"$f":"IF(OR(Расчет!A1078>=2000,Расчет!B1078>=2000),Расчет!G1078,0)","v":0},{"$f":"IF(AND(Расчет!A1078<2000,Расчет!B1078<2000),Расчет!G1078,0)","v":0},null,null,{"$f":"IF(OR(Расчет!A1078>=2000,Расчет!B1078>=2000),Расчет!J1078,0)","v":0},{"$f":"IF(AND(Расчет!A1078<2000,Расчет!B1078<2000),Расчет!J1078,0)","v":0},null,null,{"$f":"IF(OR(Расчет!A1078>=2000,Расчет!B1078>=2000),Расчет!M1078,0)","v":0},{"$f":"IF(AND(Расчет!A1078<2000,Расчет!B1078<2000),Расчет!M1078,0)","v":0}]
[{"$f":"IF(OR(Расчет!A1079>=2000,Расчет!B1079>=2000),Расчет!G1079,0)","v":0},{"$f":"IF(AND(Расчет!A1079<2000,Расчет!B1079<2000),Расчет!G1079,0)","v":0},null,null,{"$f":"IF(OR(Расчет!A1079>=2000,Расчет!B1079>=2000),Расчет!J1079,0)","v":0},{"$f":"IF(AND(Расчет!A1079<2000,Расчет!B1079<2000),Расчет!J1079,0)","v":0},null,null,{"$f":"IF(OR(Расчет!A1079>=2000,Расчет!B1079>=2000),Расчет!M1079,0)","v":0},{"$f":"IF(AND(Расчет!A1079<2000,Расчет!B1079<2000),Расчет!M1079,0)","v":0}]
[{"$f":"IF(OR(Расчет!A1080>=2000,Расчет!B1080>=2000),Расчет!G1080,0)","v":0},{"$f":"IF(AND(Расчет!A1080<2000,Расчет!B1080<2000),Расчет!G1080,0)","v":0},null,null,{"$f":"IF(OR(Расчет!A1080>=2000,Расчет!B1080>=2000),Расчет!J1080,0)","v":0},{"$f":"IF(AND(Расчет!A1080<2000,Расчет!B1080<2000),Расчет!J1080,0)","v":0},null,null,{"$f":"IF(OR(Расчет!A1080>=2000,Расчет!B1080>=2000),Расчет!M1080,0)","v":0},{"$f":"IF(AND(Расчет!A1080<2000,Расчет!B1080<2000),Расчет!M1080,0)","v":0}]
[{"$f":"IF(OR(Расчет!A1081>=2000,Расчет!B1081>=2000),Расчет!G1081,0)","v":0},{"$f":"IF(AND(Расчет!A1081<2000,Расчет!B1081<2000),Расчет!G1081,0)","v":0},null,null,{"$f":"IF(OR(Расчет!A1081>=2000,Расчет!B1081>=2000),Расчет!J1081,0)","v":0},{"$f":"IF(AND(Расчет!A1081<2000,Расчет!B1081<2000),Расчет!J1081,0)","v":0},null,null,{"$f":"IF(OR(Расчет!A1081>=2000,Расчет!B1081>=2000),Расчет!M1081,0)","v":0},{"$f":"IF(AND(Расчет!A1081<2000,Расчет!B1081<2000),Расчет!M1081,0)","v":0}]
[{"$f":"IF(OR(Расчет!A1082>=2000,Расчет!B1082>=2000),Расчет!G1082,0)","v":0},{"$f":"IF(AND(Расчет!A1082<2000,Расчет!B1082<2000),Расчет!G1082,0)","v":0},null,null,{"$f":"IF(OR(Расчет!A1082>=2000,Расчет!B1082>=2000),Расчет!J1082,0)","v":0},{"$f":"IF(AND(Расчет!A1082<2000,Расчет!B1082<2000),Расчет!J1082,0)","v":0},null,null,{"$f":"IF(OR(Расчет!A1082>=2000,Расчет!B1082>=2000),Расчет!M1082,0)","v":0},{"$f":"IF(AND(Расчет!A1082<2000,Расчет!B1082<2000),Расчет!M1082,0)","v":0}]
[{"$f":"IF(OR(Расчет!A1083>=2000,Расчет!B1083>=2000),Расчет!G1083,0)","v":0},{"$f":"IF(AND(Расчет!A1083<2000,Расчет!B1083<2000),Расчет!G1083,0)","v":0},null,null,{"$f":"IF(OR(Расчет!A1083>=2000,Расчет!B1083>=2000),Расчет!J1083,0)","v":0},{"$f":"IF(AND(Расчет!A1083<2000,Расчет!B1083<2000),Расчет!J1083,0)","v":0},null,null,{"$f":"IF(OR(Расчет!A1083>=2000,Расчет!B1083>=2000),Расчет!M1083,0)","v":0},{"$f":"IF(AND(Расчет!A1083<2000,Расчет!B1083<2000),Расчет!M1083,0)","v":0}]
[{"$f":"IF(OR(Расчет!A1084>=2000,Расчет!B1084>=2000),Расчет!G1084,0)","v":0},{"$f":"IF(AND(Расчет!A1084<2000,Расчет!B1084<2000),Расчет!G1084,0)","v":0},null,null,{"$f":"IF(OR(Расчет!A1084>=2000,Расчет!B1084>=2000),Расчет!J1084,0)","v":0},{"$f":"IF(AND(Расчет!A1084<2000,Расчет!B1084<2000),Расчет!J1084,0)","v":0},null,null,{"$f":"IF(OR(Расчет!A1084>=2000,Расчет!B1084>=2000),Расчет!M1084,0)","v":0},{"$f":"IF(AND(Расчет!A1084<2000,Расчет!B1084<2000),Расчет!M1084,0)","v":0}]
[{"$f":"IF(OR(Расчет!A1085>=2000,Расчет!B1085>=2000),Расчет!G1085,0)","v":0},{"$f":"IF(AND(Расчет!A1085<2000,Расчет!B1085<2000),Расчет!G1085,0)","v":0},null,null,{"$f":"IF(OR(Расчет!A1085>=2000,Расчет!B1085>=2000),Расчет!J1085,0)","v":0},{"$f":"IF(AND(Расчет!A1085<2000,Расчет!B1085<2000),Расчет!J1085,0)","v":0},null,null,{"$f":"IF(OR(Расчет!A1085>=2000,Расчет!B1085>=2000),Расчет!M1085,0)","v":0},{"$f":"IF(AND(Расчет!A1085<2000,Расчет!B1085<2000),Расчет!M1085,0)","v":0}]
[{"$f":"IF(OR(Расчет!A1086>=2000,Расчет!B1086>=2000),Расчет!G1086,0)","v":0},{"$f":"IF(AND(Расчет!A1086<2000,Расчет!B1086<2000),Расчет!G1086,0)","v":0},null,null,{"$f":"IF(OR(Расчет!A1086>=2000,Расчет!B1086>=2000),Расчет!J1086,0)","v":0},{"$f":"IF(AND(Расчет!A1086<2000,Расчет!B1086<2000),Расчет!J1086,0)","v":0},null,null,{"$f":"IF(OR(Расчет!A1086>=2000,Расчет!B1086>=2000),Расчет!M1086,0)","v":0},{"$f":"IF(AND(Расчет!A1086<2000,Расчет!B1086<2000),Расчет!M1086,0)","v":0}]
[{"$f":"IF(OR(Расчет!A1087>=2000,Расчет!B1087>=2000),Расчет!G1087,0)","v":0},{"$f":"IF(AND(Расчет!A1087<2000,Расчет!B1087<2000),Расчет!G1087,0)","v":0},null,null,{"$f":"IF(OR(Расчет!A1087>=2000,Расчет!B1087>=2000),Расчет!J1087,0)","v":0},{"$f":"IF(AND(Расчет!A1087<2000,Расчет!B1087<2000),Расчет!J1087,0)","v":0},null,null,{"$f":"IF(OR(Расчет!A1087>=2000,Расчет!B1087>=2000),Расчет!M1087,0)","v":0},{"$f":"IF(AND(Расчет!A1087<2000,Расчет!B1087<2000),Расчет!M1087,0)","v":0}]
[{"$f":"IF(OR(Расчет!A1088>=2000,Расчет!B1088>=2000),Расчет!G1088,0)","v":0},{"$f":"IF(AND(Расчет!A1088<2000,Расчет!B1088<2000),Расчет!G1088,0)","v":0},null,null,{"$f":"IF(OR(Расчет!A1088>=2000,Расчет!B1088>=2000),Расчет!J1088,0)","v":0},{"$f":"IF(AND(Расчет!A1088<2000,Расчет!B1088<2000),Расчет!J1088,0)","v":0},null,null,{"$f":"IF(OR(Расчет!A1088>=2000,Расчет!B1088>=2000),Расчет!M1088,0)","v":0},{"$f":"IF(AND(Расчет!A1088<2000,Расчет!B1088<2000),Расчет!M1088,0)","v":0}]
[{"$f":"IF(OR(Расчет!A1089>=2000,Расчет!B1089>=2000),Расчет!G1089,0)","v":0},{"$f":"IF(AND(Расчет!A1089<2000,Расчет!B1089<2000),Расчет!G1089,0)","v":0},null,null,{"$f":"IF(OR(Расчет!A1089>=2000,Расчет!B1089>=2000),Расчет!J1089,0)","v":0},{"$f":"IF(AND(Расчет!A1089<2000,Расчет!B1089<2000),Расчет!J1089,0)","v":0},null,null,{"$f":"IF(OR(Расчет!A1089>=2000,Расчет!B1089>=2000),Расчет!M1089,0)","v":0},{"$f":"IF(AND(Расчет!A1089<2000,Расчет!B1089<2000),Расчет!M1089,0)","v":0}]
[{"$f":"IF(OR(Расчет!A1090>=2000,Расчет!B1090>=2000),Расчет!G1090,0)","v":0},{"$f":"IF(AND(Расчет!A1090<2000,Расчет!B1090<2000),Расчет!G1090,0)","v":0},null,null,{"$f":"IF(OR(Расчет!A1090>=2000,Расчет!B1090>=2000),Расчет!J1090,0)","v":0},{"$f":"IF(AND(Расчет!A1090<2000,Расчет!B1090<2000),Расчет!J1090,0)","v":0},null,null,{"$f":"IF(OR(Расчет!A1090>=2000,Расчет!B1090>=2000),Расчет!M1090,0)","v":0},{"$f":"IF(AND(Расчет!A1090<2000,Расчет!B1090<2000),Расчет!M1090,0)","v":0}]
[{"$f":"IF(OR(Расчет!A1091>=2000,Расчет!B1091>=2000),Расчет!G1091,0)","v":0},{"$f":"IF(AND(Расчет!A1091<2000,Расчет!B1091<2000),Расчет!G1091,0)","v":0},null,null,{"$f":"IF(OR(Расчет!A1091>=2000,Расчет!B1091>=2000),Расчет!J1091,0)","v":0},{"$f":"IF(AND(Расчет!A1091<2000,Расчет!B1091<2000),Расчет!J1091,0)","v":0},null,null,{"$f":"IF(OR(Расчет!A1091>=2000,Расчет!B1091>=2000),Расчет!M1091,0)","v":0},{"$f":"IF(AND(Расчет!A1091<2000,Расчет!B1091<2000),Расчет!M1091,0)","v":0}]
[{"$f":"IF(OR(Расчет!A1092>=2000,Расчет!B1092>=2000),Расчет!G1092,0)","v":0},{"$f":"IF(AND(Расчет!A1092<2000,Расчет!B1092<2000),Расчет!G1092,0)","v":0},null,null,{"$f":"IF(OR(Расчет!A1092>=2000,Расчет!B1092>=2000),Расчет!J1092,0)","v":0},{"$f":"IF(AND(Расчет!A1092<2000,Расчет!B1092<2000),Расчет!J1092,0)","v":0},null,null,{"$f":"IF(OR(Расчет!A1092>=2000,Расчет!B1092>=2000),Расчет!M1092,0)","v":0},{"$f":"IF(AND(Расчет!A1092<2000,Расчет!B1092<2000),Расчет!M1092,0)","v":0}]
[{"$f":"IF(OR(Расчет!A1093>=2000,Расчет!B1093>=2000),Расчет!G1093,0)","v":0},{"$f":"IF(AND(Расчет!A1093<2000,Расчет!B1093<2000),Расчет!G1093,0)","v":0},null,null,{"$f":"IF(OR(Расчет!A1093>=2000,Расчет!B1093>=2000),Расчет!J1093,0)","v":0},{"$f":"IF(AND(Расчет!A1093<2000,Расчет!B1093<2000),Расчет!J1093,0)","v":0},null,null,{"$f":"IF(OR(Расчет!A1093>=2000,Расчет!B1093>=2000),Расчет!M1093,0)","v":0},{"$f":"IF(AND(Расчет!A1093<2000,Расчет!B1093<2000),Расчет!M1093,0)","v":0}]
[{"$f":"IF(OR(Расчет!A1094>=2000,Расчет!B1094>=2000),Расчет!G1094,0)","v":0},{"$f":"IF(AND(Расчет!A1094<2000,Расчет!B1094<2000),Расчет!G1094,0)","v":0},null,null,{"$f":"IF(OR(Расчет!A1094>=2000,Расчет!B1094>=2000),Расчет!J1094,0)","v":0},{"$f":"IF(AND(Расчет!A1094<2000,Расчет!B1094<2000),Расчет!J1094,0)","v":0},null,null,{"$f":"IF(OR(Расчет!A1094>=2000,Расчет!B1094>=2000),Расчет!M1094,0)","v":0},{"$f":"IF(AND(Расчет!A1094<2000,Расчет!B1094<2000),Расчет!M1094,0)","v":0}]
[{"$f":"IF(OR(Расчет!A1095>=2000,Расчет!B1095>=2000),Расчет!G1095,0)","v":0},{"$f":"IF(AND(Расчет!A1095<2000,Расчет!B1095<2000),Расчет!G1095,0)","v":0},null,null,{"$f":"IF(OR(Расчет!A1095>=2000,Расчет!B1095>=2000),Расчет!J1095,0)","v":0},{"$f":"IF(AND(Расчет!A1095<2000,Расчет!B1095<2000),Расчет!J1095,0)","v":0},null,null,{"$f":"IF(OR(Расчет!A1095>=2000,Расчет!B1095>=2000),Расчет!M1095,0)","v":0},{"$f":"IF(AND(Расчет!A1095<2000,Расчет!B1095<2000),Расчет!M1095,0)","v":0}]
[{"$f":"IF(OR(Расчет!A1096>=2000,Расчет!B1096>=2000),Расчет!G1096,0)","v":0},{"$f":"IF(AND(Расчет!A1096<2000,Расчет!B1096<2000),Расчет!G1096,0)","v":0},null,null,{"$f":"IF(OR(Расчет!A1096>=2000,Расчет!B1096>=2000),Расчет!J1096,0)","v":0},{"$f":"IF(AND(Расчет!A1096<2000,Расчет!B1096<2000),Расчет!J1096,0)","v":0},null,null,{"$f":"IF(OR(Расчет!A1096>=2000,Расчет!B1096>=2000),Расчет!M1096,0)","v":0},{"$f":"IF(AND(Расчет!A1096<2000,Расчет!B1096<2000),Расчет!M1096,0)","v":0}]
[{"$f":"IF(OR(Расчет!A1097>=2000,Расчет!B1097>=2000),Расчет!G1097,0)","v":0},{"$f":"IF(AND(Расчет!A1097<2000,Расчет!B1097<2000),Расчет!G1097,0)","v":0},null,null,{"$f":"IF(OR(Расчет!A1097>=2000,Расчет!B1097>=2000),Расчет!J1097,0)","v":0},{"$f":"IF(AND(Расчет!A1097<2000,Расчет!B1097<2000),Расчет!J1097,0)","v":0},null,null,{"$f":"IF(OR(Расчет!A1097>=2000,Расчет!B1097>=2000),Расчет!M1097,0)","v":0},{"$f":"IF(AND(Расчет!A1097<2000,Расчет!B1097<2000),Расчет!M1097,0)","v":0}]
[{"$f":"IF(OR(Расчет!A1098>=2000,Расчет!B1098>=2000),Расчет!G1098,0)","v":0},{"$f":"IF(AND(Расчет!A1098<2000,Расчет!B1098<2000),Расчет!G1098,0)","v":0},null,null,{"$f":"IF(OR(Расчет!A1098>=2000,Расчет!B1098>=2000),Расчет!J1098,0)","v":0},{"$f":"IF(AND(Расчет!A1098<2000,Расчет!B1098<2000),Расчет!J1098,0)","v":0},null,null,{"$f":"IF(OR(Расчет!A1098>=2000,Расчет!B1098>=2000),Расчет!M1098,0)","v":0},{"$f":"IF(AND(Расчет!A1098<2000,Расчет!B1098<2000),Расчет!M1098,0)","v":0}]
[{"$f":"IF(OR(Расчет!A1099>=2000,Расчет!B1099>=2000),Расчет!G1099,0)","v":0},{"$f":"IF(AND(Расчет!A1099<2000,Расчет!B1099<2000),Расчет!G1099,0)","v":0},null,null,{"$f":"IF(OR(Расчет!A1099>=2000,Расчет!B1099>=2000),Расчет!J1099,0)","v":0},{"$f":"IF(AND(Расчет!A1099<2000,Расчет!B1099<2000),Расчет!J1099,0)","v":0},null,null,{"$f":"IF(OR(Расчет!A1099>=2000,Расчет!B1099>=2000),Расчет!M1099,0)","v":0},{"$f":"IF(AND(Расчет!A1099<2000,Расчет!B1099<2000),Расчет!M1099,0)","v":0}]
[{"$f":"IF(OR(Расчет!A1100>=2000,Расчет!B1100>=2000),Расчет!G1100,0)","v":0},{"$f":"IF(AND(Расчет!A1100<2000,Расчет!B1100<2000),Расчет!G1100,0)","v":0},null,null,{"$f":"IF(OR(Расчет!A1100>=2000,Расчет!B1100>=2000),Расчет!J1100,0)","v":0},{"$f":"IF(AND(Расчет!A1100<2000,Расчет!B1100<2000),Расчет!J1100,0)","v":0},null,null,{"$f":"IF(OR(Расчет!A1100>=2000,Расчет!B1100>=2000),Расчет!M1100,0)","v":0},{"$f":"IF(AND(Расчет!A1100<2000,Расчет!B1100<2000),Расчет!M1100,0)","v":0}]
[{"$f":"IF(OR(Расчет!A1101>=2000,Расчет!B1101>=2000),Расчет!G1101,0)","v":0},{"$f":"IF(AND(Расчет!A1101<2000,Расчет!B1101<2000),Расчет!G1101,0)","v":0},null,null,{"$f":"IF(OR(Расчет!A1101>=2000,Расчет!B1101>=2000),Расчет!J1101,0)","v":0},{"$f":"IF(AND(Расчет!A1101<2000,Расчет!B1101<2000),Расчет!J1101,0)","v":0},null,null,{"$f":"IF(OR(Расчет!A1101>=2000,Расчет!B1101>=2000),Расчет!M1101,0)","v":0},{"$f":"IF(AND(Расчет!A1101<2000,Расчет!B1101<2000),Расчет!M1101,0)","v":0}]
[{"$f":"IF(OR(Расчет!A1102>=2000,Расчет!B1102>=2000),Расчет!G1102,0)","v":0},{"$f":"IF(AND(Расчет!A1102<2000,Расчет!B1102<2000),Расчет!G1102,0)","v":0},null,null,{"$f":"IF(OR(Расчет!A1102>=2000,Расчет!B1102>=2000),Расчет!J1102,0)","v":0},{"$f":"IF(AND(Расчет!A1102<2000,Расчет!B1102<2000),Расчет!J1102,0)","v":0},null,null,{"$f":"IF(OR(Расчет!A1102>=2000,Расчет!B1102>=2000),Расчет!M1102,0)","v":0},{"$f":"IF(AND(Расчет!A1102<2000,Расчет!B1102<2000),Расчет!M1102,0)","v":0}]
[{"$f":"IF(OR(Расчет!A1103>=2000,Расчет!B1103>=2000),Расчет!G1103,0)","v":0},{"$f":"IF(AND(Расчет!A1103<2000,Расчет!B1103<2000),Расчет!G1103,0)","v":0},null,null,{"$f":"IF(OR(Расчет!A1103>=2000,Расчет!B1103>=2000),Расчет!J1103,0)","v":0},{"$f":"IF(AND(Расчет!A1103<2000,Расчет!B1103<2000),Расчет!J1103,0)","v":0},null,null,{"$f":"IF(OR(Расчет!A1103>=2000,Расчет!B1103>=2000),Расчет!M1103,0)","v":0},{"$f":"IF(AND(Расчет!A1103<2000,Расчет!B1103<2000),Расчет!M1103,0)","v":0}]
[{"$f":"IF(OR(Расчет!A1104>=2000,Расчет!B1104>=2000),Расчет!G1104,0)","v":0},{"$f":"IF(AND(Расчет!A1104<2000,Расчет!B1104<2000),Расчет!G1104,0)","v":0},null,null,{"$f":"IF(OR(Расчет!A1104>=2000,Расчет!B1104>=2000),Расчет!J1104,0)","v":0},{"$f":"IF(AND(Расчет!A1104<2000,Расчет!B1104<2000),Расчет!J1104,0)","v":0},null,null,{"$f":"IF(OR(Расчет!A1104>=2000,Расчет!B1104>=2000),Расчет!M1104,0)","v":0},{"$f":"IF(AND(Расчет!A1104<2000,Расчет!B1104<2000),Расчет!M1104,0)","v":0}]
[{"$f":"IF(OR(Расчет!A1105>=2000,Расчет!B1105>=2000),Расчет!G1105,0)","v":0},{"$f":"IF(AND(Расчет!A1105<2000,Расчет!B1105<2000),Расчет!G1105,0)","v":0},null,null,{"$f":"IF(OR(Расчет!A1105>=2000,Расчет!B1105>=2000),Расчет!J1105,0)","v":0},{"$f":"IF(AND(Расчет!A1105<2000,Расчет!B1105<2000),Расчет!J1105,0)","v":0},null,null,{"$f":"IF(OR(Расчет!A1105>=2000,Расчет!B1105>=2000),Расчет!M1105,0)","v":0},{"$f":"IF(AND(Расчет!A1105<2000,Расчет!B1105<2000),Расчет!M1105,0)","v":0}]
[{"$f":"IF(OR(Расчет!A1106>=2000,Расчет!B1106>=2000),Расчет!G1106,0)","v":0},{"$f":"IF(AND(Расчет!A1106<2000,Расчет!B1106<2000),Расчет!G1106,0)","v":0},null,null,{"$f":"IF(OR(Расчет!A1106>=2000,Расчет!B1106>=2000),Расчет!J1106,0)","v":0},{"$f":"IF(AND(Расчет!A1106<2000,Расчет!B1106<2000),Расчет!J1106,0)","v":0},null,null,{"$f":"IF(OR(Расчет!A1106>=2000,Расчет!B1106>=2000),Расчет!M1106,0)","v":0},{"$f":"IF(AND(Расчет!A1106<2000,Расчет!B1106<2000),Расчет!M1106,0)","v":0}]
[{"$f":"IF(OR(Расчет!A1107>=2000,Расчет!B1107>=2000),Расчет!G1107,0)","v":0},{"$f":"IF(AND(Расчет!A1107<2000,Расчет!B1107<2000),Расчет!G1107,0)","v":0},null,null,{"$f":"IF(OR(Расчет!A1107>=2000,Расчет!B1107>=2000),Расчет!J1107,0)","v":0},{"$f":"IF(AND(Расчет!A1107<2000,Расчет!B1107<2000),Расчет!J1107,0)","v":0},null,null,{"$f":"IF(OR(Расчет!A1107>=2000,Расчет!B1107>=2000),Расчет!M1107,0)","v":0},{"$f":"IF(AND(Расчет!A1107<2000,Расчет!B1107<2000),Расчет!M1107,0)","v":0}]
[{"$f":"IF(OR(Расчет!A1108>=2000,Расчет!B1108>=2000),Расчет!G1108,0)","v":0},{"$f":"IF(AND(Расчет!A1108<2000,Расчет!B1108<2000),Расчет!G1108,0)","v":0},null,null,{"$f":"IF(OR(Расчет!A1108>=2000,Расчет!B1108>=2000),Расчет!J1108,0)","v":0},{"$f":"IF(AND(Расчет!A1108<2000,Расчет!B1108<2000),Расчет!J1108,0)","v":0},null,null,{"$f":"IF(OR(Расчет!A1108>=2000,Расчет!B1108>=2000),Расчет!M1108,0)","v":0},{"$f":"IF(AND(Расчет!A1108<2000,Расчет!B1108<2000),Расчет!M1108,0)","v":0}]
[{"$f":"IF(OR(Расчет!A1109>=2000,Расчет!B1109>=2000),Расчет!G1109,0)","v":0},{"$f":"IF(AND(Расчет!A1109<2000,Расчет!B1109<2000),Расчет!G1109,0)","v":0},null,null,{"$f":"IF(OR(Расчет!A1109>=2000,Расчет!B1109>=2000),Расчет!J1109,0)","v":0},{"$f":"IF(AND(Расчет!A1109<2000,Расчет!B1109<2000),Расчет!J1109,0)","v":0},null,null,{"$f":"IF(OR(Расчет!A1109>=2000,Расчет!B1109>=2000),Расчет!M1109,0)","v":0},{"$f":"IF(AND(Расчет!A1109<2000,Расчет!B1109<2000),Расчет!M1109,0)","v":0}]
[{"$f":"IF(OR(Расчет!A1110>=2000,Расчет!B1110>=2000),Расчет!G1110,0)","v":0},{"$f":"IF(AND(Расчет!A1110<2000,Расчет!B1110<2000),Расчет!G1110,0)","v":0},null,null,{"$f":"IF(OR(Расчет!A1110>=2000,Расчет!B1110>=2000),Расчет!J1110,0)","v":0},{"$f":"IF(AND(Расчет!A1110<2000,Расчет!B1110<2000),Расчет!J1110,0)","v":0},null,null,{"$f":"IF(OR(Расчет!A1110>=2000,Расчет!B1110>=2000),Расчет!M1110,0)","v":0},{"$f":"IF(AND(Расчет!A1110<2000,Расчет!B1110<2000),Расчет!M1110,0)","v":0}]
[{"$f":"IF(OR(Расчет!A1111>=2000,Расчет!B1111>=2000),Расчет!G1111,0)","v":0},{"$f":"IF(AND(Расчет!A1111<2000,Расчет!B1111<2000),Расчет!G1111,0)","v":0},null,null,{"$f":"IF(OR(Расчет!A1111>=2000,Расчет!B1111>=2000),Расчет!J1111,0)","v":0},{"$f":"IF(AND(Расчет!A1111<2000,Расчет!B1111<2000),Расчет!J1111,0)","v":0},null,null,{"$f":"IF(OR(Расчет!A1111>=2000,Расчет!B1111>=2000),Расчет!M1111,0)","v":0},{"$f":"IF(AND(Расчет!A1111<2000,Расчет!B1111<2000),Расчет!M1111,0)","v":0}]
[{"$f":"IF(OR(Расчет!A1112>=2000,Расчет!B1112>=2000),Расчет!G1112,0)","v":0},{"$f":"IF(AND(Расчет!A1112<2000,Расчет!B1112<2000),Расчет!G1112,0)","v":0},null,null,{"$f":"IF(OR(Расчет!A1112>=2000,Расчет!B1112>=2000),Расчет!J1112,0)","v":0},{"$f":"IF(AND(Расчет!A1112<2000,Расчет!B1112<2000),Расчет!J1112,0)","v":0},null,null,{"$f":"IF(OR(Расчет!A1112>=2000,Расчет!B1112>=2000),Расчет!M1112,0)","v":0},{"$f":"IF(AND(Расчет!A1112<2000,Расчет!B1112<2000),Расчет!M1112,0)","v":0}]
[{"$f":"IF(OR(Расчет!A1113>=2000,Расчет!B1113>=2000),Расчет!G1113,0)","v":0},{"$f":"IF(AND(Расчет!A1113<2000,Расчет!B1113<2000),Расчет!G1113,0)","v":0},null,null,{"$f":"IF(OR(Расчет!A1113>=2000,Расчет!B1113>=2000),Расчет!J1113,0)","v":0},{"$f":"IF(AND(Расчет!A1113<2000,Расчет!B1113<2000),Расчет!J1113,0)","v":0},null,null,{"$f":"IF(OR(Расчет!A1113>=2000,Расчет!B1113>=2000),Расчет!M1113,0)","v":0},{"$f":"IF(AND(Расчет!A1113<2000,Расчет!B1113<2000),Расчет!M1113,0)","v":0}]
[{"$f":"IF(OR(Расчет!A1114>=2000,Расчет!B1114>=2000),Расчет!G1114,0)","v":0},{"$f":"IF(AND(Расчет!A1114<2000,Расчет!B1114<2000),Расчет!G1114,0)","v":0},null,null,{"$f":"IF(OR(Расчет!A1114>=2000,Расчет!B1114>=2000),Расчет!J1114,0)","v":0},{"$f":"IF(AND(Расчет!A1114<2000,Расчет!B1114<2000),Расчет!J1114,0)","v":0},null,null,{"$f":"IF(OR(Расчет!A1114>=2000,Расчет!B1114>=2000),Расчет!M1114,0)","v":0},{"$f":"IF(AND(Расчет!A1114<2000,Расчет!B1114<2000),Расчет!M1114,0)","v":0}]
[{"$f":"IF(OR(Расчет!A1115>=2000,Расчет!B1115>=2000),Расчет!G1115,0)","v":0},{"$f":"IF(AND(Расчет!A1115<2000,Расчет!B1115<2000),Расчет!G1115,0)","v":0},null,null,{"$f":"IF(OR(Расчет!A1115>=2000,Расчет!B1115>=2000),Расчет!J1115,0)","v":0},{"$f":"IF(AND(Расчет!A1115<2000,Расчет!B1115<2000),Расчет!J1115,0)","v":0},null,null,{"$f":"IF(OR(Расчет!A1115>=2000,Расчет!B1115>=2000),Расчет!M1115,0)","v":0},{"$f":"IF(AND(Расчет!A1115<2000,Расчет!B1115<2000),Расчет!M1115,0)","v":0}]
[{"$f":"IF(OR(Расчет!A1116>=2000,Расчет!B1116>=2000),Расчет!G1116,0)","v":0},{"$f":"IF(AND(Расчет!A1116<2000,Расчет!B1116<2000),Расчет!G1116,0)","v":0},null,null,{"$f":"IF(OR(Расчет!A1116>=2000,Расчет!B1116>=2000),Расчет!J1116,0)","v":0},{"$f":"IF(AND(Расчет!A1116<2000,Расчет!B1116<2000),Расчет!J1116,0)","v":0},null,null,{"$f":"IF(OR(Расчет!A1116>=2000,Расчет!B1116>=2000),Расчет!M1116,0)","v":0},{"$f":"IF(AND(Расчет!A1116<2000,Расчет!B1116<2000),Расчет!M1116,0)","v":0}]
[{"$f":"IF(OR(Расчет!A1117>=2000,Расчет!B1117>=2000),Расчет!G1117,0)","v":0},{"$f":"IF(AND(Расчет!A1117<2000,Расчет!B1117<2000),Расчет!G1117,0)","v":0},null,null,{"$f":"IF(OR(Расчет!A1117>=2000,Расчет!B1117>=2000),Расчет!J1117,0)","v":0},{"$f":"IF(AND(Расчет!A1117<2000,Расчет!B1117<2000),Расчет!J1117,0)","v":0},null,null,{"$f":"IF(OR(Расчет!A1117>=2000,Расчет!B1117>=2000),Расчет!M1117,0)","v":0},{"$f":"IF(AND(Расчет!A1117<2000,Расчет!B1117<2000),Расчет!M1117,0)","v":0}]
[{"$f":"IF(OR(Расчет!A1118>=2000,Расчет!B1118>=2000),Расчет!G1118,0)","v":0},{"$f":"IF(AND(Расчет!A1118<2000,Расчет!B1118<2000),Расчет!G1118,0)","v":0},null,null,{"$f":"IF(OR(Расчет!A1118>=2000,Расчет!B1118>=2000),Расчет!J1118,0)","v":0},{"$f":"IF(AND(Расчет!A1118<2000,Расчет!B1118<2000),Расчет!J1118,0)","v":0},null,null,{"$f":"IF(OR(Расчет!A1118>=2000,Расчет!B1118>=2000),Расчет!M1118,0)","v":0},{"$f":"IF(AND(Расчет!A1118<2000,Расчет!B1118<2000),Расчет!M1118,0)","v":0}]
[{"$f":"IF(OR(Расчет!A1119>=2000,Расчет!B1119>=2000),Расчет!G1119,0)","v":0},{"$f":"IF(AND(Расчет!A1119<2000,Расчет!B1119<2000),Расчет!G1119,0)","v":0},null,null,{"$f":"IF(OR(Расчет!A1119>=2000,Расчет!B1119>=2000),Расчет!J1119,0)","v":0},{"$f":"IF(AND(Расчет!A1119<2000,Расчет!B1119<2000),Расчет!J1119,0)","v":0},null,null,{"$f":"IF(OR(Расчет!A1119>=2000,Расчет!B1119>=2000),Расчет!M1119,0)","v":0},{"$f":"IF(AND(Расчет!A1119<2000,Расчет!B1119<2000),Расчет!M1119,0)","v":0}]
[{"$f":"IF(OR(Расчет!A1120>=2000,Расчет!B1120>=2000),Расчет!G1120,0)","v":0},{"$f":"IF(AND(Расчет!A1120<2000,Расчет!B1120<2000),Расчет!G1120,0)","v":0},null,null,{"$f":"IF(OR(Расчет!A1120>=2000,Расчет!B1120>=2000),Расчет!J1120,0)","v":0},{"$f":"IF(AND(Расчет!A1120<2000,Расчет!B1120<2000),Расчет!J1120,0)","v":0},null,null,{"$f":"IF(OR(Расчет!A1120>=2000,Расчет!B1120>=2000),Расчет!M1120,0)","v":0},{"$f":"IF(AND(Расчет!A1120<2000,Расчет!B1120<2000),Расчет!M1120,0)","v":0}]
[{"$f":"IF(OR(Расчет!A1121>=2000,Расчет!B1121>=2000),Расчет!G1121,0)","v":0},{"$f":"IF(AND(Расчет!A1121<2000,Расчет!B1121<2000),Расчет!G1121,0)","v":0},null,null,{"$f":"IF(OR(Расчет!A1121>=2000,Расчет!B1121>=2000),Расчет!J1121,0)","v":0},{"$f":"IF(AND(Расчет!A1121<2000,Расчет!B1121<2000),Расчет!J1121,0)","v":0},null,null,{"$f":"IF(OR(Расчет!A1121>=2000,Расчет!B1121>=2000),Расчет!M1121,0)","v":0},{"$f":"IF(AND(Расчет!A1121<2000,Расчет!B1121<2000),Расчет!M1121,0)","v":0}]
[{"$f":"IF(OR(Расчет!A1122>=2000,Расчет!B1122>=2000),Расчет!G1122,0)","v":0},{"$f":"IF(AND(Расчет!A1122<2000,Расчет!B1122<2000),Расчет!G1122,0)","v":0},null,null,{"$f":"IF(OR(Расчет!A1122>=2000,Расчет!B1122>=2000),Расчет!J1122,0)","v":0},{"$f":"IF(AND(Расчет!A1122<2000,Расчет!B1122<2000),Расчет!J1122,0)","v":0},null,null,{"$f":"IF(OR(Расчет!A1122>=2000,Расчет!B1122>=2000),Расчет!M1122,0)","v":0},{"$f":"IF(AND(Расчет!A1122<2000,Расчет!B1122<2000),Расчет!M1122,0)","v":0}]
[{"$f":"IF(OR(Расчет!A1123>=2000,Расчет!B1123>=2000),Расчет!G1123,0)","v":0},{"$f":"IF(AND(Расчет!A1123<2000,Расчет!B1123<2000),Расчет!G1123,0)","v":0},null,null,{"$f":"IF(OR(Расчет!A1123>=2000,Расчет!B1123>=2000),Расчет!J1123,0)","v":0},{"$f":"IF(AND(Расчет!A1123<2000,Расчет!B1123<2000),Расчет!J1123,0)","v":0},null,null,{"$f":"IF(OR(Расчет!A1123>=2000,Расчет!B1123>=2000),Расчет!M1123,0)","v":0},{"$f":"IF(AND(Расчет!A1123<2000,Расчет!B1123<2000),Расчет!M1123,0)","v":0}]
[{"$f":"IF(OR(Расчет!A1124>=2000,Расчет!B1124>=2000),Расчет!G1124,0)","v":0},{"$f":"IF(AND(Расчет!A1124<2000,Расчет!B1124<2000),Расчет!G1124,0)","v":0},null,null,{"$f":"IF(OR(Расчет!A1124>=2000,Расчет!B1124>=2000),Расчет!J1124,0)","v":0},{"$f":"IF(AND(Расчет!A1124<2000,Расчет!B1124<2000),Расчет!J1124,0)","v":0},null,null,{"$f":"IF(OR(Расчет!A1124>=2000,Расчет!B1124>=2000),Расчет!M1124,0)","v":0},{"$f":"IF(AND(Расчет!A1124<2000,Расчет!B1124<2000),Расчет!M1124,0)","v":0}]
[{"$f":"IF(OR(Расчет!A1125>=2000,Расчет!B1125>=2000),Расчет!G1125,0)","v":0},{"$f":"IF(AND(Расчет!A1125<2000,Расчет!B1125<2000),Расчет!G1125,0)","v":0},null,null,{"$f":"IF(OR(Расчет!A1125>=2000,Расчет!B1125>=2000),Расчет!J1125,0)","v":0},{"$f":"IF(AND(Расчет!A1125<2000,Расчет!B1125<2000),Расчет!J1125,0)","v":0},null,null,{"$f":"IF(OR(Расчет!A1125>=2000,Расчет!B1125>=2000),Расчет!M1125,0)","v":0},{"$f":"IF(AND(Расчет!A1125<2000,Расчет!B1125<2000),Расчет!M1125,0)","v":0}]
[{"$f":"IF(OR(Расчет!A1126>=2000,Расчет!B1126>=2000),Расчет!G1126,0)","v":0},{"$f":"IF(AND(Расчет!A1126<2000,Расчет!B1126<2000),Расчет!G1126,0)","v":0},null,null,{"$f":"IF(OR(Расчет!A1126>=2000,Расчет!B1126>=2000),Расчет!J1126,0)","v":0},{"$f":"IF(AND(Расчет!A1126<2000,Расчет!B1126<2000),Расчет!J1126,0)","v":0},null,null,{"$f":"IF(OR(Расчет!A1126>=2000,Расчет!B1126>=2000),Расчет!M1126,0)","v":0},{"$f":"IF(AND(Расчет!A1126<2000,Расчет!B1126<2000),Расчет!M1126,0)","v":0}]
[{"$f":"IF(OR(Расчет!A1127>=2000,Расчет!B1127>=2000),Расчет!G1127,0)","v":0},{"$f":"IF(AND(Расчет!A1127<2000,Расчет!B1127<2000),Расчет!G1127,0)","v":0},null,null,{"$f":"IF(OR(Расчет!A1127>=2000,Расчет!B1127>=2000),Расчет!J1127,0)","v":0},{"$f":"IF(AND(Расчет!A1127<2000,Расчет!B1127<2000),Расчет!J1127,0)","v":0},null,null,{"$f":"IF(OR(Расчет!A1127>=2000,Расчет!B1127>=2000),Расчет!M1127,0)","v":0},{"$f":"IF(AND(Расчет!A1127<2000,Расчет!B1127<2000),Расчет!M1127,0)","v":0}]
[{"$f":"IF(OR(Расчет!A1128>=2000,Расчет!B1128>=2000),Расчет!G1128,0)","v":0},{"$f":"IF(AND(Расчет!A1128<2000,Расчет!B1128<2000),Расчет!G1128,0)","v":0},null,null,{"$f":"IF(OR(Расчет!A1128>=2000,Расчет!B1128>=2000),Расчет!J1128,0)","v":0},{"$f":"IF(AND(Расчет!A1128<2000,Расчет!B1128<2000),Расчет!J1128,0)","v":0},null,null,{"$f":"IF(OR(Расчет!A1128>=2000,Расчет!B1128>=2000),Расчет!M1128,0)","v":0},{"$f":"IF(AND(Расчет!A1128<2000,Расчет!B1128<2000),Расчет!M1128,0)","v":0}]
[{"$f":"IF(OR(Расчет!A1129>=2000,Расчет!B1129>=2000),Расчет!G1129,0)","v":0},{"$f":"IF(AND(Расчет!A1129<2000,Расчет!B1129<2000),Расчет!G1129,0)","v":0},null,null,{"$f":"IF(OR(Расчет!A1129>=2000,Расчет!B1129>=2000),Расчет!J1129,0)","v":0},{"$f":"IF(AND(Расчет!A1129<2000,Расчет!B1129<2000),Расчет!J1129,0)","v":0},null,null,{"$f":"IF(OR(Расчет!A1129>=2000,Расчет!B1129>=2000),Расчет!M1129,0)","v":0},{"$f":"IF(AND(Расчет!A1129<2000,Расчет!B1129<2000),Расчет!M1129,0)","v":0}]
[{"$f":"IF(OR(Расчет!A1130>=2000,Расчет!B1130>=2000),Расчет!G1130,0)","v":0},{"$f":"IF(AND(Расчет!A1130<2000,Расчет!B1130<2000),Расчет!G1130,0)","v":0},null,null,{"$f":"IF(OR(Расчет!A1130>=2000,Расчет!B1130>=2000),Расчет!J1130,0)","v":0},{"$f":"IF(AND(Расчет!A1130<2000,Расчет!B1130<2000),Расчет!J1130,0)","v":0},null,null,{"$f":"IF(OR(Расчет!A1130>=2000,Расчет!B1130>=2000),Расчет!M1130,0)","v":0},{"$f":"IF(AND(Расчет!A1130<2000,Расчет!B1130<2000),Расчет!M1130,0)","v":0}]
[{"$f":"IF(OR(Расчет!A1131>=2000,Расчет!B1131>=2000),Расчет!G1131,0)","v":0},{"$f":"IF(AND(Расчет!A1131<2000,Расчет!B1131<2000),Расчет!G1131,0)","v":0},null,null,{"$f":"IF(OR(Расчет!A1131>=2000,Расчет!B1131>=2000),Расчет!J1131,0)","v":0},{"$f":"IF(AND(Расчет!A1131<2000,Расчет!B1131<2000),Расчет!J1131,0)","v":0},null,null,{"$f":"IF(OR(Расчет!A1131>=2000,Расчет!B1131>=2000),Расчет!M1131,0)","v":0},{"$f":"IF(AND(Расчет!A1131<2000,Расчет!B1131<2000),Расчет!M1131,0)","v":0}]
[{"$f":"IF(OR(Расчет!A1132>=2000,Расчет!B1132>=2000),Расчет!G1132,0)","v":0},{"$f":"IF(AND(Расчет!A1132<2000,Расчет!B1132<2000),Расчет!G1132,0)","v":0},null,null,{"$f":"IF(OR(Расчет!A1132>=2000,Расчет!B1132>=2000),Расчет!J1132,0)","v":0},{"$f":"IF(AND(Расчет!A1132<2000,Расчет!B1132<2000),Расчет!J1132,0)","v":0},null,null,{"$f":"IF(OR(Расчет!A1132>=2000,Расчет!B1132>=2000),Расчет!M1132,0)","v":0},{"$f":"IF(AND(Расчет!A1132<2000,Расчет!B1132<2000),Расчет!M1132,0)","v":0}]
[{"$f":"IF(OR(Расчет!A1133>=2000,Расчет!B1133>=2000),Расчет!G1133,0)","v":0},{"$f":"IF(AND(Расчет!A1133<2000,Расчет!B1133<2000),Расчет!G1133,0)","v":0},null,null,{"$f":"IF(OR(Расчет!A1133>=2000,Расчет!B1133>=2000),Расчет!J1133,0)","v":0},{"$f":"IF(AND(Расчет!A1133<2000,Расчет!B1133<2000),Расчет!J1133,0)","v":0},null,null,{"$f":"IF(OR(Расчет!A1133>=2000,Расчет!B1133>=2000),Расчет!M1133,0)","v":0},{"$f":"IF(AND(Расчет!A1133<2000,Расчет!B1133<2000),Расчет!M1133,0)","v":0}]
[{"$f":"IF(OR(Расчет!A1134>=2000,Расчет!B1134>=2000),Расчет!G1134,0)","v":0},{"$f":"IF(AND(Расчет!A1134<2000,Расчет!B1134<2000),Расчет!G1134,0)","v":0},null,null,{"$f":"IF(OR(Расчет!A1134>=2000,Расчет!B1134>=2000),Расчет!J1134,0)","v":0},{"$f":"IF(AND(Расчет!A1134<2000,Расчет!B1134<2000),Расчет!J1134,0)","v":0},null,null,{"$f":"IF(OR(Расчет!A1134>=2000,Расчет!B1134>=2000),Расчет!M1134,0)","v":0},{"$f":"IF(AND(Расчет!A1134<2000,Расчет!B1134<2000),Расчет!M1134,0)","v":0}]
[{"$f":"IF(OR(Расчет!A1135>=2000,Расчет!B1135>=2000),Расчет!G1135,0)","v":0},{"$f":"IF(AND(Расчет!A1135<2000,Расчет!B1135<2000),Расчет!G1135,0)","v":0},null,null,{"$f":"IF(OR(Расчет!A1135>=2000,Расчет!B1135>=2000),Расчет!J1135,0)","v":0},{"$f":"IF(AND(Расчет!A1135<2000,Расчет!B1135<2000),Расчет!J1135,0)","v":0},null,null,{"$f":"IF(OR(Расчет!A1135>=2000,Расчет!B1135>=2000),Расчет!M1135,0)","v":0},{"$f":"IF(AND(Расчет!A1135<2000,Расчет!B1135<2000),Расчет!M1135,0)","v":0}]
[{"$f":"IF(OR(Расчет!A1136>=2000,Расчет!B1136>=2000),Расчет!G1136,0)","v":0},{"$f":"IF(AND(Расчет!A1136<2000,Расчет!B1136<2000),Расчет!G1136,0)","v":0},null,null,{"$f":"IF(OR(Расчет!A1136>=2000,Расчет!B1136>=2000),Расчет!J1136,0)","v":0},{"$f":"IF(AND(Расчет!A1136<2000,Расчет!B1136<2000),Расчет!J1136,0)","v":0},null,null,{"$f":"IF(OR(Расчет!A1136>=2000,Расчет!B1136>=2000),Расчет!M1136,0)","v":0},{"$f":"IF(AND(Расчет!A1136<2000,Расчет!B1136<2000),Расчет!M1136,0)","v":0}]
[{"$f":"IF(OR(Расчет!A1137>=2000,Расчет!B1137>=2000),Расчет!G1137,0)","v":0},{"$f":"IF(AND(Расчет!A1137<2000,Расчет!B1137<2000),Расчет!G1137,0)","v":0},null,null,{"$f":"IF(OR(Расчет!A1137>=2000,Расчет!B1137>=2000),Расчет!J1137,0)","v":0},{"$f":"IF(AND(Расчет!A1137<2000,Расчет!B1137<2000),Расчет!J1137,0)","v":0},null,null,{"$f":"IF(OR(Расчет!A1137>=2000,Расчет!B1137>=2000),Расчет!M1137,0)","v":0},{"$f":"IF(AND(Расчет!A1137<2000,Расчет!B1137<2000),Расчет!M1137,0)","v":0}]
[{"$f":"IF(OR(Расчет!A1138>=2000,Расчет!B1138>=2000),Расчет!G1138,0)","v":0},{"$f":"IF(AND(Расчет!A1138<2000,Расчет!B1138<2000),Расчет!G1138,0)","v":0},null,null,{"$f":"IF(OR(Расчет!A1138>=2000,Расчет!B1138>=2000),Расчет!J1138,0)","v":0},{"$f":"IF(AND(Расчет!A1138<2000,Расчет!B1138<2000),Расчет!J1138,0)","v":0},null,null,{"$f":"IF(OR(Расчет!A1138>=2000,Расчет!B1138>=2000),Расчет!M1138,0)","v":0},{"$f":"IF(AND(Расчет!A1138<2000,Расчет!B1138<2000),Расчет!M1138,0)","v":0}]
[{"$f":"IF(OR(Расчет!A1139>=2000,Расчет!B1139>=2000),Расчет!G1139,0)","v":0},{"$f":"IF(AND(Расчет!A1139<2000,Расчет!B1139<2000),Расчет!G1139,0)","v":0},null,null,{"$f":"IF(OR(Расчет!A1139>=2000,Расчет!B1139>=2000),Расчет!J1139,0)","v":0},{"$f":"IF(AND(Расчет!A1139<2000,Расчет!B1139<2000),Расчет!J1139,0)","v":0},null,null,{"$f":"IF(OR(Расчет!A1139>=2000,Расчет!B1139>=2000),Расчет!M1139,0)","v":0},{"$f":"IF(AND(Расчет!A1139<2000,Расчет!B1139<2000),Расчет!M1139,0)","v":0}]
[{"$f":"IF(OR(Расчет!A1140>=2000,Расчет!B1140>=2000),Расчет!G1140,0)","v":0},{"$f":"IF(AND(Расчет!A1140<2000,Расчет!B1140<2000),Расчет!G1140,0)","v":0},null,null,{"$f":"IF(OR(Расчет!A1140>=2000,Расчет!B1140>=2000),Расчет!J1140,0)","v":0},{"$f":"IF(AND(Расчет!A1140<2000,Расчет!B1140<2000),Расчет!J1140,0)","v":0},null,null,{"$f":"IF(OR(Расчет!A1140>=2000,Расчет!B1140>=2000),Расчет!M1140,0)","v":0},{"$f":"IF(AND(Расчет!A1140<2000,Расчет!B1140<2000),Расчет!M1140,0)","v":0}]
[{"$f":"IF(OR(Расчет!A1141>=2000,Расчет!B1141>=2000),Расчет!G1141,0)","v":0},{"$f":"IF(AND(Расчет!A1141<2000,Расчет!B1141<2000),Расчет!G1141,0)","v":0},null,null,{"$f":"IF(OR(Расчет!A1141>=2000,Расчет!B1141>=2000),Расчет!J1141,0)","v":0},{"$f":"IF(AND(Расчет!A1141<2000,Расчет!B1141<2000),Расчет!J1141,0)","v":0},null,null,{"$f":"IF(OR(Расчет!A1141>=2000,Расчет!B1141>=2000),Расчет!M1141,0)","v":0},{"$f":"IF(AND(Расчет!A1141<2000,Расчет!B1141<2000),Расчет!M1141,0)","v":0}]
[{"$f":"IF(OR(Расчет!A1142>=2000,Расчет!B1142>=2000),Расчет!G1142,0)","v":0},{"$f":"IF(AND(Расчет!A1142<2000,Расчет!B1142<2000),Расчет!G1142,0)","v":0},null,null,{"$f":"IF(OR(Расчет!A1142>=2000,Расчет!B1142>=2000),Расчет!J1142,0)","v":0},{"$f":"IF(AND(Расчет!A1142<2000,Расчет!B1142<2000),Расчет!J1142,0)","v":0},null,null,{"$f":"IF(OR(Расчет!A1142>=2000,Расчет!B1142>=2000),Расчет!M1142,0)","v":0},{"$f":"IF(AND(Расчет!A1142<2000,Расчет!B1142<2000),Расчет!M1142,0)","v":0}]
[{"$f":"IF(OR(Расчет!A1143>=2000,Расчет!B1143>=2000),Расчет!G1143,0)","v":0},{"$f":"IF(AND(Расчет!A1143<2000,Расчет!B1143<2000),Расчет!G1143,0)","v":0},null,null,{"$f":"IF(OR(Расчет!A1143>=2000,Расчет!B1143>=2000),Расчет!J1143,0)","v":0},{"$f":"IF(AND(Расчет!A1143<2000,Расчет!B1143<2000),Расчет!J1143,0)","v":0},null,null,{"$f":"IF(OR(Расчет!A1143>=2000,Расчет!B1143>=2000),Расчет!M1143,0)","v":0},{"$f":"IF(AND(Расчет!A1143<2000,Расчет!B1143<2000),Расчет!M1143,0)","v":0}]
[{"$f":"IF(OR(Расчет!A1144>=2000,Расчет!B1144>=2000),Расчет!G1144,0)","v":0},{"$f":"IF(AND(Расчет!A1144<2000,Расчет!B1144<2000),Расчет!G1144,0)","v":0},null,null,{"$f":"IF(OR(Расчет!A1144>=2000,Расчет!B1144>=2000),Расчет!J1144,0)","v":0},{"$f":"IF(AND(Расчет!A1144<2000,Расчет!B1144<2000),Расчет!J1144,0)","v":0},null,null,{"$f":"IF(OR(Расчет!A1144>=2000,Расчет!B1144>=2000),Расчет!M1144,0)","v":0},{"$f":"IF(AND(Расчет!A1144<2000,Расчет!B1144<2000),Расчет!M1144,0)","v":0}]
[{"$f":"IF(OR(Расчет!A1145>=2000,Расчет!B1145>=2000),Расчет!G1145,0)","v":0},{"$f":"IF(AND(Расчет!A1145<2000,Расчет!B1145<2000),Расчет!G1145,0)","v":0},null,null,{"$f":"IF(OR(Расчет!A1145>=2000,Расчет!B1145>=2000),Расчет!J1145,0)","v":0},{"$f":"IF(AND(Расчет!A1145<2000,Расчет!B1145<2000),Расчет!J1145,0)","v":0},null,null,{"$f":"IF(OR(Расчет!A1145>=2000,Расчет!B1145>=2000),Расчет!M1145,0)","v":0},{"$f":"IF(AND(Расчет!A1145<2000,Расчет!B1145<2000),Расчет!M1145,0)","v":0}]
[{"$f":"IF(OR(Расчет!A1146>=2000,Расчет!B1146>=2000),Расчет!G1146,0)","v":0},{"$f":"IF(AND(Расчет!A1146<2000,Расчет!B1146<2000),Расчет!G1146,0)","v":0},null,null,{"$f":"IF(OR(Расчет!A1146>=2000,Расчет!B1146>=2000),Расчет!J1146,0)","v":0},{"$f":"IF(AND(Расчет!A1146<2000,Расчет!B1146<2000),Расчет!J1146,0)","v":0},null,null,{"$f":"IF(OR(Расчет!A1146>=2000,Расчет!B1146>=2000),Расчет!M1146,0)","v":0},{"$f":"IF(AND(Расчет!A1146<2000,Расчет!B1146<2000),Расчет!M1146,0)","v":0}]
[{"$f":"IF(OR(Расчет!A1147>=2000,Расчет!B1147>=2000),Расчет!G1147,0)","v":0},{"$f":"IF(AND(Расчет!A1147<2000,Расчет!B1147<2000),Расчет!G1147,0)","v":0},null,null,{"$f":"IF(OR(Расчет!A1147>=2000,Расчет!B1147>=2000),Расчет!J1147,0)","v":0},{"$f":"IF(AND(Расчет!A1147<2000,Расчет!B1147<2000),Расчет!J1147,0)","v":0},null,null,{"$f":"IF(OR(Расчет!A1147>=2000,Расчет!B1147>=2000),Расчет!M1147,0)","v":0},{"$f":"IF(AND(Расчет!A1147<2000,Расчет!B1147<2000),Расчет!M1147,0)","v":0}]
[{"$f":"IF(OR(Расчет!A1148>=2000,Расчет!B1148>=2000),Расчет!G1148,0)","v":0},{"$f":"IF(AND(Расчет!A1148<2000,Расчет!B1148<2000),Расчет!G1148,0)","v":0},null,null,{"$f":"IF(OR(Расчет!A1148>=2000,Расчет!B1148>=2000),Расчет!J1148,0)","v":0},{"$f":"IF(AND(Расчет!A1148<2000,Расчет!B1148<2000),Расчет!J1148,0)","v":0},null,null,{"$f":"IF(OR(Расчет!A1148>=2000,Расчет!B1148>=2000),Расчет!M1148,0)","v":0},{"$f":"IF(AND(Расчет!A1148<2000,Расчет!B1148<2000),Расчет!M1148,0)","v":0}]
[{"$f":"IF(OR(Расчет!A1149>=2000,Расчет!B1149>=2000),Расчет!G1149,0)","v":0},{"$f":"IF(AND(Расчет!A1149<2000,Расчет!B1149<2000),Расчет!G1149,0)","v":0},null,null,{"$f":"IF(OR(Расчет!A1149>=2000,Расчет!B1149>=2000),Расчет!J1149,0)","v":0},{"$f":"IF(AND(Расчет!A1149<2000,Расчет!B1149<2000),Расчет!J1149,0)","v":0},null,null,{"$f":"IF(OR(Расчет!A1149>=2000,Расчет!B1149>=2000),Расчет!M1149,0)","v":0},{"$f":"IF(AND(Расчет!A1149<2000,Расчет!B1149<2000),Расчет!M1149,0)","v":0}]
[{"$f":"IF(OR(Расчет!A1150>=2000,Расчет!B1150>=2000),Расчет!G1150,0)","v":0},{"$f":"IF(AND(Расчет!A1150<2000,Расчет!B1150<2000),Расчет!G1150,0)","v":0},null,null,{"$f":"IF(OR(Расчет!A1150>=2000,Расчет!B1150>=2000),Расчет!J1150,0)","v":0},{"$f":"IF(AND(Расчет!A1150<2000,Расчет!B1150<2000),Расчет!J1150,0)","v":0},null,null,{"$f":"IF(OR(Расчет!A1150>=2000,Расчет!B1150>=2000),Расчет!M1150,0)","v":0},{"$f":"IF(AND(Расчет!A1150<2000,Расчет!B1150<2000),Расчет!M1150,0)","v":0}]
[{"$f":"IF(OR(Расчет!A1151>=2000,Расчет!B1151>=2000),Расчет!G1151,0)","v":0},{"$f":"IF(AND(Расчет!A1151<2000,Расчет!B1151<2000),Расчет!G1151,0)","v":0},null,null,{"$f":"IF(OR(Расчет!A1151>=2000,Расчет!B1151>=2000),Расчет!J1151,0)","v":0},{"$f":"IF(AND(Расчет!A1151<2000,Расчет!B1151<2000),Расчет!J1151,0)","v":0},null,null,{"$f":"IF(OR(Расчет!A1151>=2000,Расчет!B1151>=2000),Расчет!M1151,0)","v":0},{"$f":"IF(AND(Расчет!A1151<2000,Расчет!B1151<2000),Расчет!M1151,0)","v":0}]
[{"$f":"IF(OR(Расчет!A1152>=2000,Расчет!B1152>=2000),Расчет!G1152,0)","v":0},{"$f":"IF(AND(Расчет!A1152<2000,Расчет!B1152<2000),Расчет!G1152,0)","v":0},null,null,{"$f":"IF(OR(Расчет!A1152>=2000,Расчет!B1152>=2000),Расчет!J1152,0)","v":0},{"$f":"IF(AND(Расчет!A1152<2000,Расчет!B1152<2000),Расчет!J1152,0)","v":0},null,null,{"$f":"IF(OR(Расчет!A1152>=2000,Расчет!B1152>=2000),Расчет!M1152,0)","v":0},{"$f":"IF(AND(Расчет!A1152<2000,Расчет!B1152<2000),Расчет!M1152,0)","v":0}]
[{"$f":"IF(OR(Расчет!A1153>=2000,Расчет!B1153>=2000),Расчет!G1153,0)","v":0},{"$f":"IF(AND(Расчет!A1153<2000,Расчет!B1153<2000),Расчет!G1153,0)","v":0},null,null,{"$f":"IF(OR(Расчет!A1153>=2000,Расчет!B1153>=2000),Расчет!J1153,0)","v":0},{"$f":"IF(AND(Расчет!A1153<2000,Расчет!B1153<2000),Расчет!J1153,0)","v":0},null,null,{"$f":"IF(OR(Расчет!A1153>=2000,Расчет!B1153>=2000),Расчет!M1153,0)","v":0},{"$f":"IF(AND(Расчет!A1153<2000,Расчет!B1153<2000),Расчет!M1153,0)","v":0}]
[{"$f":"IF(OR(Расчет!A1154>=2000,Расчет!B1154>=2000),Расчет!G1154,0)","v":0},{"$f":"IF(AND(Расчет!A1154<2000,Расчет!B1154<2000),Расчет!G1154,0)","v":0},null,null,{"$f":"IF(OR(Расчет!A1154>=2000,Расчет!B1154>=2000),Расчет!J1154,0)","v":0},{"$f":"IF(AND(Расчет!A1154<2000,Расчет!B1154<2000),Расчет!J1154,0)","v":0},null,null,{"$f":"IF(OR(Расчет!A1154>=2000,Расчет!B1154>=2000),Расчет!M1154,0)","v":0},{"$f":"IF(AND(Расчет!A1154<2000,Расчет!B1154<2000),Расчет!M1154,0)","v":0}]
[{"$f":"IF(OR(Расчет!A1155>=2000,Расчет!B1155>=2000),Расчет!G1155,0)","v":0},{"$f":"IF(AND(Расчет!A1155<2000,Расчет!B1155<2000),Расчет!G1155,0)","v":0},null,null,{"$f":"IF(OR(Расчет!A1155>=2000,Расчет!B1155>=2000),Расчет!J1155,0)","v":0},{"$f":"IF(AND(Расчет!A1155<2000,Расчет!B1155<2000),Расчет!J1155,0)","v":0},null,null,{"$f":"IF(OR(Расчет!A1155>=2000,Расчет!B1155>=2000),Расчет!M1155,0)","v":0},{"$f":"IF(AND(Расчет!A1155<2000,Расчет!B1155<2000),Расчет!M1155,0)","v":0}]
[{"$f":"IF(OR(Расчет!A1156>=2000,Расчет!B1156>=2000),Расчет!G1156,0)","v":0},{"$f":"IF(AND(Расчет!A1156<2000,Расчет!B1156<2000),Расчет!G1156,0)","v":0},null,null,{"$f":"IF(OR(Расчет!A1156>=2000,Расчет!B1156>=2000),Расчет!J1156,0)","v":0},{"$f":"IF(AND(Расчет!A1156<2000,Расчет!B1156<2000),Расчет!J1156,0)","v":0},null,null,{"$f":"IF(OR(Расчет!A1156>=2000,Расчет!B1156>=2000),Расчет!M1156,0)","v":0},{"$f":"IF(AND(Расчет!A1156<2000,Расчет!B1156<2000),Расчет!M1156,0)","v":0}]
[{"$f":"IF(OR(Расчет!A1157>=2000,Расчет!B1157>=2000),Расчет!G1157,0)","v":0},{"$f":"IF(AND(Расчет!A1157<2000,Расчет!B1157<2000),Расчет!G1157,0)","v":0},null,null,{"$f":"IF(OR(Расчет!A1157>=2000,Расчет!B1157>=2000),Расчет!J1157,0)","v":0},{"$f":"IF(AND(Расчет!A1157<2000,Расчет!B1157<2000),Расчет!J1157,0)","v":0},null,null,{"$f":"IF(OR(Расчет!A1157>=2000,Расчет!B1157>=2000),Расчет!M1157,0)","v":0},{"$f":"IF(AND(Расчет!A1157<2000,Расчет!B1157<2000),Расчет!M1157,0)","v":0}]
[{"$f":"IF(OR(Расчет!A1158>=2000,Расчет!B1158>=2000),Расчет!G1158,0)","v":0},{"$f":"IF(AND(Расчет!A1158<2000,Расчет!B1158<2000),Расчет!G1158,0)","v":0},null,null,{"$f":"IF(OR(Расчет!A1158>=2000,Расчет!B1158>=2000),Расчет!J1158,0)","v":0},{"$f":"IF(AND(Расчет!A1158<2000,Расчет!B1158<2000),Расчет!J1158,0)","v":0},null,null,{"$f":"IF(OR(Расчет!A1158>=2000,Расчет!B1158>=2000),Расчет!M1158,0)","v":0},{"$f":"IF(AND(Расчет!A1158<2000,Расчет!B1158<2000),Расчет!M1158,0)","v":0}]
[{"$f":"IF(OR(Расчет!A1159>=2000,Расчет!B1159>=2000),Расчет!G1159,0)","v":0},{"$f":"IF(AND(Расчет!A1159<2000,Расчет!B1159<2000),Расчет!G1159,0)","v":0},null,null,{"$f":"IF(OR(Расчет!A1159>=2000,Расчет!B1159>=2000),Расчет!J1159,0)","v":0},{"$f":"IF(AND(Расчет!A1159<2000,Расчет!B1159<2000),Расчет!J1159,0)","v":0},null,null,{"$f":"IF(OR(Расчет!A1159>=2000,Расчет!B1159>=2000),Расчет!M1159,0)","v":0},{"$f":"IF(AND(Расчет!A1159<2000,Расчет!B1159<2000),Расчет!M1159,0)","v":0}]
[{"$f":"IF(OR(Расчет!A1160>=2000,Расчет!B1160>=2000),Расчет!G1160,0)","v":0},{"$f":"IF(AND(Расчет!A1160<2000,Расчет!B1160<2000),Расчет!G1160,0)","v":0},null,null,{"$f":"IF(OR(Расчет!A1160>=2000,Расчет!B1160>=2000),Расчет!J1160,0)","v":0},{"$f":"IF(AND(Расчет!A1160<2000,Расчет!B1160<2000),Расчет!J1160,0)","v":0},null,null,{"$f":"IF(OR(Расчет!A1160>=2000,Расчет!B1160>=2000),Расчет!M1160,0)","v":0},{"$f":"IF(AND(Расчет!A1160<2000,Расчет!B1160<2000),Расчет!M1160,0)","v":0}]
[{"$f":"IF(OR(Расчет!A1161>=2000,Расчет!B1161>=2000),Расчет!G1161,0)","v":0},{"$f":"IF(AND(Расчет!A1161<2000,Расчет!B1161<2000),Расчет!G1161,0)","v":0},null,null,{"$f":"IF(OR(Расчет!A1161>=2000,Расчет!B1161>=2000),Расчет!J1161,0)","v":0},{"$f":"IF(AND(Расчет!A1161<2000,Расчет!B1161<2000),Расчет!J1161,0)","v":0},null,null,{"$f":"IF(OR(Расчет!A1161>=2000,Расчет!B1161>=2000),Расчет!M1161,0)","v":0},{"$f":"IF(AND(Расчет!A1161<2000,Расчет!B1161<2000),Расчет!M1161,0)","v":0}]
[{"$f":"IF(OR(Расчет!A1162>=2000,Расчет!B1162>=2000),Расчет!G1162,0)","v":0},{"$f":"IF(AND(Расчет!A1162<2000,Расчет!B1162<2000),Расчет!G1162,0)","v":0},null,null,{"$f":"IF(OR(Расчет!A1162>=2000,Расчет!B1162>=2000),Расчет!J1162,0)","v":0},{"$f":"IF(AND(Расчет!A1162<2000,Расчет!B1162<2000),Расчет!J1162,0)","v":0},null,null,{"$f":"IF(OR(Расчет!A1162>=2000,Расчет!B1162>=2000),Расчет!M1162,0)","v":0},{"$f":"IF(AND(Расчет!A1162<2000,Расчет!B1162<2000),Расчет!M1162,0)","v":0}]
[{"$f":"IF(OR(Расчет!A1163>=2000,Расчет!B1163>=2000),Расчет!G1163,0)","v":0},{"$f":"IF(AND(Расчет!A1163<2000,Расчет!B1163<2000),Расчет!G1163,0)","v":0},null,null,{"$f":"IF(OR(Расчет!A1163>=2000,Расчет!B1163>=2000),Расчет!J1163,0)","v":0},{"$f":"IF(AND(Расчет!A1163<2000,Расчет!B1163<2000),Расчет!J1163,0)","v":0},null,null,{"$f":"IF(OR(Расчет!A1163>=2000,Расчет!B1163>=2000),Расчет!M1163,0)","v":0},{"$f":"IF(AND(Расчет!A1163<2000,Расчет!B1163<2000),Расчет!M1163,0)","v":0}]
[{"$f":"IF(OR(Расчет!A1164>=2000,Расчет!B1164>=2000),Расчет!G1164,0)","v":0},{"$f":"IF(AND(Расчет!A1164<2000,Расчет!B1164<2000),Расчет!G1164,0)","v":0},null,null,{"$f":"IF(OR(Расчет!A1164>=2000,Расчет!B1164>=2000),Расчет!J1164,0)","v":0},{"$f":"IF(AND(Расчет!A1164<2000,Расчет!B1164<2000),Расчет!J1164,0)","v":0},null,null,{"$f":"IF(OR(Расчет!A1164>=2000,Расчет!B1164>=2000),Расчет!M1164,0)","v":0},{"$f":"IF(AND(Расчет!A1164<2000,Расчет!B1164<2000),Расчет!M1164,0)","v":0}]
[{"$f":"IF(OR(Расчет!A1165>=2000,Расчет!B1165>=2000),Расчет!G1165,0)","v":0},{"$f":"IF(AND(Расчет!A1165<2000,Расчет!B1165<2000),Расчет!G1165,0)","v":0},null,null,{"$f":"IF(OR(Расчет!A1165>=2000,Расчет!B1165>=2000),Расчет!J1165,0)","v":0},{"$f":"IF(AND(Расчет!A1165<2000,Расчет!B1165<2000),Расчет!J1165,0)","v":0},null,null,{"$f":"IF(OR(Расчет!A1165>=2000,Расчет!B1165>=2000),Расчет!M1165,0)","v":0},{"$f":"IF(AND(Расчет!A1165<2000,Расчет!B1165<2000),Расчет!M1165,0)","v":0}]
[{"$f":"IF(OR(Расчет!A1166>=2000,Расчет!B1166>=2000),Расчет!G1166,0)","v":0},{"$f":"IF(AND(Расчет!A1166<2000,Расчет!B1166<2000),Расчет!G1166,0)","v":0},null,null,{"$f":"IF(OR(Расчет!A1166>=2000,Расчет!B1166>=2000),Расчет!J1166,0)","v":0},{"$f":"IF(AND(Расчет!A1166<2000,Расчет!B1166<2000),Расчет!J1166,0)","v":0},null,null,{"$f":"IF(OR(Расчет!A1166>=2000,Расчет!B1166>=2000),Расчет!M1166,0)","v":0},{"$f":"IF(AND(Расчет!A1166<2000,Расчет!B1166<2000),Расчет!M1166,0)","v":0}]
[{"$f":"IF(OR(Расчет!A1167>=2000,Расчет!B1167>=2000),Расчет!G1167,0)","v":0},{"$f":"IF(AND(Расчет!A1167<2000,Расчет!B1167<2000),Расчет!G1167,0)","v":0},null,null,{"$f":"IF(OR(Расчет!A1167>=2000,Расчет!B1167>=2000),Расчет!J1167,0)","v":0},{"$f":"IF(AND(Расчет!A1167<2000,Расчет!B1167<2000),Расчет!J1167,0)","v":0},null,null,{"$f":"IF(OR(Расчет!A1167>=2000,Расчет!B1167>=2000),Расчет!M1167,0)","v":0},{"$f":"IF(AND(Расчет!A1167<2000,Расчет!B1167<2000),Расчет!M1167,0)","v":0}]
[{"$f":"IF(OR(Расчет!A1168>=2000,Расчет!B1168>=2000),Расчет!G1168,0)","v":0},{"$f":"IF(AND(Расчет!A1168<2000,Расчет!B1168<2000),Расчет!G1168,0)","v":0},null,null,{"$f":"IF(OR(Расчет!A1168>=2000,Расчет!B1168>=2000),Расчет!J1168,0)","v":0},{"$f":"IF(AND(Расчет!A1168<2000,Расчет!B1168<2000),Расчет!J1168,0)","v":0},null,null,{"$f":"IF(OR(Расчет!A1168>=2000,Расчет!B1168>=2000),Расчет!M1168,0)","v":0},{"$f":"IF(AND(Расчет!A1168<2000,Расчет!B1168<2000),Расчет!M1168,0)","v":0}]
[{"$f":"IF(OR(Расчет!A1169>=2000,Расчет!B1169>=2000),Расчет!G1169,0)","v":0},{"$f":"IF(AND(Расчет!A1169<2000,Расчет!B1169<2000),Расчет!G1169,0)","v":0},null,null,{"$f":"IF(OR(Расчет!A1169>=2000,Расчет!B1169>=2000),Расчет!J1169,0)","v":0},{"$f":"IF(AND(Расчет!A1169<2000,Расчет!B1169<2000),Расчет!J1169,0)","v":0},null,null,{"$f":"IF(OR(Расчет!A1169>=2000,Расчет!B1169>=2000),Расчет!M1169,0)","v":0},{"$f":"IF(AND(Расчет!A1169<2000,Расчет!B1169<2000),Расчет!M1169,0)","v":0}]
[{"$f":"IF(OR(Расчет!A1170>=2000,Расчет!B1170>=2000),Расчет!G1170,0)","v":0},{"$f":"IF(AND(Расчет!A1170<2000,Расчет!B1170<2000),Расчет!G1170,0)","v":0},null,null,{"$f":"IF(OR(Расчет!A1170>=2000,Расчет!B1170>=2000),Расчет!J1170,0)","v":0},{"$f":"IF(AND(Расчет!A1170<2000,Расчет!B1170<2000),Расчет!J1170,0)","v":0},null,null,{"$f":"IF(OR(Расчет!A1170>=2000,Расчет!B1170>=2000),Расчет!M1170,0)","v":0},{"$f":"IF(AND(Расчет!A1170<2000,Расчет!B1170<2000),Расчет!M1170,0)","v":0}]
[{"$f":"IF(OR(Расчет!A1171>=2000,Расчет!B1171>=2000),Расчет!G1171,0)","v":0},{"$f":"IF(AND(Расчет!A1171<2000,Расчет!B1171<2000),Расчет!G1171,0)","v":0},null,null,{"$f":"IF(OR(Расчет!A1171>=2000,Расчет!B1171>=2000),Расчет!J1171,0)","v":0},{"$f":"IF(AND(Расчет!A1171<2000,Расчет!B1171<2000),Расчет!J1171,0)","v":0},null,null,{"$f":"IF(OR(Расчет!A1171>=2000,Расчет!B1171>=2000),Расчет!M1171,0)","v":0},{"$f":"IF(AND(Расчет!A1171<2000,Расчет!B1171<2000),Расчет!M1171,0)","v":0}]
[{"$f":"IF(OR(Расчет!A1172>=2000,Расчет!B1172>=2000),Расчет!G1172,0)","v":0},{"$f":"IF(AND(Расчет!A1172<2000,Расчет!B1172<2000),Расчет!G1172,0)","v":0},null,null,{"$f":"IF(OR(Расчет!A1172>=2000,Расчет!B1172>=2000),Расчет!J1172,0)","v":0},{"$f":"IF(AND(Расчет!A1172<2000,Расчет!B1172<2000),Расчет!J1172,0)","v":0},null,null,{"$f":"IF(OR(Расчет!A1172>=2000,Расчет!B1172>=2000),Расчет!M1172,0)","v":0},{"$f":"IF(AND(Расчет!A1172<2000,Расчет!B1172<2000),Расчет!M1172,0)","v":0}]
[{"$f":"IF(OR(Расчет!A1173>=2000,Расчет!B1173>=2000),Расчет!G1173,0)","v":0},{"$f":"IF(AND(Расчет!A1173<2000,Расчет!B1173<2000),Расчет!G1173,0)","v":0},null,null,{"$f":"IF(OR(Расчет!A1173>=2000,Расчет!B1173>=2000),Расчет!J1173,0)","v":0},{"$f":"IF(AND(Расчет!A1173<2000,Расчет!B1173<2000),Расчет!J1173,0)","v":0},null,null,{"$f":"IF(OR(Расчет!A1173>=2000,Расчет!B1173>=2000),Расчет!M1173,0)","v":0},{"$f":"IF(AND(Расчет!A1173<2000,Расчет!B1173<2000),Расчет!M1173,0)","v":0}]
[{"$f":"IF(OR(Расчет!A1174>=2000,Расчет!B1174>=2000),Расчет!G1174,0)","v":0},{"$f":"IF(AND(Расчет!A1174<2000,Расчет!B1174<2000),Расчет!G1174,0)","v":0},null,null,{"$f":"IF(OR(Расчет!A1174>=2000,Расчет!B1174>=2000),Расчет!J1174,0)","v":0},{"$f":"IF(AND(Расчет!A1174<2000,Расчет!B1174<2000),Расчет!J1174,0)","v":0},null,null,{"$f":"IF(OR(Расчет!A1174>=2000,Расчет!B1174>=2000),Расчет!M1174,0)","v":0},{"$f":"IF(AND(Расчет!A1174<2000,Расчет!B1174<2000),Расчет!M1174,0)","v":0}]
[{"$f":"IF(OR(Расчет!A1175>=2000,Расчет!B1175>=2000),Расчет!G1175,0)","v":0},{"$f":"IF(AND(Расчет!A1175<2000,Расчет!B1175<2000),Расчет!G1175,0)","v":0},null,null,{"$f":"IF(OR(Расчет!A1175>=2000,Расчет!B1175>=2000),Расчет!J1175,0)","v":0},{"$f":"IF(AND(Расчет!A1175<2000,Расчет!B1175<2000),Расчет!J1175,0)","v":0},null,null,{"$f":"IF(OR(Расчет!A1175>=2000,Расчет!B1175>=2000),Расчет!M1175,0)","v":0},{"$f":"IF(AND(Расчет!A1175<2000,Расчет!B1175<2000),Расчет!M1175,0)","v":0}]
[{"$f":"IF(OR(Расчет!A1176>=2000,Расчет!B1176>=2000),Расчет!G1176,0)","v":0},{"$f":"IF(AND(Расчет!A1176<2000,Расчет!B1176<2000),Расчет!G1176,0)","v":0},null,null,{"$f":"IF(OR(Расчет!A1176>=2000,Расчет!B1176>=2000),Расчет!J1176,0)","v":0},{"$f":"IF(AND(Расчет!A1176<2000,Расчет!B1176<2000),Расчет!J1176,0)","v":0},null,null,{"$f":"IF(OR(Расчет!A1176>=2000,Расчет!B1176>=2000),Расчет!M1176,0)","v":0},{"$f":"IF(AND(Расчет!A1176<2000,Расчет!B1176<2000),Расчет!M1176,0)","v":0}]
[{"$f":"IF(OR(Расчет!A1177>=2000,Расчет!B1177>=2000),Расчет!G1177,0)","v":0},{"$f":"IF(AND(Расчет!A1177<2000,Расчет!B1177<2000),Расчет!G1177,0)","v":0},null,null,{"$f":"IF(OR(Расчет!A1177>=2000,Расчет!B1177>=2000),Расчет!J1177,0)","v":0},{"$f":"IF(AND(Расчет!A1177<2000,Расчет!B1177<2000),Расчет!J1177,0)","v":0},null,null,{"$f":"IF(OR(Расчет!A1177>=2000,Расчет!B1177>=2000),Расчет!M1177,0)","v":0},{"$f":"IF(AND(Расчет!A1177<2000,Расчет!B1177<2000),Расчет!M1177,0)","v":0}]
[{"$f":"IF(OR(Расчет!A1178>=2000,Расчет!B1178>=2000),Расчет!G1178,0)","v":0},{"$f":"IF(AND(Расчет!A1178<2000,Расчет!B1178<2000),Расчет!G1178,0)","v":0},null,null,{"$f":"IF(OR(Расчет!A1178>=2000,Расчет!B1178>=2000),Расчет!J1178,0)","v":0},{"$f":"IF(AND(Расчет!A1178<2000,Расчет!B1178<2000),Расчет!J1178,0)","v":0},null,null,{"$f":"IF(OR(Расчет!A1178>=2000,Расчет!B1178>=2000),Расчет!M1178,0)","v":0},{"$f":"IF(AND(Расчет!A1178<2000,Расчет!B1178<2000),Расчет!M1178,0)","v":0}]
[{"$f":"IF(OR(Расчет!A1179>=2000,Расчет!B1179>=2000),Расчет!G1179,0)","v":0},{"$f":"IF(AND(Расчет!A1179<2000,Расчет!B1179<2000),Расчет!G1179,0)","v":0},null,null,{"$f":"IF(OR(Расчет!A1179>=2000,Расчет!B1179>=2000),Расчет!J1179,0)","v":0},{"$f":"IF(AND(Расчет!A1179<2000,Расчет!B1179<2000),Расчет!J1179,0)","v":0},null,null,{"$f":"IF(OR(Расчет!A1179>=2000,Расчет!B1179>=2000),Расчет!M1179,0)","v":0},{"$f":"IF(AND(Расчет!A1179<2000,Расчет!B1179<2000),Расчет!M1179,0)","v":0}]
[{"$f":"IF(OR(Расчет!A1180>=2000,Расчет!B1180>=2000),Расчет!G1180,0)","v":0},{"$f":"IF(AND(Расчет!A1180<2000,Расчет!B1180<2000),Расчет!G1180,0)","v":0},null,null,{"$f":"IF(OR(Расчет!A1180>=2000,Расчет!B1180>=2000),Расчет!J1180,0)","v":0},{"$f":"IF(AND(Расчет!A1180<2000,Расчет!B1180<2000),Расчет!J1180,0)","v":0},null,null,{"$f":"IF(OR(Расчет!A1180>=2000,Расчет!B1180>=2000),Расчет!M1180,0)","v":0},{"$f":"IF(AND(Расчет!A1180<2000,Расчет!B1180<2000),Расчет!M1180,0)","v":0}]
[{"$f":"IF(OR(Расчет!A1181>=2000,Расчет!B1181>=2000),Расчет!G1181,0)","v":0},{"$f":"IF(AND(Расчет!A1181<2000,Расчет!B1181<2000),Расчет!G1181,0)","v":0},null,null,{"$f":"IF(OR(Расчет!A1181>=2000,Расчет!B1181>=2000),Расчет!J1181,0)","v":0},{"$f":"IF(AND(Расчет!A1181<2000,Расчет!B1181<2000),Расчет!J1181,0)","v":0},null,null,{"$f":"IF(OR(Расчет!A1181>=2000,Расчет!B1181>=2000),Расчет!M1181,0)","v":0},{"$f":"IF(AND(Расчет!A1181<2000,Расчет!B1181<2000),Расчет!M1181,0)","v":0}]
[{"$f":"IF(OR(Расчет!A1182>=2000,Расчет!B1182>=2000),Расчет!G1182,0)","v":0},{"$f":"IF(AND(Расчет!A1182<2000,Расчет!B1182<2000),Расчет!G1182,0)","v":0},null,null,{"$f":"IF(OR(Расчет!A1182>=2000,Расчет!B1182>=2000),Расчет!J1182,0)","v":0},{"$f":"IF(AND(Расчет!A1182<2000,Расчет!B1182<2000),Расчет!J1182,0)","v":0},null,null,{"$f":"IF(OR(Расчет!A1182>=2000,Расчет!B1182>=2000),Расчет!M1182,0)","v":0},{"$f":"IF(AND(Расчет!A1182<2000,Расчет!B1182<2000),Расчет!M1182,0)","v":0}]
[{"$f":"IF(OR(Расчет!A1183>=2000,Расчет!B1183>=2000),Расчет!G1183,0)","v":0},{"$f":"IF(AND(Расчет!A1183<2000,Расчет!B1183<2000),Расчет!G1183,0)","v":0},null,null,{"$f":"IF(OR(Расчет!A1183>=2000,Расчет!B1183>=2000),Расчет!J1183,0)","v":0},{"$f":"IF(AND(Расчет!A1183<2000,Расчет!B1183<2000),Расчет!J1183,0)","v":0},null,null,{"$f":"IF(OR(Расчет!A1183>=2000,Расчет!B1183>=2000),Расчет!M1183,0)","v":0},{"$f":"IF(AND(Расчет!A1183<2000,Расчет!B1183<2000),Расчет!M1183,0)","v":0}]
[{"$f":"IF(OR(Расчет!A1184>=2000,Расчет!B1184>=2000),Расчет!G1184,0)","v":0},{"$f":"IF(AND(Расчет!A1184<2000,Расчет!B1184<2000),Расчет!G1184,0)","v":0},null,null,{"$f":"IF(OR(Расчет!A1184>=2000,Расчет!B1184>=2000),Расчет!J1184,0)","v":0},{"$f":"IF(AND(Расчет!A1184<2000,Расчет!B1184<2000),Расчет!J1184,0)","v":0},null,null,{"$f":"IF(OR(Расчет!A1184>=2000,Расчет!B1184>=2000),Расчет!M1184,0)","v":0},{"$f":"IF(AND(Расчет!A1184<2000,Расчет!B1184<2000),Расчет!M1184,0)","v":0}]
[{"$f":"IF(OR(Расчет!A1185>=2000,Расчет!B1185>=2000),Расчет!G1185,0)","v":0},{"$f":"IF(AND(Расчет!A1185<2000,Расчет!B1185<2000),Расчет!G1185,0)","v":0},null,null,{"$f":"IF(OR(Расчет!A1185>=2000,Расчет!B1185>=2000),Расчет!J1185,0)","v":0},{"$f":"IF(AND(Расчет!A1185<2000,Расчет!B1185<2000),Расчет!J1185,0)","v":0},null,null,{"$f":"IF(OR(Расчет!A1185>=2000,Расчет!B1185>=2000),Расчет!M1185,0)","v":0},{"$f":"IF(AND(Расчет!A1185<2000,Расчет!B1185<2000),Расчет!M1185,0)","v":0}]
[{"$f":"IF(OR(Расчет!A1186>=2000,Расчет!B1186>=2000),Расчет!G1186,0)","v":0},{"$f":"IF(AND(Расчет!A1186<2000,Расчет!B1186<2000),Расчет!G1186,0)","v":0},null,null,{"$f":"IF(OR(Расчет!A1186>=2000,Расчет!B1186>=2000),Расчет!J1186,0)","v":0},{"$f":"IF(AND(Расчет!A1186<2000,Расчет!B1186<2000),Расчет!J1186,0)","v":0},null,null,{"$f":"IF(OR(Расчет!A1186>=2000,Расчет!B1186>=2000),Расчет!M1186,0)","v":0},{"$f":"IF(AND(Расчет!A1186<2000,Расчет!B1186<2000),Расчет!M1186,0)","v":0}]
[{"$f":"IF(OR(Расчет!A1187>=2000,Расчет!B1187>=2000),Расчет!G1187,0)","v":0},{"$f":"IF(AND(Расчет!A1187<2000,Расчет!B1187<2000),Расчет!G1187,0)","v":0},null,null,{"$f":"IF(OR(Расчет!A1187>=2000,Расчет!B1187>=2000),Расчет!J1187,0)","v":0},{"$f":"IF(AND(Расчет!A1187<2000,Расчет!B1187<2000),Расчет!J1187,0)","v":0},null,null,{"$f":"IF(OR(Расчет!A1187>=2000,Расчет!B1187>=2000),Расчет!M1187,0)","v":0},{"$f":"IF(AND(Расчет!A1187<2000,Расчет!B1187<2000),Расчет!M1187,0)","v":0}]
[{"$f":"IF(OR(Расчет!A1188>=2000,Расчет!B1188>=2000),Расчет!G1188,0)","v":0},{"$f":"IF(AND(Расчет!A1188<2000,Расчет!B1188<2000),Расчет!G1188,0)","v":0},null,null,{"$f":"IF(OR(Расчет!A1188>=2000,Расчет!B1188>=2000),Расчет!J1188,0)","v":0},{"$f":"IF(AND(Расчет!A1188<2000,Расчет!B1188<2000),Расчет!J1188,0)","v":0},null,null,{"$f":"IF(OR(Расчет!A1188>=2000,Расчет!B1188>=2000),Расчет!M1188,0)","v":0},{"$f":"IF(AND(Расчет!A1188<2000,Расчет!B1188<2000),Расчет!M1188,0)","v":0}]
[{"$f":"IF(OR(Расчет!A1189>=2000,Расчет!B1189>=2000),Расчет!G1189,0)","v":0},{"$f":"IF(AND(Расчет!A1189<2000,Расчет!B1189<2000),Расчет!G1189,0)","v":0},null,null,{"$f":"IF(OR(Расчет!A1189>=2000,Расчет!B1189>=2000),Расчет!J1189,0)","v":0},{"$f":"IF(AND(Расчет!A1189<2000,Расчет!B1189<2000),Расчет!J1189,0)","v":0},null,null,{"$f":"IF(OR(Расчет!A1189>=2000,Расчет!B1189>=2000),Расчет!M1189,0)","v":0},{"$f":"IF(AND(Расчет!A1189<2000,Расчет!B1189<2000),Расчет!M1189,0)","v":0}]
[{"$f":"IF(OR(Расчет!A1190>=2000,Расчет!B1190>=2000),Расчет!G1190,0)","v":0},{"$f":"IF(AND(Расчет!A1190<2000,Расчет!B1190<2000),Расчет!G1190,0)","v":0},null,null,{"$f":"IF(OR(Расчет!A1190>=2000,Расчет!B1190>=2000),Расчет!J1190,0)","v":0},{"$f":"IF(AND(Расчет!A1190<2000,Расчет!B1190<2000),Расчет!J1190,0)","v":0},null,null,{"$f":"IF(OR(Расчет!A1190>=2000,Расчет!B1190>=2000),Расчет!M1190,0)","v":0},{"$f":"IF(AND(Расчет!A1190<2000,Расчет!B1190<2000),Расчет!M1190,0)","v":0}]
[{"$f":"IF(OR(Расчет!A1191>=2000,Расчет!B1191>=2000),Расчет!G1191,0)","v":0},{"$f":"IF(AND(Расчет!A1191<2000,Расчет!B1191<2000),Расчет!G1191,0)","v":0},null,null,{"$f":"IF(OR(Расчет!A1191>=2000,Расчет!B1191>=2000),Расчет!J1191,0)","v":0},{"$f":"IF(AND(Расчет!A1191<2000,Расчет!B1191<2000),Расчет!J1191,0)","v":0},null,null,{"$f":"IF(OR(Расчет!A1191>=2000,Расчет!B1191>=2000),Расчет!M1191,0)","v":0},{"$f":"IF(AND(Расчет!A1191<2000,Расчет!B1191<2000),Расчет!M1191,0)","v":0}]
[{"$f":"IF(OR(Расчет!A1192>=2000,Расчет!B1192>=2000),Расчет!G1192,0)","v":0},{"$f":"IF(AND(Расчет!A1192<2000,Расчет!B1192<2000),Расчет!G1192,0)","v":0},null,null,{"$f":"IF(OR(Расчет!A1192>=2000,Расчет!B1192>=2000),Расчет!J1192,0)","v":0},{"$f":"IF(AND(Расчет!A1192<2000,Расчет!B1192<2000),Расчет!J1192,0)","v":0},null,null,{"$f":"IF(OR(Расчет!A1192>=2000,Расчет!B1192>=2000),Расчет!M1192,0)","v":0},{"$f":"IF(AND(Расчет!A1192<2000,Расчет!B1192<2000),Расчет!M1192,0)","v":0}]
[{"$f":"IF(OR(Расчет!A1193>=2000,Расчет!B1193>=2000),Расчет!G1193,0)","v":0},{"$f":"IF(AND(Расчет!A1193<2000,Расчет!B1193<2000),Расчет!G1193,0)","v":0},null,null,{"$f":"IF(OR(Расчет!A1193>=2000,Расчет!B1193>=2000),Расчет!J1193,0)","v":0},{"$f":"IF(AND(Расчет!A1193<2000,Расчет!B1193<2000),Расчет!J1193,0)","v":0},null,null,{"$f":"IF(OR(Расчет!A1193>=2000,Расчет!B1193>=2000),Расчет!M1193,0)","v":0},{"$f":"IF(AND(Расчет!A1193<2000,Расчет!B1193<2000),Расчет!M1193,0)","v":0}]
[{"$f":"IF(OR(Расчет!A1194>=2000,Расчет!B1194>=2000),Расчет!G1194,0)","v":0},{"$f":"IF(AND(Расчет!A1194<2000,Расчет!B1194<2000),Расчет!G1194,0)","v":0},null,null,{"$f":"IF(OR(Расчет!A1194>=2000,Расчет!B1194>=2000),Расчет!J1194,0)","v":0},{"$f":"IF(AND(Расчет!A1194<2000,Расчет!B1194<2000),Расчет!J1194,0)","v":0},null,null,{"$f":"IF(OR(Расчет!A1194>=2000,Расчет!B1194>=2000),Расчет!M1194,0)","v":0},{"$f":"IF(AND(Расчет!A1194<2000,Расчет!B1194<2000),Расчет!M1194,0)","v":0}]
[{"$f":"IF(OR(Расчет!A1195>=2000,Расчет!B1195>=2000),Расчет!G1195,0)","v":0},{"$f":"IF(AND(Расчет!A1195<2000,Расчет!B1195<2000),Расчет!G1195,0)","v":0},null,null,{"$f":"IF(OR(Расчет!A1195>=2000,Расчет!B1195>=2000),Расчет!J1195,0)","v":0},{"$f":"IF(AND(Расчет!A1195<2000,Расчет!B1195<2000),Расчет!J1195,0)","v":0},null,null,{"$f":"IF(OR(Расчет!A1195>=2000,Расчет!B1195>=2000),Расчет!M1195,0)","v":0},{"$f":"IF(AND(Расчет!A1195<2000,Расчет!B1195<2000),Расчет!M1195,0)","v":0}]
[{"$f":"IF(OR(Расчет!A1196>=2000,Расчет!B1196>=2000),Расчет!G1196,0)","v":0},{"$f":"IF(AND(Расчет!A1196<2000,Расчет!B1196<2000),Расчет!G1196,0)","v":0},null,null,{"$f":"IF(OR(Расчет!A1196>=2000,Расчет!B1196>=2000),Расчет!J1196,0)","v":0},{"$f":"IF(AND(Расчет!A1196<2000,Расчет!B1196<2000),Расчет!J1196,0)","v":0},null,null,{"$f":"IF(OR(Расчет!A1196>=2000,Расчет!B1196>=2000),Расчет!M1196,0)","v":0},{"$f":"IF(AND(Расчет!A1196<2000,Расчет!B1196<2000),Расчет!M1196,0)","v":0}]
[{"$f":"IF(OR(Расчет!A1197>=2000,Расчет!B1197>=2000),Расчет!G1197,0)","v":0},{"$f":"IF(AND(Расчет!A1197<2000,Расчет!B1197<2000),Расчет!G1197,0)","v":0},null,null,{"$f":"IF(OR(Расчет!A1197>=2000,Расчет!B1197>=2000),Расчет!J1197,0)","v":0},{"$f":"IF(AND(Расчет!A1197<2000,Расчет!B1197<2000),Расчет!J1197,0)","v":0},null,null,{"$f":"IF(OR(Расчет!A1197>=2000,Расчет!B1197>=2000),Расчет!M1197,0)","v":0},{"$f":"IF(AND(Расчет!A1197<2000,Расчет!B1197<2000),Расчет!M1197,0)","v":0}]
[{"$f":"IF(OR(Расчет!A1198>=2000,Расчет!B1198>=2000),Расчет!G1198,0)","v":0},{"$f":"IF(AND(Расчет!A1198<2000,Расчет!B1198<2000),Расчет!G1198,0)","v":0},null,null,{"$f":"IF(OR(Расчет!A1198>=2000,Расчет!B1198>=2000),Расчет!J1198,0)","v":0},{"$f":"IF(AND(Расчет!A1198<2000,Расчет!B1198<2000),Расчет!J1198,0)","v":0},null,null,{"$f":"IF(OR(Расчет!A1198>=2000,Расчет!B1198>=2000),Расчет!M1198,0)","v":0},{"$f":"IF(AND(Расчет!A1198<2000,Расчет!B1198<2000),Расчет!M1198,0)","v":0}]
[{"$f":"IF(OR(Расчет!A1199>=2000,Расчет!B1199>=2000),Расчет!G1199,0)","v":0},{"$f":"IF(AND(Расчет!A1199<2000,Расчет!B1199<2000),Расчет!G1199,0)","v":0},null,null,{"$f":"IF(OR(Расчет!A1199>=2000,Расчет!B1199>=2000),Расчет!J1199,0)","v":0},{"$f":"IF(AND(Расчет!A1199<2000,Расчет!B1199<2000),Расчет!J1199,0)","v":0},null,null,{"$f":"IF(OR(Расчет!A1199>=2000,Расчет!B1199>=2000),Расчет!M1199,0)","v":0},{"$f":"IF(AND(Расчет!A1199<2000,Расчет!B1199<2000),Расчет!M1199,0)","v":0}]
[{"$f":"IF(OR(Расчет!A1200>=2000,Расчет!B1200>=2000),Расчет!G1200,0)","v":0},{"$f":"IF(AND(Расчет!A1200<2000,Расчет!B1200<2000),Расчет!G1200,0)","v":0},null,null,{"$f":"IF(OR(Расчет!A1200>=2000,Расчет!B1200>=2000),Расчет!J1200,0)","v":0},{"$f":"IF(AND(Расчет!A1200<2000,Расчет!B1200<2000),Расчет!J1200,0)","v":0},null,null,{"$f":"IF(OR(Расчет!A1200>=2000,Расчет!B1200>=2000),Расчет!M1200,0)","v":0},{"$f":"IF(AND(Расчет!A1200<2000,Расчет!B1200<2000),Расчет!M1200,0)","v":0}]
[{"$f":"IF(OR(Расчет!A1201>=2000,Расчет!B1201>=2000),Расчет!G1201,0)","v":0},{"$f":"IF(AND(Расчет!A1201<2000,Расчет!B1201<2000),Расчет!G1201,0)","v":0},null,null,{"$f":"IF(OR(Расчет!A1201>=2000,Расчет!B1201>=2000),Расчет!J1201,0)","v":0},{"$f":"IF(AND(Расчет!A1201<2000,Расчет!B1201<2000),Расчет!J1201,0)","v":0},null,null,{"$f":"IF(OR(Расчет!A1201>=2000,Расчет!B1201>=2000),Расчет!M1201,0)","v":0},{"$f":"IF(AND(Расчет!A1201<2000,Расчет!B1201<2000),Расчет!M1201,0)","v":0}]
[{"$f":"IF(OR(Расчет!A1202>=2000,Расчет!B1202>=2000),Расчет!G1202,0)","v":0},{"$f":"IF(AND(Расчет!A1202<2000,Расчет!B1202<2000),Расчет!G1202,0)","v":0},null,null,{"$f":"IF(OR(Расчет!A1202>=2000,Расчет!B1202>=2000),Расчет!J1202,0)","v":0},{"$f":"IF(AND(Расчет!A1202<2000,Расчет!B1202<2000),Расчет!J1202,0)","v":0},null,null,{"$f":"IF(OR(Расчет!A1202>=2000,Расчет!B1202>=2000),Расчет!M1202,0)","v":0},{"$f":"IF(AND(Расчет!A1202<2000,Расчет!B1202<2000),Расчет!M1202,0)","v":0}]
[{"$f":"IF(OR(Расчет!A1203>=2000,Расчет!B1203>=2000),Расчет!G1203,0)","v":0},{"$f":"IF(AND(Расчет!A1203<2000,Расчет!B1203<2000),Расчет!G1203,0)","v":0},null,null,{"$f":"IF(OR(Расчет!A1203>=2000,Расчет!B1203>=2000),Расчет!J1203,0)","v":0},{"$f":"IF(AND(Расчет!A1203<2000,Расчет!B1203<2000),Расчет!J1203,0)","v":0},null,null,{"$f":"IF(OR(Расчет!A1203>=2000,Расчет!B1203>=2000),Расчет!M1203,0)","v":0},{"$f":"IF(AND(Расчет!A1203<2000,Расчет!B1203<2000),Расчет!M1203,0)","v":0}]
[{"$f":"IF(OR(Расчет!A1204>=2000,Расчет!B1204>=2000),Расчет!G1204,0)","v":0},{"$f":"IF(AND(Расчет!A1204<2000,Расчет!B1204<2000),Расчет!G1204,0)","v":0},null,null,{"$f":"IF(OR(Расчет!A1204>=2000,Расчет!B1204>=2000),Расчет!J1204,0)","v":0},{"$f":"IF(AND(Расчет!A1204<2000,Расчет!B1204<2000),Расчет!J1204,0)","v":0},null,null,{"$f":"IF(OR(Расчет!A1204>=2000,Расчет!B1204>=2000),Расчет!M1204,0)","v":0},{"$f":"IF(AND(Расчет!A1204<2000,Расчет!B1204<2000),Расчет!M1204,0)","v":0}]
[{"$f":"IF(OR(Расчет!A1205>=2000,Расчет!B1205>=2000),Расчет!G1205,0)","v":0},{"$f":"IF(AND(Расчет!A1205<2000,Расчет!B1205<2000),Расчет!G1205,0)","v":0},null,null,{"$f":"IF(OR(Расчет!A1205>=2000,Расчет!B1205>=2000),Расчет!J1205,0)","v":0},{"$f":"IF(AND(Расчет!A1205<2000,Расчет!B1205<2000),Расчет!J1205,0)","v":0},null,null,{"$f":"IF(OR(Расчет!A1205>=2000,Расчет!B1205>=2000),Расчет!M1205,0)","v":0},{"$f":"IF(AND(Расчет!A1205<2000,Расчет!B1205<2000),Расчет!M1205,0)","v":0}]
[{"$f":"IF(OR(Расчет!A1206>=2000,Расчет!B1206>=2000),Расчет!G1206,0)","v":0},{"$f":"IF(AND(Расчет!A1206<2000,Расчет!B1206<2000),Расчет!G1206,0)","v":0},null,null,{"$f":"IF(OR(Расчет!A1206>=2000,Расчет!B1206>=2000),Расчет!J1206,0)","v":0},{"$f":"IF(AND(Расчет!A1206<2000,Расчет!B1206<2000),Расчет!J1206,0)","v":0},null,null,{"$f":"IF(OR(Расчет!A1206>=2000,Расчет!B1206>=2000),Расчет!M1206,0)","v":0},{"$f":"IF(AND(Расчет!A1206<2000,Расчет!B1206<2000),Расчет!M1206,0)","v":0}]
[{"$f":"IF(OR(Расчет!A1207>=2000,Расчет!B1207>=2000),Расчет!G1207,0)","v":0},{"$f":"IF(AND(Расчет!A1207<2000,Расчет!B1207<2000),Расчет!G1207,0)","v":0},null,null,{"$f":"IF(OR(Расчет!A1207>=2000,Расчет!B1207>=2000),Расчет!J1207,0)","v":0},{"$f":"IF(AND(Расчет!A1207<2000,Расчет!B1207<2000),Расчет!J1207,0)","v":0},null,null,{"$f":"IF(OR(Расчет!A1207>=2000,Расчет!B1207>=2000),Расчет!M1207,0)","v":0},{"$f":"IF(AND(Расчет!A1207<2000,Расчет!B1207<2000),Расчет!M1207,0)","v":0}]
[{"$f":"IF(OR(Расчет!A1208>=2000,Расчет!B1208>=2000),Расчет!G1208,0)","v":0},{"$f":"IF(AND(Расчет!A1208<2000,Расчет!B1208<2000),Расчет!G1208,0)","v":0},null,null,{"$f":"IF(OR(Расчет!A1208>=2000,Расчет!B1208>=2000),Расчет!J1208,0)","v":0},{"$f":"IF(AND(Расчет!A1208<2000,Расчет!B1208<2000),Расчет!J1208,0)","v":0},null,null,{"$f":"IF(OR(Расчет!A1208>=2000,Расчет!B1208>=2000),Расчет!M1208,0)","v":0},{"$f":"IF(AND(Расчет!A1208<2000,Расчет!B1208<2000),Расчет!M1208,0)","v":0}]
[{"$f":"IF(OR(Расчет!A1209>=2000,Расчет!B1209>=2000),Расчет!G1209,0)","v":0},{"$f":"IF(AND(Расчет!A1209<2000,Расчет!B1209<2000),Расчет!G1209,0)","v":0},null,null,{"$f":"IF(OR(Расчет!A1209>=2000,Расчет!B1209>=2000),Расчет!J1209,0)","v":0},{"$f":"IF(AND(Расчет!A1209<2000,Расчет!B1209<2000),Расчет!J1209,0)","v":0},null,null,{"$f":"IF(OR(Расчет!A1209>=2000,Расчет!B1209>=2000),Расчет!M1209,0)","v":0},{"$f":"IF(AND(Расчет!A1209<2000,Расчет!B1209<2000),Расчет!M1209,0)","v":0}]
[{"$f":"IF(OR(Расчет!A1210>=2000,Расчет!B1210>=2000),Расчет!G1210,0)","v":0},{"$f":"IF(AND(Расчет!A1210<2000,Расчет!B1210<2000),Расчет!G1210,0)","v":0},null,null,{"$f":"IF(OR(Расчет!A1210>=2000,Расчет!B1210>=2000),Расчет!J1210,0)","v":0},{"$f":"IF(AND(Расчет!A1210<2000,Расчет!B1210<2000),Расчет!J1210,0)","v":0},null,null,{"$f":"IF(OR(Расчет!A1210>=2000,Расчет!B1210>=2000),Расчет!M1210,0)","v":0},{"$f":"IF(AND(Расчет!A1210<2000,Расчет!B1210<2000),Расчет!M1210,0)","v":0}]
[{"$f":"IF(OR(Расчет!A1211>=2000,Расчет!B1211>=2000),Расчет!G1211,0)","v":0},{"$f":"IF(AND(Расчет!A1211<2000,Расчет!B1211<2000),Расчет!G1211,0)","v":0},null,null,{"$f":"IF(OR(Расчет!A1211>=2000,Расчет!B1211>=2000),Расчет!J1211,0)","v":0},{"$f":"IF(AND(Расчет!A1211<2000,Расчет!B1211<2000),Расчет!J1211,0)","v":0},null,null,{"$f":"IF(OR(Расчет!A1211>=2000,Расчет!B1211>=2000),Расчет!M1211,0)","v":0},{"$f":"IF(AND(Расчет!A1211<2000,Расчет!B1211<2000),Расчет!M1211,0)","v":0}]
[{"$f":"IF(OR(Расчет!A1212>=2000,Расчет!B1212>=2000),Расчет!G1212,0)","v":0},{"$f":"IF(AND(Расчет!A1212<2000,Расчет!B1212<2000),Расчет!G1212,0)","v":0},null,null,{"$f":"IF(OR(Расчет!A1212>=2000,Расчет!B1212>=2000),Расчет!J1212,0)","v":0},{"$f":"IF(AND(Расчет!A1212<2000,Расчет!B1212<2000),Расчет!J1212,0)","v":0},null,null,{"$f":"IF(OR(Расчет!A1212>=2000,Расчет!B1212>=2000),Расчет!M1212,0)","v":0},{"$f":"IF(AND(Расчет!A1212<2000,Расчет!B1212<2000),Расчет!M1212,0)","v":0}]
[{"$f":"IF(OR(Расчет!A1213>=2000,Расчет!B1213>=2000),Расчет!G1213,0)","v":0},{"$f":"IF(AND(Расчет!A1213<2000,Расчет!B1213<2000),Расчет!G1213,0)","v":0},null,null,{"$f":"IF(OR(Расчет!A1213>=2000,Расчет!B1213>=2000),Расчет!J1213,0)","v":0},{"$f":"IF(AND(Расчет!A1213<2000,Расчет!B1213<2000),Расчет!J1213,0)","v":0},null,null,{"$f":"IF(OR(Расчет!A1213>=2000,Расчет!B1213>=2000),Расчет!M1213,0)","v":0},{"$f":"IF(AND(Расчет!A1213<2000,Расчет!B1213<2000),Расчет!M1213,0)","v":0}]
[{"$f":"IF(OR(Расчет!A1214>=2000,Расчет!B1214>=2000),Расчет!G1214,0)","v":0},{"$f":"IF(AND(Расчет!A1214<2000,Расчет!B1214<2000),Расчет!G1214,0)","v":0},null,null,{"$f":"IF(OR(Расчет!A1214>=2000,Расчет!B1214>=2000),Расчет!J1214,0)","v":0},{"$f":"IF(AND(Расчет!A1214<2000,Расчет!B1214<2000),Расчет!J1214,0)","v":0},null,null,{"$f":"IF(OR(Расчет!A1214>=2000,Расчет!B1214>=2000),Расчет!M1214,0)","v":0},{"$f":"IF(AND(Расчет!A1214<2000,Расчет!B1214<2000),Расчет!M1214,0)","v":0}]
[{"$f":"IF(OR(Расчет!A1215>=2000,Расчет!B1215>=2000),Расчет!G1215,0)","v":0},{"$f":"IF(AND(Расчет!A1215<2000,Расчет!B1215<2000),Расчет!G1215,0)","v":0},null,null,{"$f":"IF(OR(Расчет!A1215>=2000,Расчет!B1215>=2000),Расчет!J1215,0)","v":0},{"$f":"IF(AND(Расчет!A1215<2000,Расчет!B1215<2000),Расчет!J1215,0)","v":0},null,null,{"$f":"IF(OR(Расчет!A1215>=2000,Расчет!B1215>=2000),Расчет!M1215,0)","v":0},{"$f":"IF(AND(Расчет!A1215<2000,Расчет!B1215<2000),Расчет!M1215,0)","v":0}]
[{"$f":"IF(OR(Расчет!A1216>=2000,Расчет!B1216>=2000),Расчет!G1216,0)","v":0},{"$f":"IF(AND(Расчет!A1216<2000,Расчет!B1216<2000),Расчет!G1216,0)","v":0},null,null,{"$f":"IF(OR(Расчет!A1216>=2000,Расчет!B1216>=2000),Расчет!J1216,0)","v":0},{"$f":"IF(AND(Расчет!A1216<2000,Расчет!B1216<2000),Расчет!J1216,0)","v":0},null,null,{"$f":"IF(OR(Расчет!A1216>=2000,Расчет!B1216>=2000),Расчет!M1216,0)","v":0},{"$f":"IF(AND(Расчет!A1216<2000,Расчет!B1216<2000),Расчет!M1216,0)","v":0}]
[{"$f":"IF(OR(Расчет!A1217>=2000,Расчет!B1217>=2000),Расчет!G1217,0)","v":0},{"$f":"IF(AND(Расчет!A1217<2000,Расчет!B1217<2000),Расчет!G1217,0)","v":0},null,null,{"$f":"IF(OR(Расчет!A1217>=2000,Расчет!B1217>=2000),Расчет!J1217,0)","v":0},{"$f":"IF(AND(Расчет!A1217<2000,Расчет!B1217<2000),Расчет!J1217,0)","v":0},null,null,{"$f":"IF(OR(Расчет!A1217>=2000,Расчет!B1217>=2000),Расчет!M1217,0)","v":0},{"$f":"IF(AND(Расчет!A1217<2000,Расчет!B1217<2000),Расчет!M1217,0)","v":0}]
[{"$f":"IF(OR(Расчет!A1218>=2000,Расчет!B1218>=2000),Расчет!G1218,0)","v":0},{"$f":"IF(AND(Расчет!A1218<2000,Расчет!B1218<2000),Расчет!G1218,0)","v":0},null,null,{"$f":"IF(OR(Расчет!A1218>=2000,Расчет!B1218>=2000),Расчет!J1218,0)","v":0},{"$f":"IF(AND(Расчет!A1218<2000,Расчет!B1218<2000),Расчет!J1218,0)","v":0},null,null,{"$f":"IF(OR(Расчет!A1218>=2000,Расчет!B1218>=2000),Расчет!M1218,0)","v":0},{"$f":"IF(AND(Расчет!A1218<2000,Расчет!B1218<2000),Расчет!M1218,0)","v":0}]
[{"$f":"IF(OR(Расчет!A1219>=2000,Расчет!B1219>=2000),Расчет!G1219,0)","v":0},{"$f":"IF(AND(Расчет!A1219<2000,Расчет!B1219<2000),Расчет!G1219,0)","v":0},null,null,{"$f":"IF(OR(Расчет!A1219>=2000,Расчет!B1219>=2000),Расчет!J1219,0)","v":0},{"$f":"IF(AND(Расчет!A1219<2000,Расчет!B1219<2000),Расчет!J1219,0)","v":0},null,null,{"$f":"IF(OR(Расчет!A1219>=2000,Расчет!B1219>=2000),Расчет!M1219,0)","v":0},{"$f":"IF(AND(Расчет!A1219<2000,Расчет!B1219<2000),Расчет!M1219,0)","v":0}]
[{"$f":"IF(OR(Расчет!A1220>=2000,Расчет!B1220>=2000),Расчет!G1220,0)","v":0},{"$f":"IF(AND(Расчет!A1220<2000,Расчет!B1220<2000),Расчет!G1220,0)","v":0},null,null,{"$f":"IF(OR(Расчет!A1220>=2000,Расчет!B1220>=2000),Расчет!J1220,0)","v":0},{"$f":"IF(AND(Расчет!A1220<2000,Расчет!B1220<2000),Расчет!J1220,0)","v":0},null,null,{"$f":"IF(OR(Расчет!A1220>=2000,Расчет!B1220>=2000),Расчет!M1220,0)","v":0},{"$f":"IF(AND(Расчет!A1220<2000,Расчет!B1220<2000),Расчет!M1220,0)","v":0}]
[{"$f":"IF(OR(Расчет!A1221>=2000,Расчет!B1221>=2000),Расчет!G1221,0)","v":0},{"$f":"IF(AND(Расчет!A1221<2000,Расчет!B1221<2000),Расчет!G1221,0)","v":0},null,null,{"$f":"IF(OR(Расчет!A1221>=2000,Расчет!B1221>=2000),Расчет!J1221,0)","v":0},{"$f":"IF(AND(Расчет!A1221<2000,Расчет!B1221<2000),Расчет!J1221,0)","v":0},null,null,{"$f":"IF(OR(Расчет!A1221>=2000,Расчет!B1221>=2000),Расчет!M1221,0)","v":0},{"$f":"IF(AND(Расчет!A1221<2000,Расчет!B1221<2000),Расчет!M1221,0)","v":0}]
[{"$f":"IF(OR(Расчет!A1222>=2000,Расчет!B1222>=2000),Расчет!G1222,0)","v":0},{"$f":"IF(AND(Расчет!A1222<2000,Расчет!B1222<2000),Расчет!G1222,0)","v":0},null,null,{"$f":"IF(OR(Расчет!A1222>=2000,Расчет!B1222>=2000),Расчет!J1222,0)","v":0},{"$f":"IF(AND(Расчет!A1222<2000,Расчет!B1222<2000),Расчет!J1222,0)","v":0},null,null,{"$f":"IF(OR(Расчет!A1222>=2000,Расчет!B1222>=2000),Расчет!M1222,0)","v":0},{"$f":"IF(AND(Расчет!A1222<2000,Расчет!B1222<2000),Расчет!M1222,0)","v":0}]
[{"$f":"IF(OR(Расчет!A1223>=2000,Расчет!B1223>=2000),Расчет!G1223,0)","v":0},{"$f":"IF(AND(Расчет!A1223<2000,Расчет!B1223<2000),Расчет!G1223,0)","v":0},null,null,{"$f":"IF(OR(Расчет!A1223>=2000,Расчет!B1223>=2000),Расчет!J1223,0)","v":0},{"$f":"IF(AND(Расчет!A1223<2000,Расчет!B1223<2000),Расчет!J1223,0)","v":0},null,null,{"$f":"IF(OR(Расчет!A1223>=2000,Расчет!B1223>=2000),Расчет!M1223,0)","v":0},{"$f":"IF(AND(Расчет!A1223<2000,Расчет!B1223<2000),Расчет!M1223,0)","v":0}]
[{"$f":"IF(OR(Расчет!A1224>=2000,Расчет!B1224>=2000),Расчет!G1224,0)","v":0},{"$f":"IF(AND(Расчет!A1224<2000,Расчет!B1224<2000),Расчет!G1224,0)","v":0},null,null,{"$f":"IF(OR(Расчет!A1224>=2000,Расчет!B1224>=2000),Расчет!J1224,0)","v":0},{"$f":"IF(AND(Расчет!A1224<2000,Расчет!B1224<2000),Расчет!J1224,0)","v":0},null,null,{"$f":"IF(OR(Расчет!A1224>=2000,Расчет!B1224>=2000),Расчет!M1224,0)","v":0},{"$f":"IF(AND(Расчет!A1224<2000,Расчет!B1224<2000),Расчет!M1224,0)","v":0}]
[{"$f":"IF(OR(Расчет!A1225>=2000,Расчет!B1225>=2000),Расчет!G1225,0)","v":0},{"$f":"IF(AND(Расчет!A1225<2000,Расчет!B1225<2000),Расчет!G1225,0)","v":0},null,null,{"$f":"IF(OR(Расчет!A1225>=2000,Расчет!B1225>=2000),Расчет!J1225,0)","v":0},{"$f":"IF(AND(Расчет!A1225<2000,Расчет!B1225<2000),Расчет!J1225,0)","v":0},null,null,{"$f":"IF(OR(Расчет!A1225>=2000,Расчет!B1225>=2000),Расчет!M1225,0)","v":0},{"$f":"IF(AND(Расчет!A1225<2000,Расчет!B1225<2000),Расчет!M1225,0)","v":0}]
[{"$f":"IF(OR(Расчет!A1226>=2000,Расчет!B1226>=2000),Расчет!G1226,0)","v":0},{"$f":"IF(AND(Расчет!A1226<2000,Расчет!B1226<2000),Расчет!G1226,0)","v":0},null,null,{"$f":"IF(OR(Расчет!A1226>=2000,Расчет!B1226>=2000),Расчет!J1226,0)","v":0},{"$f":"IF(AND(Расчет!A1226<2000,Расчет!B1226<2000),Расчет!J1226,0)","v":0},null,null,{"$f":"IF(OR(Расчет!A1226>=2000,Расчет!B1226>=2000),Расчет!M1226,0)","v":0},{"$f":"IF(AND(Расчет!A1226<2000,Расчет!B1226<2000),Расчет!M1226,0)","v":0}]
[{"$f":"IF(OR(Расчет!A1227>=2000,Расчет!B1227>=2000),Расчет!G1227,0)","v":0},{"$f":"IF(AND(Расчет!A1227<2000,Расчет!B1227<2000),Расчет!G1227,0)","v":0},null,null,{"$f":"IF(OR(Расчет!A1227>=2000,Расчет!B1227>=2000),Расчет!J1227,0)","v":0},{"$f":"IF(AND(Расчет!A1227<2000,Расчет!B1227<2000),Расчет!J1227,0)","v":0},null,null,{"$f":"IF(OR(Расчет!A1227>=2000,Расчет!B1227>=2000),Расчет!M1227,0)","v":0},{"$f":"IF(AND(Расчет!A1227<2000,Расчет!B1227<2000),Расчет!M1227,0)","v":0}]
[{"$f":"IF(OR(Расчет!A1228>=2000,Расчет!B1228>=2000),Расчет!G1228,0)","v":0},{"$f":"IF(AND(Расчет!A1228<2000,Расчет!B1228<2000),Расчет!G1228,0)","v":0},null,null,{"$f":"IF(OR(Расчет!A1228>=2000,Расчет!B1228>=2000),Расчет!J1228,0)","v":0},{"$f":"IF(AND(Расчет!A1228<2000,Расчет!B1228<2000),Расчет!J1228,0)","v":0},null,null,{"$f":"IF(OR(Расчет!A1228>=2000,Расчет!B1228>=2000),Расчет!M1228,0)","v":0},{"$f":"IF(AND(Расчет!A1228<2000,Расчет!B1228<2000),Расчет!M1228,0)","v":0}]
[{"$f":"IF(OR(Расчет!A1229>=2000,Расчет!B1229>=2000),Расчет!G1229,0)","v":0},{"$f":"IF(AND(Расчет!A1229<2000,Расчет!B1229<2000),Расчет!G1229,0)","v":0},null,null,{"$f":"IF(OR(Расчет!A1229>=2000,Расчет!B1229>=2000),Расчет!J1229,0)","v":0},{"$f":"IF(AND(Расчет!A1229<2000,Расчет!B1229<2000),Расчет!J1229,0)","v":0},null,null,{"$f":"IF(OR(Расчет!A1229>=2000,Расчет!B1229>=2000),Расчет!M1229,0)","v":0},{"$f":"IF(AND(Расчет!A1229<2000,Расчет!B1229<2000),Расчет!M1229,0)","v":0}]
[{"$f":"IF(OR(Расчет!A1230>=2000,Расчет!B1230>=2000),Расчет!G1230,0)","v":0},{"$f":"IF(AND(Расчет!A1230<2000,Расчет!B1230<2000),Расчет!G1230,0)","v":0},null,null,{"$f":"IF(OR(Расчет!A1230>=2000,Расчет!B1230>=2000),Расчет!J1230,0)","v":0},{"$f":"IF(AND(Расчет!A1230<2000,Расчет!B1230<2000),Расчет!J1230,0)","v":0},null,null,{"$f":"IF(OR(Расчет!A1230>=2000,Расчет!B1230>=2000),Расчет!M1230,0)","v":0},{"$f":"IF(AND(Расчет!A1230<2000,Расчет!B1230<2000),Расчет!M1230,0)","v":0}]
[{"$f":"IF(OR(Расчет!A1231>=2000,Расчет!B1231>=2000),Расчет!G1231,0)","v":0},{"$f":"IF(AND(Расчет!A1231<2000,Расчет!B1231<2000),Расчет!G1231,0)","v":0},null,null,{"$f":"IF(OR(Расчет!A1231>=2000,Расчет!B1231>=2000),Расчет!J1231,0)","v":0},{"$f":"IF(AND(Расчет!A1231<2000,Расчет!B1231<2000),Расчет!J1231,0)","v":0},null,null,{"$f":"IF(OR(Расчет!A1231>=2000,Расчет!B1231>=2000),Расчет!M1231,0)","v":0},{"$f":"IF(AND(Расчет!A1231<2000,Расчет!B1231<2000),Расчет!M1231,0)","v":0}]
[{"$f":"IF(OR(Расчет!A1232>=2000,Расчет!B1232>=2000),Расчет!G1232,0)","v":0},{"$f":"IF(AND(Расчет!A1232<2000,Расчет!B1232<2000),Расчет!G1232,0)","v":0},null,null,{"$f":"IF(OR(Расчет!A1232>=2000,Расчет!B1232>=2000),Расчет!J1232,0)","v":0},{"$f":"IF(AND(Расчет!A1232<2000,Расчет!B1232<2000),Расчет!J1232,0)","v":0},null,null,{"$f":"IF(OR(Расчет!A1232>=2000,Расчет!B1232>=2000),Расчет!M1232,0)","v":0},{"$f":"IF(AND(Расчет!A1232<2000,Расчет!B1232<2000),Расчет!M1232,0)","v":0}]
[{"$f":"IF(OR(Расчет!A1233>=2000,Расчет!B1233>=2000),Расчет!G1233,0)","v":0},{"$f":"IF(AND(Расчет!A1233<2000,Расчет!B1233<2000),Расчет!G1233,0)","v":0},null,null,{"$f":"IF(OR(Расчет!A1233>=2000,Расчет!B1233>=2000),Расчет!J1233,0)","v":0},{"$f":"IF(AND(Расчет!A1233<2000,Расчет!B1233<2000),Расчет!J1233,0)","v":0},null,null,{"$f":"IF(OR(Расчет!A1233>=2000,Расчет!B1233>=2000),Расчет!M1233,0)","v":0},{"$f":"IF(AND(Расчет!A1233<2000,Расчет!B1233<2000),Расчет!M1233,0)","v":0}]
[{"$f":"IF(OR(Расчет!A1234>=2000,Расчет!B1234>=2000),Расчет!G1234,0)","v":0},{"$f":"IF(AND(Расчет!A1234<2000,Расчет!B1234<2000),Расчет!G1234,0)","v":0},null,null,{"$f":"IF(OR(Расчет!A1234>=2000,Расчет!B1234>=2000),Расчет!J1234,0)","v":0},{"$f":"IF(AND(Расчет!A1234<2000,Расчет!B1234<2000),Расчет!J1234,0)","v":0},null,null,{"$f":"IF(OR(Расчет!A1234>=2000,Расчет!B1234>=2000),Расчет!M1234,0)","v":0},{"$f":"IF(AND(Расчет!A1234<2000,Расчет!B1234<2000),Расчет!M1234,0)","v":0}]
[{"$f":"IF(OR(Расчет!A1235>=2000,Расчет!B1235>=2000),Расчет!G1235,0)","v":0},{"$f":"IF(AND(Расчет!A1235<2000,Расчет!B1235<2000),Расчет!G1235,0)","v":0},null,null,{"$f":"IF(OR(Расчет!A1235>=2000,Расчет!B1235>=2000),Расчет!J1235,0)","v":0},{"$f":"IF(AND(Расчет!A1235<2000,Расчет!B1235<2000),Расчет!J1235,0)","v":0},null,null,{"$f":"IF(OR(Расчет!A1235>=2000,Расчет!B1235>=2000),Расчет!M1235,0)","v":0},{"$f":"IF(AND(Расчет!A1235<2000,Расчет!B1235<2000),Расчет!M1235,0)","v":0}]
[{"$f":"IF(OR(Расчет!A1236>=2000,Расчет!B1236>=2000),Расчет!G1236,0)","v":0},{"$f":"IF(AND(Расчет!A1236<2000,Расчет!B1236<2000),Расчет!G1236,0)","v":0},null,null,{"$f":"IF(OR(Расчет!A1236>=2000,Расчет!B1236>=2000),Расчет!J1236,0)","v":0},{"$f":"IF(AND(Расчет!A1236<2000,Расчет!B1236<2000),Расчет!J1236,0)","v":0},null,null,{"$f":"IF(OR(Расчет!A1236>=2000,Расчет!B1236>=2000),Расчет!M1236,0)","v":0},{"$f":"IF(AND(Расчет!A1236<2000,Расчет!B1236<2000),Расчет!M1236,0)","v":0}]
[{"$f":"IF(OR(Расчет!A1237>=2000,Расчет!B1237>=2000),Расчет!G1237,0)","v":0},{"$f":"IF(AND(Расчет!A1237<2000,Расчет!B1237<2000),Расчет!G1237,0)","v":0},null,null,{"$f":"IF(OR(Расчет!A1237>=2000,Расчет!B1237>=2000),Расчет!J1237,0)","v":0},{"$f":"IF(AND(Расчет!A1237<2000,Расчет!B1237<2000),Расчет!J1237,0)","v":0},null,null,{"$f":"IF(OR(Расчет!A1237>=2000,Расчет!B1237>=2000),Расчет!M1237,0)","v":0},{"$f":"IF(AND(Расчет!A1237<2000,Расчет!B1237<2000),Расчет!M1237,0)","v":0}]
[{"$f":"IF(OR(Расчет!A1238>=2000,Расчет!B1238>=2000),Расчет!G1238,0)","v":0},{"$f":"IF(AND(Расчет!A1238<2000,Расчет!B1238<2000),Расчет!G1238,0)","v":0},null,null,{"$f":"IF(OR(Расчет!A1238>=2000,Расчет!B1238>=2000),Расчет!J1238,0)","v":0},{"$f":"IF(AND(Расчет!A1238<2000,Расчет!B1238<2000),Расчет!J1238,0)","v":0},null,null,{"$f":"IF(OR(Расчет!A1238>=2000,Расчет!B1238>=2000),Расчет!M1238,0)","v":0},{"$f":"IF(AND(Расчет!A1238<2000,Расчет!B1238<2000),Расчет!M1238,0)","v":0}]
[{"$f":"IF(OR(Расчет!A1239>=2000,Расчет!B1239>=2000),Расчет!G1239,0)","v":0},{"$f":"IF(AND(Расчет!A1239<2000,Расчет!B1239<2000),Расчет!G1239,0)","v":0},null,null,{"$f":"IF(OR(Расчет!A1239>=2000,Расчет!B1239>=2000),Расчет!J1239,0)","v":0},{"$f":"IF(AND(Расчет!A1239<2000,Расчет!B1239<2000),Расчет!J1239,0)","v":0},null,null,{"$f":"IF(OR(Расчет!A1239>=2000,Расчет!B1239>=2000),Расчет!M1239,0)","v":0},{"$f":"IF(AND(Расчет!A1239<2000,Расчет!B1239<2000),Расчет!M1239,0)","v":0}]
[{"$f":"IF(OR(Расчет!A1240>=2000,Расчет!B1240>=2000),Расчет!G1240,0)","v":0},{"$f":"IF(AND(Расчет!A1240<2000,Расчет!B1240<2000),Расчет!G1240,0)","v":0},null,null,{"$f":"IF(OR(Расчет!A1240>=2000,Расчет!B1240>=2000),Расчет!J1240,0)","v":0},{"$f":"IF(AND(Расчет!A1240<2000,Расчет!B1240<2000),Расчет!J1240,0)","v":0},null,null,{"$f":"IF(OR(Расчет!A1240>=2000,Расчет!B1240>=2000),Расчет!M1240,0)","v":0},{"$f":"IF(AND(Расчет!A1240<2000,Расчет!B1240<2000),Расчет!M1240,0)","v":0}]
[{"$f":"IF(OR(Расчет!A1241>=2000,Расчет!B1241>=2000),Расчет!G1241,0)","v":0},{"$f":"IF(AND(Расчет!A1241<2000,Расчет!B1241<2000),Расчет!G1241,0)","v":0},null,null,{"$f":"IF(OR(Расчет!A1241>=2000,Расчет!B1241>=2000),Расчет!J1241,0)","v":0},{"$f":"IF(AND(Расчет!A1241<2000,Расчет!B1241<2000),Расчет!J1241,0)","v":0},null,null,{"$f":"IF(OR(Расчет!A1241>=2000,Расчет!B1241>=2000),Расчет!M1241,0)","v":0},{"$f":"IF(AND(Расчет!A1241<2000,Расчет!B1241<2000),Расчет!M1241,0)","v":0}]
[{"$f":"IF(OR(Расчет!A1242>=2000,Расчет!B1242>=2000),Расчет!G1242,0)","v":0},{"$f":"IF(AND(Расчет!A1242<2000,Расчет!B1242<2000),Расчет!G1242,0)","v":0},null,null,{"$f":"IF(OR(Расчет!A1242>=2000,Расчет!B1242>=2000),Расчет!J1242,0)","v":0},{"$f":"IF(AND(Расчет!A1242<2000,Расчет!B1242<2000),Расчет!J1242,0)","v":0},null,null,{"$f":"IF(OR(Расчет!A1242>=2000,Расчет!B1242>=2000),Расчет!M1242,0)","v":0},{"$f":"IF(AND(Расчет!A1242<2000,Расчет!B1242<2000),Расчет!M1242,0)","v":0}]
[{"$f":"IF(OR(Расчет!A1243>=2000,Расчет!B1243>=2000),Расчет!G1243,0)","v":0},{"$f":"IF(AND(Расчет!A1243<2000,Расчет!B1243<2000),Расчет!G1243,0)","v":0},null,null,{"$f":"IF(OR(Расчет!A1243>=2000,Расчет!B1243>=2000),Расчет!J1243,0)","v":0},{"$f":"IF(AND(Расчет!A1243<2000,Расчет!B1243<2000),Расчет!J1243,0)","v":0},null,null,{"$f":"IF(OR(Расчет!A1243>=2000,Расчет!B1243>=2000),Расчет!M1243,0)","v":0},{"$f":"IF(AND(Расчет!A1243<2000,Расчет!B1243<2000),Расчет!M1243,0)","v":0}]
[{"$f":"IF(OR(Расчет!A1244>=2000,Расчет!B1244>=2000),Расчет!G1244,0)","v":0},{"$f":"IF(AND(Расчет!A1244<2000,Расчет!B1244<2000),Расчет!G1244,0)","v":0},null,null,{"$f":"IF(OR(Расчет!A1244>=2000,Расчет!B1244>=2000),Расчет!J1244,0)","v":0},{"$f":"IF(AND(Расчет!A1244<2000,Расчет!B1244<2000),Расчет!J1244,0)","v":0},null,null,{"$f":"IF(OR(Расчет!A1244>=2000,Расчет!B1244>=2000),Расчет!M1244,0)","v":0},{"$f":"IF(AND(Расчет!A1244<2000,Расчет!B1244<2000),Расчет!M1244,0)","v":0}]
[{"$f":"IF(OR(Расчет!A1245>=2000,Расчет!B1245>=2000),Расчет!G1245,0)","v":0},{"$f":"IF(AND(Расчет!A1245<2000,Расчет!B1245<2000),Расчет!G1245,0)","v":0},null,null,{"$f":"IF(OR(Расчет!A1245>=2000,Расчет!B1245>=2000),Расчет!J1245,0)","v":0},{"$f":"IF(AND(Расчет!A1245<2000,Расчет!B1245<2000),Расчет!J1245,0)","v":0},null,null,{"$f":"IF(OR(Расчет!A1245>=2000,Расчет!B1245>=2000),Расчет!M1245,0)","v":0},{"$f":"IF(AND(Расчет!A1245<2000,Расчет!B1245<2000),Расчет!M1245,0)","v":0}]
[{"$f":"IF(OR(Расчет!A1246>=2000,Расчет!B1246>=2000),Расчет!G1246,0)","v":0},{"$f":"IF(AND(Расчет!A1246<2000,Расчет!B1246<2000),Расчет!G1246,0)","v":0},null,null,{"$f":"IF(OR(Расчет!A1246>=2000,Расчет!B1246>=2000),Расчет!J1246,0)","v":0},{"$f":"IF(AND(Расчет!A1246<2000,Расчет!B1246<2000),Расчет!J1246,0)","v":0},null,null,{"$f":"IF(OR(Расчет!A1246>=2000,Расчет!B1246>=2000),Расчет!M1246,0)","v":0},{"$f":"IF(AND(Расчет!A1246<2000,Расчет!B1246<2000),Расчет!M1246,0)","v":0}]
[{"$f":"IF(OR(Расчет!A1247>=2000,Расчет!B1247>=2000),Расчет!G1247,0)","v":0},{"$f":"IF(AND(Расчет!A1247<2000,Расчет!B1247<2000),Расчет!G1247,0)","v":0},null,null,{"$f":"IF(OR(Расчет!A1247>=2000,Расчет!B1247>=2000),Расчет!J1247,0)","v":0},{"$f":"IF(AND(Расчет!A1247<2000,Расчет!B1247<2000),Расчет!J1247,0)","v":0},null,null,{"$f":"IF(OR(Расчет!A1247>=2000,Расчет!B1247>=2000),Расчет!M1247,0)","v":0},{"$f":"IF(AND(Расчет!A1247<2000,Расчет!B1247<2000),Расчет!M1247,0)","v":0}]
[{"$f":"IF(OR(Расчет!A1248>=2000,Расчет!B1248>=2000),Расчет!G1248,0)","v":0},{"$f":"IF(AND(Расчет!A1248<2000,Расчет!B1248<2000),Расчет!G1248,0)","v":0},null,null,{"$f":"IF(OR(Расчет!A1248>=2000,Расчет!B1248>=2000),Расчет!J1248,0)","v":0},{"$f":"IF(AND(Расчет!A1248<2000,Расчет!B1248<2000),Расчет!J1248,0)","v":0},null,null,{"$f":"IF(OR(Расчет!A1248>=2000,Расчет!B1248>=2000),Расчет!M1248,0)","v":0},{"$f":"IF(AND(Расчет!A1248<2000,Расчет!B1248<2000),Расчет!M1248,0)","v":0}]
[{"$f":"IF(OR(Расчет!A1249>=2000,Расчет!B1249>=2000),Расчет!G1249,0)","v":0},{"$f":"IF(AND(Расчет!A1249<2000,Расчет!B1249<2000),Расчет!G1249,0)","v":0},null,null,{"$f":"IF(OR(Расчет!A1249>=2000,Расчет!B1249>=2000),Расчет!J1249,0)","v":0},{"$f":"IF(AND(Расчет!A1249<2000,Расчет!B1249<2000),Расчет!J1249,0)","v":0},null,null,{"$f":"IF(OR(Расчет!A1249>=2000,Расчет!B1249>=2000),Расчет!M1249,0)","v":0},{"$f":"IF(AND(Расчет!A1249<2000,Расчет!B1249<2000),Расчет!M1249,0)","v":0}]
[{"$f":"IF(OR(Расчет!A1250>=2000,Расчет!B1250>=2000),Расчет!G1250,0)","v":0},{"$f":"IF(AND(Расчет!A1250<2000,Расчет!B1250<2000),Расчет!G1250,0)","v":0},null,null,{"$f":"IF(OR(Расчет!A1250>=2000,Расчет!B1250>=2000),Расчет!J1250,0)","v":0},{"$f":"IF(AND(Расчет!A1250<2000,Расчет!B1250<2000),Расчет!J1250,0)","v":0},null,null,{"$f":"IF(OR(Расчет!A1250>=2000,Расчет!B1250>=2000),Расчет!M1250,0)","v":0},{"$f":"IF(AND(Расчет!A1250<2000,Расчет!B1250<2000),Расчет!M1250,0)","v":0}]
[{"$f":"IF(OR(Расчет!A1251>=2000,Расчет!B1251>=2000),Расчет!G1251,0)","v":0},{"$f":"IF(AND(Расчет!A1251<2000,Расчет!B1251<2000),Расчет!G1251,0)","v":0},null,null,{"$f":"IF(OR(Расчет!A1251>=2000,Расчет!B1251>=2000),Расчет!J1251,0)","v":0},{"$f":"IF(AND(Расчет!A1251<2000,Расчет!B1251<2000),Расчет!J1251,0)","v":0},null,null,{"$f":"IF(OR(Расчет!A1251>=2000,Расчет!B1251>=2000),Расчет!M1251,0)","v":0},{"$f":"IF(AND(Расчет!A1251<2000,Расчет!B1251<2000),Расчет!M1251,0)","v":0}]
[{"$f":"IF(OR(Расчет!A1252>=2000,Расчет!B1252>=2000),Расчет!G1252,0)","v":0},{"$f":"IF(AND(Расчет!A1252<2000,Расчет!B1252<2000),Расчет!G1252,0)","v":0},null,null,{"$f":"IF(OR(Расчет!A1252>=2000,Расчет!B1252>=2000),Расчет!J1252,0)","v":0},{"$f":"IF(AND(Расчет!A1252<2000,Расчет!B1252<2000),Расчет!J1252,0)","v":0},null,null,{"$f":"IF(OR(Расчет!A1252>=2000,Расчет!B1252>=2000),Расчет!M1252,0)","v":0},{"$f":"IF(AND(Расчет!A1252<2000,Расчет!B1252<2000),Расчет!M1252,0)","v":0}]
[{"$f":"IF(OR(Расчет!A1253>=2000,Расчет!B1253>=2000),Расчет!G1253,0)","v":0},{"$f":"IF(AND(Расчет!A1253<2000,Расчет!B1253<2000),Расчет!G1253,0)","v":0},null,null,{"$f":"IF(OR(Расчет!A1253>=2000,Расчет!B1253>=2000),Расчет!J1253,0)","v":0},{"$f":"IF(AND(Расчет!A1253<2000,Расчет!B1253<2000),Расчет!J1253,0)","v":0},null,null,{"$f":"IF(OR(Расчет!A1253>=2000,Расчет!B1253>=2000),Расчет!M1253,0)","v":0},{"$f":"IF(AND(Расчет!A1253<2000,Расчет!B1253<2000),Расчет!M1253,0)","v":0}]
[{"$f":"IF(OR(Расчет!A1254>=2000,Расчет!B1254>=2000),Расчет!G1254,0)","v":0},{"$f":"IF(AND(Расчет!A1254<2000,Расчет!B1254<2000),Расчет!G1254,0)","v":0},null,null,{"$f":"IF(OR(Расчет!A1254>=2000,Расчет!B1254>=2000),Расчет!J1254,0)","v":0},{"$f":"IF(AND(Расчет!A1254<2000,Расчет!B1254<2000),Расчет!J1254,0)","v":0},null,null,{"$f":"IF(OR(Расчет!A1254>=2000,Расчет!B1254>=2000),Расчет!M1254,0)","v":0},{"$f":"IF(AND(Расчет!A1254<2000,Расчет!B1254<2000),Расчет!M1254,0)","v":0}]
[{"$f":"IF(OR(Расчет!A1255>=2000,Расчет!B1255>=2000),Расчет!G1255,0)","v":0},{"$f":"IF(AND(Расчет!A1255<2000,Расчет!B1255<2000),Расчет!G1255,0)","v":0},null,null,{"$f":"IF(OR(Расчет!A1255>=2000,Расчет!B1255>=2000),Расчет!J1255,0)","v":0},{"$f":"IF(AND(Расчет!A1255<2000,Расчет!B1255<2000),Расчет!J1255,0)","v":0},null,null,{"$f":"IF(OR(Расчет!A1255>=2000,Расчет!B1255>=2000),Расчет!M1255,0)","v":0},{"$f":"IF(AND(Расчет!A1255<2000,Расчет!B1255<2000),Расчет!M1255,0)","v":0}]
[{"$f":"IF(OR(Расчет!A1256>=2000,Расчет!B1256>=2000),Расчет!G1256,0)","v":0},{"$f":"IF(AND(Расчет!A1256<2000,Расчет!B1256<2000),Расчет!G1256,0)","v":0},null,null,{"$f":"IF(OR(Расчет!A1256>=2000,Расчет!B1256>=2000),Расчет!J1256,0)","v":0},{"$f":"IF(AND(Расчет!A1256<2000,Расчет!B1256<2000),Расчет!J1256,0)","v":0},null,null,{"$f":"IF(OR(Расчет!A1256>=2000,Расчет!B1256>=2000),Расчет!M1256,0)","v":0},{"$f":"IF(AND(Расчет!A1256<2000,Расчет!B1256<2000),Расчет!M1256,0)","v":0}]
[{"$f":"IF(OR(Расчет!A1257>=2000,Расчет!B1257>=2000),Расчет!G1257,0)","v":0},{"$f":"IF(AND(Расчет!A1257<2000,Расчет!B1257<2000),Расчет!G1257,0)","v":0},null,null,{"$f":"IF(OR(Расчет!A1257>=2000,Расчет!B1257>=2000),Расчет!J1257,0)","v":0},{"$f":"IF(AND(Расчет!A1257<2000,Расчет!B1257<2000),Расчет!J1257,0)","v":0},null,null,{"$f":"IF(OR(Расчет!A1257>=2000,Расчет!B1257>=2000),Расчет!M1257,0)","v":0},{"$f":"IF(AND(Расчет!A1257<2000,Расчет!B1257<2000),Расчет!M1257,0)","v":0}]
[{"$f":"IF(OR(Расчет!A1258>=2000,Расчет!B1258>=2000),Расчет!G1258,0)","v":0},{"$f":"IF(AND(Расчет!A1258<2000,Расчет!B1258<2000),Расчет!G1258,0)","v":0},null,null,{"$f":"IF(OR(Расчет!A1258>=2000,Расчет!B1258>=2000),Расчет!J1258,0)","v":0},{"$f":"IF(AND(Расчет!A1258<2000,Расчет!B1258<2000),Расчет!J1258,0)","v":0},null,null,{"$f":"IF(OR(Расчет!A1258>=2000,Расчет!B1258>=2000),Расчет!M1258,0)","v":0},{"$f":"IF(AND(Расчет!A1258<2000,Расчет!B1258<2000),Расчет!M1258,0)","v":0}]
[{"$f":"IF(OR(Расчет!A1259>=2000,Расчет!B1259>=2000),Расчет!G1259,0)","v":0},{"$f":"IF(AND(Расчет!A1259<2000,Расчет!B1259<2000),Расчет!G1259,0)","v":0},null,null,{"$f":"IF(OR(Расчет!A1259>=2000,Расчет!B1259>=2000),Расчет!J1259,0)","v":0},{"$f":"IF(AND(Расчет!A1259<2000,Расчет!B1259<2000),Расчет!J1259,0)","v":0},null,null,{"$f":"IF(OR(Расчет!A1259>=2000,Расчет!B1259>=2000),Расчет!M1259,0)","v":0},{"$f":"IF(AND(Расчет!A1259<2000,Расчет!B1259<2000),Расчет!M1259,0)","v":0}]
[{"$f":"IF(OR(Расчет!A1260>=2000,Расчет!B1260>=2000),Расчет!G1260,0)","v":0},{"$f":"IF(AND(Расчет!A1260<2000,Расчет!B1260<2000),Расчет!G1260,0)","v":0},null,null,{"$f":"IF(OR(Расчет!A1260>=2000,Расчет!B1260>=2000),Расчет!J1260,0)","v":0},{"$f":"IF(AND(Расчет!A1260<2000,Расчет!B1260<2000),Расчет!J1260,0)","v":0},null,null,{"$f":"IF(OR(Расчет!A1260>=2000,Расчет!B1260>=2000),Расчет!M1260,0)","v":0},{"$f":"IF(AND(Расчет!A1260<2000,Расчет!B1260<2000),Расчет!M1260,0)","v":0}]
[{"$f":"IF(OR(Расчет!A1261>=2000,Расчет!B1261>=2000),Расчет!G1261,0)","v":0},{"$f":"IF(AND(Расчет!A1261<2000,Расчет!B1261<2000),Расчет!G1261,0)","v":0},null,null,{"$f":"IF(OR(Расчет!A1261>=2000,Расчет!B1261>=2000),Расчет!J1261,0)","v":0},{"$f":"IF(AND(Расчет!A1261<2000,Расчет!B1261<2000),Расчет!J1261,0)","v":0},null,null,{"$f":"IF(OR(Расчет!A1261>=2000,Расчет!B1261>=2000),Расчет!M1261,0)","v":0},{"$f":"IF(AND(Расчет!A1261<2000,Расчет!B1261<2000),Расчет!M1261,0)","v":0}]
[{"$f":"IF(OR(Расчет!A1262>=2000,Расчет!B1262>=2000),Расчет!G1262,0)","v":0},{"$f":"IF(AND(Расчет!A1262<2000,Расчет!B1262<2000),Расчет!G1262,0)","v":0},null,null,{"$f":"IF(OR(Расчет!A1262>=2000,Расчет!B1262>=2000),Расчет!J1262,0)","v":0},{"$f":"IF(AND(Расчет!A1262<2000,Расчет!B1262<2000),Расчет!J1262,0)","v":0},null,null,{"$f":"IF(OR(Расчет!A1262>=2000,Расчет!B1262>=2000),Расчет!M1262,0)","v":0},{"$f":"IF(AND(Расчет!A1262<2000,Расчет!B1262<2000),Расчет!M1262,0)","v":0}]
[{"$f":"IF(OR(Расчет!A1263>=2000,Расчет!B1263>=2000),Расчет!G1263,0)","v":0},{"$f":"IF(AND(Расчет!A1263<2000,Расчет!B1263<2000),Расчет!G1263,0)","v":0},null,null,{"$f":"IF(OR(Расчет!A1263>=2000,Расчет!B1263>=2000),Расчет!J1263,0)","v":0},{"$f":"IF(AND(Расчет!A1263<2000,Расчет!B1263<2000),Расчет!J1263,0)","v":0},null,null,{"$f":"IF(OR(Расчет!A1263>=2000,Расчет!B1263>=2000),Расчет!M1263,0)","v":0},{"$f":"IF(AND(Расчет!A1263<2000,Расчет!B1263<2000),Расчет!M1263,0)","v":0}]
[{"$f":"IF(OR(Расчет!A1264>=2000,Расчет!B1264>=2000),Расчет!G1264,0)","v":0},{"$f":"IF(AND(Расчет!A1264<2000,Расчет!B1264<2000),Расчет!G1264,0)","v":0},null,null,{"$f":"IF(OR(Расчет!A1264>=2000,Расчет!B1264>=2000),Расчет!J1264,0)","v":0},{"$f":"IF(AND(Расчет!A1264<2000,Расчет!B1264<2000),Расчет!J1264,0)","v":0},null,null,{"$f":"IF(OR(Расчет!A1264>=2000,Расчет!B1264>=2000),Расчет!M1264,0)","v":0},{"$f":"IF(AND(Расчет!A1264<2000,Расчет!B1264<2000),Расчет!M1264,0)","v":0}]
[{"$f":"IF(OR(Расчет!A1265>=2000,Расчет!B1265>=2000),Расчет!G1265,0)","v":0},{"$f":"IF(AND(Расчет!A1265<2000,Расчет!B1265<2000),Расчет!G1265,0)","v":0},null,null,{"$f":"IF(OR(Расчет!A1265>=2000,Расчет!B1265>=2000),Расчет!J1265,0)","v":0},{"$f":"IF(AND(Расчет!A1265<2000,Расчет!B1265<2000),Расчет!J1265,0)","v":0},null,null,{"$f":"IF(OR(Расчет!A1265>=2000,Расчет!B1265>=2000),Расчет!M1265,0)","v":0},{"$f":"IF(AND(Расчет!A1265<2000,Расчет!B1265<2000),Расчет!M1265,0)","v":0}]
[{"$f":"IF(OR(Расчет!A1266>=2000,Расчет!B1266>=2000),Расчет!G1266,0)","v":0},{"$f":"IF(AND(Расчет!A1266<2000,Расчет!B1266<2000),Расчет!G1266,0)","v":0},null,null,{"$f":"IF(OR(Расчет!A1266>=2000,Расчет!B1266>=2000),Расчет!J1266,0)","v":0},{"$f":"IF(AND(Расчет!A1266<2000,Расчет!B1266<2000),Расчет!J1266,0)","v":0},null,null,{"$f":"IF(OR(Расчет!A1266>=2000,Расчет!B1266>=2000),Расчет!M1266,0)","v":0},{"$f":"IF(AND(Расчет!A1266<2000,Расчет!B1266<2000),Расчет!M1266,0)","v":0}]
[{"$f":"IF(OR(Расчет!A1267>=2000,Расчет!B1267>=2000),Расчет!G1267,0)","v":0},{"$f":"IF(AND(Расчет!A1267<2000,Расчет!B1267<2000),Расчет!G1267,0)","v":0},null,null,{"$f":"IF(OR(Расчет!A1267>=2000,Расчет!B1267>=2000),Расчет!J1267,0)","v":0},{"$f":"IF(AND(Расчет!A1267<2000,Расчет!B1267<2000),Расчет!J1267,0)","v":0},null,null,{"$f":"IF(OR(Расчет!A1267>=2000,Расчет!B1267>=2000),Расчет!M1267,0)","v":0},{"$f":"IF(AND(Расчет!A1267<2000,Расчет!B1267<2000),Расчет!M1267,0)","v":0}]
[{"$f":"IF(OR(Расчет!A1268>=2000,Расчет!B1268>=2000),Расчет!G1268,0)","v":0},{"$f":"IF(AND(Расчет!A1268<2000,Расчет!B1268<2000),Расчет!G1268,0)","v":0},null,null,{"$f":"IF(OR(Расчет!A1268>=2000,Расчет!B1268>=2000),Расчет!J1268,0)","v":0},{"$f":"IF(AND(Расчет!A1268<2000,Расчет!B1268<2000),Расчет!J1268,0)","v":0},null,null,{"$f":"IF(OR(Расчет!A1268>=2000,Расчет!B1268>=2000),Расчет!M1268,0)","v":0},{"$f":"IF(AND(Расчет!A1268<2000,Расчет!B1268<2000),Расчет!M1268,0)","v":0}]
[{"$f":"IF(OR(Расчет!A1269>=2000,Расчет!B1269>=2000),Расчет!G1269,0)","v":0},{"$f":"IF(AND(Расчет!A1269<2000,Расчет!B1269<2000),Расчет!G1269,0)","v":0},null,null,{"$f":"IF(OR(Расчет!A1269>=2000,Расчет!B1269>=2000),Расчет!J1269,0)","v":0},{"$f":"IF(AND(Расчет!A1269<2000,Расчет!B1269<2000),Расчет!J1269,0)","v":0},null,null,{"$f":"IF(OR(Расчет!A1269>=2000,Расчет!B1269>=2000),Расчет!M1269,0)","v":0},{"$f":"IF(AND(Расчет!A1269<2000,Расчет!B1269<2000),Расчет!M1269,0)","v":0}]
[{"$f":"IF(OR(Расчет!A1270>=2000,Расчет!B1270>=2000),Расчет!G1270,0)","v":0},{"$f":"IF(AND(Расчет!A1270<2000,Расчет!B1270<2000),Расчет!G1270,0)","v":0},null,null,{"$f":"IF(OR(Расчет!A1270>=2000,Расчет!B1270>=2000),Расчет!J1270,0)","v":0},{"$f":"IF(AND(Расчет!A1270<2000,Расчет!B1270<2000),Расчет!J1270,0)","v":0},null,null,{"$f":"IF(OR(Расчет!A1270>=2000,Расчет!B1270>=2000),Расчет!M1270,0)","v":0},{"$f":"IF(AND(Расчет!A1270<2000,Расчет!B1270<2000),Расчет!M1270,0)","v":0}]
[{"$f":"IF(OR(Расчет!A1271>=2000,Расчет!B1271>=2000),Расчет!G1271,0)","v":0},{"$f":"IF(AND(Расчет!A1271<2000,Расчет!B1271<2000),Расчет!G1271,0)","v":0},null,null,{"$f":"IF(OR(Расчет!A1271>=2000,Расчет!B1271>=2000),Расчет!J1271,0)","v":0},{"$f":"IF(AND(Расчет!A1271<2000,Расчет!B1271<2000),Расчет!J1271,0)","v":0},null,null,{"$f":"IF(OR(Расчет!A1271>=2000,Расчет!B1271>=2000),Расчет!M1271,0)","v":0},{"$f":"IF(AND(Расчет!A1271<2000,Расчет!B1271<2000),Расчет!M1271,0)","v":0}]
[{"$f":"IF(OR(Расчет!A1272>=2000,Расчет!B1272>=2000),Расчет!G1272,0)","v":0},{"$f":"IF(AND(Расчет!A1272<2000,Расчет!B1272<2000),Расчет!G1272,0)","v":0},null,null,{"$f":"IF(OR(Расчет!A1272>=2000,Расчет!B1272>=2000),Расчет!J1272,0)","v":0},{"$f":"IF(AND(Расчет!A1272<2000,Расчет!B1272<2000),Расчет!J1272,0)","v":0},null,null,{"$f":"IF(OR(Расчет!A1272>=2000,Расчет!B1272>=2000),Расчет!M1272,0)","v":0},{"$f":"IF(AND(Расчет!A1272<2000,Расчет!B1272<2000),Расчет!M1272,0)","v":0}]
[{"$f":"IF(OR(Расчет!A1273>=2000,Расчет!B1273>=2000),Расчет!G1273,0)","v":0},{"$f":"IF(AND(Расчет!A1273<2000,Расчет!B1273<2000),Расчет!G1273,0)","v":0},null,null,{"$f":"IF(OR(Расчет!A1273>=2000,Расчет!B1273>=2000),Расчет!J1273,0)","v":0},{"$f":"IF(AND(Расчет!A1273<2000,Расчет!B1273<2000),Расчет!J1273,0)","v":0},null,null,{"$f":"IF(OR(Расчет!A1273>=2000,Расчет!B1273>=2000),Расчет!M1273,0)","v":0},{"$f":"IF(AND(Расчет!A1273<2000,Расчет!B1273<2000),Расчет!M1273,0)","v":0}]
[{"$f":"IF(OR(Расчет!A1274>=2000,Расчет!B1274>=2000),Расчет!G1274,0)","v":0},{"$f":"IF(AND(Расчет!A1274<2000,Расчет!B1274<2000),Расчет!G1274,0)","v":0},null,null,{"$f":"IF(OR(Расчет!A1274>=2000,Расчет!B1274>=2000),Расчет!J1274,0)","v":0},{"$f":"IF(AND(Расчет!A1274<2000,Расчет!B1274<2000),Расчет!J1274,0)","v":0},null,null,{"$f":"IF(OR(Расчет!A1274>=2000,Расчет!B1274>=2000),Расчет!M1274,0)","v":0},{"$f":"IF(AND(Расчет!A1274<2000,Расчет!B1274<2000),Расчет!M1274,0)","v":0}]
[{"$f":"IF(OR(Расчет!A1275>=2000,Расчет!B1275>=2000),Расчет!G1275,0)","v":0},{"$f":"IF(AND(Расчет!A1275<2000,Расчет!B1275<2000),Расчет!G1275,0)","v":0},null,null,{"$f":"IF(OR(Расчет!A1275>=2000,Расчет!B1275>=2000),Расчет!J1275,0)","v":0},{"$f":"IF(AND(Расчет!A1275<2000,Расчет!B1275<2000),Расчет!J1275,0)","v":0},null,null,{"$f":"IF(OR(Расчет!A1275>=2000,Расчет!B1275>=2000),Расчет!M1275,0)","v":0},{"$f":"IF(AND(Расчет!A1275<2000,Расчет!B1275<2000),Расчет!M1275,0)","v":0}]
[{"$f":"IF(OR(Расчет!A1276>=2000,Расчет!B1276>=2000),Расчет!G1276,0)","v":0},{"$f":"IF(AND(Расчет!A1276<2000,Расчет!B1276<2000),Расчет!G1276,0)","v":0},null,null,{"$f":"IF(OR(Расчет!A1276>=2000,Расчет!B1276>=2000),Расчет!J1276,0)","v":0},{"$f":"IF(AND(Расчет!A1276<2000,Расчет!B1276<2000),Расчет!J1276,0)","v":0},null,null,{"$f":"IF(OR(Расчет!A1276>=2000,Расчет!B1276>=2000),Расчет!M1276,0)","v":0},{"$f":"IF(AND(Расчет!A1276<2000,Расчет!B1276<2000),Расчет!M1276,0)","v":0}]
[{"$f":"IF(OR(Расчет!A1277>=2000,Расчет!B1277>=2000),Расчет!G1277,0)","v":0},{"$f":"IF(AND(Расчет!A1277<2000,Расчет!B1277<2000),Расчет!G1277,0)","v":0},null,null,{"$f":"IF(OR(Расчет!A1277>=2000,Расчет!B1277>=2000),Расчет!J1277,0)","v":0},{"$f":"IF(AND(Расчет!A1277<2000,Расчет!B1277<2000),Расчет!J1277,0)","v":0},null,null,{"$f":"IF(OR(Расчет!A1277>=2000,Расчет!B1277>=2000),Расчет!M1277,0)","v":0},{"$f":"IF(AND(Расчет!A1277<2000,Расчет!B1277<2000),Расчет!M1277,0)","v":0}]
[{"$f":"IF(OR(Расчет!A1278>=2000,Расчет!B1278>=2000),Расчет!G1278,0)","v":0},{"$f":"IF(AND(Расчет!A1278<2000,Расчет!B1278<2000),Расчет!G1278,0)","v":0},null,null,{"$f":"IF(OR(Расчет!A1278>=2000,Расчет!B1278>=2000),Расчет!J1278,0)","v":0},{"$f":"IF(AND(Расчет!A1278<2000,Расчет!B1278<2000),Расчет!J1278,0)","v":0},null,null,{"$f":"IF(OR(Расчет!A1278>=2000,Расчет!B1278>=2000),Расчет!M1278,0)","v":0},{"$f":"IF(AND(Расчет!A1278<2000,Расчет!B1278<2000),Расчет!M1278,0)","v":0}]
[{"$f":"IF(OR(Расчет!A1279>=2000,Расчет!B1279>=2000),Расчет!G1279,0)","v":0},{"$f":"IF(AND(Расчет!A1279<2000,Расчет!B1279<2000),Расчет!G1279,0)","v":0},null,null,{"$f":"IF(OR(Расчет!A1279>=2000,Расчет!B1279>=2000),Расчет!J1279,0)","v":0},{"$f":"IF(AND(Расчет!A1279<2000,Расчет!B1279<2000),Расчет!J1279,0)","v":0},null,null,{"$f":"IF(OR(Расчет!A1279>=2000,Расчет!B1279>=2000),Расчет!M1279,0)","v":0},{"$f":"IF(AND(Расчет!A1279<2000,Расчет!B1279<2000),Расчет!M1279,0)","v":0}]
[{"$f":"IF(OR(Расчет!A1280>=2000,Расчет!B1280>=2000),Расчет!G1280,0)","v":0},{"$f":"IF(AND(Расчет!A1280<2000,Расчет!B1280<2000),Расчет!G1280,0)","v":0},null,null,{"$f":"IF(OR(Расчет!A1280>=2000,Расчет!B1280>=2000),Расчет!J1280,0)","v":0},{"$f":"IF(AND(Расчет!A1280<2000,Расчет!B1280<2000),Расчет!J1280,0)","v":0},null,null,{"$f":"IF(OR(Расчет!A1280>=2000,Расчет!B1280>=2000),Расчет!M1280,0)","v":0},{"$f":"IF(AND(Расчет!A1280<2000,Расчет!B1280<2000),Расчет!M1280,0)","v":0}]
[{"$f":"IF(OR(Расчет!A1281>=2000,Расчет!B1281>=2000),Расчет!G1281,0)","v":0},{"$f":"IF(AND(Расчет!A1281<2000,Расчет!B1281<2000),Расчет!G1281,0)","v":0},null,null,{"$f":"IF(OR(Расчет!A1281>=2000,Расчет!B1281>=2000),Расчет!J1281,0)","v":0},{"$f":"IF(AND(Расчет!A1281<2000,Расчет!B1281<2000),Расчет!J1281,0)","v":0},null,null,{"$f":"IF(OR(Расчет!A1281>=2000,Расчет!B1281>=2000),Расчет!M1281,0)","v":0},{"$f":"IF(AND(Расчет!A1281<2000,Расчет!B1281<2000),Расчет!M1281,0)","v":0}]
[{"$f":"IF(OR(Расчет!A1282>=2000,Расчет!B1282>=2000),Расчет!G1282,0)","v":0},{"$f":"IF(AND(Расчет!A1282<2000,Расчет!B1282<2000),Расчет!G1282,0)","v":0},null,null,{"$f":"IF(OR(Расчет!A1282>=2000,Расчет!B1282>=2000),Расчет!J1282,0)","v":0},{"$f":"IF(AND(Расчет!A1282<2000,Расчет!B1282<2000),Расчет!J1282,0)","v":0},null,null,{"$f":"IF(OR(Расчет!A1282>=2000,Расчет!B1282>=2000),Расчет!M1282,0)","v":0},{"$f":"IF(AND(Расчет!A1282<2000,Расчет!B1282<2000),Расчет!M1282,0)","v":0}]
[{"$f":"IF(OR(Расчет!A1283>=2000,Расчет!B1283>=2000),Расчет!G1283,0)","v":0},{"$f":"IF(AND(Расчет!A1283<2000,Расчет!B1283<2000),Расчет!G1283,0)","v":0},null,null,{"$f":"IF(OR(Расчет!A1283>=2000,Расчет!B1283>=2000),Расчет!J1283,0)","v":0},{"$f":"IF(AND(Расчет!A1283<2000,Расчет!B1283<2000),Расчет!J1283,0)","v":0},null,null,{"$f":"IF(OR(Расчет!A1283>=2000,Расчет!B1283>=2000),Расчет!M1283,0)","v":0},{"$f":"IF(AND(Расчет!A1283<2000,Расчет!B1283<2000),Расчет!M1283,0)","v":0}]
[{"$f":"IF(OR(Расчет!A1284>=2000,Расчет!B1284>=2000),Расчет!G1284,0)","v":0},{"$f":"IF(AND(Расчет!A1284<2000,Расчет!B1284<2000),Расчет!G1284,0)","v":0},null,null,{"$f":"IF(OR(Расчет!A1284>=2000,Расчет!B1284>=2000),Расчет!J1284,0)","v":0},{"$f":"IF(AND(Расчет!A1284<2000,Расчет!B1284<2000),Расчет!J1284,0)","v":0},null,null,{"$f":"IF(OR(Расчет!A1284>=2000,Расчет!B1284>=2000),Расчет!M1284,0)","v":0},{"$f":"IF(AND(Расчет!A1284<2000,Расчет!B1284<2000),Расчет!M1284,0)","v":0}]
[{"$f":"IF(OR(Расчет!A1285>=2000,Расчет!B1285>=2000),Расчет!G1285,0)","v":0},{"$f":"IF(AND(Расчет!A1285<2000,Расчет!B1285<2000),Расчет!G1285,0)","v":0},null,null,{"$f":"IF(OR(Расчет!A1285>=2000,Расчет!B1285>=2000),Расчет!J1285,0)","v":0},{"$f":"IF(AND(Расчет!A1285<2000,Расчет!B1285<2000),Расчет!J1285,0)","v":0},null,null,{"$f":"IF(OR(Расчет!A1285>=2000,Расчет!B1285>=2000),Расчет!M1285,0)","v":0},{"$f":"IF(AND(Расчет!A1285<2000,Расчет!B1285<2000),Расчет!M1285,0)","v":0}]
[{"$f":"IF(OR(Расчет!A1286>=2000,Расчет!B1286>=2000),Расчет!G1286,0)","v":0},{"$f":"IF(AND(Расчет!A1286<2000,Расчет!B1286<2000),Расчет!G1286,0)","v":0},null,null,{"$f":"IF(OR(Расчет!A1286>=2000,Расчет!B1286>=2000),Расчет!J1286,0)","v":0},{"$f":"IF(AND(Расчет!A1286<2000,Расчет!B1286<2000),Расчет!J1286,0)","v":0},null,null,{"$f":"IF(OR(Расчет!A1286>=2000,Расчет!B1286>=2000),Расчет!M1286,0)","v":0},{"$f":"IF(AND(Расчет!A1286<2000,Расчет!B1286<2000),Расчет!M1286,0)","v":0}]
[{"$f":"IF(OR(Расчет!A1287>=2000,Расчет!B1287>=2000),Расчет!G1287,0)","v":0},{"$f":"IF(AND(Расчет!A1287<2000,Расчет!B1287<2000),Расчет!G1287,0)","v":0},null,null,{"$f":"IF(OR(Расчет!A1287>=2000,Расчет!B1287>=2000),Расчет!J1287,0)","v":0},{"$f":"IF(AND(Расчет!A1287<2000,Расчет!B1287<2000),Расчет!J1287,0)","v":0},null,null,{"$f":"IF(OR(Расчет!A1287>=2000,Расчет!B1287>=2000),Расчет!M1287,0)","v":0},{"$f":"IF(AND(Расчет!A1287<2000,Расчет!B1287<2000),Расчет!M1287,0)","v":0}]
[{"$f":"IF(OR(Расчет!A1288>=2000,Расчет!B1288>=2000),Расчет!G1288,0)","v":0},{"$f":"IF(AND(Расчет!A1288<2000,Расчет!B1288<2000),Расчет!G1288,0)","v":0},null,null,{"$f":"IF(OR(Расчет!A1288>=2000,Расчет!B1288>=2000),Расчет!J1288,0)","v":0},{"$f":"IF(AND(Расчет!A1288<2000,Расчет!B1288<2000),Расчет!J1288,0)","v":0},null,null,{"$f":"IF(OR(Расчет!A1288>=2000,Расчет!B1288>=2000),Расчет!M1288,0)","v":0},{"$f":"IF(AND(Расчет!A1288<2000,Расчет!B1288<2000),Расчет!M1288,0)","v":0}]
[{"$f":"IF(OR(Расчет!A1289>=2000,Расчет!B1289>=2000),Расчет!G1289,0)","v":0},{"$f":"IF(AND(Расчет!A1289<2000,Расчет!B1289<2000),Расчет!G1289,0)","v":0},null,null,{"$f":"IF(OR(Расчет!A1289>=2000,Расчет!B1289>=2000),Расчет!J1289,0)","v":0},{"$f":"IF(AND(Расчет!A1289<2000,Расчет!B1289<2000),Расчет!J1289,0)","v":0},null,null,{"$f":"IF(OR(Расчет!A1289>=2000,Расчет!B1289>=2000),Расчет!M1289,0)","v":0},{"$f":"IF(AND(Расчет!A1289<2000,Расчет!B1289<2000),Расчет!M1289,0)","v":0}]
[{"$f":"IF(OR(Расчет!A1290>=2000,Расчет!B1290>=2000),Расчет!G1290,0)","v":0},{"$f":"IF(AND(Расчет!A1290<2000,Расчет!B1290<2000),Расчет!G1290,0)","v":0},null,null,{"$f":"IF(OR(Расчет!A1290>=2000,Расчет!B1290>=2000),Расчет!J1290,0)","v":0},{"$f":"IF(AND(Расчет!A1290<2000,Расчет!B1290<2000),Расчет!J1290,0)","v":0},null,null,{"$f":"IF(OR(Расчет!A1290>=2000,Расчет!B1290>=2000),Расчет!M1290,0)","v":0},{"$f":"IF(AND(Расчет!A1290<2000,Расчет!B1290<2000),Расчет!M1290,0)","v":0}]
[{"$f":"IF(OR(Расчет!A1291>=2000,Расчет!B1291>=2000),Расчет!G1291,0)","v":0},{"$f":"IF(AND(Расчет!A1291<2000,Расчет!B1291<2000),Расчет!G1291,0)","v":0},null,null,{"$f":"IF(OR(Расчет!A1291>=2000,Расчет!B1291>=2000),Расчет!J1291,0)","v":0},{"$f":"IF(AND(Расчет!A1291<2000,Расчет!B1291<2000),Расчет!J1291,0)","v":0},null,null,{"$f":"IF(OR(Расчет!A1291>=2000,Расчет!B1291>=2000),Расчет!M1291,0)","v":0},{"$f":"IF(AND(Расчет!A1291<2000,Расчет!B1291<2000),Расчет!M1291,0)","v":0}]
[{"$f":"IF(OR(Расчет!A1292>=2000,Расчет!B1292>=2000),Расчет!G1292,0)","v":0},{"$f":"IF(AND(Расчет!A1292<2000,Расчет!B1292<2000),Расчет!G1292,0)","v":0},null,null,{"$f":"IF(OR(Расчет!A1292>=2000,Расчет!B1292>=2000),Расчет!J1292,0)","v":0},{"$f":"IF(AND(Расчет!A1292<2000,Расчет!B1292<2000),Расчет!J1292,0)","v":0},null,null,{"$f":"IF(OR(Расчет!A1292>=2000,Расчет!B1292>=2000),Расчет!M1292,0)","v":0},{"$f":"IF(AND(Расчет!A1292<2000,Расчет!B1292<2000),Расчет!M1292,0)","v":0}]
[{"$f":"IF(OR(Расчет!A1293>=2000,Расчет!B1293>=2000),Расчет!G1293,0)","v":0},{"$f":"IF(AND(Расчет!A1293<2000,Расчет!B1293<2000),Расчет!G1293,0)","v":0},null,null,{"$f":"IF(OR(Расчет!A1293>=2000,Расчет!B1293>=2000),Расчет!J1293,0)","v":0},{"$f":"IF(AND(Расчет!A1293<2000,Расчет!B1293<2000),Расчет!J1293,0)","v":0},null,null,{"$f":"IF(OR(Расчет!A1293>=2000,Расчет!B1293>=2000),Расчет!M1293,0)","v":0},{"$f":"IF(AND(Расчет!A1293<2000,Расчет!B1293<2000),Расчет!M1293,0)","v":0}]
[{"$f":"IF(OR(Расчет!A1294>=2000,Расчет!B1294>=2000),Расчет!G1294,0)","v":0},{"$f":"IF(AND(Расчет!A1294<2000,Расчет!B1294<2000),Расчет!G1294,0)","v":0},null,null,{"$f":"IF(OR(Расчет!A1294>=2000,Расчет!B1294>=2000),Расчет!J1294,0)","v":0},{"$f":"IF(AND(Расчет!A1294<2000,Расчет!B1294<2000),Расчет!J1294,0)","v":0},null,null,{"$f":"IF(OR(Расчет!A1294>=2000,Расчет!B1294>=2000),Расчет!M1294,0)","v":0},{"$f":"IF(AND(Расчет!A1294<2000,Расчет!B1294<2000),Расчет!M1294,0)","v":0}]
[{"$f":"IF(OR(Расчет!A1295>=2000,Расчет!B1295>=2000),Расчет!G1295,0)","v":0},{"$f":"IF(AND(Расчет!A1295<2000,Расчет!B1295<2000),Расчет!G1295,0)","v":0},null,null,{"$f":"IF(OR(Расчет!A1295>=2000,Расчет!B1295>=2000),Расчет!J1295,0)","v":0},{"$f":"IF(AND(Расчет!A1295<2000,Расчет!B1295<2000),Расчет!J1295,0)","v":0},null,null,{"$f":"IF(OR(Расчет!A1295>=2000,Расчет!B1295>=2000),Расчет!M1295,0)","v":0},{"$f":"IF(AND(Расчет!A1295<2000,Расчет!B1295<2000),Расчет!M1295,0)","v":0}]
[{"$f":"IF(OR(Расчет!A1296>=2000,Расчет!B1296>=2000),Расчет!G1296,0)","v":0},{"$f":"IF(AND(Расчет!A1296<2000,Расчет!B1296<2000),Расчет!G1296,0)","v":0},null,null,{"$f":"IF(OR(Расчет!A1296>=2000,Расчет!B1296>=2000),Расчет!J1296,0)","v":0},{"$f":"IF(AND(Расчет!A1296<2000,Расчет!B1296<2000),Расчет!J1296,0)","v":0},null,null,{"$f":"IF(OR(Расчет!A1296>=2000,Расчет!B1296>=2000),Расчет!M1296,0)","v":0},{"$f":"IF(AND(Расчет!A1296<2000,Расчет!B1296<2000),Расчет!M1296,0)","v":0}]
[{"$f":"IF(OR(Расчет!A1297>=2000,Расчет!B1297>=2000),Расчет!G1297,0)","v":0},{"$f":"IF(AND(Расчет!A1297<2000,Расчет!B1297<2000),Расчет!G1297,0)","v":0},null,null,{"$f":"IF(OR(Расчет!A1297>=2000,Расчет!B1297>=2000),Расчет!J1297,0)","v":0},{"$f":"IF(AND(Расчет!A1297<2000,Расчет!B1297<2000),Расчет!J1297,0)","v":0},null,null,{"$f":"IF(OR(Расчет!A1297>=2000,Расчет!B1297>=2000),Расчет!M1297,0)","v":0},{"$f":"IF(AND(Расчет!A1297<2000,Расчет!B1297<2000),Расчет!M1297,0)","v":0}]
[{"$f":"IF(OR(Расчет!A1298>=2000,Расчет!B1298>=2000),Расчет!G1298,0)","v":0},{"$f":"IF(AND(Расчет!A1298<2000,Расчет!B1298<2000),Расчет!G1298,0)","v":0},null,null,{"$f":"IF(OR(Расчет!A1298>=2000,Расчет!B1298>=2000),Расчет!J1298,0)","v":0},{"$f":"IF(AND(Расчет!A1298<2000,Расчет!B1298<2000),Расчет!J1298,0)","v":0},null,null,{"$f":"IF(OR(Расчет!A1298>=2000,Расчет!B1298>=2000),Расчет!M1298,0)","v":0},{"$f":"IF(AND(Расчет!A1298<2000,Расчет!B1298<2000),Расчет!M1298,0)","v":0}]
[{"$f":"IF(OR(Расчет!A1299>=2000,Расчет!B1299>=2000),Расчет!G1299,0)","v":0},{"$f":"IF(AND(Расчет!A1299<2000,Расчет!B1299<2000),Расчет!G1299,0)","v":0},null,null,{"$f":"IF(OR(Расчет!A1299>=2000,Расчет!B1299>=2000),Расчет!J1299,0)","v":0},{"$f":"IF(AND(Расчет!A1299<2000,Расчет!B1299<2000),Расчет!J1299,0)","v":0},null,null,{"$f":"IF(OR(Расчет!A1299>=2000,Расчет!B1299>=2000),Расчет!M1299,0)","v":0},{"$f":"IF(AND(Расчет!A1299<2000,Расчет!B1299<2000),Расчет!M1299,0)","v":0}]
[{"$f":"IF(OR(Расчет!A1300>=2000,Расчет!B1300>=2000),Расчет!G1300,0)","v":0},{"$f":"IF(AND(Расчет!A1300<2000,Расчет!B1300<2000),Расчет!G1300,0)","v":0},null,null,{"$f":"IF(OR(Расчет!A1300>=2000,Расчет!B1300>=2000),Расчет!J1300,0)","v":0},{"$f":"IF(AND(Расчет!A1300<2000,Расчет!B1300<2000),Расчет!J1300,0)","v":0},null,null,{"$f":"IF(OR(Расчет!A1300>=2000,Расчет!B1300>=2000),Расчет!M1300,0)","v":0},{"$f":"IF(AND(Расчет!A1300<2000,Расчет!B1300<2000),Расчет!M1300,0)","v":0}]
[{"$f":"IF(OR(Расчет!A1301>=2000,Расчет!B1301>=2000),Расчет!G1301,0)","v":0},{"$f":"IF(AND(Расчет!A1301<2000,Расчет!B1301<2000),Расчет!G1301,0)","v":0},null,null,{"$f":"IF(OR(Расчет!A1301>=2000,Расчет!B1301>=2000),Расчет!J1301,0)","v":0},{"$f":"IF(AND(Расчет!A1301<2000,Расчет!B1301<2000),Расчет!J1301,0)","v":0},null,null,{"$f":"IF(OR(Расчет!A1301>=2000,Расчет!B1301>=2000),Расчет!M1301,0)","v":0},{"$f":"IF(AND(Расчет!A1301<2000,Расчет!B1301<2000),Расчет!M1301,0)","v":0}]
[{"$f":"IF(OR(Расчет!A1302>=2000,Расчет!B1302>=2000),Расчет!G1302,0)","v":0},{"$f":"IF(AND(Расчет!A1302<2000,Расчет!B1302<2000),Расчет!G1302,0)","v":0},null,null,{"$f":"IF(OR(Расчет!A1302>=2000,Расчет!B1302>=2000),Расчет!J1302,0)","v":0},{"$f":"IF(AND(Расчет!A1302<2000,Расчет!B1302<2000),Расчет!J1302,0)","v":0},null,null,{"$f":"IF(OR(Расчет!A1302>=2000,Расчет!B1302>=2000),Расчет!M1302,0)","v":0},{"$f":"IF(AND(Расчет!A1302<2000,Расчет!B1302<2000),Расчет!M1302,0)","v":0}]
[{"$f":"IF(OR(Расчет!A1303>=2000,Расчет!B1303>=2000),Расчет!G1303,0)","v":0},{"$f":"IF(AND(Расчет!A1303<2000,Расчет!B1303<2000),Расчет!G1303,0)","v":0},null,null,{"$f":"IF(OR(Расчет!A1303>=2000,Расчет!B1303>=2000),Расчет!J1303,0)","v":0},{"$f":"IF(AND(Расчет!A1303<2000,Расчет!B1303<2000),Расчет!J1303,0)","v":0},null,null,{"$f":"IF(OR(Расчет!A1303>=2000,Расчет!B1303>=2000),Расчет!M1303,0)","v":0},{"$f":"IF(AND(Расчет!A1303<2000,Расчет!B1303<2000),Расчет!M1303,0)","v":0}]
[{"$f":"IF(OR(Расчет!A1304>=2000,Расчет!B1304>=2000),Расчет!G1304,0)","v":0},{"$f":"IF(AND(Расчет!A1304<2000,Расчет!B1304<2000),Расчет!G1304,0)","v":0},null,null,{"$f":"IF(OR(Расчет!A1304>=2000,Расчет!B1304>=2000),Расчет!J1304,0)","v":0},{"$f":"IF(AND(Расчет!A1304<2000,Расчет!B1304<2000),Расчет!J1304,0)","v":0},null,null,{"$f":"IF(OR(Расчет!A1304>=2000,Расчет!B1304>=2000),Расчет!M1304,0)","v":0},{"$f":"IF(AND(Расчет!A1304<2000,Расчет!B1304<2000),Расчет!M1304,0)","v":0}]
[{"$f":"IF(OR(Расчет!A1305>=2000,Расчет!B1305>=2000),Расчет!G1305,0)","v":0},{"$f":"IF(AND(Расчет!A1305<2000,Расчет!B1305<2000),Расчет!G1305,0)","v":0},null,null,{"$f":"IF(OR(Расчет!A1305>=2000,Расчет!B1305>=2000),Расчет!J1305,0)","v":0},{"$f":"IF(AND(Расчет!A1305<2000,Расчет!B1305<2000),Расчет!J1305,0)","v":0},null,null,{"$f":"IF(OR(Расчет!A1305>=2000,Расчет!B1305>=2000),Расчет!M1305,0)","v":0},{"$f":"IF(AND(Расчет!A1305<2000,Расчет!B1305<2000),Расчет!M1305,0)","v":0}]
[{"$f":"IF(OR(Расчет!A1306>=2000,Расчет!B1306>=2000),Расчет!G1306,0)","v":0},{"$f":"IF(AND(Расчет!A1306<2000,Расчет!B1306<2000),Расчет!G1306,0)","v":0},null,null,{"$f":"IF(OR(Расчет!A1306>=2000,Расчет!B1306>=2000),Расчет!J1306,0)","v":0},{"$f":"IF(AND(Расчет!A1306<2000,Расчет!B1306<2000),Расчет!J1306,0)","v":0},null,null,{"$f":"IF(OR(Расчет!A1306>=2000,Расчет!B1306>=2000),Расчет!M1306,0)","v":0},{"$f":"IF(AND(Расчет!A1306<2000,Расчет!B1306<2000),Расчет!M1306,0)","v":0}]
[{"$f":"IF(OR(Расчет!A1307>=2000,Расчет!B1307>=2000),Расчет!G1307,0)","v":0},{"$f":"IF(AND(Расчет!A1307<2000,Расчет!B1307<2000),Расчет!G1307,0)","v":0},null,null,{"$f":"IF(OR(Расчет!A1307>=2000,Расчет!B1307>=2000),Расчет!J1307,0)","v":0},{"$f":"IF(AND(Расчет!A1307<2000,Расчет!B1307<2000),Расчет!J1307,0)","v":0},null,null,{"$f":"IF(OR(Расчет!A1307>=2000,Расчет!B1307>=2000),Расчет!M1307,0)","v":0},{"$f":"IF(AND(Расчет!A1307<2000,Расчет!B1307<2000),Расчет!M1307,0)","v":0}]
[{"$f":"IF(OR(Расчет!A1308>=2000,Расчет!B1308>=2000),Расчет!G1308,0)","v":0},{"$f":"IF(AND(Расчет!A1308<2000,Расчет!B1308<2000),Расчет!G1308,0)","v":0},null,null,{"$f":"IF(OR(Расчет!A1308>=2000,Расчет!B1308>=2000),Расчет!J1308,0)","v":0},{"$f":"IF(AND(Расчет!A1308<2000,Расчет!B1308<2000),Расчет!J1308,0)","v":0},null,null,{"$f":"IF(OR(Расчет!A1308>=2000,Расчет!B1308>=2000),Расчет!M1308,0)","v":0},{"$f":"IF(AND(Расчет!A1308<2000,Расчет!B1308<2000),Расчет!M1308,0)","v":0}]
[{"$f":"IF(OR(Расчет!A1309>=2000,Расчет!B1309>=2000),Расчет!G1309,0)","v":0},{"$f":"IF(AND(Расчет!A1309<2000,Расчет!B1309<2000),Расчет!G1309,0)","v":0},null,null,{"$f":"IF(OR(Расчет!A1309>=2000,Расчет!B1309>=2000),Расчет!J1309,0)","v":0},{"$f":"IF(AND(Расчет!A1309<2000,Расчет!B1309<2000),Расчет!J1309,0)","v":0},null,null,{"$f":"IF(OR(Расчет!A1309>=2000,Расчет!B1309>=2000),Расчет!M1309,0)","v":0},{"$f":"IF(AND(Расчет!A1309<2000,Расчет!B1309<2000),Расчет!M1309,0)","v":0}]
[{"$f":"IF(OR(Расчет!A1310>=2000,Расчет!B1310>=2000),Расчет!G1310,0)","v":0},{"$f":"IF(AND(Расчет!A1310<2000,Расчет!B1310<2000),Расчет!G1310,0)","v":0},null,null,{"$f":"IF(OR(Расчет!A1310>=2000,Расчет!B1310>=2000),Расчет!J1310,0)","v":0},{"$f":"IF(AND(Расчет!A1310<2000,Расчет!B1310<2000),Расчет!J1310,0)","v":0},null,null,{"$f":"IF(OR(Расчет!A1310>=2000,Расчет!B1310>=2000),Расчет!M1310,0)","v":0},{"$f":"IF(AND(Расчет!A1310<2000,Расчет!B1310<2000),Расчет!M1310,0)","v":0}]
[{"$f":"IF(OR(Расчет!A1311>=2000,Расчет!B1311>=2000),Расчет!G1311,0)","v":0},{"$f":"IF(AND(Расчет!A1311<2000,Расчет!B1311<2000),Расчет!G1311,0)","v":0},null,null,{"$f":"IF(OR(Расчет!A1311>=2000,Расчет!B1311>=2000),Расчет!J1311,0)","v":0},{"$f":"IF(AND(Расчет!A1311<2000,Расчет!B1311<2000),Расчет!J1311,0)","v":0},null,null,{"$f":"IF(OR(Расчет!A1311>=2000,Расчет!B1311>=2000),Расчет!M1311,0)","v":0},{"$f":"IF(AND(Расчет!A1311<2000,Расчет!B1311<2000),Расчет!M1311,0)","v":0}]
[{"$f":"IF(OR(Расчет!A1312>=2000,Расчет!B1312>=2000),Расчет!G1312,0)","v":0},{"$f":"IF(AND(Расчет!A1312<2000,Расчет!B1312<2000),Расчет!G1312,0)","v":0},null,null,{"$f":"IF(OR(Расчет!A1312>=2000,Расчет!B1312>=2000),Расчет!J1312,0)","v":0},{"$f":"IF(AND(Расчет!A1312<2000,Расчет!B1312<2000),Расчет!J1312,0)","v":0},null,null,{"$f":"IF(OR(Расчет!A1312>=2000,Расчет!B1312>=2000),Расчет!M1312,0)","v":0},{"$f":"IF(AND(Расчет!A1312<2000,Расчет!B1312<2000),Расчет!M1312,0)","v":0}]
[{"$f":"IF(OR(Расчет!A1313>=2000,Расчет!B1313>=2000),Расчет!G1313,0)","v":0},{"$f":"IF(AND(Расчет!A1313<2000,Расчет!B1313<2000),Расчет!G1313,0)","v":0},null,null,{"$f":"IF(OR(Расчет!A1313>=2000,Расчет!B1313>=2000),Расчет!J1313,0)","v":0},{"$f":"IF(AND(Расчет!A1313<2000,Расчет!B1313<2000),Расчет!J1313,0)","v":0},null,null,{"$f":"IF(OR(Расчет!A1313>=2000,Расчет!B1313>=2000),Расчет!M1313,0)","v":0},{"$f":"IF(AND(Расчет!A1313<2000,Расчет!B1313<2000),Расчет!M1313,0)","v":0}]
[{"$f":"IF(OR(Расчет!A1314>=2000,Расчет!B1314>=2000),Расчет!G1314,0)","v":0},{"$f":"IF(AND(Расчет!A1314<2000,Расчет!B1314<2000),Расчет!G1314,0)","v":0},null,null,{"$f":"IF(OR(Расчет!A1314>=2000,Расчет!B1314>=2000),Расчет!J1314,0)","v":0},{"$f":"IF(AND(Расчет!A1314<2000,Расчет!B1314<2000),Расчет!J1314,0)","v":0},null,null,{"$f":"IF(OR(Расчет!A1314>=2000,Расчет!B1314>=2000),Расчет!M1314,0)","v":0},{"$f":"IF(AND(Расчет!A1314<2000,Расчет!B1314<2000),Расчет!M1314,0)","v":0}]
[{"$f":"IF(OR(Расчет!A1315>=2000,Расчет!B1315>=2000),Расчет!G1315,0)","v":0},{"$f":"IF(AND(Расчет!A1315<2000,Расчет!B1315<2000),Расчет!G1315,0)","v":0},null,null,{"$f":"IF(OR(Расчет!A1315>=2000,Расчет!B1315>=2000),Расчет!J1315,0)","v":0},{"$f":"IF(AND(Расчет!A1315<2000,Расчет!B1315<2000),Расчет!J1315,0)","v":0},null,null,{"$f":"IF(OR(Расчет!A1315>=2000,Расчет!B1315>=2000),Расчет!M1315,0)","v":0},{"$f":"IF(AND(Расчет!A1315<2000,Расчет!B1315<2000),Расчет!M1315,0)","v":0}]
[{"$f":"IF(OR(Расчет!A1316>=2000,Расчет!B1316>=2000),Расчет!G1316,0)","v":0},{"$f":"IF(AND(Расчет!A1316<2000,Расчет!B1316<2000),Расчет!G1316,0)","v":0},null,null,{"$f":"IF(OR(Расчет!A1316>=2000,Расчет!B1316>=2000),Расчет!J1316,0)","v":0},{"$f":"IF(AND(Расчет!A1316<2000,Расчет!B1316<2000),Расчет!J1316,0)","v":0},null,null,{"$f":"IF(OR(Расчет!A1316>=2000,Расчет!B1316>=2000),Расчет!M1316,0)","v":0},{"$f":"IF(AND(Расчет!A1316<2000,Расчет!B1316<2000),Расчет!M1316,0)","v":0}]
[{"$f":"IF(OR(Расчет!A1317>=2000,Расчет!B1317>=2000),Расчет!G1317,0)","v":0},{"$f":"IF(AND(Расчет!A1317<2000,Расчет!B1317<2000),Расчет!G1317,0)","v":0},null,null,{"$f":"IF(OR(Расчет!A1317>=2000,Расчет!B1317>=2000),Расчет!J1317,0)","v":0},{"$f":"IF(AND(Расчет!A1317<2000,Расчет!B1317<2000),Расчет!J1317,0)","v":0},null,null,{"$f":"IF(OR(Расчет!A1317>=2000,Расчет!B1317>=2000),Расчет!M1317,0)","v":0},{"$f":"IF(AND(Расчет!A1317<2000,Расчет!B1317<2000),Расчет!M1317,0)","v":0}]
[{"$f":"IF(OR(Расчет!A1318>=2000,Расчет!B1318>=2000),Расчет!G1318,0)","v":0},{"$f":"IF(AND(Расчет!A1318<2000,Расчет!B1318<2000),Расчет!G1318,0)","v":0},null,null,{"$f":"IF(OR(Расчет!A1318>=2000,Расчет!B1318>=2000),Расчет!J1318,0)","v":0},{"$f":"IF(AND(Расчет!A1318<2000,Расчет!B1318<2000),Расчет!J1318,0)","v":0},null,null,{"$f":"IF(OR(Расчет!A1318>=2000,Расчет!B1318>=2000),Расчет!M1318,0)","v":0},{"$f":"IF(AND(Расчет!A1318<2000,Расчет!B1318<2000),Расчет!M1318,0)","v":0}]
[{"$f":"IF(OR(Расчет!A1319>=2000,Расчет!B1319>=2000),Расчет!G1319,0)","v":0},{"$f":"IF(AND(Расчет!A1319<2000,Расчет!B1319<2000),Расчет!G1319,0)","v":0},null,null,{"$f":"IF(OR(Расчет!A1319>=2000,Расчет!B1319>=2000),Расчет!J1319,0)","v":0},{"$f":"IF(AND(Расчет!A1319<2000,Расчет!B1319<2000),Расчет!J1319,0)","v":0},null,null,{"$f":"IF(OR(Расчет!A1319>=2000,Расчет!B1319>=2000),Расчет!M1319,0)","v":0},{"$f":"IF(AND(Расчет!A1319<2000,Расчет!B1319<2000),Расчет!M1319,0)","v":0}]
[{"$f":"IF(OR(Расчет!A1320>=2000,Расчет!B1320>=2000),Расчет!G1320,0)","v":0},{"$f":"IF(AND(Расчет!A1320<2000,Расчет!B1320<2000),Расчет!G1320,0)","v":0},null,null,{"$f":"IF(OR(Расчет!A1320>=2000,Расчет!B1320>=2000),Расчет!J1320,0)","v":0},{"$f":"IF(AND(Расчет!A1320<2000,Расчет!B1320<2000),Расчет!J1320,0)","v":0},null,null,{"$f":"IF(OR(Расчет!A1320>=2000,Расчет!B1320>=2000),Расчет!M1320,0)","v":0},{"$f":"IF(AND(Расчет!A1320<2000,Расчет!B1320<2000),Расчет!M1320,0)","v":0}]
[{"$f":"IF(OR(Расчет!A1321>=2000,Расчет!B1321>=2000),Расчет!G1321,0)","v":0},{"$f":"IF(AND(Расчет!A1321<2000,Расчет!B1321<2000),Расчет!G1321,0)","v":0},null,null,{"$f":"IF(OR(Расчет!A1321>=2000,Расчет!B1321>=2000),Расчет!J1321,0)","v":0},{"$f":"IF(AND(Расчет!A1321<2000,Расчет!B1321<2000),Расчет!J1321,0)","v":0},null,null,{"$f":"IF(OR(Расчет!A1321>=2000,Расчет!B1321>=2000),Расчет!M1321,0)","v":0},{"$f":"IF(AND(Расчет!A1321<2000,Расчет!B1321<2000),Расчет!M1321,0)","v":0}]
[{"$f":"IF(OR(Расчет!A1322>=2000,Расчет!B1322>=2000),Расчет!G1322,0)","v":0},{"$f":"IF(AND(Расчет!A1322<2000,Расчет!B1322<2000),Расчет!G1322,0)","v":0},null,null,{"$f":"IF(OR(Расчет!A1322>=2000,Расчет!B1322>=2000),Расчет!J1322,0)","v":0},{"$f":"IF(AND(Расчет!A1322<2000,Расчет!B1322<2000),Расчет!J1322,0)","v":0},null,null,{"$f":"IF(OR(Расчет!A1322>=2000,Расчет!B1322>=2000),Расчет!M1322,0)","v":0},{"$f":"IF(AND(Расчет!A1322<2000,Расчет!B1322<2000),Расчет!M1322,0)","v":0}]
[{"$f":"IF(OR(Расчет!A1323>=2000,Расчет!B1323>=2000),Расчет!G1323,0)","v":0},{"$f":"IF(AND(Расчет!A1323<2000,Расчет!B1323<2000),Расчет!G1323,0)","v":0},null,null,{"$f":"IF(OR(Расчет!A1323>=2000,Расчет!B1323>=2000),Расчет!J1323,0)","v":0},{"$f":"IF(AND(Расчет!A1323<2000,Расчет!B1323<2000),Расчет!J1323,0)","v":0},null,null,{"$f":"IF(OR(Расчет!A1323>=2000,Расчет!B1323>=2000),Расчет!M1323,0)","v":0},{"$f":"IF(AND(Расчет!A1323<2000,Расчет!B1323<2000),Расчет!M1323,0)","v":0}]
[{"$f":"IF(OR(Расчет!A1324>=2000,Расчет!B1324>=2000),Расчет!G1324,0)","v":0},{"$f":"IF(AND(Расчет!A1324<2000,Расчет!B1324<2000),Расчет!G1324,0)","v":0},null,null,{"$f":"IF(OR(Расчет!A1324>=2000,Расчет!B1324>=2000),Расчет!J1324,0)","v":0},{"$f":"IF(AND(Расчет!A1324<2000,Расчет!B1324<2000),Расчет!J1324,0)","v":0},null,null,{"$f":"IF(OR(Расчет!A1324>=2000,Расчет!B1324>=2000),Расчет!M1324,0)","v":0},{"$f":"IF(AND(Расчет!A1324<2000,Расчет!B1324<2000),Расчет!M1324,0)","v":0}]
[{"$f":"IF(OR(Расчет!A1325>=2000,Расчет!B1325>=2000),Расчет!G1325,0)","v":0},{"$f":"IF(AND(Расчет!A1325<2000,Расчет!B1325<2000),Расчет!G1325,0)","v":0},null,null,{"$f":"IF(OR(Расчет!A1325>=2000,Расчет!B1325>=2000),Расчет!J1325,0)","v":0},{"$f":"IF(AND(Расчет!A1325<2000,Расчет!B1325<2000),Расчет!J1325,0)","v":0},null,null,{"$f":"IF(OR(Расчет!A1325>=2000,Расчет!B1325>=2000),Расчет!M1325,0)","v":0},{"$f":"IF(AND(Расчет!A1325<2000,Расчет!B1325<2000),Расчет!M1325,0)","v":0}]
[{"$f":"IF(OR(Расчет!A1326>=2000,Расчет!B1326>=2000),Расчет!G1326,0)","v":0},{"$f":"IF(AND(Расчет!A1326<2000,Расчет!B1326<2000),Расчет!G1326,0)","v":0},null,null,{"$f":"IF(OR(Расчет!A1326>=2000,Расчет!B1326>=2000),Расчет!J1326,0)","v":0},{"$f":"IF(AND(Расчет!A1326<2000,Расчет!B1326<2000),Расчет!J1326,0)","v":0},null,null,{"$f":"IF(OR(Расчет!A1326>=2000,Расчет!B1326>=2000),Расчет!M1326,0)","v":0},{"$f":"IF(AND(Расчет!A1326<2000,Расчет!B1326<2000),Расчет!M1326,0)","v":0}]
[{"$f":"IF(OR(Расчет!A1327>=2000,Расчет!B1327>=2000),Расчет!G1327,0)","v":0},{"$f":"IF(AND(Расчет!A1327<2000,Расчет!B1327<2000),Расчет!G1327,0)","v":0},null,null,{"$f":"IF(OR(Расчет!A1327>=2000,Расчет!B1327>=2000),Расчет!J1327,0)","v":0},{"$f":"IF(AND(Расчет!A1327<2000,Расчет!B1327<2000),Расчет!J1327,0)","v":0},null,null,{"$f":"IF(OR(Расчет!A1327>=2000,Расчет!B1327>=2000),Расчет!M1327,0)","v":0},{"$f":"IF(AND(Расчет!A1327<2000,Расчет!B1327<2000),Расчет!M1327,0)","v":0}]
[{"$f":"IF(OR(Расчет!A1328>=2000,Расчет!B1328>=2000),Расчет!G1328,0)","v":0},{"$f":"IF(AND(Расчет!A1328<2000,Расчет!B1328<2000),Расчет!G1328,0)","v":0},null,null,{"$f":"IF(OR(Расчет!A1328>=2000,Расчет!B1328>=2000),Расчет!J1328,0)","v":0},{"$f":"IF(AND(Расчет!A1328<2000,Расчет!B1328<2000),Расчет!J1328,0)","v":0},null,null,{"$f":"IF(OR(Расчет!A1328>=2000,Расчет!B1328>=2000),Расчет!M1328,0)","v":0},{"$f":"IF(AND(Расчет!A1328<2000,Расчет!B1328<2000),Расчет!M1328,0)","v":0}]
[{"$f":"IF(OR(Расчет!A1329>=2000,Расчет!B1329>=2000),Расчет!G1329,0)","v":0},{"$f":"IF(AND(Расчет!A1329<2000,Расчет!B1329<2000),Расчет!G1329,0)","v":0},null,null,{"$f":"IF(OR(Расчет!A1329>=2000,Расчет!B1329>=2000),Расчет!J1329,0)","v":0},{"$f":"IF(AND(Расчет!A1329<2000,Расчет!B1329<2000),Расчет!J1329,0)","v":0},null,null,{"$f":"IF(OR(Расчет!A1329>=2000,Расчет!B1329>=2000),Расчет!M1329,0)","v":0},{"$f":"IF(AND(Расчет!A1329<2000,Расчет!B1329<2000),Расчет!M1329,0)","v":0}]
[{"$f":"IF(OR(Расчет!A1330>=2000,Расчет!B1330>=2000),Расчет!G1330,0)","v":0},{"$f":"IF(AND(Расчет!A1330<2000,Расчет!B1330<2000),Расчет!G1330,0)","v":0},null,null,{"$f":"IF(OR(Расчет!A1330>=2000,Расчет!B1330>=2000),Расчет!J1330,0)","v":0},{"$f":"IF(AND(Расчет!A1330<2000,Расчет!B1330<2000),Расчет!J1330,0)","v":0},null,null,{"$f":"IF(OR(Расчет!A1330>=2000,Расчет!B1330>=2000),Расчет!M1330,0)","v":0},{"$f":"IF(AND(Расчет!A1330<2000,Расчет!B1330<2000),Расчет!M1330,0)","v":0}]
[{"$f":"IF(OR(Расчет!A1331>=2000,Расчет!B1331>=2000),Расчет!G1331,0)","v":0},{"$f":"IF(AND(Расчет!A1331<2000,Расчет!B1331<2000),Расчет!G1331,0)","v":0},null,null,{"$f":"IF(OR(Расчет!A1331>=2000,Расчет!B1331>=2000),Расчет!J1331,0)","v":0},{"$f":"IF(AND(Расчет!A1331<2000,Расчет!B1331<2000),Расчет!J1331,0)","v":0},null,null,{"$f":"IF(OR(Расчет!A1331>=2000,Расчет!B1331>=2000),Расчет!M1331,0)","v":0},{"$f":"IF(AND(Расчет!A1331<2000,Расчет!B1331<2000),Расчет!M1331,0)","v":0}]
[{"$f":"IF(OR(Расчет!A1332>=2000,Расчет!B1332>=2000),Расчет!G1332,0)","v":0},{"$f":"IF(AND(Расчет!A1332<2000,Расчет!B1332<2000),Расчет!G1332,0)","v":0},null,null,{"$f":"IF(OR(Расчет!A1332>=2000,Расчет!B1332>=2000),Расчет!J1332,0)","v":0},{"$f":"IF(AND(Расчет!A1332<2000,Расчет!B1332<2000),Расчет!J1332,0)","v":0},null,null,{"$f":"IF(OR(Расчет!A1332>=2000,Расчет!B1332>=2000),Расчет!M1332,0)","v":0},{"$f":"IF(AND(Расчет!A1332<2000,Расчет!B1332<2000),Расчет!M1332,0)","v":0}]
[{"$f":"IF(OR(Расчет!A1333>=2000,Расчет!B1333>=2000),Расчет!G1333,0)","v":0},{"$f":"IF(AND(Расчет!A1333<2000,Расчет!B1333<2000),Расчет!G1333,0)","v":0},null,null,{"$f":"IF(OR(Расчет!A1333>=2000,Расчет!B1333>=2000),Расчет!J1333,0)","v":0},{"$f":"IF(AND(Расчет!A1333<2000,Расчет!B1333<2000),Расчет!J1333,0)","v":0},null,null,{"$f":"IF(OR(Расчет!A1333>=2000,Расчет!B1333>=2000),Расчет!M1333,0)","v":0},{"$f":"IF(AND(Расчет!A1333<2000,Расчет!B1333<2000),Расчет!M1333,0)","v":0}]
[{"$f":"IF(OR(Расчет!A1334>=2000,Расчет!B1334>=2000),Расчет!G1334,0)","v":0},{"$f":"IF(AND(Расчет!A1334<2000,Расчет!B1334<2000),Расчет!G1334,0)","v":0},null,null,{"$f":"IF(OR(Расчет!A1334>=2000,Расчет!B1334>=2000),Расчет!J1334,0)","v":0},{"$f":"IF(AND(Расчет!A1334<2000,Расчет!B1334<2000),Расчет!J1334,0)","v":0},null,null,{"$f":"IF(OR(Расчет!A1334>=2000,Расчет!B1334>=2000),Расчет!M1334,0)","v":0},{"$f":"IF(AND(Расчет!A1334<2000,Расчет!B1334<2000),Расчет!M1334,0)","v":0}]
[{"$f":"IF(OR(Расчет!A1335>=2000,Расчет!B1335>=2000),Расчет!G1335,0)","v":0},{"$f":"IF(AND(Расчет!A1335<2000,Расчет!B1335<2000),Расчет!G1335,0)","v":0},null,null,{"$f":"IF(OR(Расчет!A1335>=2000,Расчет!B1335>=2000),Расчет!J1335,0)","v":0},{"$f":"IF(AND(Расчет!A1335<2000,Расчет!B1335<2000),Расчет!J1335,0)","v":0},null,null,{"$f":"IF(OR(Расчет!A1335>=2000,Расчет!B1335>=2000),Расчет!M1335,0)","v":0},{"$f":"IF(AND(Расчет!A1335<2000,Расчет!B1335<2000),Расчет!M1335,0)","v":0}]
[{"$f":"IF(OR(Расчет!A1336>=2000,Расчет!B1336>=2000),Расчет!G1336,0)","v":0},{"$f":"IF(AND(Расчет!A1336<2000,Расчет!B1336<2000),Расчет!G1336,0)","v":0},null,null,{"$f":"IF(OR(Расчет!A1336>=2000,Расчет!B1336>=2000),Расчет!J1336,0)","v":0},{"$f":"IF(AND(Расчет!A1336<2000,Расчет!B1336<2000),Расчет!J1336,0)","v":0},null,null,{"$f":"IF(OR(Расчет!A1336>=2000,Расчет!B1336>=2000),Расчет!M1336,0)","v":0},{"$f":"IF(AND(Расчет!A1336<2000,Расчет!B1336<2000),Расчет!M1336,0)","v":0}]
[{"$f":"IF(OR(Расчет!A1337>=2000,Расчет!B1337>=2000),Расчет!G1337,0)","v":0},{"$f":"IF(AND(Расчет!A1337<2000,Расчет!B1337<2000),Расчет!G1337,0)","v":0},null,null,{"$f":"IF(OR(Расчет!A1337>=2000,Расчет!B1337>=2000),Расчет!J1337,0)","v":0},{"$f":"IF(AND(Расчет!A1337<2000,Расчет!B1337<2000),Расчет!J1337,0)","v":0},null,null,{"$f":"IF(OR(Расчет!A1337>=2000,Расчет!B1337>=2000),Расчет!M1337,0)","v":0},{"$f":"IF(AND(Расчет!A1337<2000,Расчет!B1337<2000),Расчет!M1337,0)","v":0}]
[{"$f":"IF(OR(Расчет!A1338>=2000,Расчет!B1338>=2000),Расчет!G1338,0)","v":0},{"$f":"IF(AND(Расчет!A1338<2000,Расчет!B1338<2000),Расчет!G1338,0)","v":0},null,null,{"$f":"IF(OR(Расчет!A1338>=2000,Расчет!B1338>=2000),Расчет!J1338,0)","v":0},{"$f":"IF(AND(Расчет!A1338<2000,Расчет!B1338<2000),Расчет!J1338,0)","v":0},null,null,{"$f":"IF(OR(Расчет!A1338>=2000,Расчет!B1338>=2000),Расчет!M1338,0)","v":0},{"$f":"IF(AND(Расчет!A1338<2000,Расчет!B1338<2000),Расчет!M1338,0)","v":0}]
[{"$f":"IF(OR(Расчет!A1339>=2000,Расчет!B1339>=2000),Расчет!G1339,0)","v":0},{"$f":"IF(AND(Расчет!A1339<2000,Расчет!B1339<2000),Расчет!G1339,0)","v":0},null,null,{"$f":"IF(OR(Расчет!A1339>=2000,Расчет!B1339>=2000),Расчет!J1339,0)","v":0},{"$f":"IF(AND(Расчет!A1339<2000,Расчет!B1339<2000),Расчет!J1339,0)","v":0},null,null,{"$f":"IF(OR(Расчет!A1339>=2000,Расчет!B1339>=2000),Расчет!M1339,0)","v":0},{"$f":"IF(AND(Расчет!A1339<2000,Расчет!B1339<2000),Расчет!M1339,0)","v":0}]
[{"$f":"IF(OR(Расчет!A1340>=2000,Расчет!B1340>=2000),Расчет!G1340,0)","v":0},{"$f":"IF(AND(Расчет!A1340<2000,Расчет!B1340<2000),Расчет!G1340,0)","v":0},null,null,{"$f":"IF(OR(Расчет!A1340>=2000,Расчет!B1340>=2000),Расчет!J1340,0)","v":0},{"$f":"IF(AND(Расчет!A1340<2000,Расчет!B1340<2000),Расчет!J1340,0)","v":0},null,null,{"$f":"IF(OR(Расчет!A1340>=2000,Расчет!B1340>=2000),Расчет!M1340,0)","v":0},{"$f":"IF(AND(Расчет!A1340<2000,Расчет!B1340<2000),Расчет!M1340,0)","v":0}]
[{"$f":"IF(OR(Расчет!A1341>=2000,Расчет!B1341>=2000),Расчет!G1341,0)","v":0},{"$f":"IF(AND(Расчет!A1341<2000,Расчет!B1341<2000),Расчет!G1341,0)","v":0},null,null,{"$f":"IF(OR(Расчет!A1341>=2000,Расчет!B1341>=2000),Расчет!J1341,0)","v":0},{"$f":"IF(AND(Расчет!A1341<2000,Расчет!B1341<2000),Расчет!J1341,0)","v":0},null,null,{"$f":"IF(OR(Расчет!A1341>=2000,Расчет!B1341>=2000),Расчет!M1341,0)","v":0},{"$f":"IF(AND(Расчет!A1341<2000,Расчет!B1341<2000),Расчет!M1341,0)","v":0}]
[{"$f":"IF(OR(Расчет!A1342>=2000,Расчет!B1342>=2000),Расчет!G1342,0)","v":0},{"$f":"IF(AND(Расчет!A1342<2000,Расчет!B1342<2000),Расчет!G1342,0)","v":0},null,null,{"$f":"IF(OR(Расчет!A1342>=2000,Расчет!B1342>=2000),Расчет!J1342,0)","v":0},{"$f":"IF(AND(Расчет!A1342<2000,Расчет!B1342<2000),Расчет!J1342,0)","v":0},null,null,{"$f":"IF(OR(Расчет!A1342>=2000,Расчет!B1342>=2000),Расчет!M1342,0)","v":0},{"$f":"IF(AND(Расчет!A1342<2000,Расчет!B1342<2000),Расчет!M1342,0)","v":0}]
[{"$f":"IF(OR(Расчет!A1343>=2000,Расчет!B1343>=2000),Расчет!G1343,0)","v":0},{"$f":"IF(AND(Расчет!A1343<2000,Расчет!B1343<2000),Расчет!G1343,0)","v":0},null,null,{"$f":"IF(OR(Расчет!A1343>=2000,Расчет!B1343>=2000),Расчет!J1343,0)","v":0},{"$f":"IF(AND(Расчет!A1343<2000,Расчет!B1343<2000),Расчет!J1343,0)","v":0},null,null,{"$f":"IF(OR(Расчет!A1343>=2000,Расчет!B1343>=2000),Расчет!M1343,0)","v":0},{"$f":"IF(AND(Расчет!A1343<2000,Расчет!B1343<2000),Расчет!M1343,0)","v":0}]
[{"$f":"IF(OR(Расчет!A1344>=2000,Расчет!B1344>=2000),Расчет!G1344,0)","v":0},{"$f":"IF(AND(Расчет!A1344<2000,Расчет!B1344<2000),Расчет!G1344,0)","v":0},null,null,{"$f":"IF(OR(Расчет!A1344>=2000,Расчет!B1344>=2000),Расчет!J1344,0)","v":0},{"$f":"IF(AND(Расчет!A1344<2000,Расчет!B1344<2000),Расчет!J1344,0)","v":0},null,null,{"$f":"IF(OR(Расчет!A1344>=2000,Расчет!B1344>=2000),Расчет!M1344,0)","v":0},{"$f":"IF(AND(Расчет!A1344<2000,Расчет!B1344<2000),Расчет!M1344,0)","v":0}]
[{"$f":"IF(OR(Расчет!A1345>=2000,Расчет!B1345>=2000),Расчет!G1345,0)","v":0},{"$f":"IF(AND(Расчет!A1345<2000,Расчет!B1345<2000),Расчет!G1345,0)","v":0},null,null,{"$f":"IF(OR(Расчет!A1345>=2000,Расчет!B1345>=2000),Расчет!J1345,0)","v":0},{"$f":"IF(AND(Расчет!A1345<2000,Расчет!B1345<2000),Расчет!J1345,0)","v":0},null,null,{"$f":"IF(OR(Расчет!A1345>=2000,Расчет!B1345>=2000),Расчет!M1345,0)","v":0},{"$f":"IF(AND(Расчет!A1345<2000,Расчет!B1345<2000),Расчет!M1345,0)","v":0}]
[{"$f":"IF(OR(Расчет!A1346>=2000,Расчет!B1346>=2000),Расчет!G1346,0)","v":0},{"$f":"IF(AND(Расчет!A1346<2000,Расчет!B1346<2000),Расчет!G1346,0)","v":0},null,null,{"$f":"IF(OR(Расчет!A1346>=2000,Расчет!B1346>=2000),Расчет!J1346,0)","v":0},{"$f":"IF(AND(Расчет!A1346<2000,Расчет!B1346<2000),Расчет!J1346,0)","v":0},null,null,{"$f":"IF(OR(Расчет!A1346>=2000,Расчет!B1346>=2000),Расчет!M1346,0)","v":0},{"$f":"IF(AND(Расчет!A1346<2000,Расчет!B1346<2000),Расчет!M1346,0)","v":0}]
[{"$f":"IF(OR(Расчет!A1347>=2000,Расчет!B1347>=2000),Расчет!G1347,0)","v":0},{"$f":"IF(AND(Расчет!A1347<2000,Расчет!B1347<2000),Расчет!G1347,0)","v":0},null,null,{"$f":"IF(OR(Расчет!A1347>=2000,Расчет!B1347>=2000),Расчет!J1347,0)","v":0},{"$f":"IF(AND(Расчет!A1347<2000,Расчет!B1347<2000),Расчет!J1347,0)","v":0},null,null,{"$f":"IF(OR(Расчет!A1347>=2000,Расчет!B1347>=2000),Расчет!M1347,0)","v":0},{"$f":"IF(AND(Расчет!A1347<2000,Расчет!B1347<2000),Расчет!M1347,0)","v":0}]
[{"$f":"IF(OR(Расчет!A1348>=2000,Расчет!B1348>=2000),Расчет!G1348,0)","v":0},{"$f":"IF(AND(Расчет!A1348<2000,Расчет!B1348<2000),Расчет!G1348,0)","v":0},null,null,{"$f":"IF(OR(Расчет!A1348>=2000,Расчет!B1348>=2000),Расчет!J1348,0)","v":0},{"$f":"IF(AND(Расчет!A1348<2000,Расчет!B1348<2000),Расчет!J1348,0)","v":0},null,null,{"$f":"IF(OR(Расчет!A1348>=2000,Расчет!B1348>=2000),Расчет!M1348,0)","v":0},{"$f":"IF(AND(Расчет!A1348<2000,Расчет!B1348<2000),Расчет!M1348,0)","v":0}]
[{"$f":"IF(OR(Расчет!A1349>=2000,Расчет!B1349>=2000),Расчет!G1349,0)","v":0},{"$f":"IF(AND(Расчет!A1349<2000,Расчет!B1349<2000),Расчет!G1349,0)","v":0},null,null,{"$f":"IF(OR(Расчет!A1349>=2000,Расчет!B1349>=2000),Расчет!J1349,0)","v":0},{"$f":"IF(AND(Расчет!A1349<2000,Расчет!B1349<2000),Расчет!J1349,0)","v":0},null,null,{"$f":"IF(OR(Расчет!A1349>=2000,Расчет!B1349>=2000),Расчет!M1349,0)","v":0},{"$f":"IF(AND(Расчет!A1349<2000,Расчет!B1349<2000),Расчет!M1349,0)","v":0}]
[{"$f":"IF(OR(Расчет!A1350>=2000,Расчет!B1350>=2000),Расчет!G1350,0)","v":0},{"$f":"IF(AND(Расчет!A1350<2000,Расчет!B1350<2000),Расчет!G1350,0)","v":0},null,null,{"$f":"IF(OR(Расчет!A1350>=2000,Расчет!B1350>=2000),Расчет!J1350,0)","v":0},{"$f":"IF(AND(Расчет!A1350<2000,Расчет!B1350<2000),Расчет!J1350,0)","v":0},null,null,{"$f":"IF(OR(Расчет!A1350>=2000,Расчет!B1350>=2000),Расчет!M1350,0)","v":0},{"$f":"IF(AND(Расчет!A1350<2000,Расчет!B1350<2000),Расчет!M1350,0)","v":0}]
[{"$f":"IF(OR(Расчет!A1351>=2000,Расчет!B1351>=2000),Расчет!G1351,0)","v":0},{"$f":"IF(AND(Расчет!A1351<2000,Расчет!B1351<2000),Расчет!G1351,0)","v":0},null,null,{"$f":"IF(OR(Расчет!A1351>=2000,Расчет!B1351>=2000),Расчет!J1351,0)","v":0},{"$f":"IF(AND(Расчет!A1351<2000,Расчет!B1351<2000),Расчет!J1351,0)","v":0},null,null,{"$f":"IF(OR(Расчет!A1351>=2000,Расчет!B1351>=2000),Расчет!M1351,0)","v":0},{"$f":"IF(AND(Расчет!A1351<2000,Расчет!B1351<2000),Расчет!M1351,0)","v":0}]
[{"$f":"IF(OR(Расчет!A1352>=2000,Расчет!B1352>=2000),Расчет!G1352,0)","v":0},{"$f":"IF(AND(Расчет!A1352<2000,Расчет!B1352<2000),Расчет!G1352,0)","v":0},null,null,{"$f":"IF(OR(Расчет!A1352>=2000,Расчет!B1352>=2000),Расчет!J1352,0)","v":0},{"$f":"IF(AND(Расчет!A1352<2000,Расчет!B1352<2000),Расчет!J1352,0)","v":0},null,null,{"$f":"IF(OR(Расчет!A1352>=2000,Расчет!B1352>=2000),Расчет!M1352,0)","v":0},{"$f":"IF(AND(Расчет!A1352<2000,Расчет!B1352<2000),Расчет!M1352,0)","v":0}]
[{"$f":"IF(OR(Расчет!A1353>=2000,Расчет!B1353>=2000),Расчет!G1353,0)","v":0},{"$f":"IF(AND(Расчет!A1353<2000,Расчет!B1353<2000),Расчет!G1353,0)","v":0},null,null,{"$f":"IF(OR(Расчет!A1353>=2000,Расчет!B1353>=2000),Расчет!J1353,0)","v":0},{"$f":"IF(AND(Расчет!A1353<2000,Расчет!B1353<2000),Расчет!J1353,0)","v":0},null,null,{"$f":"IF(OR(Расчет!A1353>=2000,Расчет!B1353>=2000),Расчет!M1353,0)","v":0},{"$f":"IF(AND(Расчет!A1353<2000,Расчет!B1353<2000),Расчет!M1353,0)","v":0}]
[{"$f":"IF(OR(Расчет!A1354>=2000,Расчет!B1354>=2000),Расчет!G1354,0)","v":0},{"$f":"IF(AND(Расчет!A1354<2000,Расчет!B1354<2000),Расчет!G1354,0)","v":0},null,null,{"$f":"IF(OR(Расчет!A1354>=2000,Расчет!B1354>=2000),Расчет!J1354,0)","v":0},{"$f":"IF(AND(Расчет!A1354<2000,Расчет!B1354<2000),Расчет!J1354,0)","v":0},null,null,{"$f":"IF(OR(Расчет!A1354>=2000,Расчет!B1354>=2000),Расчет!M1354,0)","v":0},{"$f":"IF(AND(Расчет!A1354<2000,Расчет!B1354<2000),Расчет!M1354,0)","v":0}]
[{"$f":"IF(OR(Расчет!A1355>=2000,Расчет!B1355>=2000),Расчет!G1355,0)","v":0},{"$f":"IF(AND(Расчет!A1355<2000,Расчет!B1355<2000),Расчет!G1355,0)","v":0},null,null,{"$f":"IF(OR(Расчет!A1355>=2000,Расчет!B1355>=2000),Расчет!J1355,0)","v":0},{"$f":"IF(AND(Расчет!A1355<2000,Расчет!B1355<2000),Расчет!J1355,0)","v":0},null,null,{"$f":"IF(OR(Расчет!A1355>=2000,Расчет!B1355>=2000),Расчет!M1355,0)","v":0},{"$f":"IF(AND(Расчет!A1355<2000,Расчет!B1355<2000),Расчет!M1355,0)","v":0}]
[{"$f":"IF(OR(Расчет!A1356>=2000,Расчет!B1356>=2000),Расчет!G1356,0)","v":0},{"$f":"IF(AND(Расчет!A1356<2000,Расчет!B1356<2000),Расчет!G1356,0)","v":0},null,null,{"$f":"IF(OR(Расчет!A1356>=2000,Расчет!B1356>=2000),Расчет!J1356,0)","v":0},{"$f":"IF(AND(Расчет!A1356<2000,Расчет!B1356<2000),Расчет!J1356,0)","v":0},null,null,{"$f":"IF(OR(Расчет!A1356>=2000,Расчет!B1356>=2000),Расчет!M1356,0)","v":0},{"$f":"IF(AND(Расчет!A1356<2000,Расчет!B1356<2000),Расчет!M1356,0)","v":0}]
[{"$f":"IF(OR(Расчет!A1357>=2000,Расчет!B1357>=2000),Расчет!G1357,0)","v":0},{"$f":"IF(AND(Расчет!A1357<2000,Расчет!B1357<2000),Расчет!G1357,0)","v":0},null,null,{"$f":"IF(OR(Расчет!A1357>=2000,Расчет!B1357>=2000),Расчет!J1357,0)","v":0},{"$f":"IF(AND(Расчет!A1357<2000,Расчет!B1357<2000),Расчет!J1357,0)","v":0},null,null,{"$f":"IF(OR(Расчет!A1357>=2000,Расчет!B1357>=2000),Расчет!M1357,0)","v":0},{"$f":"IF(AND(Расчет!A1357<2000,Расчет!B1357<2000),Расчет!M1357,0)","v":0}]
[{"$f":"IF(OR(Расчет!A1358>=2000,Расчет!B1358>=2000),Расчет!G1358,0)","v":0},{"$f":"IF(AND(Расчет!A1358<2000,Расчет!B1358<2000),Расчет!G1358,0)","v":0},null,null,{"$f":"IF(OR(Расчет!A1358>=2000,Расчет!B1358>=2000),Расчет!J1358,0)","v":0},{"$f":"IF(AND(Расчет!A1358<2000,Расчет!B1358<2000),Расчет!J1358,0)","v":0},null,null,{"$f":"IF(OR(Расчет!A1358>=2000,Расчет!B1358>=2000),Расчет!M1358,0)","v":0},{"$f":"IF(AND(Расчет!A1358<2000,Расчет!B1358<2000),Расчет!M1358,0)","v":0}]
[{"$f":"IF(OR(Расчет!A1359>=2000,Расчет!B1359>=2000),Расчет!G1359,0)","v":0},{"$f":"IF(AND(Расчет!A1359<2000,Расчет!B1359<2000),Расчет!G1359,0)","v":0},null,null,{"$f":"IF(OR(Расчет!A1359>=2000,Расчет!B1359>=2000),Расчет!J1359,0)","v":0},{"$f":"IF(AND(Расчет!A1359<2000,Расчет!B1359<2000),Расчет!J1359,0)","v":0},null,null,{"$f":"IF(OR(Расчет!A1359>=2000,Расчет!B1359>=2000),Расчет!M1359,0)","v":0},{"$f":"IF(AND(Расчет!A1359<2000,Расчет!B1359<2000),Расчет!M1359,0)","v":0}]
[{"$f":"IF(OR(Расчет!A1360>=2000,Расчет!B1360>=2000),Расчет!G1360,0)","v":0},{"$f":"IF(AND(Расчет!A1360<2000,Расчет!B1360<2000),Расчет!G1360,0)","v":0},null,null,{"$f":"IF(OR(Расчет!A1360>=2000,Расчет!B1360>=2000),Расчет!J1360,0)","v":0},{"$f":"IF(AND(Расчет!A1360<2000,Расчет!B1360<2000),Расчет!J1360,0)","v":0},null,null,{"$f":"IF(OR(Расчет!A1360>=2000,Расчет!B1360>=2000),Расчет!M1360,0)","v":0},{"$f":"IF(AND(Расчет!A1360<2000,Расчет!B1360<2000),Расчет!M1360,0)","v":0}]
[{"$f":"IF(OR(Расчет!A1361>=2000,Расчет!B1361>=2000),Расчет!G1361,0)","v":0},{"$f":"IF(AND(Расчет!A1361<2000,Расчет!B1361<2000),Расчет!G1361,0)","v":0},null,null,{"$f":"IF(OR(Расчет!A1361>=2000,Расчет!B1361>=2000),Расчет!J1361,0)","v":0},{"$f":"IF(AND(Расчет!A1361<2000,Расчет!B1361<2000),Расчет!J1361,0)","v":0},null,null,{"$f":"IF(OR(Расчет!A1361>=2000,Расчет!B1361>=2000),Расчет!M1361,0)","v":0},{"$f":"IF(AND(Расчет!A1361<2000,Расчет!B1361<2000),Расчет!M1361,0)","v":0}]
[{"$f":"IF(OR(Расчет!A1362>=2000,Расчет!B1362>=2000),Расчет!G1362,0)","v":0},{"$f":"IF(AND(Расчет!A1362<2000,Расчет!B1362<2000),Расчет!G1362,0)","v":0},null,null,{"$f":"IF(OR(Расчет!A1362>=2000,Расчет!B1362>=2000),Расчет!J1362,0)","v":0},{"$f":"IF(AND(Расчет!A1362<2000,Расчет!B1362<2000),Расчет!J1362,0)","v":0},null,null,{"$f":"IF(OR(Расчет!A1362>=2000,Расчет!B1362>=2000),Расчет!M1362,0)","v":0},{"$f":"IF(AND(Расчет!A1362<2000,Расчет!B1362<2000),Расчет!M1362,0)","v":0}]
[{"$f":"IF(OR(Расчет!A1363>=2000,Расчет!B1363>=2000),Расчет!G1363,0)","v":0},{"$f":"IF(AND(Расчет!A1363<2000,Расчет!B1363<2000),Расчет!G1363,0)","v":0},null,null,{"$f":"IF(OR(Расчет!A1363>=2000,Расчет!B1363>=2000),Расчет!J1363,0)","v":0},{"$f":"IF(AND(Расчет!A1363<2000,Расчет!B1363<2000),Расчет!J1363,0)","v":0},null,null,{"$f":"IF(OR(Расчет!A1363>=2000,Расчет!B1363>=2000),Расчет!M1363,0)","v":0},{"$f":"IF(AND(Расчет!A1363<2000,Расчет!B1363<2000),Расчет!M1363,0)","v":0}]
[{"$f":"IF(OR(Расчет!A1364>=2000,Расчет!B1364>=2000),Расчет!G1364,0)","v":0},{"$f":"IF(AND(Расчет!A1364<2000,Расчет!B1364<2000),Расчет!G1364,0)","v":0},null,null,{"$f":"IF(OR(Расчет!A1364>=2000,Расчет!B1364>=2000),Расчет!J1364,0)","v":0},{"$f":"IF(AND(Расчет!A1364<2000,Расчет!B1364<2000),Расчет!J1364,0)","v":0},null,null,{"$f":"IF(OR(Расчет!A1364>=2000,Расчет!B1364>=2000),Расчет!M1364,0)","v":0},{"$f":"IF(AND(Расчет!A1364<2000,Расчет!B1364<2000),Расчет!M1364,0)","v":0}]
[{"$f":"IF(OR(Расчет!A1365>=2000,Расчет!B1365>=2000),Расчет!G1365,0)","v":0},{"$f":"IF(AND(Расчет!A1365<2000,Расчет!B1365<2000),Расчет!G1365,0)","v":0},null,null,{"$f":"IF(OR(Расчет!A1365>=2000,Расчет!B1365>=2000),Расчет!J1365,0)","v":0},{"$f":"IF(AND(Расчет!A1365<2000,Расчет!B1365<2000),Расчет!J1365,0)","v":0},null,null,{"$f":"IF(OR(Расчет!A1365>=2000,Расчет!B1365>=2000),Расчет!M1365,0)","v":0},{"$f":"IF(AND(Расчет!A1365<2000,Расчет!B1365<2000),Расчет!M1365,0)","v":0}]
[{"$f":"IF(OR(Расчет!A1366>=2000,Расчет!B1366>=2000),Расчет!G1366,0)","v":0},{"$f":"IF(AND(Расчет!A1366<2000,Расчет!B1366<2000),Расчет!G1366,0)","v":0},null,null,{"$f":"IF(OR(Расчет!A1366>=2000,Расчет!B1366>=2000),Расчет!J1366,0)","v":0},{"$f":"IF(AND(Расчет!A1366<2000,Расчет!B1366<2000),Расчет!J1366,0)","v":0},null,null,{"$f":"IF(OR(Расчет!A1366>=2000,Расчет!B1366>=2000),Расчет!M1366,0)","v":0},{"$f":"IF(AND(Расчет!A1366<2000,Расчет!B1366<2000),Расчет!M1366,0)","v":0}]
[{"$f":"IF(OR(Расчет!A1367>=2000,Расчет!B1367>=2000),Расчет!G1367,0)","v":0},{"$f":"IF(AND(Расчет!A1367<2000,Расчет!B1367<2000),Расчет!G1367,0)","v":0},null,null,{"$f":"IF(OR(Расчет!A1367>=2000,Расчет!B1367>=2000),Расчет!J1367,0)","v":0},{"$f":"IF(AND(Расчет!A1367<2000,Расчет!B1367<2000),Расчет!J1367,0)","v":0},null,null,{"$f":"IF(OR(Расчет!A1367>=2000,Расчет!B1367>=2000),Расчет!M1367,0)","v":0},{"$f":"IF(AND(Расчет!A1367<2000,Расчет!B1367<2000),Расчет!M1367,0)","v":0}]
[{"$f":"IF(OR(Расчет!A1368>=2000,Расчет!B1368>=2000),Расчет!G1368,0)","v":0},{"$f":"IF(AND(Расчет!A1368<2000,Расчет!B1368<2000),Расчет!G1368,0)","v":0},null,null,{"$f":"IF(OR(Расчет!A1368>=2000,Расчет!B1368>=2000),Расчет!J1368,0)","v":0},{"$f":"IF(AND(Расчет!A1368<2000,Расчет!B1368<2000),Расчет!J1368,0)","v":0},null,null,{"$f":"IF(OR(Расчет!A1368>=2000,Расчет!B1368>=2000),Расчет!M1368,0)","v":0},{"$f":"IF(AND(Расчет!A1368<2000,Расчет!B1368<2000),Расчет!M1368,0)","v":0}]
[{"$f":"IF(OR(Расчет!A1369>=2000,Расчет!B1369>=2000),Расчет!G1369,0)","v":0},{"$f":"IF(AND(Расчет!A1369<2000,Расчет!B1369<2000),Расчет!G1369,0)","v":0},null,null,{"$f":"IF(OR(Расчет!A1369>=2000,Расчет!B1369>=2000),Расчет!J1369,0)","v":0},{"$f":"IF(AND(Расчет!A1369<2000,Расчет!B1369<2000),Расчет!J1369,0)","v":0},null,null,{"$f":"IF(OR(Расчет!A1369>=2000,Расчет!B1369>=2000),Расчет!M1369,0)","v":0},{"$f":"IF(AND(Расчет!A1369<2000,Расчет!B1369<2000),Расчет!M1369,0)","v":0}]
[{"$f":"IF(OR(Расчет!A1370>=2000,Расчет!B1370>=2000),Расчет!G1370,0)","v":0},{"$f":"IF(AND(Расчет!A1370<2000,Расчет!B1370<2000),Расчет!G1370,0)","v":0},null,null,{"$f":"IF(OR(Расчет!A1370>=2000,Расчет!B1370>=2000),Расчет!J1370,0)","v":0},{"$f":"IF(AND(Расчет!A1370<2000,Расчет!B1370<2000),Расчет!J1370,0)","v":0},null,null,{"$f":"IF(OR(Расчет!A1370>=2000,Расчет!B1370>=2000),Расчет!M1370,0)","v":0},{"$f":"IF(AND(Расчет!A1370<2000,Расчет!B1370<2000),Расчет!M1370,0)","v":0}]
[{"$f":"IF(OR(Расчет!A1371>=2000,Расчет!B1371>=2000),Расчет!G1371,0)","v":0},{"$f":"IF(AND(Расчет!A1371<2000,Расчет!B1371<2000),Расчет!G1371,0)","v":0},null,null,{"$f":"IF(OR(Расчет!A1371>=2000,Расчет!B1371>=2000),Расчет!J1371,0)","v":0},{"$f":"IF(AND(Расчет!A1371<2000,Расчет!B1371<2000),Расчет!J1371,0)","v":0},null,null,{"$f":"IF(OR(Расчет!A1371>=2000,Расчет!B1371>=2000),Расчет!M1371,0)","v":0},{"$f":"IF(AND(Расчет!A1371<2000,Расчет!B1371<2000),Расчет!M1371,0)","v":0}]
[{"$f":"IF(OR(Расчет!A1372>=2000,Расчет!B1372>=2000),Расчет!G1372,0)","v":0},{"$f":"IF(AND(Расчет!A1372<2000,Расчет!B1372<2000),Расчет!G1372,0)","v":0},null,null,{"$f":"IF(OR(Расчет!A1372>=2000,Расчет!B1372>=2000),Расчет!J1372,0)","v":0},{"$f":"IF(AND(Расчет!A1372<2000,Расчет!B1372<2000),Расчет!J1372,0)","v":0},null,null,{"$f":"IF(OR(Расчет!A1372>=2000,Расчет!B1372>=2000),Расчет!M1372,0)","v":0},{"$f":"IF(AND(Расчет!A1372<2000,Расчет!B1372<2000),Расчет!M1372,0)","v":0}]
[{"$f":"IF(OR(Расчет!A1373>=2000,Расчет!B1373>=2000),Расчет!G1373,0)","v":0},{"$f":"IF(AND(Расчет!A1373<2000,Расчет!B1373<2000),Расчет!G1373,0)","v":0},null,null,{"$f":"IF(OR(Расчет!A1373>=2000,Расчет!B1373>=2000),Расчет!J1373,0)","v":0},{"$f":"IF(AND(Расчет!A1373<2000,Расчет!B1373<2000),Расчет!J1373,0)","v":0},null,null,{"$f":"IF(OR(Расчет!A1373>=2000,Расчет!B1373>=2000),Расчет!M1373,0)","v":0},{"$f":"IF(AND(Расчет!A1373<2000,Расчет!B1373<2000),Расчет!M1373,0)","v":0}]
[{"$f":"IF(OR(Расчет!A1374>=2000,Расчет!B1374>=2000),Расчет!G1374,0)","v":0},{"$f":"IF(AND(Расчет!A1374<2000,Расчет!B1374<2000),Расчет!G1374,0)","v":0},null,null,{"$f":"IF(OR(Расчет!A1374>=2000,Расчет!B1374>=2000),Расчет!J1374,0)","v":0},{"$f":"IF(AND(Расчет!A1374<2000,Расчет!B1374<2000),Расчет!J1374,0)","v":0},null,null,{"$f":"IF(OR(Расчет!A1374>=2000,Расчет!B1374>=2000),Расчет!M1374,0)","v":0},{"$f":"IF(AND(Расчет!A1374<2000,Расчет!B1374<2000),Расчет!M1374,0)","v":0}]
[{"$f":"IF(OR(Расчет!A1375>=2000,Расчет!B1375>=2000),Расчет!G1375,0)","v":0},{"$f":"IF(AND(Расчет!A1375<2000,Расчет!B1375<2000),Расчет!G1375,0)","v":0},null,null,{"$f":"IF(OR(Расчет!A1375>=2000,Расчет!B1375>=2000),Расчет!J1375,0)","v":0},{"$f":"IF(AND(Расчет!A1375<2000,Расчет!B1375<2000),Расчет!J1375,0)","v":0},null,null,{"$f":"IF(OR(Расчет!A1375>=2000,Расчет!B1375>=2000),Расчет!M1375,0)","v":0},{"$f":"IF(AND(Расчет!A1375<2000,Расчет!B1375<2000),Расчет!M1375,0)","v":0}]
[{"$f":"IF(OR(Расчет!A1376>=2000,Расчет!B1376>=2000),Расчет!G1376,0)","v":0},{"$f":"IF(AND(Расчет!A1376<2000,Расчет!B1376<2000),Расчет!G1376,0)","v":0},null,null,{"$f":"IF(OR(Расчет!A1376>=2000,Расчет!B1376>=2000),Расчет!J1376,0)","v":0},{"$f":"IF(AND(Расчет!A1376<2000,Расчет!B1376<2000),Расчет!J1376,0)","v":0},null,null,{"$f":"IF(OR(Расчет!A1376>=2000,Расчет!B1376>=2000),Расчет!M1376,0)","v":0},{"$f":"IF(AND(Расчет!A1376<2000,Расчет!B1376<2000),Расчет!M1376,0)","v":0}]
[{"$f":"IF(OR(Расчет!A1377>=2000,Расчет!B1377>=2000),Расчет!G1377,0)","v":0},{"$f":"IF(AND(Расчет!A1377<2000,Расчет!B1377<2000),Расчет!G1377,0)","v":0},null,null,{"$f":"IF(OR(Расчет!A1377>=2000,Расчет!B1377>=2000),Расчет!J1377,0)","v":0},{"$f":"IF(AND(Расчет!A1377<2000,Расчет!B1377<2000),Расчет!J1377,0)","v":0},null,null,{"$f":"IF(OR(Расчет!A1377>=2000,Расчет!B1377>=2000),Расчет!M1377,0)","v":0},{"$f":"IF(AND(Расчет!A1377<2000,Расчет!B1377<2000),Расчет!M1377,0)","v":0}]
[{"$f":"IF(OR(Расчет!A1378>=2000,Расчет!B1378>=2000),Расчет!G1378,0)","v":0},{"$f":"IF(AND(Расчет!A1378<2000,Расчет!B1378<2000),Расчет!G1378,0)","v":0},null,null,{"$f":"IF(OR(Расчет!A1378>=2000,Расчет!B1378>=2000),Расчет!J1378,0)","v":0},{"$f":"IF(AND(Расчет!A1378<2000,Расчет!B1378<2000),Расчет!J1378,0)","v":0},null,null,{"$f":"IF(OR(Расчет!A1378>=2000,Расчет!B1378>=2000),Расчет!M1378,0)","v":0},{"$f":"IF(AND(Расчет!A1378<2000,Расчет!B1378<2000),Расчет!M1378,0)","v":0}]
[{"$f":"IF(OR(Расчет!A1379>=2000,Расчет!B1379>=2000),Расчет!G1379,0)","v":0},{"$f":"IF(AND(Расчет!A1379<2000,Расчет!B1379<2000),Расчет!G1379,0)","v":0},null,null,{"$f":"IF(OR(Расчет!A1379>=2000,Расчет!B1379>=2000),Расчет!J1379,0)","v":0},{"$f":"IF(AND(Расчет!A1379<2000,Расчет!B1379<2000),Расчет!J1379,0)","v":0},null,null,{"$f":"IF(OR(Расчет!A1379>=2000,Расчет!B1379>=2000),Расчет!M1379,0)","v":0},{"$f":"IF(AND(Расчет!A1379<2000,Расчет!B1379<2000),Расчет!M1379,0)","v":0}]
[{"$f":"IF(OR(Расчет!A1380>=2000,Расчет!B1380>=2000),Расчет!G1380,0)","v":0},{"$f":"IF(AND(Расчет!A1380<2000,Расчет!B1380<2000),Расчет!G1380,0)","v":0},null,null,{"$f":"IF(OR(Расчет!A1380>=2000,Расчет!B1380>=2000),Расчет!J1380,0)","v":0},{"$f":"IF(AND(Расчет!A1380<2000,Расчет!B1380<2000),Расчет!J1380,0)","v":0},null,null,{"$f":"IF(OR(Расчет!A1380>=2000,Расчет!B1380>=2000),Расчет!M1380,0)","v":0},{"$f":"IF(AND(Расчет!A1380<2000,Расчет!B1380<2000),Расчет!M1380,0)","v":0}]
[{"$f":"IF(OR(Расчет!A1381>=2000,Расчет!B1381>=2000),Расчет!G1381,0)","v":0},{"$f":"IF(AND(Расчет!A1381<2000,Расчет!B1381<2000),Расчет!G1381,0)","v":0},null,null,{"$f":"IF(OR(Расчет!A1381>=2000,Расчет!B1381>=2000),Расчет!J1381,0)","v":0},{"$f":"IF(AND(Расчет!A1381<2000,Расчет!B1381<2000),Расчет!J1381,0)","v":0},null,null,{"$f":"IF(OR(Расчет!A1381>=2000,Расчет!B1381>=2000),Расчет!M1381,0)","v":0},{"$f":"IF(AND(Расчет!A1381<2000,Расчет!B1381<2000),Расчет!M1381,0)","v":0}]
[{"$f":"IF(OR(Расчет!A1382>=2000,Расчет!B1382>=2000),Расчет!G1382,0)","v":0},{"$f":"IF(AND(Расчет!A1382<2000,Расчет!B1382<2000),Расчет!G1382,0)","v":0},null,null,{"$f":"IF(OR(Расчет!A1382>=2000,Расчет!B1382>=2000),Расчет!J1382,0)","v":0},{"$f":"IF(AND(Расчет!A1382<2000,Расчет!B1382<2000),Расчет!J1382,0)","v":0},null,null,{"$f":"IF(OR(Расчет!A1382>=2000,Расчет!B1382>=2000),Расчет!M1382,0)","v":0},{"$f":"IF(AND(Расчет!A1382<2000,Расчет!B1382<2000),Расчет!M1382,0)","v":0}]
[{"$f":"IF(OR(Расчет!A1383>=2000,Расчет!B1383>=2000),Расчет!G1383,0)","v":0},{"$f":"IF(AND(Расчет!A1383<2000,Расчет!B1383<2000),Расчет!G1383,0)","v":0},null,null,{"$f":"IF(OR(Расчет!A1383>=2000,Расчет!B1383>=2000),Расчет!J1383,0)","v":0},{"$f":"IF(AND(Расчет!A1383<2000,Расчет!B1383<2000),Расчет!J1383,0)","v":0},null,null,{"$f":"IF(OR(Расчет!A1383>=2000,Расчет!B1383>=2000),Расчет!M1383,0)","v":0},{"$f":"IF(AND(Расчет!A1383<2000,Расчет!B1383<2000),Расчет!M1383,0)","v":0}]
[{"$f":"IF(OR(Расчет!A1384>=2000,Расчет!B1384>=2000),Расчет!G1384,0)","v":0},{"$f":"IF(AND(Расчет!A1384<2000,Расчет!B1384<2000),Расчет!G1384,0)","v":0},null,null,{"$f":"IF(OR(Расчет!A1384>=2000,Расчет!B1384>=2000),Расчет!J1384,0)","v":0},{"$f":"IF(AND(Расчет!A1384<2000,Расчет!B1384<2000),Расчет!J1384,0)","v":0},null,null,{"$f":"IF(OR(Расчет!A1384>=2000,Расчет!B1384>=2000),Расчет!M1384,0)","v":0},{"$f":"IF(AND(Расчет!A1384<2000,Расчет!B1384<2000),Расчет!M1384,0)","v":0}]
[{"$f":"IF(OR(Расчет!A1385>=2000,Расчет!B1385>=2000),Расчет!G1385,0)","v":0},{"$f":"IF(AND(Расчет!A1385<2000,Расчет!B1385<2000),Расчет!G1385,0)","v":0},null,null,{"$f":"IF(OR(Расчет!A1385>=2000,Расчет!B1385>=2000),Расчет!J1385,0)","v":0},{"$f":"IF(AND(Расчет!A1385<2000,Расчет!B1385<2000),Расчет!J1385,0)","v":0},null,null,{"$f":"IF(OR(Расчет!A1385>=2000,Расчет!B1385>=2000),Расчет!M1385,0)","v":0},{"$f":"IF(AND(Расчет!A1385<2000,Расчет!B1385<2000),Расчет!M1385,0)","v":0}]
[{"$f":"IF(OR(Расчет!A1386>=2000,Расчет!B1386>=2000),Расчет!G1386,0)","v":0},{"$f":"IF(AND(Расчет!A1386<2000,Расчет!B1386<2000),Расчет!G1386,0)","v":0},null,null,{"$f":"IF(OR(Расчет!A1386>=2000,Расчет!B1386>=2000),Расчет!J1386,0)","v":0},{"$f":"IF(AND(Расчет!A1386<2000,Расчет!B1386<2000),Расчет!J1386,0)","v":0},null,null,{"$f":"IF(OR(Расчет!A1386>=2000,Расчет!B1386>=2000),Расчет!M1386,0)","v":0},{"$f":"IF(AND(Расчет!A1386<2000,Расчет!B1386<2000),Расчет!M1386,0)","v":0}]
[{"$f":"IF(OR(Расчет!A1387>=2000,Расчет!B1387>=2000),Расчет!G1387,0)","v":0},{"$f":"IF(AND(Расчет!A1387<2000,Расчет!B1387<2000),Расчет!G1387,0)","v":0},null,null,{"$f":"IF(OR(Расчет!A1387>=2000,Расчет!B1387>=2000),Расчет!J1387,0)","v":0},{"$f":"IF(AND(Расчет!A1387<2000,Расчет!B1387<2000),Расчет!J1387,0)","v":0},null,null,{"$f":"IF(OR(Расчет!A1387>=2000,Расчет!B1387>=2000),Расчет!M1387,0)","v":0},{"$f":"IF(AND(Расчет!A1387<2000,Расчет!B1387<2000),Расчет!M1387,0)","v":0}]
[{"$f":"IF(OR(Расчет!A1388>=2000,Расчет!B1388>=2000),Расчет!G1388,0)","v":0},{"$f":"IF(AND(Расчет!A1388<2000,Расчет!B1388<2000),Расчет!G1388,0)","v":0},null,null,{"$f":"IF(OR(Расчет!A1388>=2000,Расчет!B1388>=2000),Расчет!J1388,0)","v":0},{"$f":"IF(AND(Расчет!A1388<2000,Расчет!B1388<2000),Расчет!J1388,0)","v":0},null,null,{"$f":"IF(OR(Расчет!A1388>=2000,Расчет!B1388>=2000),Расчет!M1388,0)","v":0},{"$f":"IF(AND(Расчет!A1388<2000,Расчет!B1388<2000),Расчет!M1388,0)","v":0}]
[{"$f":"IF(OR(Расчет!A1389>=2000,Расчет!B1389>=2000),Расчет!G1389,0)","v":0},{"$f":"IF(AND(Расчет!A1389<2000,Расчет!B1389<2000),Расчет!G1389,0)","v":0},null,null,{"$f":"IF(OR(Расчет!A1389>=2000,Расчет!B1389>=2000),Расчет!J1389,0)","v":0},{"$f":"IF(AND(Расчет!A1389<2000,Расчет!B1389<2000),Расчет!J1389,0)","v":0},null,null,{"$f":"IF(OR(Расчет!A1389>=2000,Расчет!B1389>=2000),Расчет!M1389,0)","v":0},{"$f":"IF(AND(Расчет!A1389<2000,Расчет!B1389<2000),Расчет!M1389,0)","v":0}]
[{"$f":"IF(OR(Расчет!A1390>=2000,Расчет!B1390>=2000),Расчет!G1390,0)","v":0},{"$f":"IF(AND(Расчет!A1390<2000,Расчет!B1390<2000),Расчет!G1390,0)","v":0},null,null,{"$f":"IF(OR(Расчет!A1390>=2000,Расчет!B1390>=2000),Расчет!J1390,0)","v":0},{"$f":"IF(AND(Расчет!A1390<2000,Расчет!B1390<2000),Расчет!J1390,0)","v":0},null,null,{"$f":"IF(OR(Расчет!A1390>=2000,Расчет!B1390>=2000),Расчет!M1390,0)","v":0},{"$f":"IF(AND(Расчет!A1390<2000,Расчет!B1390<2000),Расчет!M1390,0)","v":0}]
[{"$f":"IF(OR(Расчет!A1391>=2000,Расчет!B1391>=2000),Расчет!G1391,0)","v":0},{"$f":"IF(AND(Расчет!A1391<2000,Расчет!B1391<2000),Расчет!G1391,0)","v":0},null,null,{"$f":"IF(OR(Расчет!A1391>=2000,Расчет!B1391>=2000),Расчет!J1391,0)","v":0},{"$f":"IF(AND(Расчет!A1391<2000,Расчет!B1391<2000),Расчет!J1391,0)","v":0},null,null,{"$f":"IF(OR(Расчет!A1391>=2000,Расчет!B1391>=2000),Расчет!M1391,0)","v":0},{"$f":"IF(AND(Расчет!A1391<2000,Расчет!B1391<2000),Расчет!M1391,0)","v":0}]
[{"$f":"IF(OR(Расчет!A1392>=2000,Расчет!B1392>=2000),Расчет!G1392,0)","v":0},{"$f":"IF(AND(Расчет!A1392<2000,Расчет!B1392<2000),Расчет!G1392,0)","v":0},null,null,{"$f":"IF(OR(Расчет!A1392>=2000,Расчет!B1392>=2000),Расчет!J1392,0)","v":0},{"$f":"IF(AND(Расчет!A1392<2000,Расчет!B1392<2000),Расчет!J1392,0)","v":0},null,null,{"$f":"IF(OR(Расчет!A1392>=2000,Расчет!B1392>=2000),Расчет!M1392,0)","v":0},{"$f":"IF(AND(Расчет!A1392<2000,Расчет!B1392<2000),Расчет!M1392,0)","v":0}]
[{"$f":"IF(OR(Расчет!A1393>=2000,Расчет!B1393>=2000),Расчет!G1393,0)","v":0},{"$f":"IF(AND(Расчет!A1393<2000,Расчет!B1393<2000),Расчет!G1393,0)","v":0},null,null,{"$f":"IF(OR(Расчет!A1393>=2000,Расчет!B1393>=2000),Расчет!J1393,0)","v":0},{"$f":"IF(AND(Расчет!A1393<2000,Расчет!B1393<2000),Расчет!J1393,0)","v":0},null,null,{"$f":"IF(OR(Расчет!A1393>=2000,Расчет!B1393>=2000),Расчет!M1393,0)","v":0},{"$f":"IF(AND(Расчет!A1393<2000,Расчет!B1393<2000),Расчет!M1393,0)","v":0}]
[{"$f":"IF(OR(Расчет!A1394>=2000,Расчет!B1394>=2000),Расчет!G1394,0)","v":0},{"$f":"IF(AND(Расчет!A1394<2000,Расчет!B1394<2000),Расчет!G1394,0)","v":0},null,null,{"$f":"IF(OR(Расчет!A1394>=2000,Расчет!B1394>=2000),Расчет!J1394,0)","v":0},{"$f":"IF(AND(Расчет!A1394<2000,Расчет!B1394<2000),Расчет!J1394,0)","v":0},null,null,{"$f":"IF(OR(Расчет!A1394>=2000,Расчет!B1394>=2000),Расчет!M1394,0)","v":0},{"$f":"IF(AND(Расчет!A1394<2000,Расчет!B1394<2000),Расчет!M1394,0)","v":0}]
[{"$f":"IF(OR(Расчет!A1395>=2000,Расчет!B1395>=2000),Расчет!G1395,0)","v":0},{"$f":"IF(AND(Расчет!A1395<2000,Расчет!B1395<2000),Расчет!G1395,0)","v":0},null,null,{"$f":"IF(OR(Расчет!A1395>=2000,Расчет!B1395>=2000),Расчет!J1395,0)","v":0},{"$f":"IF(AND(Расчет!A1395<2000,Расчет!B1395<2000),Расчет!J1395,0)","v":0},null,null,{"$f":"IF(OR(Расчет!A1395>=2000,Расчет!B1395>=2000),Расчет!M1395,0)","v":0},{"$f":"IF(AND(Расчет!A1395<2000,Расчет!B1395<2000),Расчет!M1395,0)","v":0}]
[{"$f":"IF(OR(Расчет!A1396>=2000,Расчет!B1396>=2000),Расчет!G1396,0)","v":0},{"$f":"IF(AND(Расчет!A1396<2000,Расчет!B1396<2000),Расчет!G1396,0)","v":0},null,null,{"$f":"IF(OR(Расчет!A1396>=2000,Расчет!B1396>=2000),Расчет!J1396,0)","v":0},{"$f":"IF(AND(Расчет!A1396<2000,Расчет!B1396<2000),Расчет!J1396,0)","v":0},null,null,{"$f":"IF(OR(Расчет!A1396>=2000,Расчет!B1396>=2000),Расчет!M1396,0)","v":0},{"$f":"IF(AND(Расчет!A1396<2000,Расчет!B1396<2000),Расчет!M1396,0)","v":0}]
[{"$f":"IF(OR(Расчет!A1397>=2000,Расчет!B1397>=2000),Расчет!G1397,0)","v":0},{"$f":"IF(AND(Расчет!A1397<2000,Расчет!B1397<2000),Расчет!G1397,0)","v":0},null,null,{"$f":"IF(OR(Расчет!A1397>=2000,Расчет!B1397>=2000),Расчет!J1397,0)","v":0},{"$f":"IF(AND(Расчет!A1397<2000,Расчет!B1397<2000),Расчет!J1397,0)","v":0},null,null,{"$f":"IF(OR(Расчет!A1397>=2000,Расчет!B1397>=2000),Расчет!M1397,0)","v":0},{"$f":"IF(AND(Расчет!A1397<2000,Расчет!B1397<2000),Расчет!M1397,0)","v":0}]
[{"$f":"IF(OR(Расчет!A1398>=2000,Расчет!B1398>=2000),Расчет!G1398,0)","v":0},{"$f":"IF(AND(Расчет!A1398<2000,Расчет!B1398<2000),Расчет!G1398,0)","v":0},null,null,{"$f":"IF(OR(Расчет!A1398>=2000,Расчет!B1398>=2000),Расчет!J1398,0)","v":0},{"$f":"IF(AND(Расчет!A1398<2000,Расчет!B1398<2000),Расчет!J1398,0)","v":0},null,null,{"$f":"IF(OR(Расчет!A1398>=2000,Расчет!B1398>=2000),Расчет!M1398,0)","v":0},{"$f":"IF(AND(Расчет!A1398<2000,Расчет!B1398<2000),Расчет!M1398,0)","v":0}]
[{"$f":"IF(OR(Расчет!A1399>=2000,Расчет!B1399>=2000),Расчет!G1399,0)","v":0},{"$f":"IF(AND(Расчет!A1399<2000,Расчет!B1399<2000),Расчет!G1399,0)","v":0},null,null,{"$f":"IF(OR(Расчет!A1399>=2000,Расчет!B1399>=2000),Расчет!J1399,0)","v":0},{"$f":"IF(AND(Расчет!A1399<2000,Расчет!B1399<2000),Расчет!J1399,0)","v":0},null,null,{"$f":"IF(OR(Расчет!A1399>=2000,Расчет!B1399>=2000),Расчет!M1399,0)","v":0},{"$f":"IF(AND(Расчет!A1399<2000,Расчет!B1399<2000),Расчет!M1399,0)","v":0}]
[{"$f":"IF(OR(Расчет!A1400>=2000,Расчет!B1400>=2000),Расчет!G1400,0)","v":0},{"$f":"IF(AND(Расчет!A1400<2000,Расчет!B1400<2000),Расчет!G1400,0)","v":0},null,null,{"$f":"IF(OR(Расчет!A1400>=2000,Расчет!B1400>=2000),Расчет!J1400,0)","v":0},{"$f":"IF(AND(Расчет!A1400<2000,Расчет!B1400<2000),Расчет!J1400,0)","v":0},null,null,{"$f":"IF(OR(Расчет!A1400>=2000,Расчет!B1400>=2000),Расчет!M1400,0)","v":0},{"$f":"IF(AND(Расчет!A1400<2000,Расчет!B1400<2000),Расчет!M1400,0)","v":0}]
[{"$f":"IF(OR(Расчет!A1401>=2000,Расчет!B1401>=2000),Расчет!G1401,0)","v":0},{"$f":"IF(AND(Расчет!A1401<2000,Расчет!B1401<2000),Расчет!G1401,0)","v":0},null,null,{"$f":"IF(OR(Расчет!A1401>=2000,Расчет!B1401>=2000),Расчет!J1401,0)","v":0},{"$f":"IF(AND(Расчет!A1401<2000,Расчет!B1401<2000),Расчет!J1401,0)","v":0},null,null,{"$f":"IF(OR(Расчет!A1401>=2000,Расчет!B1401>=2000),Расчет!M1401,0)","v":0},{"$f":"IF(AND(Расчет!A1401<2000,Расчет!B1401<2000),Расчет!M1401,0)","v":0}]
[{"$f":"IF(OR(Расчет!A1402>=2000,Расчет!B1402>=2000),Расчет!G1402,0)","v":0},{"$f":"IF(AND(Расчет!A1402<2000,Расчет!B1402<2000),Расчет!G1402,0)","v":0},null,null,{"$f":"IF(OR(Расчет!A1402>=2000,Расчет!B1402>=2000),Расчет!J1402,0)","v":0},{"$f":"IF(AND(Расчет!A1402<2000,Расчет!B1402<2000),Расчет!J1402,0)","v":0},null,null,{"$f":"IF(OR(Расчет!A1402>=2000,Расчет!B1402>=2000),Расчет!M1402,0)","v":0},{"$f":"IF(AND(Расчет!A1402<2000,Расчет!B1402<2000),Расчет!M1402,0)","v":0}]
[{"$f":"IF(OR(Расчет!A1403>=2000,Расчет!B1403>=2000),Расчет!G1403,0)","v":0},{"$f":"IF(AND(Расчет!A1403<2000,Расчет!B1403<2000),Расчет!G1403,0)","v":0},null,null,{"$f":"IF(OR(Расчет!A1403>=2000,Расчет!B1403>=2000),Расчет!J1403,0)","v":0},{"$f":"IF(AND(Расчет!A1403<2000,Расчет!B1403<2000),Расчет!J1403,0)","v":0},null,null,{"$f":"IF(OR(Расчет!A1403>=2000,Расчет!B1403>=2000),Расчет!M1403,0)","v":0},{"$f":"IF(AND(Расчет!A1403<2000,Расчет!B1403<2000),Расчет!M1403,0)","v":0}]
[{"$f":"IF(OR(Расчет!A1404>=2000,Расчет!B1404>=2000),Расчет!G1404,0)","v":0},{"$f":"IF(AND(Расчет!A1404<2000,Расчет!B1404<2000),Расчет!G1404,0)","v":0},null,null,{"$f":"IF(OR(Расчет!A1404>=2000,Расчет!B1404>=2000),Расчет!J1404,0)","v":0},{"$f":"IF(AND(Расчет!A1404<2000,Расчет!B1404<2000),Расчет!J1404,0)","v":0},null,null,{"$f":"IF(OR(Расчет!A1404>=2000,Расчет!B1404>=2000),Расчет!M1404,0)","v":0},{"$f":"IF(AND(Расчет!A1404<2000,Расчет!B1404<2000),Расчет!M1404,0)","v":0}]
[{"$f":"IF(OR(Расчет!A1405>=2000,Расчет!B1405>=2000),Расчет!G1405,0)","v":0},{"$f":"IF(AND(Расчет!A1405<2000,Расчет!B1405<2000),Расчет!G1405,0)","v":0},null,null,{"$f":"IF(OR(Расчет!A1405>=2000,Расчет!B1405>=2000),Расчет!J1405,0)","v":0},{"$f":"IF(AND(Расчет!A1405<2000,Расчет!B1405<2000),Расчет!J1405,0)","v":0},null,null,{"$f":"IF(OR(Расчет!A1405>=2000,Расчет!B1405>=2000),Расчет!M1405,0)","v":0},{"$f":"IF(AND(Расчет!A1405<2000,Расчет!B1405<2000),Расчет!M1405,0)","v":0}]
[{"$f":"IF(OR(Расчет!A1406>=2000,Расчет!B1406>=2000),Расчет!G1406,0)","v":0},{"$f":"IF(AND(Расчет!A1406<2000,Расчет!B1406<2000),Расчет!G1406,0)","v":0},null,null,{"$f":"IF(OR(Расчет!A1406>=2000,Расчет!B1406>=2000),Расчет!J1406,0)","v":0},{"$f":"IF(AND(Расчет!A1406<2000,Расчет!B1406<2000),Расчет!J1406,0)","v":0},null,null,{"$f":"IF(OR(Расчет!A1406>=2000,Расчет!B1406>=2000),Расчет!M1406,0)","v":0},{"$f":"IF(AND(Расчет!A1406<2000,Расчет!B1406<2000),Расчет!M1406,0)","v":0}]
[{"$f":"IF(OR(Расчет!A1407>=2000,Расчет!B1407>=2000),Расчет!G1407,0)","v":0},{"$f":"IF(AND(Расчет!A1407<2000,Расчет!B1407<2000),Расчет!G1407,0)","v":0},null,null,{"$f":"IF(OR(Расчет!A1407>=2000,Расчет!B1407>=2000),Расчет!J1407,0)","v":0},{"$f":"IF(AND(Расчет!A1407<2000,Расчет!B1407<2000),Расчет!J1407,0)","v":0},null,null,{"$f":"IF(OR(Расчет!A1407>=2000,Расчет!B1407>=2000),Расчет!M1407,0)","v":0},{"$f":"IF(AND(Расчет!A1407<2000,Расчет!B1407<2000),Расчет!M1407,0)","v":0}]
[{"$f":"IF(OR(Расчет!A1408>=2000,Расчет!B1408>=2000),Расчет!G1408,0)","v":0},{"$f":"IF(AND(Расчет!A1408<2000,Расчет!B1408<2000),Расчет!G1408,0)","v":0},null,null,{"$f":"IF(OR(Расчет!A1408>=2000,Расчет!B1408>=2000),Расчет!J1408,0)","v":0},{"$f":"IF(AND(Расчет!A1408<2000,Расчет!B1408<2000),Расчет!J1408,0)","v":0},null,null,{"$f":"IF(OR(Расчет!A1408>=2000,Расчет!B1408>=2000),Расчет!M1408,0)","v":0},{"$f":"IF(AND(Расчет!A1408<2000,Расчет!B1408<2000),Расчет!M1408,0)","v":0}]
[{"$f":"IF(OR(Расчет!A1409>=2000,Расчет!B1409>=2000),Расчет!G1409,0)","v":0},{"$f":"IF(AND(Расчет!A1409<2000,Расчет!B1409<2000),Расчет!G1409,0)","v":0},null,null,{"$f":"IF(OR(Расчет!A1409>=2000,Расчет!B1409>=2000),Расчет!J1409,0)","v":0},{"$f":"IF(AND(Расчет!A1409<2000,Расчет!B1409<2000),Расчет!J1409,0)","v":0},null,null,{"$f":"IF(OR(Расчет!A1409>=2000,Расчет!B1409>=2000),Расчет!M1409,0)","v":0},{"$f":"IF(AND(Расчет!A1409<2000,Расчет!B1409<2000),Расчет!M1409,0)","v":0}]
[{"$f":"IF(OR(Расчет!A1410>=2000,Расчет!B1410>=2000),Расчет!G1410,0)","v":0},{"$f":"IF(AND(Расчет!A1410<2000,Расчет!B1410<2000),Расчет!G1410,0)","v":0},null,null,{"$f":"IF(OR(Расчет!A1410>=2000,Расчет!B1410>=2000),Расчет!J1410,0)","v":0},{"$f":"IF(AND(Расчет!A1410<2000,Расчет!B1410<2000),Расчет!J1410,0)","v":0},null,null,{"$f":"IF(OR(Расчет!A1410>=2000,Расчет!B1410>=2000),Расчет!M1410,0)","v":0},{"$f":"IF(AND(Расчет!A1410<2000,Расчет!B1410<2000),Расчет!M1410,0)","v":0}]
[{"$f":"IF(OR(Расчет!A1411>=2000,Расчет!B1411>=2000),Расчет!G1411,0)","v":0},{"$f":"IF(AND(Расчет!A1411<2000,Расчет!B1411<2000),Расчет!G1411,0)","v":0},null,null,{"$f":"IF(OR(Расчет!A1411>=2000,Расчет!B1411>=2000),Расчет!J1411,0)","v":0},{"$f":"IF(AND(Расчет!A1411<2000,Расчет!B1411<2000),Расчет!J1411,0)","v":0},null,null,{"$f":"IF(OR(Расчет!A1411>=2000,Расчет!B1411>=2000),Расчет!M1411,0)","v":0},{"$f":"IF(AND(Расчет!A1411<2000,Расчет!B1411<2000),Расчет!M1411,0)","v":0}]
[{"$f":"IF(OR(Расчет!A1412>=2000,Расчет!B1412>=2000),Расчет!G1412,0)","v":0},{"$f":"IF(AND(Расчет!A1412<2000,Расчет!B1412<2000),Расчет!G1412,0)","v":0},null,null,{"$f":"IF(OR(Расчет!A1412>=2000,Расчет!B1412>=2000),Расчет!J1412,0)","v":0},{"$f":"IF(AND(Расчет!A1412<2000,Расчет!B1412<2000),Расчет!J1412,0)","v":0},null,null,{"$f":"IF(OR(Расчет!A1412>=2000,Расчет!B1412>=2000),Расчет!M1412,0)","v":0},{"$f":"IF(AND(Расчет!A1412<2000,Расчет!B1412<2000),Расчет!M1412,0)","v":0}]
[{"$f":"IF(OR(Расчет!A1413>=2000,Расчет!B1413>=2000),Расчет!G1413,0)","v":0},{"$f":"IF(AND(Расчет!A1413<2000,Расчет!B1413<2000),Расчет!G1413,0)","v":0},null,null,{"$f":"IF(OR(Расчет!A1413>=2000,Расчет!B1413>=2000),Расчет!J1413,0)","v":0},{"$f":"IF(AND(Расчет!A1413<2000,Расчет!B1413<2000),Расчет!J1413,0)","v":0},null,null,{"$f":"IF(OR(Расчет!A1413>=2000,Расчет!B1413>=2000),Расчет!M1413,0)","v":0},{"$f":"IF(AND(Расчет!A1413<2000,Расчет!B1413<2000),Расчет!M1413,0)","v":0}]
[{"$f":"IF(OR(Расчет!A1414>=2000,Расчет!B1414>=2000),Расчет!G1414,0)","v":0},{"$f":"IF(AND(Расчет!A1414<2000,Расчет!B1414<2000),Расчет!G1414,0)","v":0},null,null,{"$f":"IF(OR(Расчет!A1414>=2000,Расчет!B1414>=2000),Расчет!J1414,0)","v":0},{"$f":"IF(AND(Расчет!A1414<2000,Расчет!B1414<2000),Расчет!J1414,0)","v":0},null,null,{"$f":"IF(OR(Расчет!A1414>=2000,Расчет!B1414>=2000),Расчет!M1414,0)","v":0},{"$f":"IF(AND(Расчет!A1414<2000,Расчет!B1414<2000),Расчет!M1414,0)","v":0}]
[{"$f":"IF(OR(Расчет!A1415>=2000,Расчет!B1415>=2000),Расчет!G1415,0)","v":0},{"$f":"IF(AND(Расчет!A1415<2000,Расчет!B1415<2000),Расчет!G1415,0)","v":0},null,null,{"$f":"IF(OR(Расчет!A1415>=2000,Расчет!B1415>=2000),Расчет!J1415,0)","v":0},{"$f":"IF(AND(Расчет!A1415<2000,Расчет!B1415<2000),Расчет!J1415,0)","v":0},null,null,{"$f":"IF(OR(Расчет!A1415>=2000,Расчет!B1415>=2000),Расчет!M1415,0)","v":0},{"$f":"IF(AND(Расчет!A1415<2000,Расчет!B1415<2000),Расчет!M1415,0)","v":0}]
[{"$f":"IF(OR(Расчет!A1416>=2000,Расчет!B1416>=2000),Расчет!G1416,0)","v":0},{"$f":"IF(AND(Расчет!A1416<2000,Расчет!B1416<2000),Расчет!G1416,0)","v":0},null,null,{"$f":"IF(OR(Расчет!A1416>=2000,Расчет!B1416>=2000),Расчет!J1416,0)","v":0},{"$f":"IF(AND(Расчет!A1416<2000,Расчет!B1416<2000),Расчет!J1416,0)","v":0},null,null,{"$f":"IF(OR(Расчет!A1416>=2000,Расчет!B1416>=2000),Расчет!M1416,0)","v":0},{"$f":"IF(AND(Расчет!A1416<2000,Расчет!B1416<2000),Расчет!M1416,0)","v":0}]
[{"$f":"IF(OR(Расчет!A1417>=2000,Расчет!B1417>=2000),Расчет!G1417,0)","v":0},{"$f":"IF(AND(Расчет!A1417<2000,Расчет!B1417<2000),Расчет!G1417,0)","v":0},null,null,{"$f":"IF(OR(Расчет!A1417>=2000,Расчет!B1417>=2000),Расчет!J1417,0)","v":0},{"$f":"IF(AND(Расчет!A1417<2000,Расчет!B1417<2000),Расчет!J1417,0)","v":0},null,null,{"$f":"IF(OR(Расчет!A1417>=2000,Расчет!B1417>=2000),Расчет!M1417,0)","v":0},{"$f":"IF(AND(Расчет!A1417<2000,Расчет!B1417<2000),Расчет!M1417,0)","v":0}]
[{"$f":"IF(OR(Расчет!A1418>=2000,Расчет!B1418>=2000),Расчет!G1418,0)","v":0},{"$f":"IF(AND(Расчет!A1418<2000,Расчет!B1418<2000),Расчет!G1418,0)","v":0},null,null,{"$f":"IF(OR(Расчет!A1418>=2000,Расчет!B1418>=2000),Расчет!J1418,0)","v":0},{"$f":"IF(AND(Расчет!A1418<2000,Расчет!B1418<2000),Расчет!J1418,0)","v":0},null,null,{"$f":"IF(OR(Расчет!A1418>=2000,Расчет!B1418>=2000),Расчет!M1418,0)","v":0},{"$f":"IF(AND(Расчет!A1418<2000,Расчет!B1418<2000),Расчет!M1418,0)","v":0}]
[{"$f":"IF(OR(Расчет!A1419>=2000,Расчет!B1419>=2000),Расчет!G1419,0)","v":0},{"$f":"IF(AND(Расчет!A1419<2000,Расчет!B1419<2000),Расчет!G1419,0)","v":0},null,null,{"$f":"IF(OR(Расчет!A1419>=2000,Расчет!B1419>=2000),Расчет!J1419,0)","v":0},{"$f":"IF(AND(Расчет!A1419<2000,Расчет!B1419<2000),Расчет!J1419,0)","v":0},null,null,{"$f":"IF(OR(Расчет!A1419>=2000,Расчет!B1419>=2000),Расчет!M1419,0)","v":0},{"$f":"IF(AND(Расчет!A1419<2000,Расчет!B1419<2000),Расчет!M1419,0)","v":0}]
[{"$f":"IF(OR(Расчет!A1420>=2000,Расчет!B1420>=2000),Расчет!G1420,0)","v":0},{"$f":"IF(AND(Расчет!A1420<2000,Расчет!B1420<2000),Расчет!G1420,0)","v":0},null,null,{"$f":"IF(OR(Расчет!A1420>=2000,Расчет!B1420>=2000),Расчет!J1420,0)","v":0},{"$f":"IF(AND(Расчет!A1420<2000,Расчет!B1420<2000),Расчет!J1420,0)","v":0},null,null,{"$f":"IF(OR(Расчет!A1420>=2000,Расчет!B1420>=2000),Расчет!M1420,0)","v":0},{"$f":"IF(AND(Расчет!A1420<2000,Расчет!B1420<2000),Расчет!M1420,0)","v":0}]
[{"$f":"IF(OR(Расчет!A1421>=2000,Расчет!B1421>=2000),Расчет!G1421,0)","v":0},{"$f":"IF(AND(Расчет!A1421<2000,Расчет!B1421<2000),Расчет!G1421,0)","v":0},null,null,{"$f":"IF(OR(Расчет!A1421>=2000,Расчет!B1421>=2000),Расчет!J1421,0)","v":0},{"$f":"IF(AND(Расчет!A1421<2000,Расчет!B1421<2000),Расчет!J1421,0)","v":0},null,null,{"$f":"IF(OR(Расчет!A1421>=2000,Расчет!B1421>=2000),Расчет!M1421,0)","v":0},{"$f":"IF(AND(Расчет!A1421<2000,Расчет!B1421<2000),Расчет!M1421,0)","v":0}]
[{"$f":"IF(OR(Расчет!A1422>=2000,Расчет!B1422>=2000),Расчет!G1422,0)","v":0},{"$f":"IF(AND(Расчет!A1422<2000,Расчет!B1422<2000),Расчет!G1422,0)","v":0},null,null,{"$f":"IF(OR(Расчет!A1422>=2000,Расчет!B1422>=2000),Расчет!J1422,0)","v":0},{"$f":"IF(AND(Расчет!A1422<2000,Расчет!B1422<2000),Расчет!J1422,0)","v":0},null,null,{"$f":"IF(OR(Расчет!A1422>=2000,Расчет!B1422>=2000),Расчет!M1422,0)","v":0},{"$f":"IF(AND(Расчет!A1422<2000,Расчет!B1422<2000),Расчет!M1422,0)","v":0}]
[{"$f":"IF(OR(Расчет!A1423>=2000,Расчет!B1423>=2000),Расчет!G1423,0)","v":0},{"$f":"IF(AND(Расчет!A1423<2000,Расчет!B1423<2000),Расчет!G1423,0)","v":0},null,null,{"$f":"IF(OR(Расчет!A1423>=2000,Расчет!B1423>=2000),Расчет!J1423,0)","v":0},{"$f":"IF(AND(Расчет!A1423<2000,Расчет!B1423<2000),Расчет!J1423,0)","v":0},null,null,{"$f":"IF(OR(Расчет!A1423>=2000,Расчет!B1423>=2000),Расчет!M1423,0)","v":0},{"$f":"IF(AND(Расчет!A1423<2000,Расчет!B1423<2000),Расчет!M1423,0)","v":0}]
[{"$f":"IF(OR(Расчет!A1424>=2000,Расчет!B1424>=2000),Расчет!G1424,0)","v":0},{"$f":"IF(AND(Расчет!A1424<2000,Расчет!B1424<2000),Расчет!G1424,0)","v":0},null,null,{"$f":"IF(OR(Расчет!A1424>=2000,Расчет!B1424>=2000),Расчет!J1424,0)","v":0},{"$f":"IF(AND(Расчет!A1424<2000,Расчет!B1424<2000),Расчет!J1424,0)","v":0},null,null,{"$f":"IF(OR(Расчет!A1424>=2000,Расчет!B1424>=2000),Расчет!M1424,0)","v":0},{"$f":"IF(AND(Расчет!A1424<2000,Расчет!B1424<2000),Расчет!M1424,0)","v":0}]
[{"$f":"IF(OR(Расчет!A1425>=2000,Расчет!B1425>=2000),Расчет!G1425,0)","v":0},{"$f":"IF(AND(Расчет!A1425<2000,Расчет!B1425<2000),Расчет!G1425,0)","v":0},null,null,{"$f":"IF(OR(Расчет!A1425>=2000,Расчет!B1425>=2000),Расчет!J1425,0)","v":0},{"$f":"IF(AND(Расчет!A1425<2000,Расчет!B1425<2000),Расчет!J1425,0)","v":0},null,null,{"$f":"IF(OR(Расчет!A1425>=2000,Расчет!B1425>=2000),Расчет!M1425,0)","v":0},{"$f":"IF(AND(Расчет!A1425<2000,Расчет!B1425<2000),Расчет!M1425,0)","v":0}]
[{"$f":"IF(OR(Расчет!A1426>=2000,Расчет!B1426>=2000),Расчет!G1426,0)","v":0},{"$f":"IF(AND(Расчет!A1426<2000,Расчет!B1426<2000),Расчет!G1426,0)","v":0},null,null,{"$f":"IF(OR(Расчет!A1426>=2000,Расчет!B1426>=2000),Расчет!J1426,0)","v":0},{"$f":"IF(AND(Расчет!A1426<2000,Расчет!B1426<2000),Расчет!J1426,0)","v":0},null,null,{"$f":"IF(OR(Расчет!A1426>=2000,Расчет!B1426>=2000),Расчет!M1426,0)","v":0},{"$f":"IF(AND(Расчет!A1426<2000,Расчет!B1426<2000),Расчет!M1426,0)","v":0}]
[{"$f":"IF(OR(Расчет!A1427>=2000,Расчет!B1427>=2000),Расчет!G1427,0)","v":0},{"$f":"IF(AND(Расчет!A1427<2000,Расчет!B1427<2000),Расчет!G1427,0)","v":0},null,null,{"$f":"IF(OR(Расчет!A1427>=2000,Расчет!B1427>=2000),Расчет!J1427,0)","v":0},{"$f":"IF(AND(Расчет!A1427<2000,Расчет!B1427<2000),Расчет!J1427,0)","v":0},null,null,{"$f":"IF(OR(Расчет!A1427>=2000,Расчет!B1427>=2000),Расчет!M1427,0)","v":0},{"$f":"IF(AND(Расчет!A1427<2000,Расчет!B1427<2000),Расчет!M1427,0)","v":0}]
[{"$f":"IF(OR(Расчет!A1428>=2000,Расчет!B1428>=2000),Расчет!G1428,0)","v":0},{"$f":"IF(AND(Расчет!A1428<2000,Расчет!B1428<2000),Расчет!G1428,0)","v":0},null,null,{"$f":"IF(OR(Расчет!A1428>=2000,Расчет!B1428>=2000),Расчет!J1428,0)","v":0},{"$f":"IF(AND(Расчет!A1428<2000,Расчет!B1428<2000),Расчет!J1428,0)","v":0},null,null,{"$f":"IF(OR(Расчет!A1428>=2000,Расчет!B1428>=2000),Расчет!M1428,0)","v":0},{"$f":"IF(AND(Расчет!A1428<2000,Расчет!B1428<2000),Расчет!M1428,0)","v":0}]
[{"$f":"IF(OR(Расчет!A1429>=2000,Расчет!B1429>=2000),Расчет!G1429,0)","v":0},{"$f":"IF(AND(Расчет!A1429<2000,Расчет!B1429<2000),Расчет!G1429,0)","v":0},null,null,{"$f":"IF(OR(Расчет!A1429>=2000,Расчет!B1429>=2000),Расчет!J1429,0)","v":0},{"$f":"IF(AND(Расчет!A1429<2000,Расчет!B1429<2000),Расчет!J1429,0)","v":0},null,null,{"$f":"IF(OR(Расчет!A1429>=2000,Расчет!B1429>=2000),Расчет!M1429,0)","v":0},{"$f":"IF(AND(Расчет!A1429<2000,Расчет!B1429<2000),Расчет!M1429,0)","v":0}]
[{"$f":"IF(OR(Расчет!A1430>=2000,Расчет!B1430>=2000),Расчет!G1430,0)","v":0},{"$f":"IF(AND(Расчет!A1430<2000,Расчет!B1430<2000),Расчет!G1430,0)","v":0},null,null,{"$f":"IF(OR(Расчет!A1430>=2000,Расчет!B1430>=2000),Расчет!J1430,0)","v":0},{"$f":"IF(AND(Расчет!A1430<2000,Расчет!B1430<2000),Расчет!J1430,0)","v":0},null,null,{"$f":"IF(OR(Расчет!A1430>=2000,Расчет!B1430>=2000),Расчет!M1430,0)","v":0},{"$f":"IF(AND(Расчет!A1430<2000,Расчет!B1430<2000),Расчет!M1430,0)","v":0}]
[{"$f":"IF(OR(Расчет!A1431>=2000,Расчет!B1431>=2000),Расчет!G1431,0)","v":0},{"$f":"IF(AND(Расчет!A1431<2000,Расчет!B1431<2000),Расчет!G1431,0)","v":0},null,null,{"$f":"IF(OR(Расчет!A1431>=2000,Расчет!B1431>=2000),Расчет!J1431,0)","v":0},{"$f":"IF(AND(Расчет!A1431<2000,Расчет!B1431<2000),Расчет!J1431,0)","v":0},null,null,{"$f":"IF(OR(Расчет!A1431>=2000,Расчет!B1431>=2000),Расчет!M1431,0)","v":0},{"$f":"IF(AND(Расчет!A1431<2000,Расчет!B1431<2000),Расчет!M1431,0)","v":0}]
[{"$f":"IF(OR(Расчет!A1432>=2000,Расчет!B1432>=2000),Расчет!G1432,0)","v":0},{"$f":"IF(AND(Расчет!A1432<2000,Расчет!B1432<2000),Расчет!G1432,0)","v":0},null,null,{"$f":"IF(OR(Расчет!A1432>=2000,Расчет!B1432>=2000),Расчет!J1432,0)","v":0},{"$f":"IF(AND(Расчет!A1432<2000,Расчет!B1432<2000),Расчет!J1432,0)","v":0},null,null,{"$f":"IF(OR(Расчет!A1432>=2000,Расчет!B1432>=2000),Расчет!M1432,0)","v":0},{"$f":"IF(AND(Расчет!A1432<2000,Расчет!B1432<2000),Расчет!M1432,0)","v":0}]
[{"$f":"IF(OR(Расчет!A1433>=2000,Расчет!B1433>=2000),Расчет!G1433,0)","v":0},{"$f":"IF(AND(Расчет!A1433<2000,Расчет!B1433<2000),Расчет!G1433,0)","v":0},null,null,{"$f":"IF(OR(Расчет!A1433>=2000,Расчет!B1433>=2000),Расчет!J1433,0)","v":0},{"$f":"IF(AND(Расчет!A1433<2000,Расчет!B1433<2000),Расчет!J1433,0)","v":0},null,null,{"$f":"IF(OR(Расчет!A1433>=2000,Расчет!B1433>=2000),Расчет!M1433,0)","v":0},{"$f":"IF(AND(Расчет!A1433<2000,Расчет!B1433<2000),Расчет!M1433,0)","v":0}]
[{"$f":"IF(OR(Расчет!A1434>=2000,Расчет!B1434>=2000),Расчет!G1434,0)","v":0},{"$f":"IF(AND(Расчет!A1434<2000,Расчет!B1434<2000),Расчет!G1434,0)","v":0},null,null,{"$f":"IF(OR(Расчет!A1434>=2000,Расчет!B1434>=2000),Расчет!J1434,0)","v":0},{"$f":"IF(AND(Расчет!A1434<2000,Расчет!B1434<2000),Расчет!J1434,0)","v":0},null,null,{"$f":"IF(OR(Расчет!A1434>=2000,Расчет!B1434>=2000),Расчет!M1434,0)","v":0},{"$f":"IF(AND(Расчет!A1434<2000,Расчет!B1434<2000),Расчет!M1434,0)","v":0}]
[{"$f":"IF(OR(Расчет!A1435>=2000,Расчет!B1435>=2000),Расчет!G1435,0)","v":0},{"$f":"IF(AND(Расчет!A1435<2000,Расчет!B1435<2000),Расчет!G1435,0)","v":0},null,null,{"$f":"IF(OR(Расчет!A1435>=2000,Расчет!B1435>=2000),Расчет!J1435,0)","v":0},{"$f":"IF(AND(Расчет!A1435<2000,Расчет!B1435<2000),Расчет!J1435,0)","v":0},null,null,{"$f":"IF(OR(Расчет!A1435>=2000,Расчет!B1435>=2000),Расчет!M1435,0)","v":0},{"$f":"IF(AND(Расчет!A1435<2000,Расчет!B1435<2000),Расчет!M1435,0)","v":0}]
[{"$f":"IF(OR(Расчет!A1436>=2000,Расчет!B1436>=2000),Расчет!G1436,0)","v":0},{"$f":"IF(AND(Расчет!A1436<2000,Расчет!B1436<2000),Расчет!G1436,0)","v":0},null,null,{"$f":"IF(OR(Расчет!A1436>=2000,Расчет!B1436>=2000),Расчет!J1436,0)","v":0},{"$f":"IF(AND(Расчет!A1436<2000,Расчет!B1436<2000),Расчет!J1436,0)","v":0},null,null,{"$f":"IF(OR(Расчет!A1436>=2000,Расчет!B1436>=2000),Расчет!M1436,0)","v":0},{"$f":"IF(AND(Расчет!A1436<2000,Расчет!B1436<2000),Расчет!M1436,0)","v":0}]
[{"$f":"IF(OR(Расчет!A1437>=2000,Расчет!B1437>=2000),Расчет!G1437,0)","v":0},{"$f":"IF(AND(Расчет!A1437<2000,Расчет!B1437<2000),Расчет!G1437,0)","v":0},null,null,{"$f":"IF(OR(Расчет!A1437>=2000,Расчет!B1437>=2000),Расчет!J1437,0)","v":0},{"$f":"IF(AND(Расчет!A1437<2000,Расчет!B1437<2000),Расчет!J1437,0)","v":0},null,null,{"$f":"IF(OR(Расчет!A1437>=2000,Расчет!B1437>=2000),Расчет!M1437,0)","v":0},{"$f":"IF(AND(Расчет!A1437<2000,Расчет!B1437<2000),Расчет!M1437,0)","v":0}]
[{"$f":"IF(OR(Расчет!A1438>=2000,Расчет!B1438>=2000),Расчет!G1438,0)","v":0},{"$f":"IF(AND(Расчет!A1438<2000,Расчет!B1438<2000),Расчет!G1438,0)","v":0},null,null,{"$f":"IF(OR(Расчет!A1438>=2000,Расчет!B1438>=2000),Расчет!J1438,0)","v":0},{"$f":"IF(AND(Расчет!A1438<2000,Расчет!B1438<2000),Расчет!J1438,0)","v":0},null,null,{"$f":"IF(OR(Расчет!A1438>=2000,Расчет!B1438>=2000),Расчет!M1438,0)","v":0},{"$f":"IF(AND(Расчет!A1438<2000,Расчет!B1438<2000),Расчет!M1438,0)","v":0}]
[{"$f":"IF(OR(Расчет!A1439>=2000,Расчет!B1439>=2000),Расчет!G1439,0)","v":0},{"$f":"IF(AND(Расчет!A1439<2000,Расчет!B1439<2000),Расчет!G1439,0)","v":0},null,null,{"$f":"IF(OR(Расчет!A1439>=2000,Расчет!B1439>=2000),Расчет!J1439,0)","v":0},{"$f":"IF(AND(Расчет!A1439<2000,Расчет!B1439<2000),Расчет!J1439,0)","v":0},null,null,{"$f":"IF(OR(Расчет!A1439>=2000,Расчет!B1439>=2000),Расчет!M1439,0)","v":0},{"$f":"IF(AND(Расчет!A1439<2000,Расчет!B1439<2000),Расчет!M1439,0)","v":0}]
[{"$f":"IF(OR(Расчет!A1440>=2000,Расчет!B1440>=2000),Расчет!G1440,0)","v":0},{"$f":"IF(AND(Расчет!A1440<2000,Расчет!B1440<2000),Расчет!G1440,0)","v":0},null,null,{"$f":"IF(OR(Расчет!A1440>=2000,Расчет!B1440>=2000),Расчет!J1440,0)","v":0},{"$f":"IF(AND(Расчет!A1440<2000,Расчет!B1440<2000),Расчет!J1440,0)","v":0},null,null,{"$f":"IF(OR(Расчет!A1440>=2000,Расчет!B1440>=2000),Расчет!M1440,0)","v":0},{"$f":"IF(AND(Расчет!A1440<2000,Расчет!B1440<2000),Расчет!M1440,0)","v":0}]
[{"$f":"IF(OR(Расчет!A1441>=2000,Расчет!B1441>=2000),Расчет!G1441,0)","v":0},{"$f":"IF(AND(Расчет!A1441<2000,Расчет!B1441<2000),Расчет!G1441,0)","v":0},null,null,{"$f":"IF(OR(Расчет!A1441>=2000,Расчет!B1441>=2000),Расчет!J1441,0)","v":0},{"$f":"IF(AND(Расчет!A1441<2000,Расчет!B1441<2000),Расчет!J1441,0)","v":0},null,null,{"$f":"IF(OR(Расчет!A1441>=2000,Расчет!B1441>=2000),Расчет!M1441,0)","v":0},{"$f":"IF(AND(Расчет!A1441<2000,Расчет!B1441<2000),Расчет!M1441,0)","v":0}]
[{"$f":"IF(OR(Расчет!A1442>=2000,Расчет!B1442>=2000),Расчет!G1442,0)","v":0},{"$f":"IF(AND(Расчет!A1442<2000,Расчет!B1442<2000),Расчет!G1442,0)","v":0},null,null,{"$f":"IF(OR(Расчет!A1442>=2000,Расчет!B1442>=2000),Расчет!J1442,0)","v":0},{"$f":"IF(AND(Расчет!A1442<2000,Расчет!B1442<2000),Расчет!J1442,0)","v":0},null,null,{"$f":"IF(OR(Расчет!A1442>=2000,Расчет!B1442>=2000),Расчет!M1442,0)","v":0},{"$f":"IF(AND(Расчет!A1442<2000,Расчет!B1442<2000),Расчет!M1442,0)","v":0}]
[{"$f":"IF(OR(Расчет!A1443>=2000,Расчет!B1443>=2000),Расчет!G1443,0)","v":0},{"$f":"IF(AND(Расчет!A1443<2000,Расчет!B1443<2000),Расчет!G1443,0)","v":0},null,null,{"$f":"IF(OR(Расчет!A1443>=2000,Расчет!B1443>=2000),Расчет!J1443,0)","v":0},{"$f":"IF(AND(Расчет!A1443<2000,Расчет!B1443<2000),Расчет!J1443,0)","v":0},null,null,{"$f":"IF(OR(Расчет!A1443>=2000,Расчет!B1443>=2000),Расчет!M1443,0)","v":0},{"$f":"IF(AND(Расчет!A1443<2000,Расчет!B1443<2000),Расчет!M1443,0)","v":0}]
[{"$f":"IF(OR(Расчет!A1444>=2000,Расчет!B1444>=2000),Расчет!G1444,0)","v":0},{"$f":"IF(AND(Расчет!A1444<2000,Расчет!B1444<2000),Расчет!G1444,0)","v":0},null,null,{"$f":"IF(OR(Расчет!A1444>=2000,Расчет!B1444>=2000),Расчет!J1444,0)","v":0},{"$f":"IF(AND(Расчет!A1444<2000,Расчет!B1444<2000),Расчет!J1444,0)","v":0},null,null,{"$f":"IF(OR(Расчет!A1444>=2000,Расчет!B1444>=2000),Расчет!M1444,0)","v":0},{"$f":"IF(AND(Расчет!A1444<2000,Расчет!B1444<2000),Расчет!M1444,0)","v":0}]
[{"$f":"IF(OR(Расчет!A1445>=2000,Расчет!B1445>=2000),Расчет!G1445,0)","v":0},{"$f":"IF(AND(Расчет!A1445<2000,Расчет!B1445<2000),Расчет!G1445,0)","v":0},null,null,{"$f":"IF(OR(Расчет!A1445>=2000,Расчет!B1445>=2000),Расчет!J1445,0)","v":0},{"$f":"IF(AND(Расчет!A1445<2000,Расчет!B1445<2000),Расчет!J1445,0)","v":0},null,null,{"$f":"IF(OR(Расчет!A1445>=2000,Расчет!B1445>=2000),Расчет!M1445,0)","v":0},{"$f":"IF(AND(Расчет!A1445<2000,Расчет!B1445<2000),Расчет!M1445,0)","v":0}]
[{"$f":"IF(OR(Расчет!A1446>=2000,Расчет!B1446>=2000),Расчет!G1446,0)","v":0},{"$f":"IF(AND(Расчет!A1446<2000,Расчет!B1446<2000),Расчет!G1446,0)","v":0},null,null,{"$f":"IF(OR(Расчет!A1446>=2000,Расчет!B1446>=2000),Расчет!J1446,0)","v":0},{"$f":"IF(AND(Расчет!A1446<2000,Расчет!B1446<2000),Расчет!J1446,0)","v":0},null,null,{"$f":"IF(OR(Расчет!A1446>=2000,Расчет!B1446>=2000),Расчет!M1446,0)","v":0},{"$f":"IF(AND(Расчет!A1446<2000,Расчет!B1446<2000),Расчет!M1446,0)","v":0}]
[{"$f":"IF(OR(Расчет!A1447>=2000,Расчет!B1447>=2000),Расчет!G1447,0)","v":0},{"$f":"IF(AND(Расчет!A1447<2000,Расчет!B1447<2000),Расчет!G1447,0)","v":0},null,null,{"$f":"IF(OR(Расчет!A1447>=2000,Расчет!B1447>=2000),Расчет!J1447,0)","v":0},{"$f":"IF(AND(Расчет!A1447<2000,Расчет!B1447<2000),Расчет!J1447,0)","v":0},null,null,{"$f":"IF(OR(Расчет!A1447>=2000,Расчет!B1447>=2000),Расчет!M1447,0)","v":0},{"$f":"IF(AND(Расчет!A1447<2000,Расчет!B1447<2000),Расчет!M1447,0)","v":0}]
[{"$f":"IF(OR(Расчет!A1448>=2000,Расчет!B1448>=2000),Расчет!G1448,0)","v":0},{"$f":"IF(AND(Расчет!A1448<2000,Расчет!B1448<2000),Расчет!G1448,0)","v":0},null,null,{"$f":"IF(OR(Расчет!A1448>=2000,Расчет!B1448>=2000),Расчет!J1448,0)","v":0},{"$f":"IF(AND(Расчет!A1448<2000,Расчет!B1448<2000),Расчет!J1448,0)","v":0},null,null,{"$f":"IF(OR(Расчет!A1448>=2000,Расчет!B1448>=2000),Расчет!M1448,0)","v":0},{"$f":"IF(AND(Расчет!A1448<2000,Расчет!B1448<2000),Расчет!M1448,0)","v":0}]
[{"$f":"IF(OR(Расчет!A1449>=2000,Расчет!B1449>=2000),Расчет!G1449,0)","v":0},{"$f":"IF(AND(Расчет!A1449<2000,Расчет!B1449<2000),Расчет!G1449,0)","v":0},null,null,{"$f":"IF(OR(Расчет!A1449>=2000,Расчет!B1449>=2000),Расчет!J1449,0)","v":0},{"$f":"IF(AND(Расчет!A1449<2000,Расчет!B1449<2000),Расчет!J1449,0)","v":0},null,null,{"$f":"IF(OR(Расчет!A1449>=2000,Расчет!B1449>=2000),Расчет!M1449,0)","v":0},{"$f":"IF(AND(Расчет!A1449<2000,Расчет!B1449<2000),Расчет!M1449,0)","v":0}]
[{"$f":"IF(OR(Расчет!A1450>=2000,Расчет!B1450>=2000),Расчет!G1450,0)","v":0},{"$f":"IF(AND(Расчет!A1450<2000,Расчет!B1450<2000),Расчет!G1450,0)","v":0},null,null,{"$f":"IF(OR(Расчет!A1450>=2000,Расчет!B1450>=2000),Расчет!J1450,0)","v":0},{"$f":"IF(AND(Расчет!A1450<2000,Расчет!B1450<2000),Расчет!J1450,0)","v":0},null,null,{"$f":"IF(OR(Расчет!A1450>=2000,Расчет!B1450>=2000),Расчет!M1450,0)","v":0},{"$f":"IF(AND(Расчет!A1450<2000,Расчет!B1450<2000),Расчет!M1450,0)","v":0}]
[{"$f":"IF(OR(Расчет!A1451>=2000,Расчет!B1451>=2000),Расчет!G1451,0)","v":0},{"$f":"IF(AND(Расчет!A1451<2000,Расчет!B1451<2000),Расчет!G1451,0)","v":0},null,null,{"$f":"IF(OR(Расчет!A1451>=2000,Расчет!B1451>=2000),Расчет!J1451,0)","v":0},{"$f":"IF(AND(Расчет!A1451<2000,Расчет!B1451<2000),Расчет!J1451,0)","v":0},null,null,{"$f":"IF(OR(Расчет!A1451>=2000,Расчет!B1451>=2000),Расчет!M1451,0)","v":0},{"$f":"IF(AND(Расчет!A1451<2000,Расчет!B1451<2000),Расчет!M1451,0)","v":0}]
[{"$f":"IF(OR(Расчет!A1452>=2000,Расчет!B1452>=2000),Расчет!G1452,0)","v":0},{"$f":"IF(AND(Расчет!A1452<2000,Расчет!B1452<2000),Расчет!G1452,0)","v":0},null,null,{"$f":"IF(OR(Расчет!A1452>=2000,Расчет!B1452>=2000),Расчет!J1452,0)","v":0},{"$f":"IF(AND(Расчет!A1452<2000,Расчет!B1452<2000),Расчет!J1452,0)","v":0},null,null,{"$f":"IF(OR(Расчет!A1452>=2000,Расчет!B1452>=2000),Расчет!M1452,0)","v":0},{"$f":"IF(AND(Расчет!A1452<2000,Расчет!B1452<2000),Расчет!M1452,0)","v":0}]
[{"$f":"IF(OR(Расчет!A1453>=2000,Расчет!B1453>=2000),Расчет!G1453,0)","v":0},{"$f":"IF(AND(Расчет!A1453<2000,Расчет!B1453<2000),Расчет!G1453,0)","v":0},null,null,{"$f":"IF(OR(Расчет!A1453>=2000,Расчет!B1453>=2000),Расчет!J1453,0)","v":0},{"$f":"IF(AND(Расчет!A1453<2000,Расчет!B1453<2000),Расчет!J1453,0)","v":0},null,null,{"$f":"IF(OR(Расчет!A1453>=2000,Расчет!B1453>=2000),Расчет!M1453,0)","v":0},{"$f":"IF(AND(Расчет!A1453<2000,Расчет!B1453<2000),Расчет!M1453,0)","v":0}]
[{"$f":"IF(OR(Расчет!A1454>=2000,Расчет!B1454>=2000),Расчет!G1454,0)","v":0},{"$f":"IF(AND(Расчет!A1454<2000,Расчет!B1454<2000),Расчет!G1454,0)","v":0},null,null,{"$f":"IF(OR(Расчет!A1454>=2000,Расчет!B1454>=2000),Расчет!J1454,0)","v":0},{"$f":"IF(AND(Расчет!A1454<2000,Расчет!B1454<2000),Расчет!J1454,0)","v":0},null,null,{"$f":"IF(OR(Расчет!A1454>=2000,Расчет!B1454>=2000),Расчет!M1454,0)","v":0},{"$f":"IF(AND(Расчет!A1454<2000,Расчет!B1454<2000),Расчет!M1454,0)","v":0}]
[{"$f":"IF(OR(Расчет!A1455>=2000,Расчет!B1455>=2000),Расчет!G1455,0)","v":0},{"$f":"IF(AND(Расчет!A1455<2000,Расчет!B1455<2000),Расчет!G1455,0)","v":0},null,null,{"$f":"IF(OR(Расчет!A1455>=2000,Расчет!B1455>=2000),Расчет!J1455,0)","v":0},{"$f":"IF(AND(Расчет!A1455<2000,Расчет!B1455<2000),Расчет!J1455,0)","v":0},null,null,{"$f":"IF(OR(Расчет!A1455>=2000,Расчет!B1455>=2000),Расчет!M1455,0)","v":0},{"$f":"IF(AND(Расчет!A1455<2000,Расчет!B1455<2000),Расчет!M1455,0)","v":0}]
[{"$f":"IF(OR(Расчет!A1456>=2000,Расчет!B1456>=2000),Расчет!G1456,0)","v":0},{"$f":"IF(AND(Расчет!A1456<2000,Расчет!B1456<2000),Расчет!G1456,0)","v":0},null,null,{"$f":"IF(OR(Расчет!A1456>=2000,Расчет!B1456>=2000),Расчет!J1456,0)","v":0},{"$f":"IF(AND(Расчет!A1456<2000,Расчет!B1456<2000),Расчет!J1456,0)","v":0},null,null,{"$f":"IF(OR(Расчет!A1456>=2000,Расчет!B1456>=2000),Расчет!M1456,0)","v":0},{"$f":"IF(AND(Расчет!A1456<2000,Расчет!B1456<2000),Расчет!M1456,0)","v":0}]
[{"$f":"IF(OR(Расчет!A1457>=2000,Расчет!B1457>=2000),Расчет!G1457,0)","v":0},{"$f":"IF(AND(Расчет!A1457<2000,Расчет!B1457<2000),Расчет!G1457,0)","v":0},null,null,{"$f":"IF(OR(Расчет!A1457>=2000,Расчет!B1457>=2000),Расчет!J1457,0)","v":0},{"$f":"IF(AND(Расчет!A1457<2000,Расчет!B1457<2000),Расчет!J1457,0)","v":0},null,null,{"$f":"IF(OR(Расчет!A1457>=2000,Расчет!B1457>=2000),Расчет!M1457,0)","v":0},{"$f":"IF(AND(Расчет!A1457<2000,Расчет!B1457<2000),Расчет!M1457,0)","v":0}]
[{"$f":"IF(OR(Расчет!A1458>=2000,Расчет!B1458>=2000),Расчет!G1458,0)","v":0},{"$f":"IF(AND(Расчет!A1458<2000,Расчет!B1458<2000),Расчет!G1458,0)","v":0},null,null,{"$f":"IF(OR(Расчет!A1458>=2000,Расчет!B1458>=2000),Расчет!J1458,0)","v":0},{"$f":"IF(AND(Расчет!A1458<2000,Расчет!B1458<2000),Расчет!J1458,0)","v":0},null,null,{"$f":"IF(OR(Расчет!A1458>=2000,Расчет!B1458>=2000),Расчет!M1458,0)","v":0},{"$f":"IF(AND(Расчет!A1458<2000,Расчет!B1458<2000),Расчет!M1458,0)","v":0}]
[{"$f":"IF(OR(Расчет!A1459>=2000,Расчет!B1459>=2000),Расчет!G1459,0)","v":0},{"$f":"IF(AND(Расчет!A1459<2000,Расчет!B1459<2000),Расчет!G1459,0)","v":0},null,null,{"$f":"IF(OR(Расчет!A1459>=2000,Расчет!B1459>=2000),Расчет!J1459,0)","v":0},{"$f":"IF(AND(Расчет!A1459<2000,Расчет!B1459<2000),Расчет!J1459,0)","v":0},null,null,{"$f":"IF(OR(Расчет!A1459>=2000,Расчет!B1459>=2000),Расчет!M1459,0)","v":0},{"$f":"IF(AND(Расчет!A1459<2000,Расчет!B1459<2000),Расчет!M1459,0)","v":0}]
[{"$f":"IF(OR(Расчет!A1460>=2000,Расчет!B1460>=2000),Расчет!G1460,0)","v":0},{"$f":"IF(AND(Расчет!A1460<2000,Расчет!B1460<2000),Расчет!G1460,0)","v":0},null,null,{"$f":"IF(OR(Расчет!A1460>=2000,Расчет!B1460>=2000),Расчет!J1460,0)","v":0},{"$f":"IF(AND(Расчет!A1460<2000,Расчет!B1460<2000),Расчет!J1460,0)","v":0},null,null,{"$f":"IF(OR(Расчет!A1460>=2000,Расчет!B1460>=2000),Расчет!M1460,0)","v":0},{"$f":"IF(AND(Расчет!A1460<2000,Расчет!B1460<2000),Расчет!M1460,0)","v":0}]
[{"$f":"IF(OR(Расчет!A1461>=2000,Расчет!B1461>=2000),Расчет!G1461,0)","v":0},{"$f":"IF(AND(Расчет!A1461<2000,Расчет!B1461<2000),Расчет!G1461,0)","v":0},null,null,{"$f":"IF(OR(Расчет!A1461>=2000,Расчет!B1461>=2000),Расчет!J1461,0)","v":0},{"$f":"IF(AND(Расчет!A1461<2000,Расчет!B1461<2000),Расчет!J1461,0)","v":0},null,null,{"$f":"IF(OR(Расчет!A1461>=2000,Расчет!B1461>=2000),Расчет!M1461,0)","v":0},{"$f":"IF(AND(Расчет!A1461<2000,Расчет!B1461<2000),Расчет!M1461,0)","v":0}]
[{"$f":"IF(OR(Расчет!A1462>=2000,Расчет!B1462>=2000),Расчет!G1462,0)","v":0},{"$f":"IF(AND(Расчет!A1462<2000,Расчет!B1462<2000),Расчет!G1462,0)","v":0},null,null,{"$f":"IF(OR(Расчет!A1462>=2000,Расчет!B1462>=2000),Расчет!J1462,0)","v":0},{"$f":"IF(AND(Расчет!A1462<2000,Расчет!B1462<2000),Расчет!J1462,0)","v":0},null,null,{"$f":"IF(OR(Расчет!A1462>=2000,Расчет!B1462>=2000),Расчет!M1462,0)","v":0},{"$f":"IF(AND(Расчет!A1462<2000,Расчет!B1462<2000),Расчет!M1462,0)","v":0}]
[{"$f":"IF(OR(Расчет!A1463>=2000,Расчет!B1463>=2000),Расчет!G1463,0)","v":0},{"$f":"IF(AND(Расчет!A1463<2000,Расчет!B1463<2000),Расчет!G1463,0)","v":0},null,null,{"$f":"IF(OR(Расчет!A1463>=2000,Расчет!B1463>=2000),Расчет!J1463,0)","v":0},{"$f":"IF(AND(Расчет!A1463<2000,Расчет!B1463<2000),Расчет!J1463,0)","v":0},null,null,{"$f":"IF(OR(Расчет!A1463>=2000,Расчет!B1463>=2000),Расчет!M1463,0)","v":0},{"$f":"IF(AND(Расчет!A1463<2000,Расчет!B1463<2000),Расчет!M1463,0)","v":0}]
[{"$f":"IF(OR(Расчет!A1464>=2000,Расчет!B1464>=2000),Расчет!G1464,0)","v":0},{"$f":"IF(AND(Расчет!A1464<2000,Расчет!B1464<2000),Расчет!G1464,0)","v":0},null,null,{"$f":"IF(OR(Расчет!A1464>=2000,Расчет!B1464>=2000),Расчет!J1464,0)","v":0},{"$f":"IF(AND(Расчет!A1464<2000,Расчет!B1464<2000),Расчет!J1464,0)","v":0},null,null,{"$f":"IF(OR(Расчет!A1464>=2000,Расчет!B1464>=2000),Расчет!M1464,0)","v":0},{"$f":"IF(AND(Расчет!A1464<2000,Расчет!B1464<2000),Расчет!M1464,0)","v":0}]
[{"$f":"IF(OR(Расчет!A1465>=2000,Расчет!B1465>=2000),Расчет!G1465,0)","v":0},{"$f":"IF(AND(Расчет!A1465<2000,Расчет!B1465<2000),Расчет!G1465,0)","v":0},null,null,{"$f":"IF(OR(Расчет!A1465>=2000,Расчет!B1465>=2000),Расчет!J1465,0)","v":0},{"$f":"IF(AND(Расчет!A1465<2000,Расчет!B1465<2000),Расчет!J1465,0)","v":0},null,null,{"$f":"IF(OR(Расчет!A1465>=2000,Расчет!B1465>=2000),Расчет!M1465,0)","v":0},{"$f":"IF(AND(Расчет!A1465<2000,Расчет!B1465<2000),Расчет!M1465,0)","v":0}]
[{"$f":"IF(OR(Расчет!A1466>=2000,Расчет!B1466>=2000),Расчет!G1466,0)","v":0},{"$f":"IF(AND(Расчет!A1466<2000,Расчет!B1466<2000),Расчет!G1466,0)","v":0},null,null,{"$f":"IF(OR(Расчет!A1466>=2000,Расчет!B1466>=2000),Расчет!J1466,0)","v":0},{"$f":"IF(AND(Расчет!A1466<2000,Расчет!B1466<2000),Расчет!J1466,0)","v":0},null,null,{"$f":"IF(OR(Расчет!A1466>=2000,Расчет!B1466>=2000),Расчет!M1466,0)","v":0},{"$f":"IF(AND(Расчет!A1466<2000,Расчет!B1466<2000),Расчет!M1466,0)","v":0}]
[{"$f":"IF(OR(Расчет!A1467>=2000,Расчет!B1467>=2000),Расчет!G1467,0)","v":0},{"$f":"IF(AND(Расчет!A1467<2000,Расчет!B1467<2000),Расчет!G1467,0)","v":0},null,null,{"$f":"IF(OR(Расчет!A1467>=2000,Расчет!B1467>=2000),Расчет!J1467,0)","v":0},{"$f":"IF(AND(Расчет!A1467<2000,Расчет!B1467<2000),Расчет!J1467,0)","v":0},null,null,{"$f":"IF(OR(Расчет!A1467>=2000,Расчет!B1467>=2000),Расчет!M1467,0)","v":0},{"$f":"IF(AND(Расчет!A1467<2000,Расчет!B1467<2000),Расчет!M1467,0)","v":0}]
[{"$f":"IF(OR(Расчет!A1468>=2000,Расчет!B1468>=2000),Расчет!G1468,0)","v":0},{"$f":"IF(AND(Расчет!A1468<2000,Расчет!B1468<2000),Расчет!G1468,0)","v":0},null,null,{"$f":"IF(OR(Расчет!A1468>=2000,Расчет!B1468>=2000),Расчет!J1468,0)","v":0},{"$f":"IF(AND(Расчет!A1468<2000,Расчет!B1468<2000),Расчет!J1468,0)","v":0},null,null,{"$f":"IF(OR(Расчет!A1468>=2000,Расчет!B1468>=2000),Расчет!M1468,0)","v":0},{"$f":"IF(AND(Расчет!A1468<2000,Расчет!B1468<2000),Расчет!M1468,0)","v":0}]
[{"$f":"IF(OR(Расчет!A1469>=2000,Расчет!B1469>=2000),Расчет!G1469,0)","v":0},{"$f":"IF(AND(Расчет!A1469<2000,Расчет!B1469<2000),Расчет!G1469,0)","v":0},null,null,{"$f":"IF(OR(Расчет!A1469>=2000,Расчет!B1469>=2000),Расчет!J1469,0)","v":0},{"$f":"IF(AND(Расчет!A1469<2000,Расчет!B1469<2000),Расчет!J1469,0)","v":0},null,null,{"$f":"IF(OR(Расчет!A1469>=2000,Расчет!B1469>=2000),Расчет!M1469,0)","v":0},{"$f":"IF(AND(Расчет!A1469<2000,Расчет!B1469<2000),Расчет!M1469,0)","v":0}]
[{"$f":"IF(OR(Расчет!A1470>=2000,Расчет!B1470>=2000),Расчет!G1470,0)","v":0},{"$f":"IF(AND(Расчет!A1470<2000,Расчет!B1470<2000),Расчет!G1470,0)","v":0},null,null,{"$f":"IF(OR(Расчет!A1470>=2000,Расчет!B1470>=2000),Расчет!J1470,0)","v":0},{"$f":"IF(AND(Расчет!A1470<2000,Расчет!B1470<2000),Расчет!J1470,0)","v":0},null,null,{"$f":"IF(OR(Расчет!A1470>=2000,Расчет!B1470>=2000),Расчет!M1470,0)","v":0},{"$f":"IF(AND(Расчет!A1470<2000,Расчет!B1470<2000),Расчет!M1470,0)","v":0}]
[{"$f":"IF(OR(Расчет!A1471>=2000,Расчет!B1471>=2000),Расчет!G1471,0)","v":0},{"$f":"IF(AND(Расчет!A1471<2000,Расчет!B1471<2000),Расчет!G1471,0)","v":0},null,null,{"$f":"IF(OR(Расчет!A1471>=2000,Расчет!B1471>=2000),Расчет!J1471,0)","v":0},{"$f":"IF(AND(Расчет!A1471<2000,Расчет!B1471<2000),Расчет!J1471,0)","v":0},null,null,{"$f":"IF(OR(Расчет!A1471>=2000,Расчет!B1471>=2000),Расчет!M1471,0)","v":0},{"$f":"IF(AND(Расчет!A1471<2000,Расчет!B1471<2000),Расчет!M1471,0)","v":0}]
[{"$f":"IF(OR(Расчет!A1472>=2000,Расчет!B1472>=2000),Расчет!G1472,0)","v":0},{"$f":"IF(AND(Расчет!A1472<2000,Расчет!B1472<2000),Расчет!G1472,0)","v":0},null,null,{"$f":"IF(OR(Расчет!A1472>=2000,Расчет!B1472>=2000),Расчет!J1472,0)","v":0},{"$f":"IF(AND(Расчет!A1472<2000,Расчет!B1472<2000),Расчет!J1472,0)","v":0},null,null,{"$f":"IF(OR(Расчет!A1472>=2000,Расчет!B1472>=2000),Расчет!M1472,0)","v":0},{"$f":"IF(AND(Расчет!A1472<2000,Расчет!B1472<2000),Расчет!M1472,0)","v":0}]
[{"$f":"IF(OR(Расчет!A1473>=2000,Расчет!B1473>=2000),Расчет!G1473,0)","v":0},{"$f":"IF(AND(Расчет!A1473<2000,Расчет!B1473<2000),Расчет!G1473,0)","v":0},null,null,{"$f":"IF(OR(Расчет!A1473>=2000,Расчет!B1473>=2000),Расчет!J1473,0)","v":0},{"$f":"IF(AND(Расчет!A1473<2000,Расчет!B1473<2000),Расчет!J1473,0)","v":0},null,null,{"$f":"IF(OR(Расчет!A1473>=2000,Расчет!B1473>=2000),Расчет!M1473,0)","v":0},{"$f":"IF(AND(Расчет!A1473<2000,Расчет!B1473<2000),Расчет!M1473,0)","v":0}]
[{"$f":"IF(OR(Расчет!A1474>=2000,Расчет!B1474>=2000),Расчет!G1474,0)","v":0},{"$f":"IF(AND(Расчет!A1474<2000,Расчет!B1474<2000),Расчет!G1474,0)","v":0},null,null,{"$f":"IF(OR(Расчет!A1474>=2000,Расчет!B1474>=2000),Расчет!J1474,0)","v":0},{"$f":"IF(AND(Расчет!A1474<2000,Расчет!B1474<2000),Расчет!J1474,0)","v":0},null,null,{"$f":"IF(OR(Расчет!A1474>=2000,Расчет!B1474>=2000),Расчет!M1474,0)","v":0},{"$f":"IF(AND(Расчет!A1474<2000,Расчет!B1474<2000),Расчет!M1474,0)","v":0}]
[{"$f":"IF(OR(Расчет!A1475>=2000,Расчет!B1475>=2000),Расчет!G1475,0)","v":0},{"$f":"IF(AND(Расчет!A1475<2000,Расчет!B1475<2000),Расчет!G1475,0)","v":0},null,null,{"$f":"IF(OR(Расчет!A1475>=2000,Расчет!B1475>=2000),Расчет!J1475,0)","v":0},{"$f":"IF(AND(Расчет!A1475<2000,Расчет!B1475<2000),Расчет!J1475,0)","v":0},null,null,{"$f":"IF(OR(Расчет!A1475>=2000,Расчет!B1475>=2000),Расчет!M1475,0)","v":0},{"$f":"IF(AND(Расчет!A1475<2000,Расчет!B1475<2000),Расчет!M1475,0)","v":0}]
[{"$f":"IF(OR(Расчет!A1476>=2000,Расчет!B1476>=2000),Расчет!G1476,0)","v":0},{"$f":"IF(AND(Расчет!A1476<2000,Расчет!B1476<2000),Расчет!G1476,0)","v":0},null,null,{"$f":"IF(OR(Расчет!A1476>=2000,Расчет!B1476>=2000),Расчет!J1476,0)","v":0},{"$f":"IF(AND(Расчет!A1476<2000,Расчет!B1476<2000),Расчет!J1476,0)","v":0},null,null,{"$f":"IF(OR(Расчет!A1476>=2000,Расчет!B1476>=2000),Расчет!M1476,0)","v":0},{"$f":"IF(AND(Расчет!A1476<2000,Расчет!B1476<2000),Расчет!M1476,0)","v":0}]
[{"$f":"IF(OR(Расчет!A1477>=2000,Расчет!B1477>=2000),Расчет!G1477,0)","v":0},{"$f":"IF(AND(Расчет!A1477<2000,Расчет!B1477<2000),Расчет!G1477,0)","v":0},null,null,{"$f":"IF(OR(Расчет!A1477>=2000,Расчет!B1477>=2000),Расчет!J1477,0)","v":0},{"$f":"IF(AND(Расчет!A1477<2000,Расчет!B1477<2000),Расчет!J1477,0)","v":0},null,null,{"$f":"IF(OR(Расчет!A1477>=2000,Расчет!B1477>=2000),Расчет!M1477,0)","v":0},{"$f":"IF(AND(Расчет!A1477<2000,Расчет!B1477<2000),Расчет!M1477,0)","v":0}]
[{"$f":"IF(OR(Расчет!A1478>=2000,Расчет!B1478>=2000),Расчет!G1478,0)","v":0},{"$f":"IF(AND(Расчет!A1478<2000,Расчет!B1478<2000),Расчет!G1478,0)","v":0},null,null,{"$f":"IF(OR(Расчет!A1478>=2000,Расчет!B1478>=2000),Расчет!J1478,0)","v":0},{"$f":"IF(AND(Расчет!A1478<2000,Расчет!B1478<2000),Расчет!J1478,0)","v":0},null,null,{"$f":"IF(OR(Расчет!A1478>=2000,Расчет!B1478>=2000),Расчет!M1478,0)","v":0},{"$f":"IF(AND(Расчет!A1478<2000,Расчет!B1478<2000),Расчет!M1478,0)","v":0}]
[{"$f":"IF(OR(Расчет!A1479>=2000,Расчет!B1479>=2000),Расчет!G1479,0)","v":0},{"$f":"IF(AND(Расчет!A1479<2000,Расчет!B1479<2000),Расчет!G1479,0)","v":0},null,null,{"$f":"IF(OR(Расчет!A1479>=2000,Расчет!B1479>=2000),Расчет!J1479,0)","v":0},{"$f":"IF(AND(Расчет!A1479<2000,Расчет!B1479<2000),Расчет!J1479,0)","v":0},null,null,{"$f":"IF(OR(Расчет!A1479>=2000,Расчет!B1479>=2000),Расчет!M1479,0)","v":0},{"$f":"IF(AND(Расчет!A1479<2000,Расчет!B1479<2000),Расчет!M1479,0)","v":0}]
[{"$f":"IF(OR(Расчет!A1480>=2000,Расчет!B1480>=2000),Расчет!G1480,0)","v":0},{"$f":"IF(AND(Расчет!A1480<2000,Расчет!B1480<2000),Расчет!G1480,0)","v":0},null,null,{"$f":"IF(OR(Расчет!A1480>=2000,Расчет!B1480>=2000),Расчет!J1480,0)","v":0},{"$f":"IF(AND(Расчет!A1480<2000,Расчет!B1480<2000),Расчет!J1480,0)","v":0},null,null,{"$f":"IF(OR(Расчет!A1480>=2000,Расчет!B1480>=2000),Расчет!M1480,0)","v":0},{"$f":"IF(AND(Расчет!A1480<2000,Расчет!B1480<2000),Расчет!M1480,0)","v":0}]
[{"$f":"IF(OR(Расчет!A1481>=2000,Расчет!B1481>=2000),Расчет!G1481,0)","v":0},{"$f":"IF(AND(Расчет!A1481<2000,Расчет!B1481<2000),Расчет!G1481,0)","v":0},null,null,{"$f":"IF(OR(Расчет!A1481>=2000,Расчет!B1481>=2000),Расчет!J1481,0)","v":0},{"$f":"IF(AND(Расчет!A1481<2000,Расчет!B1481<2000),Расчет!J1481,0)","v":0},null,null,{"$f":"IF(OR(Расчет!A1481>=2000,Расчет!B1481>=2000),Расчет!M1481,0)","v":0},{"$f":"IF(AND(Расчет!A1481<2000,Расчет!B1481<2000),Расчет!M1481,0)","v":0}]
[{"$f":"IF(OR(Расчет!A1482>=2000,Расчет!B1482>=2000),Расчет!G1482,0)","v":0},{"$f":"IF(AND(Расчет!A1482<2000,Расчет!B1482<2000),Расчет!G1482,0)","v":0},null,null,{"$f":"IF(OR(Расчет!A1482>=2000,Расчет!B1482>=2000),Расчет!J1482,0)","v":0},{"$f":"IF(AND(Расчет!A1482<2000,Расчет!B1482<2000),Расчет!J1482,0)","v":0},null,null,{"$f":"IF(OR(Расчет!A1482>=2000,Расчет!B1482>=2000),Расчет!M1482,0)","v":0},{"$f":"IF(AND(Расчет!A1482<2000,Расчет!B1482<2000),Расчет!M1482,0)","v":0}]
[{"$f":"IF(OR(Расчет!A1483>=2000,Расчет!B1483>=2000),Расчет!G1483,0)","v":0},{"$f":"IF(AND(Расчет!A1483<2000,Расчет!B1483<2000),Расчет!G1483,0)","v":0},null,null,{"$f":"IF(OR(Расчет!A1483>=2000,Расчет!B1483>=2000),Расчет!J1483,0)","v":0},{"$f":"IF(AND(Расчет!A1483<2000,Расчет!B1483<2000),Расчет!J1483,0)","v":0},null,null,{"$f":"IF(OR(Расчет!A1483>=2000,Расчет!B1483>=2000),Расчет!M1483,0)","v":0},{"$f":"IF(AND(Расчет!A1483<2000,Расчет!B1483<2000),Расчет!M1483,0)","v":0}]
[{"$f":"IF(OR(Расчет!A1484>=2000,Расчет!B1484>=2000),Расчет!G1484,0)","v":0},{"$f":"IF(AND(Расчет!A1484<2000,Расчет!B1484<2000),Расчет!G1484,0)","v":0},null,null,{"$f":"IF(OR(Расчет!A1484>=2000,Расчет!B1484>=2000),Расчет!J1484,0)","v":0},{"$f":"IF(AND(Расчет!A1484<2000,Расчет!B1484<2000),Расчет!J1484,0)","v":0},null,null,{"$f":"IF(OR(Расчет!A1484>=2000,Расчет!B1484>=2000),Расчет!M1484,0)","v":0},{"$f":"IF(AND(Расчет!A1484<2000,Расчет!B1484<2000),Расчет!M1484,0)","v":0}]
[{"$f":"IF(OR(Расчет!A1485>=2000,Расчет!B1485>=2000),Расчет!G1485,0)","v":0},{"$f":"IF(AND(Расчет!A1485<2000,Расчет!B1485<2000),Расчет!G1485,0)","v":0},null,null,{"$f":"IF(OR(Расчет!A1485>=2000,Расчет!B1485>=2000),Расчет!J1485,0)","v":0},{"$f":"IF(AND(Расчет!A1485<2000,Расчет!B1485<2000),Расчет!J1485,0)","v":0},null,null,{"$f":"IF(OR(Расчет!A1485>=2000,Расчет!B1485>=2000),Расчет!M1485,0)","v":0},{"$f":"IF(AND(Расчет!A1485<2000,Расчет!B1485<2000),Расчет!M1485,0)","v":0}]
[{"$f":"IF(OR(Расчет!A1486>=2000,Расчет!B1486>=2000),Расчет!G1486,0)","v":0},{"$f":"IF(AND(Расчет!A1486<2000,Расчет!B1486<2000),Расчет!G1486,0)","v":0},null,null,{"$f":"IF(OR(Расчет!A1486>=2000,Расчет!B1486>=2000),Расчет!J1486,0)","v":0},{"$f":"IF(AND(Расчет!A1486<2000,Расчет!B1486<2000),Расчет!J1486,0)","v":0},null,null,{"$f":"IF(OR(Расчет!A1486>=2000,Расчет!B1486>=2000),Расчет!M1486,0)","v":0},{"$f":"IF(AND(Расчет!A1486<2000,Расчет!B1486<2000),Расчет!M1486,0)","v":0}]
[{"$f":"IF(OR(Расчет!A1487>=2000,Расчет!B1487>=2000),Расчет!G1487,0)","v":0},{"$f":"IF(AND(Расчет!A1487<2000,Расчет!B1487<2000),Расчет!G1487,0)","v":0},null,null,{"$f":"IF(OR(Расчет!A1487>=2000,Расчет!B1487>=2000),Расчет!J1487,0)","v":0},{"$f":"IF(AND(Расчет!A1487<2000,Расчет!B1487<2000),Расчет!J1487,0)","v":0},null,null,{"$f":"IF(OR(Расчет!A1487>=2000,Расчет!B1487>=2000),Расчет!M1487,0)","v":0},{"$f":"IF(AND(Расчет!A1487<2000,Расчет!B1487<2000),Расчет!M1487,0)","v":0}]
[{"$f":"IF(OR(Расчет!A1488>=2000,Расчет!B1488>=2000),Расчет!G1488,0)","v":0},{"$f":"IF(AND(Расчет!A1488<2000,Расчет!B1488<2000),Расчет!G1488,0)","v":0},null,null,{"$f":"IF(OR(Расчет!A1488>=2000,Расчет!B1488>=2000),Расчет!J1488,0)","v":0},{"$f":"IF(AND(Расчет!A1488<2000,Расчет!B1488<2000),Расчет!J1488,0)","v":0},null,null,{"$f":"IF(OR(Расчет!A1488>=2000,Расчет!B1488>=2000),Расчет!M1488,0)","v":0},{"$f":"IF(AND(Расчет!A1488<2000,Расчет!B1488<2000),Расчет!M1488,0)","v":0}]
[{"$f":"IF(OR(Расчет!A1489>=2000,Расчет!B1489>=2000),Расчет!G1489,0)","v":0},{"$f":"IF(AND(Расчет!A1489<2000,Расчет!B1489<2000),Расчет!G1489,0)","v":0},null,null,{"$f":"IF(OR(Расчет!A1489>=2000,Расчет!B1489>=2000),Расчет!J1489,0)","v":0},{"$f":"IF(AND(Расчет!A1489<2000,Расчет!B1489<2000),Расчет!J1489,0)","v":0},null,null,{"$f":"IF(OR(Расчет!A1489>=2000,Расчет!B1489>=2000),Расчет!M1489,0)","v":0},{"$f":"IF(AND(Расчет!A1489<2000,Расчет!B1489<2000),Расчет!M1489,0)","v":0}]
[{"$f":"IF(OR(Расчет!A1490>=2000,Расчет!B1490>=2000),Расчет!G1490,0)","v":0},{"$f":"IF(AND(Расчет!A1490<2000,Расчет!B1490<2000),Расчет!G1490,0)","v":0},null,null,{"$f":"IF(OR(Расчет!A1490>=2000,Расчет!B1490>=2000),Расчет!J1490,0)","v":0},{"$f":"IF(AND(Расчет!A1490<2000,Расчет!B1490<2000),Расчет!J1490,0)","v":0},null,null,{"$f":"IF(OR(Расчет!A1490>=2000,Расчет!B1490>=2000),Расчет!M1490,0)","v":0},{"$f":"IF(AND(Расчет!A1490<2000,Расчет!B1490<2000),Расчет!M1490,0)","v":0}]
[{"$f":"IF(OR(Расчет!A1491>=2000,Расчет!B1491>=2000),Расчет!G1491,0)","v":0},{"$f":"IF(AND(Расчет!A1491<2000,Расчет!B1491<2000),Расчет!G1491,0)","v":0},null,null,{"$f":"IF(OR(Расчет!A1491>=2000,Расчет!B1491>=2000),Расчет!J1491,0)","v":0},{"$f":"IF(AND(Расчет!A1491<2000,Расчет!B1491<2000),Расчет!J1491,0)","v":0},null,null,{"$f":"IF(OR(Расчет!A1491>=2000,Расчет!B1491>=2000),Расчет!M1491,0)","v":0},{"$f":"IF(AND(Расчет!A1491<2000,Расчет!B1491<2000),Расчет!M1491,0)","v":0}]
[{"$f":"IF(OR(Расчет!A1492>=2000,Расчет!B1492>=2000),Расчет!G1492,0)","v":0},{"$f":"IF(AND(Расчет!A1492<2000,Расчет!B1492<2000),Расчет!G1492,0)","v":0},null,null,{"$f":"IF(OR(Расчет!A1492>=2000,Расчет!B1492>=2000),Расчет!J1492,0)","v":0},{"$f":"IF(AND(Расчет!A1492<2000,Расчет!B1492<2000),Расчет!J1492,0)","v":0},null,null,{"$f":"IF(OR(Расчет!A1492>=2000,Расчет!B1492>=2000),Расчет!M1492,0)","v":0},{"$f":"IF(AND(Расчет!A1492<2000,Расчет!B1492<2000),Расчет!M1492,0)","v":0}]
[{"$f":"IF(OR(Расчет!A1493>=2000,Расчет!B1493>=2000),Расчет!G1493,0)","v":0},{"$f":"IF(AND(Расчет!A1493<2000,Расчет!B1493<2000),Расчет!G1493,0)","v":0},null,null,{"$f":"IF(OR(Расчет!A1493>=2000,Расчет!B1493>=2000),Расчет!J1493,0)","v":0},{"$f":"IF(AND(Расчет!A1493<2000,Расчет!B1493<2000),Расчет!J1493,0)","v":0},null,null,{"$f":"IF(OR(Расчет!A1493>=2000,Расчет!B1493>=2000),Расчет!M1493,0)","v":0},{"$f":"IF(AND(Расчет!A1493<2000,Расчет!B1493<2000),Расчет!M1493,0)","v":0}]
[{"$f":"IF(OR(Расчет!A1494>=2000,Расчет!B1494>=2000),Расчет!G1494,0)","v":0},{"$f":"IF(AND(Расчет!A1494<2000,Расчет!B1494<2000),Расчет!G1494,0)","v":0},null,null,{"$f":"IF(OR(Расчет!A1494>=2000,Расчет!B1494>=2000),Расчет!J1494,0)","v":0},{"$f":"IF(AND(Расчет!A1494<2000,Расчет!B1494<2000),Расчет!J1494,0)","v":0},null,null,{"$f":"IF(OR(Расчет!A1494>=2000,Расчет!B1494>=2000),Расчет!M1494,0)","v":0},{"$f":"IF(AND(Расчет!A1494<2000,Расчет!B1494<2000),Расчет!M1494,0)","v":0}]
[{"$f":"IF(OR(Расчет!A1495>=2000,Расчет!B1495>=2000),Расчет!G1495,0)","v":0},{"$f":"IF(AND(Расчет!A1495<2000,Расчет!B1495<2000),Расчет!G1495,0)","v":0},null,null,{"$f":"IF(OR(Расчет!A1495>=2000,Расчет!B1495>=2000),Расчет!J1495,0)","v":0},{"$f":"IF(AND(Расчет!A1495<2000,Расчет!B1495<2000),Расчет!J1495,0)","v":0},null,null,{"$f":"IF(OR(Расчет!A1495>=2000,Расчет!B1495>=2000),Расчет!M1495,0)","v":0},{"$f":"IF(AND(Расчет!A1495<2000,Расчет!B1495<2000),Расчет!M1495,0)","v":0}]
[{"$f":"IF(OR(Расчет!A1496>=2000,Расчет!B1496>=2000),Расчет!G1496,0)","v":0},{"$f":"IF(AND(Расчет!A1496<2000,Расчет!B1496<2000),Расчет!G1496,0)","v":0},null,null,{"$f":"IF(OR(Расчет!A1496>=2000,Расчет!B1496>=2000),Расчет!J1496,0)","v":0},{"$f":"IF(AND(Расчет!A1496<2000,Расчет!B1496<2000),Расчет!J1496,0)","v":0},null,null,{"$f":"IF(OR(Расчет!A1496>=2000,Расчет!B1496>=2000),Расчет!M1496,0)","v":0},{"$f":"IF(AND(Расчет!A1496<2000,Расчет!B1496<2000),Расчет!M1496,0)","v":0}]
[{"$f":"IF(OR(Расчет!A1497>=2000,Расчет!B1497>=2000),Расчет!G1497,0)","v":0},{"$f":"IF(AND(Расчет!A1497<2000,Расчет!B1497<2000),Расчет!G1497,0)","v":0},null,null,{"$f":"IF(OR(Расчет!A1497>=2000,Расчет!B1497>=2000),Расчет!J1497,0)","v":0},{"$f":"IF(AND(Расчет!A1497<2000,Расчет!B1497<2000),Расчет!J1497,0)","v":0},null,null,{"$f":"IF(OR(Расчет!A1497>=2000,Расчет!B1497>=2000),Расчет!M1497,0)","v":0},{"$f":"IF(AND(Расчет!A1497<2000,Расчет!B1497<2000),Расчет!M1497,0)","v":0}]
[{"$f":"IF(OR(Расчет!A1498>=2000,Расчет!B1498>=2000),Расчет!G1498,0)","v":0},{"$f":"IF(AND(Расчет!A1498<2000,Расчет!B1498<2000),Расчет!G1498,0)","v":0},null,null,{"$f":"IF(OR(Расчет!A1498>=2000,Расчет!B1498>=2000),Расчет!J1498,0)","v":0},{"$f":"IF(AND(Расчет!A1498<2000,Расчет!B1498<2000),Расчет!J1498,0)","v":0},null,null,{"$f":"IF(OR(Расчет!A1498>=2000,Расчет!B1498>=2000),Расчет!M1498,0)","v":0},{"$f":"IF(AND(Расчет!A1498<2000,Расчет!B1498<2000),Расчет!M1498,0)","v":0}]
[{"$f":"IF(OR(Расчет!A1499>=2000,Расчет!B1499>=2000),Расчет!G1499,0)","v":0},{"$f":"IF(AND(Расчет!A1499<2000,Расчет!B1499<2000),Расчет!G1499,0)","v":0},null,null,{"$f":"IF(OR(Расчет!A1499>=2000,Расчет!B1499>=2000),Расчет!J1499,0)","v":0},{"$f":"IF(AND(Расчет!A1499<2000,Расчет!B1499<2000),Расчет!J1499,0)","v":0},null,null,{"$f":"IF(OR(Расчет!A1499>=2000,Расчет!B1499>=2000),Расчет!M1499,0)","v":0},{"$f":"IF(AND(Расчет!A1499<2000,Расчет!B1499<2000),Расчет!M1499,0)","v":0}]
[{"$f":"IF(OR(Расчет!A1500>=2000,Расчет!B1500>=2000),Расчет!G1500,0)","v":0},{"$f":"IF(AND(Расчет!A1500<2000,Расчет!B1500<2000),Расчет!G1500,0)","v":0},null,null,{"$f":"IF(OR(Расчет!A1500>=2000,Расчет!B1500>=2000),Расчет!J1500,0)","v":0},{"$f":"IF(AND(Расчет!A1500<2000,Расчет!B1500<2000),Расчет!J1500,0)","v":0},null,null,{"$f":"IF(OR(Расчет!A1500>=2000,Расчет!B1500>=2000),Расчет!M1500,0)","v":0},{"$f":"IF(AND(Расчет!A1500<2000,Расчет!B1500<2000),Расчет!M1500,0)","v":0}]
[{"$f":"IF(OR(Расчет!A1501>=2000,Расчет!B1501>=2000),Расчет!G1501,0)","v":0},{"$f":"IF(AND(Расчет!A1501<2000,Расчет!B1501<2000),Расчет!G1501,0)","v":0},null,null,{"$f":"IF(OR(Расчет!A1501>=2000,Расчет!B1501>=2000),Расчет!J1501,0)","v":0},{"$f":"IF(AND(Расчет!A1501<2000,Расчет!B1501<2000),Расчет!J1501,0)","v":0},null,null,{"$f":"IF(OR(Расчет!A1501>=2000,Расчет!B1501>=2000),Расчет!M1501,0)","v":0},{"$f":"IF(AND(Расчет!A1501<2000,Расчет!B1501<2000),Расчет!M1501,0)","v":0}]
[{"$f":"IF(OR(Расчет!A1502>=2000,Расчет!B1502>=2000),Расчет!G1502,0)","v":0},{"$f":"IF(AND(Расчет!A1502<2000,Расчет!B1502<2000),Расчет!G1502,0)","v":0},null,null,{"$f":"IF(OR(Расчет!A1502>=2000,Расчет!B1502>=2000),Расчет!J1502,0)","v":0},{"$f":"IF(AND(Расчет!A1502<2000,Расчет!B1502<2000),Расчет!J1502,0)","v":0},null,null,{"$f":"IF(OR(Расчет!A1502>=2000,Расчет!B1502>=2000),Расчет!M1502,0)","v":0},{"$f":"IF(AND(Расчет!A1502<2000,Расчет!B1502<2000),Расчет!M1502,0)","v":0}]
[{"$f":"IF(OR(Расчет!A1503>=2000,Расчет!B1503>=2000),Расчет!G1503,0)","v":0},{"$f":"IF(AND(Расчет!A1503<2000,Расчет!B1503<2000),Расчет!G1503,0)","v":0},null,null,{"$f":"IF(OR(Расчет!A1503>=2000,Расчет!B1503>=2000),Расчет!J1503,0)","v":0},{"$f":"IF(AND(Расчет!A1503<2000,Расчет!B1503<2000),Расчет!J1503,0)","v":0},null,null,{"$f":"IF(OR(Расчет!A1503>=2000,Расчет!B1503>=2000),Расчет!M1503,0)","v":0},{"$f":"IF(AND(Расчет!A1503<2000,Расчет!B1503<2000),Расчет!M1503,0)","v":0}]
[{"$f":"IF(OR(Расчет!A1504>=2000,Расчет!B1504>=2000),Расчет!G1504,0)","v":0},{"$f":"IF(AND(Расчет!A1504<2000,Расчет!B1504<2000),Расчет!G1504,0)","v":0},null,null,{"$f":"IF(OR(Расчет!A1504>=2000,Расчет!B1504>=2000),Расчет!J1504,0)","v":0},{"$f":"IF(AND(Расчет!A1504<2000,Расчет!B1504<2000),Расчет!J1504,0)","v":0},null,null,{"$f":"IF(OR(Расчет!A1504>=2000,Расчет!B1504>=2000),Расчет!M1504,0)","v":0},{"$f":"IF(AND(Расчет!A1504<2000,Расчет!B1504<2000),Расчет!M1504,0)","v":0}]
[{"$f":"IF(OR(Расчет!A1505>=2000,Расчет!B1505>=2000),Расчет!G1505,0)","v":0},{"$f":"IF(AND(Расчет!A1505<2000,Расчет!B1505<2000),Расчет!G1505,0)","v":0},null,null,{"$f":"IF(OR(Расчет!A1505>=2000,Расчет!B1505>=2000),Расчет!J1505,0)","v":0},{"$f":"IF(AND(Расчет!A1505<2000,Расчет!B1505<2000),Расчет!J1505,0)","v":0},null,null,{"$f":"IF(OR(Расчет!A1505>=2000,Расчет!B1505>=2000),Расчет!M1505,0)","v":0},{"$f":"IF(AND(Расчет!A1505<2000,Расчет!B1505<2000),Расчет!M1505,0)","v":0}]
[{"$f":"IF(OR(Расчет!A1506>=2000,Расчет!B1506>=2000),Расчет!G1506,0)","v":0},{"$f":"IF(AND(Расчет!A1506<2000,Расчет!B1506<2000),Расчет!G1506,0)","v":0},null,null,{"$f":"IF(OR(Расчет!A1506>=2000,Расчет!B1506>=2000),Расчет!J1506,0)","v":0},{"$f":"IF(AND(Расчет!A1506<2000,Расчет!B1506<2000),Расчет!J1506,0)","v":0},null,null,{"$f":"IF(OR(Расчет!A1506>=2000,Расчет!B1506>=2000),Расчет!M1506,0)","v":0},{"$f":"IF(AND(Расчет!A1506<2000,Расчет!B1506<2000),Расчет!M1506,0)","v":0}]
[{"$f":"IF(OR(Расчет!A1507>=2000,Расчет!B1507>=2000),Расчет!G1507,0)","v":0},{"$f":"IF(AND(Расчет!A1507<2000,Расчет!B1507<2000),Расчет!G1507,0)","v":0},null,null,{"$f":"IF(OR(Расчет!A1507>=2000,Расчет!B1507>=2000),Расчет!J1507,0)","v":0},{"$f":"IF(AND(Расчет!A1507<2000,Расчет!B1507<2000),Расчет!J1507,0)","v":0},null,null,{"$f":"IF(OR(Расчет!A1507>=2000,Расчет!B1507>=2000),Расчет!M1507,0)","v":0},{"$f":"IF(AND(Расчет!A1507<2000,Расчет!B1507<2000),Расчет!M1507,0)","v":0}]
[{"$f":"IF(OR(Расчет!A1508>=2000,Расчет!B1508>=2000),Расчет!G1508,0)","v":0},{"$f":"IF(AND(Расчет!A1508<2000,Расчет!B1508<2000),Расчет!G1508,0)","v":0},null,null,{"$f":"IF(OR(Расчет!A1508>=2000,Расчет!B1508>=2000),Расчет!J1508,0)","v":0},{"$f":"IF(AND(Расчет!A1508<2000,Расчет!B1508<2000),Расчет!J1508,0)","v":0},null,null,{"$f":"IF(OR(Расчет!A1508>=2000,Расчет!B1508>=2000),Расчет!M1508,0)","v":0},{"$f":"IF(AND(Расчет!A1508<2000,Расчет!B1508<2000),Расчет!M1508,0)","v":0}]
[{"$f":"IF(OR(Расчет!A1509>=2000,Расчет!B1509>=2000),Расчет!G1509,0)","v":0},{"$f":"IF(AND(Расчет!A1509<2000,Расчет!B1509<2000),Расчет!G1509,0)","v":0},null,null,{"$f":"IF(OR(Расчет!A1509>=2000,Расчет!B1509>=2000),Расчет!J1509,0)","v":0},{"$f":"IF(AND(Расчет!A1509<2000,Расчет!B1509<2000),Расчет!J1509,0)","v":0},null,null,{"$f":"IF(OR(Расчет!A1509>=2000,Расчет!B1509>=2000),Расчет!M1509,0)","v":0},{"$f":"IF(AND(Расчет!A1509<2000,Расчет!B1509<2000),Расчет!M1509,0)","v":0}]
[{"$f":"IF(OR(Расчет!A1510>=2000,Расчет!B1510>=2000),Расчет!G1510,0)","v":0},{"$f":"IF(AND(Расчет!A1510<2000,Расчет!B1510<2000),Расчет!G1510,0)","v":0},null,null,{"$f":"IF(OR(Расчет!A1510>=2000,Расчет!B1510>=2000),Расчет!J1510,0)","v":0},{"$f":"IF(AND(Расчет!A1510<2000,Расчет!B1510<2000),Расчет!J1510,0)","v":0},null,null,{"$f":"IF(OR(Расчет!A1510>=2000,Расчет!B1510>=2000),Расчет!M1510,0)","v":0},{"$f":"IF(AND(Расчет!A1510<2000,Расчет!B1510<2000),Расчет!M1510,0)","v":0}]
[{"$f":"IF(OR(Расчет!A1511>=2000,Расчет!B1511>=2000),Расчет!G1511,0)","v":0},{"$f":"IF(AND(Расчет!A1511<2000,Расчет!B1511<2000),Расчет!G1511,0)","v":0},null,null,{"$f":"IF(OR(Расчет!A1511>=2000,Расчет!B1511>=2000),Расчет!J1511,0)","v":0},{"$f":"IF(AND(Расчет!A1511<2000,Расчет!B1511<2000),Расчет!J1511,0)","v":0},null,null,{"$f":"IF(OR(Расчет!A1511>=2000,Расчет!B1511>=2000),Расчет!M1511,0)","v":0},{"$f":"IF(AND(Расчет!A1511<2000,Расчет!B1511<2000),Расчет!M1511,0)","v":0}]
[{"$f":"IF(OR(Расчет!A1512>=2000,Расчет!B1512>=2000),Расчет!G1512,0)","v":0},{"$f":"IF(AND(Расчет!A1512<2000,Расчет!B1512<2000),Расчет!G1512,0)","v":0},null,null,{"$f":"IF(OR(Расчет!A1512>=2000,Расчет!B1512>=2000),Расчет!J1512,0)","v":0},{"$f":"IF(AND(Расчет!A1512<2000,Расчет!B1512<2000),Расчет!J1512,0)","v":0},null,null,{"$f":"IF(OR(Расчет!A1512>=2000,Расчет!B1512>=2000),Расчет!M1512,0)","v":0},{"$f":"IF(AND(Расчет!A1512<2000,Расчет!B1512<2000),Расчет!M1512,0)","v":0}]
[{"$f":"IF(OR(Расчет!A1513>=2000,Расчет!B1513>=2000),Расчет!G1513,0)","v":0},{"$f":"IF(AND(Расчет!A1513<2000,Расчет!B1513<2000),Расчет!G1513,0)","v":0},null,null,{"$f":"IF(OR(Расчет!A1513>=2000,Расчет!B1513>=2000),Расчет!J1513,0)","v":0},{"$f":"IF(AND(Расчет!A1513<2000,Расчет!B1513<2000),Расчет!J1513,0)","v":0},null,null,{"$f":"IF(OR(Расчет!A1513>=2000,Расчет!B1513>=2000),Расчет!M1513,0)","v":0},{"$f":"IF(AND(Расчет!A1513<2000,Расчет!B1513<2000),Расчет!M1513,0)","v":0}]
[{"$f":"IF(OR(Расчет!A1514>=2000,Расчет!B1514>=2000),Расчет!G1514,0)","v":0},{"$f":"IF(AND(Расчет!A1514<2000,Расчет!B1514<2000),Расчет!G1514,0)","v":0},null,null,{"$f":"IF(OR(Расчет!A1514>=2000,Расчет!B1514>=2000),Расчет!J1514,0)","v":0},{"$f":"IF(AND(Расчет!A1514<2000,Расчет!B1514<2000),Расчет!J1514,0)","v":0},null,null,{"$f":"IF(OR(Расчет!A1514>=2000,Расчет!B1514>=2000),Расчет!M1514,0)","v":0},{"$f":"IF(AND(Расчет!A1514<2000,Расчет!B1514<2000),Расчет!M1514,0)","v":0}]
[{"$f":"IF(OR(Расчет!A1515>=2000,Расчет!B1515>=2000),Расчет!G1515,0)","v":0},{"$f":"IF(AND(Расчет!A1515<2000,Расчет!B1515<2000),Расчет!G1515,0)","v":0},null,null,{"$f":"IF(OR(Расчет!A1515>=2000,Расчет!B1515>=2000),Расчет!J1515,0)","v":0},{"$f":"IF(AND(Расчет!A1515<2000,Расчет!B1515<2000),Расчет!J1515,0)","v":0},null,null,{"$f":"IF(OR(Расчет!A1515>=2000,Расчет!B1515>=2000),Расчет!M1515,0)","v":0},{"$f":"IF(AND(Расчет!A1515<2000,Расчет!B1515<2000),Расчет!M1515,0)","v":0}]
[{"$f":"IF(OR(Расчет!A1516>=2000,Расчет!B1516>=2000),Расчет!G1516,0)","v":0},{"$f":"IF(AND(Расчет!A1516<2000,Расчет!B1516<2000),Расчет!G1516,0)","v":0},null,null,{"$f":"IF(OR(Расчет!A1516>=2000,Расчет!B1516>=2000),Расчет!J1516,0)","v":0},{"$f":"IF(AND(Расчет!A1516<2000,Расчет!B1516<2000),Расчет!J1516,0)","v":0},null,null,{"$f":"IF(OR(Расчет!A1516>=2000,Расчет!B1516>=2000),Расчет!M1516,0)","v":0},{"$f":"IF(AND(Расчет!A1516<2000,Расчет!B1516<2000),Расчет!M1516,0)","v":0}]
[{"$f":"IF(OR(Расчет!A1517>=2000,Расчет!B1517>=2000),Расчет!G1517,0)","v":0},{"$f":"IF(AND(Расчет!A1517<2000,Расчет!B1517<2000),Расчет!G1517,0)","v":0},null,null,{"$f":"IF(OR(Расчет!A1517>=2000,Расчет!B1517>=2000),Расчет!J1517,0)","v":0},{"$f":"IF(AND(Расчет!A1517<2000,Расчет!B1517<2000),Расчет!J1517,0)","v":0},null,null,{"$f":"IF(OR(Расчет!A1517>=2000,Расчет!B1517>=2000),Расчет!M1517,0)","v":0},{"$f":"IF(AND(Расчет!A1517<2000,Расчет!B1517<2000),Расчет!M1517,0)","v":0}]
[{"$f":"IF(OR(Расчет!A1518>=2000,Расчет!B1518>=2000),Расчет!G1518,0)","v":0},{"$f":"IF(AND(Расчет!A1518<2000,Расчет!B1518<2000),Расчет!G1518,0)","v":0},null,null,{"$f":"IF(OR(Расчет!A1518>=2000,Расчет!B1518>=2000),Расчет!J1518,0)","v":0},{"$f":"IF(AND(Расчет!A1518<2000,Расчет!B1518<2000),Расчет!J1518,0)","v":0},null,null,{"$f":"IF(OR(Расчет!A1518>=2000,Расчет!B1518>=2000),Расчет!M1518,0)","v":0},{"$f":"IF(AND(Расчет!A1518<2000,Расчет!B1518<2000),Расчет!M1518,0)","v":0}]
[{"$f":"IF(OR(Расчет!A1519>=2000,Расчет!B1519>=2000),Расчет!G1519,0)","v":0},{"$f":"IF(AND(Расчет!A1519<2000,Расчет!B1519<2000),Расчет!G1519,0)","v":0},null,null,{"$f":"IF(OR(Расчет!A1519>=2000,Расчет!B1519>=2000),Расчет!J1519,0)","v":0},{"$f":"IF(AND(Расчет!A1519<2000,Расчет!B1519<2000),Расчет!J1519,0)","v":0},null,null,{"$f":"IF(OR(Расчет!A1519>=2000,Расчет!B1519>=2000),Расчет!M1519,0)","v":0},{"$f":"IF(AND(Расчет!A1519<2000,Расчет!B1519<2000),Расчет!M1519,0)","v":0}]
[{"$f":"IF(OR(Расчет!A1520>=2000,Расчет!B1520>=2000),Расчет!G1520,0)","v":0},{"$f":"IF(AND(Расчет!A1520<2000,Расчет!B1520<2000),Расчет!G1520,0)","v":0},null,null,{"$f":"IF(OR(Расчет!A1520>=2000,Расчет!B1520>=2000),Расчет!J1520,0)","v":0},{"$f":"IF(AND(Расчет!A1520<2000,Расчет!B1520<2000),Расчет!J1520,0)","v":0},null,null,{"$f":"IF(OR(Расчет!A1520>=2000,Расчет!B1520>=2000),Расчет!M1520,0)","v":0},{"$f":"IF(AND(Расчет!A1520<2000,Расчет!B1520<2000),Расчет!M1520,0)","v":0}]
[{"$f":"IF(OR(Расчет!A1521>=2000,Расчет!B1521>=2000),Расчет!G1521,0)","v":0},{"$f":"IF(AND(Расчет!A1521<2000,Расчет!B1521<2000),Расчет!G1521,0)","v":0},null,null,{"$f":"IF(OR(Расчет!A1521>=2000,Расчет!B1521>=2000),Расчет!J1521,0)","v":0},{"$f":"IF(AND(Расчет!A1521<2000,Расчет!B1521<2000),Расчет!J1521,0)","v":0},null,null,{"$f":"IF(OR(Расчет!A1521>=2000,Расчет!B1521>=2000),Расчет!M1521,0)","v":0},{"$f":"IF(AND(Расчет!A1521<2000,Расчет!B1521<2000),Расчет!M1521,0)","v":0}]
[{"$f":"IF(OR(Расчет!A1522>=2000,Расчет!B1522>=2000),Расчет!G1522,0)","v":0},{"$f":"IF(AND(Расчет!A1522<2000,Расчет!B1522<2000),Расчет!G1522,0)","v":0},null,null,{"$f":"IF(OR(Расчет!A1522>=2000,Расчет!B1522>=2000),Расчет!J1522,0)","v":0},{"$f":"IF(AND(Расчет!A1522<2000,Расчет!B1522<2000),Расчет!J1522,0)","v":0},null,null,{"$f":"IF(OR(Расчет!A1522>=2000,Расчет!B1522>=2000),Расчет!M1522,0)","v":0},{"$f":"IF(AND(Расчет!A1522<2000,Расчет!B1522<2000),Расчет!M1522,0)","v":0}]
[{"$f":"IF(OR(Расчет!A1523>=2000,Расчет!B1523>=2000),Расчет!G1523,0)","v":0},{"$f":"IF(AND(Расчет!A1523<2000,Расчет!B1523<2000),Расчет!G1523,0)","v":0},null,null,{"$f":"IF(OR(Расчет!A1523>=2000,Расчет!B1523>=2000),Расчет!J1523,0)","v":0},{"$f":"IF(AND(Расчет!A1523<2000,Расчет!B1523<2000),Расчет!J1523,0)","v":0},null,null,{"$f":"IF(OR(Расчет!A1523>=2000,Расчет!B1523>=2000),Расчет!M1523,0)","v":0},{"$f":"IF(AND(Расчет!A1523<2000,Расчет!B1523<2000),Расчет!M1523,0)","v":0}]
[{"$f":"IF(OR(Расчет!A1524>=2000,Расчет!B1524>=2000),Расчет!G1524,0)","v":0},{"$f":"IF(AND(Расчет!A1524<2000,Расчет!B1524<2000),Расчет!G1524,0)","v":0},null,null,{"$f":"IF(OR(Расчет!A1524>=2000,Расчет!B1524>=2000),Расчет!J1524,0)","v":0},{"$f":"IF(AND(Расчет!A1524<2000,Расчет!B1524<2000),Расчет!J1524,0)","v":0},null,null,{"$f":"IF(OR(Расчет!A1524>=2000,Расчет!B1524>=2000),Расчет!M1524,0)","v":0},{"$f":"IF(AND(Расчет!A1524<2000,Расчет!B1524<2000),Расчет!M1524,0)","v":0}]
[{"$f":"IF(OR(Расчет!A1525>=2000,Расчет!B1525>=2000),Расчет!G1525,0)","v":0},{"$f":"IF(AND(Расчет!A1525<2000,Расчет!B1525<2000),Расчет!G1525,0)","v":0},null,null,{"$f":"IF(OR(Расчет!A1525>=2000,Расчет!B1525>=2000),Расчет!J1525,0)","v":0},{"$f":"IF(AND(Расчет!A1525<2000,Расчет!B1525<2000),Расчет!J1525,0)","v":0},null,null,{"$f":"IF(OR(Расчет!A1525>=2000,Расчет!B1525>=2000),Расчет!M1525,0)","v":0},{"$f":"IF(AND(Расчет!A1525<2000,Расчет!B1525<2000),Расчет!M1525,0)","v":0}]
[{"$f":"IF(OR(Расчет!A1526>=2000,Расчет!B1526>=2000),Расчет!G1526,0)","v":0},{"$f":"IF(AND(Расчет!A1526<2000,Расчет!B1526<2000),Расчет!G1526,0)","v":0},null,null,{"$f":"IF(OR(Расчет!A1526>=2000,Расчет!B1526>=2000),Расчет!J1526,0)","v":0},{"$f":"IF(AND(Расчет!A1526<2000,Расчет!B1526<2000),Расчет!J1526,0)","v":0},null,null,{"$f":"IF(OR(Расчет!A1526>=2000,Расчет!B1526>=2000),Расчет!M1526,0)","v":0},{"$f":"IF(AND(Расчет!A1526<2000,Расчет!B1526<2000),Расчет!M1526,0)","v":0}]
[{"$f":"IF(OR(Расчет!A1527>=2000,Расчет!B1527>=2000),Расчет!G1527,0)","v":0},{"$f":"IF(AND(Расчет!A1527<2000,Расчет!B1527<2000),Расчет!G1527,0)","v":0},null,null,{"$f":"IF(OR(Расчет!A1527>=2000,Расчет!B1527>=2000),Расчет!J1527,0)","v":0},{"$f":"IF(AND(Расчет!A1527<2000,Расчет!B1527<2000),Расчет!J1527,0)","v":0},null,null,{"$f":"IF(OR(Расчет!A1527>=2000,Расчет!B1527>=2000),Расчет!M1527,0)","v":0},{"$f":"IF(AND(Расчет!A1527<2000,Расчет!B1527<2000),Расчет!M1527,0)","v":0}]
[{"$f":"IF(OR(Расчет!A1528>=2000,Расчет!B1528>=2000),Расчет!G1528,0)","v":0},{"$f":"IF(AND(Расчет!A1528<2000,Расчет!B1528<2000),Расчет!G1528,0)","v":0},null,null,{"$f":"IF(OR(Расчет!A1528>=2000,Расчет!B1528>=2000),Расчет!J1528,0)","v":0},{"$f":"IF(AND(Расчет!A1528<2000,Расчет!B1528<2000),Расчет!J1528,0)","v":0},null,null,{"$f":"IF(OR(Расчет!A1528>=2000,Расчет!B1528>=2000),Расчет!M1528,0)","v":0},{"$f":"IF(AND(Расчет!A1528<2000,Расчет!B1528<2000),Расчет!M1528,0)","v":0}]
[{"$f":"IF(OR(Расчет!A1529>=2000,Расчет!B1529>=2000),Расчет!G1529,0)","v":0},{"$f":"IF(AND(Расчет!A1529<2000,Расчет!B1529<2000),Расчет!G1529,0)","v":0},null,null,{"$f":"IF(OR(Расчет!A1529>=2000,Расчет!B1529>=2000),Расчет!J1529,0)","v":0},{"$f":"IF(AND(Расчет!A1529<2000,Расчет!B1529<2000),Расчет!J1529,0)","v":0},null,null,{"$f":"IF(OR(Расчет!A1529>=2000,Расчет!B1529>=2000),Расчет!M1529,0)","v":0},{"$f":"IF(AND(Расчет!A1529<2000,Расчет!B1529<2000),Расчет!M1529,0)","v":0}]
[{"$f":"IF(OR(Расчет!A1530>=2000,Расчет!B1530>=2000),Расчет!G1530,0)","v":0},{"$f":"IF(AND(Расчет!A1530<2000,Расчет!B1530<2000),Расчет!G1530,0)","v":0},null,null,{"$f":"IF(OR(Расчет!A1530>=2000,Расчет!B1530>=2000),Расчет!J1530,0)","v":0},{"$f":"IF(AND(Расчет!A1530<2000,Расчет!B1530<2000),Расчет!J1530,0)","v":0},null,null,{"$f":"IF(OR(Расчет!A1530>=2000,Расчет!B1530>=2000),Расчет!M1530,0)","v":0},{"$f":"IF(AND(Расчет!A1530<2000,Расчет!B1530<2000),Расчет!M1530,0)","v":0}]
[{"$f":"IF(OR(Расчет!A1531>=2000,Расчет!B1531>=2000),Расчет!G1531,0)","v":0},{"$f":"IF(AND(Расчет!A1531<2000,Расчет!B1531<2000),Расчет!G1531,0)","v":0},null,null,{"$f":"IF(OR(Расчет!A1531>=2000,Расчет!B1531>=2000),Расчет!J1531,0)","v":0},{"$f":"IF(AND(Расчет!A1531<2000,Расчет!B1531<2000),Расчет!J1531,0)","v":0},null,null,{"$f":"IF(OR(Расчет!A1531>=2000,Расчет!B1531>=2000),Расчет!M1531,0)","v":0},{"$f":"IF(AND(Расчет!A1531<2000,Расчет!B1531<2000),Расчет!M1531,0)","v":0}]
[{"$f":"IF(OR(Расчет!A1532>=2000,Расчет!B1532>=2000),Расчет!G1532,0)","v":0},{"$f":"IF(AND(Расчет!A1532<2000,Расчет!B1532<2000),Расчет!G1532,0)","v":0},null,null,{"$f":"IF(OR(Расчет!A1532>=2000,Расчет!B1532>=2000),Расчет!J1532,0)","v":0},{"$f":"IF(AND(Расчет!A1532<2000,Расчет!B1532<2000),Расчет!J1532,0)","v":0},null,null,{"$f":"IF(OR(Расчет!A1532>=2000,Расчет!B1532>=2000),Расчет!M1532,0)","v":0},{"$f":"IF(AND(Расчет!A1532<2000,Расчет!B1532<2000),Расчет!M1532,0)","v":0}]
[{"$f":"IF(OR(Расчет!A1533>=2000,Расчет!B1533>=2000),Расчет!G1533,0)","v":0},{"$f":"IF(AND(Расчет!A1533<2000,Расчет!B1533<2000),Расчет!G1533,0)","v":0},null,null,{"$f":"IF(OR(Расчет!A1533>=2000,Расчет!B1533>=2000),Расчет!J1533,0)","v":0},{"$f":"IF(AND(Расчет!A1533<2000,Расчет!B1533<2000),Расчет!J1533,0)","v":0},null,null,{"$f":"IF(OR(Расчет!A1533>=2000,Расчет!B1533>=2000),Расчет!M1533,0)","v":0},{"$f":"IF(AND(Расчет!A1533<2000,Расчет!B1533<2000),Расчет!M1533,0)","v":0}]
[{"$f":"IF(OR(Расчет!A1534>=2000,Расчет!B1534>=2000),Расчет!G1534,0)","v":0},{"$f":"IF(AND(Расчет!A1534<2000,Расчет!B1534<2000),Расчет!G1534,0)","v":0},null,null,{"$f":"IF(OR(Расчет!A1534>=2000,Расчет!B1534>=2000),Расчет!J1534,0)","v":0},{"$f":"IF(AND(Расчет!A1534<2000,Расчет!B1534<2000),Расчет!J1534,0)","v":0},null,null,{"$f":"IF(OR(Расчет!A1534>=2000,Расчет!B1534>=2000),Расчет!M1534,0)","v":0},{"$f":"IF(AND(Расчет!A1534<2000,Расчет!B1534<2000),Расчет!M1534,0)","v":0}]
[{"$f":"IF(OR(Расчет!A1535>=2000,Расчет!B1535>=2000),Расчет!G1535,0)","v":0},{"$f":"IF(AND(Расчет!A1535<2000,Расчет!B1535<2000),Расчет!G1535,0)","v":0},null,null,{"$f":"IF(OR(Расчет!A1535>=2000,Расчет!B1535>=2000),Расчет!J1535,0)","v":0},{"$f":"IF(AND(Расчет!A1535<2000,Расчет!B1535<2000),Расчет!J1535,0)","v":0},null,null,{"$f":"IF(OR(Расчет!A1535>=2000,Расчет!B1535>=2000),Расчет!M1535,0)","v":0},{"$f":"IF(AND(Расчет!A1535<2000,Расчет!B1535<2000),Расчет!M1535,0)","v":0}]
[{"$f":"IF(OR(Расчет!A1536>=2000,Расчет!B1536>=2000),Расчет!G1536,0)","v":0},{"$f":"IF(AND(Расчет!A1536<2000,Расчет!B1536<2000),Расчет!G1536,0)","v":0},null,null,{"$f":"IF(OR(Расчет!A1536>=2000,Расчет!B1536>=2000),Расчет!J1536,0)","v":0},{"$f":"IF(AND(Расчет!A1536<2000,Расчет!B1536<2000),Расчет!J1536,0)","v":0},null,null,{"$f":"IF(OR(Расчет!A1536>=2000,Расчет!B1536>=2000),Расчет!M1536,0)","v":0},{"$f":"IF(AND(Расчет!A1536<2000,Расчет!B1536<2000),Расчет!M1536,0)","v":0}]
[{"$f":"IF(OR(Расчет!A1537>=2000,Расчет!B1537>=2000),Расчет!G1537,0)","v":0},{"$f":"IF(AND(Расчет!A1537<2000,Расчет!B1537<2000),Расчет!G1537,0)","v":0},null,null,{"$f":"IF(OR(Расчет!A1537>=2000,Расчет!B1537>=2000),Расчет!J1537,0)","v":0},{"$f":"IF(AND(Расчет!A1537<2000,Расчет!B1537<2000),Расчет!J1537,0)","v":0},null,null,{"$f":"IF(OR(Расчет!A1537>=2000,Расчет!B1537>=2000),Расчет!M1537,0)","v":0},{"$f":"IF(AND(Расчет!A1537<2000,Расчет!B1537<2000),Расчет!M1537,0)","v":0}]
[{"$f":"IF(OR(Расчет!A1538>=2000,Расчет!B1538>=2000),Расчет!G1538,0)","v":0},{"$f":"IF(AND(Расчет!A1538<2000,Расчет!B1538<2000),Расчет!G1538,0)","v":0},null,null,{"$f":"IF(OR(Расчет!A1538>=2000,Расчет!B1538>=2000),Расчет!J1538,0)","v":0},{"$f":"IF(AND(Расчет!A1538<2000,Расчет!B1538<2000),Расчет!J1538,0)","v":0},null,null,{"$f":"IF(OR(Расчет!A1538>=2000,Расчет!B1538>=2000),Расчет!M1538,0)","v":0},{"$f":"IF(AND(Расчет!A1538<2000,Расчет!B1538<2000),Расчет!M1538,0)","v":0}]
[{"$f":"IF(OR(Расчет!A1539>=2000,Расчет!B1539>=2000),Расчет!G1539,0)","v":0},{"$f":"IF(AND(Расчет!A1539<2000,Расчет!B1539<2000),Расчет!G1539,0)","v":0},null,null,{"$f":"IF(OR(Расчет!A1539>=2000,Расчет!B1539>=2000),Расчет!J1539,0)","v":0},{"$f":"IF(AND(Расчет!A1539<2000,Расчет!B1539<2000),Расчет!J1539,0)","v":0},null,null,{"$f":"IF(OR(Расчет!A1539>=2000,Расчет!B1539>=2000),Расчет!M1539,0)","v":0},{"$f":"IF(AND(Расчет!A1539<2000,Расчет!B1539<2000),Расчет!M1539,0)","v":0}]
[{"$f":"IF(OR(Расчет!A1540>=2000,Расчет!B1540>=2000),Расчет!G1540,0)","v":0},{"$f":"IF(AND(Расчет!A1540<2000,Расчет!B1540<2000),Расчет!G1540,0)","v":0},null,null,{"$f":"IF(OR(Расчет!A1540>=2000,Расчет!B1540>=2000),Расчет!J1540,0)","v":0},{"$f":"IF(AND(Расчет!A1540<2000,Расчет!B1540<2000),Расчет!J1540,0)","v":0},null,null,{"$f":"IF(OR(Расчет!A1540>=2000,Расчет!B1540>=2000),Расчет!M1540,0)","v":0},{"$f":"IF(AND(Расчет!A1540<2000,Расчет!B1540<2000),Расчет!M1540,0)","v":0}]
[{"$f":"IF(OR(Расчет!A1541>=2000,Расчет!B1541>=2000),Расчет!G1541,0)","v":0},{"$f":"IF(AND(Расчет!A1541<2000,Расчет!B1541<2000),Расчет!G1541,0)","v":0},null,null,{"$f":"IF(OR(Расчет!A1541>=2000,Расчет!B1541>=2000),Расчет!J1541,0)","v":0},{"$f":"IF(AND(Расчет!A1541<2000,Расчет!B1541<2000),Расчет!J1541,0)","v":0},null,null,{"$f":"IF(OR(Расчет!A1541>=2000,Расчет!B1541>=2000),Расчет!M1541,0)","v":0},{"$f":"IF(AND(Расчет!A1541<2000,Расчет!B1541<2000),Расчет!M1541,0)","v":0}]
[{"$f":"IF(OR(Расчет!A1542>=2000,Расчет!B1542>=2000),Расчет!G1542,0)","v":0},{"$f":"IF(AND(Расчет!A1542<2000,Расчет!B1542<2000),Расчет!G1542,0)","v":0},null,null,{"$f":"IF(OR(Расчет!A1542>=2000,Расчет!B1542>=2000),Расчет!J1542,0)","v":0},{"$f":"IF(AND(Расчет!A1542<2000,Расчет!B1542<2000),Расчет!J1542,0)","v":0},null,null,{"$f":"IF(OR(Расчет!A1542>=2000,Расчет!B1542>=2000),Расчет!M1542,0)","v":0},{"$f":"IF(AND(Расчет!A1542<2000,Расчет!B1542<2000),Расчет!M1542,0)","v":0}]
[{"$f":"IF(OR(Расчет!A1543>=2000,Расчет!B1543>=2000),Расчет!G1543,0)","v":0},{"$f":"IF(AND(Расчет!A1543<2000,Расчет!B1543<2000),Расчет!G1543,0)","v":0},null,null,{"$f":"IF(OR(Расчет!A1543>=2000,Расчет!B1543>=2000),Расчет!J1543,0)","v":0},{"$f":"IF(AND(Расчет!A1543<2000,Расчет!B1543<2000),Расчет!J1543,0)","v":0},null,null,{"$f":"IF(OR(Расчет!A1543>=2000,Расчет!B1543>=2000),Расчет!M1543,0)","v":0},{"$f":"IF(AND(Расчет!A1543<2000,Расчет!B1543<2000),Расчет!M1543,0)","v":0}]
[{"$f":"IF(OR(Расчет!A1544>=2000,Расчет!B1544>=2000),Расчет!G1544,0)","v":0},{"$f":"IF(AND(Расчет!A1544<2000,Расчет!B1544<2000),Расчет!G1544,0)","v":0},null,null,{"$f":"IF(OR(Расчет!A1544>=2000,Расчет!B1544>=2000),Расчет!J1544,0)","v":0},{"$f":"IF(AND(Расчет!A1544<2000,Расчет!B1544<2000),Расчет!J1544,0)","v":0},null,null,{"$f":"IF(OR(Расчет!A1544>=2000,Расчет!B1544>=2000),Расчет!M1544,0)","v":0},{"$f":"IF(AND(Расчет!A1544<2000,Расчет!B1544<2000),Расчет!M1544,0)","v":0}]
[{"$f":"IF(OR(Расчет!A1545>=2000,Расчет!B1545>=2000),Расчет!G1545,0)","v":0},{"$f":"IF(AND(Расчет!A1545<2000,Расчет!B1545<2000),Расчет!G1545,0)","v":0},null,null,{"$f":"IF(OR(Расчет!A1545>=2000,Расчет!B1545>=2000),Расчет!J1545,0)","v":0},{"$f":"IF(AND(Расчет!A1545<2000,Расчет!B1545<2000),Расчет!J1545,0)","v":0},null,null,{"$f":"IF(OR(Расчет!A1545>=2000,Расчет!B1545>=2000),Расчет!M1545,0)","v":0},{"$f":"IF(AND(Расчет!A1545<2000,Расчет!B1545<2000),Расчет!M1545,0)","v":0}]
[{"$f":"IF(OR(Расчет!A1546>=2000,Расчет!B1546>=2000),Расчет!G1546,0)","v":0},{"$f":"IF(AND(Расчет!A1546<2000,Расчет!B1546<2000),Расчет!G1546,0)","v":0},null,null,{"$f":"IF(OR(Расчет!A1546>=2000,Расчет!B1546>=2000),Расчет!J1546,0)","v":0},{"$f":"IF(AND(Расчет!A1546<2000,Расчет!B1546<2000),Расчет!J1546,0)","v":0},null,null,{"$f":"IF(OR(Расчет!A1546>=2000,Расчет!B1546>=2000),Расчет!M1546,0)","v":0},{"$f":"IF(AND(Расчет!A1546<2000,Расчет!B1546<2000),Расчет!M1546,0)","v":0}]
[{"$f":"IF(OR(Расчет!A1547>=2000,Расчет!B1547>=2000),Расчет!G1547,0)","v":0},{"$f":"IF(AND(Расчет!A1547<2000,Расчет!B1547<2000),Расчет!G1547,0)","v":0},null,null,{"$f":"IF(OR(Расчет!A1547>=2000,Расчет!B1547>=2000),Расчет!J1547,0)","v":0},{"$f":"IF(AND(Расчет!A1547<2000,Расчет!B1547<2000),Расчет!J1547,0)","v":0},null,null,{"$f":"IF(OR(Расчет!A1547>=2000,Расчет!B1547>=2000),Расчет!M1547,0)","v":0},{"$f":"IF(AND(Расчет!A1547<2000,Расчет!B1547<2000),Расчет!M1547,0)","v":0}]
[{"$f":"IF(OR(Расчет!A1548>=2000,Расчет!B1548>=2000),Расчет!G1548,0)","v":0},{"$f":"IF(AND(Расчет!A1548<2000,Расчет!B1548<2000),Расчет!G1548,0)","v":0},null,null,{"$f":"IF(OR(Расчет!A1548>=2000,Расчет!B1548>=2000),Расчет!J1548,0)","v":0},{"$f":"IF(AND(Расчет!A1548<2000,Расчет!B1548<2000),Расчет!J1548,0)","v":0},null,null,{"$f":"IF(OR(Расчет!A1548>=2000,Расчет!B1548>=2000),Расчет!M1548,0)","v":0},{"$f":"IF(AND(Расчет!A1548<2000,Расчет!B1548<2000),Расчет!M1548,0)","v":0}]
[{"$f":"IF(OR(Расчет!A1549>=2000,Расчет!B1549>=2000),Расчет!G1549,0)","v":0},{"$f":"IF(AND(Расчет!A1549<2000,Расчет!B1549<2000),Расчет!G1549,0)","v":0},null,null,{"$f":"IF(OR(Расчет!A1549>=2000,Расчет!B1549>=2000),Расчет!J1549,0)","v":0},{"$f":"IF(AND(Расчет!A1549<2000,Расчет!B1549<2000),Расчет!J1549,0)","v":0},null,null,{"$f":"IF(OR(Расчет!A1549>=2000,Расчет!B1549>=2000),Расчет!M1549,0)","v":0},{"$f":"IF(AND(Расчет!A1549<2000,Расчет!B1549<2000),Расчет!M1549,0)","v":0}]
[{"$f":"IF(OR(Расчет!A1550>=2000,Расчет!B1550>=2000),Расчет!G1550,0)","v":0},{"$f":"IF(AND(Расчет!A1550<2000,Расчет!B1550<2000),Расчет!G1550,0)","v":0},null,null,{"$f":"IF(OR(Расчет!A1550>=2000,Расчет!B1550>=2000),Расчет!J1550,0)","v":0},{"$f":"IF(AND(Расчет!A1550<2000,Расчет!B1550<2000),Расчет!J1550,0)","v":0},null,null,{"$f":"IF(OR(Расчет!A1550>=2000,Расчет!B1550>=2000),Расчет!M1550,0)","v":0},{"$f":"IF(AND(Расчет!A1550<2000,Расчет!B1550<2000),Расчет!M1550,0)","v":0}]
[{"$f":"IF(OR(Расчет!A1551>=2000,Расчет!B1551>=2000),Расчет!G1551,0)","v":0},{"$f":"IF(AND(Расчет!A1551<2000,Расчет!B1551<2000),Расчет!G1551,0)","v":0},null,null,{"$f":"IF(OR(Расчет!A1551>=2000,Расчет!B1551>=2000),Расчет!J1551,0)","v":0},{"$f":"IF(AND(Расчет!A1551<2000,Расчет!B1551<2000),Расчет!J1551,0)","v":0},null,null,{"$f":"IF(OR(Расчет!A1551>=2000,Расчет!B1551>=2000),Расчет!M1551,0)","v":0},{"$f":"IF(AND(Расчет!A1551<2000,Расчет!B1551<2000),Расчет!M1551,0)","v":0}]
[{"$f":"IF(OR(Расчет!A1552>=2000,Расчет!B1552>=2000),Расчет!G1552,0)","v":0},{"$f":"IF(AND(Расчет!A1552<2000,Расчет!B1552<2000),Расчет!G1552,0)","v":0},null,null,{"$f":"IF(OR(Расчет!A1552>=2000,Расчет!B1552>=2000),Расчет!J1552,0)","v":0},{"$f":"IF(AND(Расчет!A1552<2000,Расчет!B1552<2000),Расчет!J1552,0)","v":0},null,null,{"$f":"IF(OR(Расчет!A1552>=2000,Расчет!B1552>=2000),Расчет!M1552,0)","v":0},{"$f":"IF(AND(Расчет!A1552<2000,Расчет!B1552<2000),Расчет!M1552,0)","v":0}]
[{"$f":"IF(OR(Расчет!A1553>=2000,Расчет!B1553>=2000),Расчет!G1553,0)","v":0},{"$f":"IF(AND(Расчет!A1553<2000,Расчет!B1553<2000),Расчет!G1553,0)","v":0},null,null,{"$f":"IF(OR(Расчет!A1553>=2000,Расчет!B1553>=2000),Расчет!J1553,0)","v":0},{"$f":"IF(AND(Расчет!A1553<2000,Расчет!B1553<2000),Расчет!J1553,0)","v":0},null,null,{"$f":"IF(OR(Расчет!A1553>=2000,Расчет!B1553>=2000),Расчет!M1553,0)","v":0},{"$f":"IF(AND(Расчет!A1553<2000,Расчет!B1553<2000),Расчет!M1553,0)","v":0}]
[{"$f":"IF(OR(Расчет!A1554>=2000,Расчет!B1554>=2000),Расчет!G1554,0)","v":0},{"$f":"IF(AND(Расчет!A1554<2000,Расчет!B1554<2000),Расчет!G1554,0)","v":0},null,null,{"$f":"IF(OR(Расчет!A1554>=2000,Расчет!B1554>=2000),Расчет!J1554,0)","v":0},{"$f":"IF(AND(Расчет!A1554<2000,Расчет!B1554<2000),Расчет!J1554,0)","v":0},null,null,{"$f":"IF(OR(Расчет!A1554>=2000,Расчет!B1554>=2000),Расчет!M1554,0)","v":0},{"$f":"IF(AND(Расчет!A1554<2000,Расчет!B1554<2000),Расчет!M1554,0)","v":0}]
[{"$f":"IF(OR(Расчет!A1555>=2000,Расчет!B1555>=2000),Расчет!G1555,0)","v":0},{"$f":"IF(AND(Расчет!A1555<2000,Расчет!B1555<2000),Расчет!G1555,0)","v":0},null,null,{"$f":"IF(OR(Расчет!A1555>=2000,Расчет!B1555>=2000),Расчет!J1555,0)","v":0},{"$f":"IF(AND(Расчет!A1555<2000,Расчет!B1555<2000),Расчет!J1555,0)","v":0},null,null,{"$f":"IF(OR(Расчет!A1555>=2000,Расчет!B1555>=2000),Расчет!M1555,0)","v":0},{"$f":"IF(AND(Расчет!A1555<2000,Расчет!B1555<2000),Расчет!M1555,0)","v":0}]
[{"$f":"IF(OR(Расчет!A1556>=2000,Расчет!B1556>=2000),Расчет!G1556,0)","v":0},{"$f":"IF(AND(Расчет!A1556<2000,Расчет!B1556<2000),Расчет!G1556,0)","v":0},null,null,{"$f":"IF(OR(Расчет!A1556>=2000,Расчет!B1556>=2000),Расчет!J1556,0)","v":0},{"$f":"IF(AND(Расчет!A1556<2000,Расчет!B1556<2000),Расчет!J1556,0)","v":0},null,null,{"$f":"IF(OR(Расчет!A1556>=2000,Расчет!B1556>=2000),Расчет!M1556,0)","v":0},{"$f":"IF(AND(Расчет!A1556<2000,Расчет!B1556<2000),Расчет!M1556,0)","v":0}]
[{"$f":"IF(OR(Расчет!A1557>=2000,Расчет!B1557>=2000),Расчет!G1557,0)","v":0},{"$f":"IF(AND(Расчет!A1557<2000,Расчет!B1557<2000),Расчет!G1557,0)","v":0},null,null,{"$f":"IF(OR(Расчет!A1557>=2000,Расчет!B1557>=2000),Расчет!J1557,0)","v":0},{"$f":"IF(AND(Расчет!A1557<2000,Расчет!B1557<2000),Расчет!J1557,0)","v":0},null,null,{"$f":"IF(OR(Расчет!A1557>=2000,Расчет!B1557>=2000),Расчет!M1557,0)","v":0},{"$f":"IF(AND(Расчет!A1557<2000,Расчет!B1557<2000),Расчет!M1557,0)","v":0}]
[{"$f":"IF(OR(Расчет!A1558>=2000,Расчет!B1558>=2000),Расчет!G1558,0)","v":0},{"$f":"IF(AND(Расчет!A1558<2000,Расчет!B1558<2000),Расчет!G1558,0)","v":0},null,null,{"$f":"IF(OR(Расчет!A1558>=2000,Расчет!B1558>=2000),Расчет!J1558,0)","v":0},{"$f":"IF(AND(Расчет!A1558<2000,Расчет!B1558<2000),Расчет!J1558,0)","v":0},null,null,{"$f":"IF(OR(Расчет!A1558>=2000,Расчет!B1558>=2000),Расчет!M1558,0)","v":0},{"$f":"IF(AND(Расчет!A1558<2000,Расчет!B1558<2000),Расчет!M1558,0)","v":0}]
[{"$f":"IF(OR(Расчет!A1559>=2000,Расчет!B1559>=2000),Расчет!G1559,0)","v":0},{"$f":"IF(AND(Расчет!A1559<2000,Расчет!B1559<2000),Расчет!G1559,0)","v":0},null,null,{"$f":"IF(OR(Расчет!A1559>=2000,Расчет!B1559>=2000),Расчет!J1559,0)","v":0},{"$f":"IF(AND(Расчет!A1559<2000,Расчет!B1559<2000),Расчет!J1559,0)","v":0},null,null,{"$f":"IF(OR(Расчет!A1559>=2000,Расчет!B1559>=2000),Расчет!M1559,0)","v":0},{"$f":"IF(AND(Расчет!A1559<2000,Расчет!B1559<2000),Расчет!M1559,0)","v":0}]
[{"$f":"IF(OR(Расчет!A1560>=2000,Расчет!B1560>=2000),Расчет!G1560,0)","v":0},{"$f":"IF(AND(Расчет!A1560<2000,Расчет!B1560<2000),Расчет!G1560,0)","v":0},null,null,{"$f":"IF(OR(Расчет!A1560>=2000,Расчет!B1560>=2000),Расчет!J1560,0)","v":0},{"$f":"IF(AND(Расчет!A1560<2000,Расчет!B1560<2000),Расчет!J1560,0)","v":0},null,null,{"$f":"IF(OR(Расчет!A1560>=2000,Расчет!B1560>=2000),Расчет!M1560,0)","v":0},{"$f":"IF(AND(Расчет!A1560<2000,Расчет!B1560<2000),Расчет!M1560,0)","v":0}]
[{"$f":"IF(OR(Расчет!A1561>=2000,Расчет!B1561>=2000),Расчет!G1561,0)","v":0},{"$f":"IF(AND(Расчет!A1561<2000,Расчет!B1561<2000),Расчет!G1561,0)","v":0},null,null,{"$f":"IF(OR(Расчет!A1561>=2000,Расчет!B1561>=2000),Расчет!J1561,0)","v":0},{"$f":"IF(AND(Расчет!A1561<2000,Расчет!B1561<2000),Расчет!J1561,0)","v":0},null,null,{"$f":"IF(OR(Расчет!A1561>=2000,Расчет!B1561>=2000),Расчет!M1561,0)","v":0},{"$f":"IF(AND(Расчет!A1561<2000,Расчет!B1561<2000),Расчет!M1561,0)","v":0}]
[{"$f":"IF(OR(Расчет!A1562>=2000,Расчет!B1562>=2000),Расчет!G1562,0)","v":0},{"$f":"IF(AND(Расчет!A1562<2000,Расчет!B1562<2000),Расчет!G1562,0)","v":0},null,null,{"$f":"IF(OR(Расчет!A1562>=2000,Расчет!B1562>=2000),Расчет!J1562,0)","v":0},{"$f":"IF(AND(Расчет!A1562<2000,Расчет!B1562<2000),Расчет!J1562,0)","v":0},null,null,{"$f":"IF(OR(Расчет!A1562>=2000,Расчет!B1562>=2000),Расчет!M1562,0)","v":0},{"$f":"IF(AND(Расчет!A1562<2000,Расчет!B1562<2000),Расчет!M1562,0)","v":0}]
[{"$f":"IF(OR(Расчет!A1563>=2000,Расчет!B1563>=2000),Расчет!G1563,0)","v":0},{"$f":"IF(AND(Расчет!A1563<2000,Расчет!B1563<2000),Расчет!G1563,0)","v":0},null,null,{"$f":"IF(OR(Расчет!A1563>=2000,Расчет!B1563>=2000),Расчет!J1563,0)","v":0},{"$f":"IF(AND(Расчет!A1563<2000,Расчет!B1563<2000),Расчет!J1563,0)","v":0},null,null,{"$f":"IF(OR(Расчет!A1563>=2000,Расчет!B1563>=2000),Расчет!M1563,0)","v":0},{"$f":"IF(AND(Расчет!A1563<2000,Расчет!B1563<2000),Расчет!M1563,0)","v":0}]
[{"$f":"IF(OR(Расчет!A1564>=2000,Расчет!B1564>=2000),Расчет!G1564,0)","v":0},{"$f":"IF(AND(Расчет!A1564<2000,Расчет!B1564<2000),Расчет!G1564,0)","v":0},null,null,{"$f":"IF(OR(Расчет!A1564>=2000,Расчет!B1564>=2000),Расчет!J1564,0)","v":0},{"$f":"IF(AND(Расчет!A1564<2000,Расчет!B1564<2000),Расчет!J1564,0)","v":0},null,null,{"$f":"IF(OR(Расчет!A1564>=2000,Расчет!B1564>=2000),Расчет!M1564,0)","v":0},{"$f":"IF(AND(Расчет!A1564<2000,Расчет!B1564<2000),Расчет!M1564,0)","v":0}]
[{"$f":"IF(OR(Расчет!A1565>=2000,Расчет!B1565>=2000),Расчет!G1565,0)","v":0},{"$f":"IF(AND(Расчет!A1565<2000,Расчет!B1565<2000),Расчет!G1565,0)","v":0},null,null,{"$f":"IF(OR(Расчет!A1565>=2000,Расчет!B1565>=2000),Расчет!J1565,0)","v":0},{"$f":"IF(AND(Расчет!A1565<2000,Расчет!B1565<2000),Расчет!J1565,0)","v":0},null,null,{"$f":"IF(OR(Расчет!A1565>=2000,Расчет!B1565>=2000),Расчет!M1565,0)","v":0},{"$f":"IF(AND(Расчет!A1565<2000,Расчет!B1565<2000),Расчет!M1565,0)","v":0}]
[{"$f":"IF(OR(Расчет!A1566>=2000,Расчет!B1566>=2000),Расчет!G1566,0)","v":0},{"$f":"IF(AND(Расчет!A1566<2000,Расчет!B1566<2000),Расчет!G1566,0)","v":0},null,null,{"$f":"IF(OR(Расчет!A1566>=2000,Расчет!B1566>=2000),Расчет!J1566,0)","v":0},{"$f":"IF(AND(Расчет!A1566<2000,Расчет!B1566<2000),Расчет!J1566,0)","v":0},null,null,{"$f":"IF(OR(Расчет!A1566>=2000,Расчет!B1566>=2000),Расчет!M1566,0)","v":0},{"$f":"IF(AND(Расчет!A1566<2000,Расчет!B1566<2000),Расчет!M1566,0)","v":0}]
[{"$f":"IF(OR(Расчет!A1567>=2000,Расчет!B1567>=2000),Расчет!G1567,0)","v":0},{"$f":"IF(AND(Расчет!A1567<2000,Расчет!B1567<2000),Расчет!G1567,0)","v":0},null,null,{"$f":"IF(OR(Расчет!A1567>=2000,Расчет!B1567>=2000),Расчет!J1567,0)","v":0},{"$f":"IF(AND(Расчет!A1567<2000,Расчет!B1567<2000),Расчет!J1567,0)","v":0},null,null,{"$f":"IF(OR(Расчет!A1567>=2000,Расчет!B1567>=2000),Расчет!M1567,0)","v":0},{"$f":"IF(AND(Расчет!A1567<2000,Расчет!B1567<2000),Расчет!M1567,0)","v":0}]
[{"$f":"IF(OR(Расчет!A1568>=2000,Расчет!B1568>=2000),Расчет!G1568,0)","v":0},{"$f":"IF(AND(Расчет!A1568<2000,Расчет!B1568<2000),Расчет!G1568,0)","v":0},null,null,{"$f":"IF(OR(Расчет!A1568>=2000,Расчет!B1568>=2000),Расчет!J1568,0)","v":0},{"$f":"IF(AND(Расчет!A1568<2000,Расчет!B1568<2000),Расчет!J1568,0)","v":0},null,null,{"$f":"IF(OR(Расчет!A1568>=2000,Расчет!B1568>=2000),Расчет!M1568,0)","v":0},{"$f":"IF(AND(Расчет!A1568<2000,Расчет!B1568<2000),Расчет!M1568,0)","v":0}]
[{"$f":"IF(OR(Расчет!A1569>=2000,Расчет!B1569>=2000),Расчет!G1569,0)","v":0},{"$f":"IF(AND(Расчет!A1569<2000,Расчет!B1569<2000),Расчет!G1569,0)","v":0},null,null,{"$f":"IF(OR(Расчет!A1569>=2000,Расчет!B1569>=2000),Расчет!J1569,0)","v":0},{"$f":"IF(AND(Расчет!A1569<2000,Расчет!B1569<2000),Расчет!J1569,0)","v":0},null,null,{"$f":"IF(OR(Расчет!A1569>=2000,Расчет!B1569>=2000),Расчет!M1569,0)","v":0},{"$f":"IF(AND(Расчет!A1569<2000,Расчет!B1569<2000),Расчет!M1569,0)","v":0}]
[{"$f":"IF(OR(Расчет!A1570>=2000,Расчет!B1570>=2000),Расчет!G1570,0)","v":0},{"$f":"IF(AND(Расчет!A1570<2000,Расчет!B1570<2000),Расчет!G1570,0)","v":0},null,null,{"$f":"IF(OR(Расчет!A1570>=2000,Расчет!B1570>=2000),Расчет!J1570,0)","v":0},{"$f":"IF(AND(Расчет!A1570<2000,Расчет!B1570<2000),Расчет!J1570,0)","v":0},null,null,{"$f":"IF(OR(Расчет!A1570>=2000,Расчет!B1570>=2000),Расчет!M1570,0)","v":0},{"$f":"IF(AND(Расчет!A1570<2000,Расчет!B1570<2000),Расчет!M1570,0)","v":0}]
[{"$f":"IF(OR(Расчет!A1571>=2000,Расчет!B1571>=2000),Расчет!G1571,0)","v":0},{"$f":"IF(AND(Расчет!A1571<2000,Расчет!B1571<2000),Расчет!G1571,0)","v":0},null,null,{"$f":"IF(OR(Расчет!A1571>=2000,Расчет!B1571>=2000),Расчет!J1571,0)","v":0},{"$f":"IF(AND(Расчет!A1571<2000,Расчет!B1571<2000),Расчет!J1571,0)","v":0},null,null,{"$f":"IF(OR(Расчет!A1571>=2000,Расчет!B1571>=2000),Расчет!M1571,0)","v":0},{"$f":"IF(AND(Расчет!A1571<2000,Расчет!B1571<2000),Расчет!M1571,0)","v":0}]
[{"$f":"IF(OR(Расчет!A1572>=2000,Расчет!B1572>=2000),Расчет!G1572,0)","v":0},{"$f":"IF(AND(Расчет!A1572<2000,Расчет!B1572<2000),Расчет!G1572,0)","v":0},null,null,{"$f":"IF(OR(Расчет!A1572>=2000,Расчет!B1572>=2000),Расчет!J1572,0)","v":0},{"$f":"IF(AND(Расчет!A1572<2000,Расчет!B1572<2000),Расчет!J1572,0)","v":0},null,null,{"$f":"IF(OR(Расчет!A1572>=2000,Расчет!B1572>=2000),Расчет!M1572,0)","v":0},{"$f":"IF(AND(Расчет!A1572<2000,Расчет!B1572<2000),Расчет!M1572,0)","v":0}]
[{"$f":"IF(OR(Расчет!A1573>=2000,Расчет!B1573>=2000),Расчет!G1573,0)","v":0},{"$f":"IF(AND(Расчет!A1573<2000,Расчет!B1573<2000),Расчет!G1573,0)","v":0},null,null,{"$f":"IF(OR(Расчет!A1573>=2000,Расчет!B1573>=2000),Расчет!J1573,0)","v":0},{"$f":"IF(AND(Расчет!A1573<2000,Расчет!B1573<2000),Расчет!J1573,0)","v":0},null,null,{"$f":"IF(OR(Расчет!A1573>=2000,Расчет!B1573>=2000),Расчет!M1573,0)","v":0},{"$f":"IF(AND(Расчет!A1573<2000,Расчет!B1573<2000),Расчет!M1573,0)","v":0}]
[{"$f":"IF(OR(Расчет!A1574>=2000,Расчет!B1574>=2000),Расчет!G1574,0)","v":0},{"$f":"IF(AND(Расчет!A1574<2000,Расчет!B1574<2000),Расчет!G1574,0)","v":0},null,null,{"$f":"IF(OR(Расчет!A1574>=2000,Расчет!B1574>=2000),Расчет!J1574,0)","v":0},{"$f":"IF(AND(Расчет!A1574<2000,Расчет!B1574<2000),Расчет!J1574,0)","v":0},null,null,{"$f":"IF(OR(Расчет!A1574>=2000,Расчет!B1574>=2000),Расчет!M1574,0)","v":0},{"$f":"IF(AND(Расчет!A1574<2000,Расчет!B1574<2000),Расчет!M1574,0)","v":0}]
[{"$f":"IF(OR(Расчет!A1575>=2000,Расчет!B1575>=2000),Расчет!G1575,0)","v":0},{"$f":"IF(AND(Расчет!A1575<2000,Расчет!B1575<2000),Расчет!G1575,0)","v":0},null,null,{"$f":"IF(OR(Расчет!A1575>=2000,Расчет!B1575>=2000),Расчет!J1575,0)","v":0},{"$f":"IF(AND(Расчет!A1575<2000,Расчет!B1575<2000),Расчет!J1575,0)","v":0},null,null,{"$f":"IF(OR(Расчет!A1575>=2000,Расчет!B1575>=2000),Расчет!M1575,0)","v":0},{"$f":"IF(AND(Расчет!A1575<2000,Расчет!B1575<2000),Расчет!M1575,0)","v":0}]
[{"$f":"IF(OR(Расчет!A1576>=2000,Расчет!B1576>=2000),Расчет!G1576,0)","v":0},{"$f":"IF(AND(Расчет!A1576<2000,Расчет!B1576<2000),Расчет!G1576,0)","v":0},null,null,{"$f":"IF(OR(Расчет!A1576>=2000,Расчет!B1576>=2000),Расчет!J1576,0)","v":0},{"$f":"IF(AND(Расчет!A1576<2000,Расчет!B1576<2000),Расчет!J1576,0)","v":0},null,null,{"$f":"IF(OR(Расчет!A1576>=2000,Расчет!B1576>=2000),Расчет!M1576,0)","v":0},{"$f":"IF(AND(Расчет!A1576<2000,Расчет!B1576<2000),Расчет!M1576,0)","v":0}]
[{"$f":"IF(OR(Расчет!A1577>=2000,Расчет!B1577>=2000),Расчет!G1577,0)","v":0},{"$f":"IF(AND(Расчет!A1577<2000,Расчет!B1577<2000),Расчет!G1577,0)","v":0},null,null,{"$f":"IF(OR(Расчет!A1577>=2000,Расчет!B1577>=2000),Расчет!J1577,0)","v":0},{"$f":"IF(AND(Расчет!A1577<2000,Расчет!B1577<2000),Расчет!J1577,0)","v":0},null,null,{"$f":"IF(OR(Расчет!A1577>=2000,Расчет!B1577>=2000),Расчет!M1577,0)","v":0},{"$f":"IF(AND(Расчет!A1577<2000,Расчет!B1577<2000),Расчет!M1577,0)","v":0}]
[{"$f":"IF(OR(Расчет!A1578>=2000,Расчет!B1578>=2000),Расчет!G1578,0)","v":0},{"$f":"IF(AND(Расчет!A1578<2000,Расчет!B1578<2000),Расчет!G1578,0)","v":0},null,null,{"$f":"IF(OR(Расчет!A1578>=2000,Расчет!B1578>=2000),Расчет!J1578,0)","v":0},{"$f":"IF(AND(Расчет!A1578<2000,Расчет!B1578<2000),Расчет!J1578,0)","v":0},null,null,{"$f":"IF(OR(Расчет!A1578>=2000,Расчет!B1578>=2000),Расчет!M1578,0)","v":0},{"$f":"IF(AND(Расчет!A1578<2000,Расчет!B1578<2000),Расчет!M1578,0)","v":0}]
[{"$f":"IF(OR(Расчет!A1579>=2000,Расчет!B1579>=2000),Расчет!G1579,0)","v":0},{"$f":"IF(AND(Расчет!A1579<2000,Расчет!B1579<2000),Расчет!G1579,0)","v":0},null,null,{"$f":"IF(OR(Расчет!A1579>=2000,Расчет!B1579>=2000),Расчет!J1579,0)","v":0},{"$f":"IF(AND(Расчет!A1579<2000,Расчет!B1579<2000),Расчет!J1579,0)","v":0},null,null,{"$f":"IF(OR(Расчет!A1579>=2000,Расчет!B1579>=2000),Расчет!M1579,0)","v":0},{"$f":"IF(AND(Расчет!A1579<2000,Расчет!B1579<2000),Расчет!M1579,0)","v":0}]
[{"$f":"IF(OR(Расчет!A1580>=2000,Расчет!B1580>=2000),Расчет!G1580,0)","v":0},{"$f":"IF(AND(Расчет!A1580<2000,Расчет!B1580<2000),Расчет!G1580,0)","v":0},null,null,{"$f":"IF(OR(Расчет!A1580>=2000,Расчет!B1580>=2000),Расчет!J1580,0)","v":0},{"$f":"IF(AND(Расчет!A1580<2000,Расчет!B1580<2000),Расчет!J1580,0)","v":0},null,null,{"$f":"IF(OR(Расчет!A1580>=2000,Расчет!B1580>=2000),Расчет!M1580,0)","v":0},{"$f":"IF(AND(Расчет!A1580<2000,Расчет!B1580<2000),Расчет!M1580,0)","v":0}]
[{"$f":"IF(OR(Расчет!A1581>=2000,Расчет!B1581>=2000),Расчет!G1581,0)","v":0},{"$f":"IF(AND(Расчет!A1581<2000,Расчет!B1581<2000),Расчет!G1581,0)","v":0},null,null,{"$f":"IF(OR(Расчет!A1581>=2000,Расчет!B1581>=2000),Расчет!J1581,0)","v":0},{"$f":"IF(AND(Расчет!A1581<2000,Расчет!B1581<2000),Расчет!J1581,0)","v":0},null,null,{"$f":"IF(OR(Расчет!A1581>=2000,Расчет!B1581>=2000),Расчет!M1581,0)","v":0},{"$f":"IF(AND(Расчет!A1581<2000,Расчет!B1581<2000),Расчет!M1581,0)","v":0}]
[{"$f":"IF(OR(Расчет!A1582>=2000,Расчет!B1582>=2000),Расчет!G1582,0)","v":0},{"$f":"IF(AND(Расчет!A1582<2000,Расчет!B1582<2000),Расчет!G1582,0)","v":0},null,null,{"$f":"IF(OR(Расчет!A1582>=2000,Расчет!B1582>=2000),Расчет!J1582,0)","v":0},{"$f":"IF(AND(Расчет!A1582<2000,Расчет!B1582<2000),Расчет!J1582,0)","v":0},null,null,{"$f":"IF(OR(Расчет!A1582>=2000,Расчет!B1582>=2000),Расчет!M1582,0)","v":0},{"$f":"IF(AND(Расчет!A1582<2000,Расчет!B1582<2000),Расчет!M1582,0)","v":0}]
[{"$f":"IF(OR(Расчет!A1583>=2000,Расчет!B1583>=2000),Расчет!G1583,0)","v":0},{"$f":"IF(AND(Расчет!A1583<2000,Расчет!B1583<2000),Расчет!G1583,0)","v":0},null,null,{"$f":"IF(OR(Расчет!A1583>=2000,Расчет!B1583>=2000),Расчет!J1583,0)","v":0},{"$f":"IF(AND(Расчет!A1583<2000,Расчет!B1583<2000),Расчет!J1583,0)","v":0},null,null,{"$f":"IF(OR(Расчет!A1583>=2000,Расчет!B1583>=2000),Расчет!M1583,0)","v":0},{"$f":"IF(AND(Расчет!A1583<2000,Расчет!B1583<2000),Расчет!M1583,0)","v":0}]
[{"$f":"IF(OR(Расчет!A1584>=2000,Расчет!B1584>=2000),Расчет!G1584,0)","v":0},{"$f":"IF(AND(Расчет!A1584<2000,Расчет!B1584<2000),Расчет!G1584,0)","v":0},null,null,{"$f":"IF(OR(Расчет!A1584>=2000,Расчет!B1584>=2000),Расчет!J1584,0)","v":0},{"$f":"IF(AND(Расчет!A1584<2000,Расчет!B1584<2000),Расчет!J1584,0)","v":0},null,null,{"$f":"IF(OR(Расчет!A1584>=2000,Расчет!B1584>=2000),Расчет!M1584,0)","v":0},{"$f":"IF(AND(Расчет!A1584<2000,Расчет!B1584<2000),Расчет!M1584,0)","v":0}]
[{"$f":"IF(OR(Расчет!A1585>=2000,Расчет!B1585>=2000),Расчет!G1585,0)","v":0},{"$f":"IF(AND(Расчет!A1585<2000,Расчет!B1585<2000),Расчет!G1585,0)","v":0},null,null,{"$f":"IF(OR(Расчет!A1585>=2000,Расчет!B1585>=2000),Расчет!J1585,0)","v":0},{"$f":"IF(AND(Расчет!A1585<2000,Расчет!B1585<2000),Расчет!J1585,0)","v":0},null,null,{"$f":"IF(OR(Расчет!A1585>=2000,Расчет!B1585>=2000),Расчет!M1585,0)","v":0},{"$f":"IF(AND(Расчет!A1585<2000,Расчет!B1585<2000),Расчет!M1585,0)","v":0}]
[{"$f":"IF(OR(Расчет!A1586>=2000,Расчет!B1586>=2000),Расчет!G1586,0)","v":0},{"$f":"IF(AND(Расчет!A1586<2000,Расчет!B1586<2000),Расчет!G1586,0)","v":0},null,null,{"$f":"IF(OR(Расчет!A1586>=2000,Расчет!B1586>=2000),Расчет!J1586,0)","v":0},{"$f":"IF(AND(Расчет!A1586<2000,Расчет!B1586<2000),Расчет!J1586,0)","v":0},null,null,{"$f":"IF(OR(Расчет!A1586>=2000,Расчет!B1586>=2000),Расчет!M1586,0)","v":0},{"$f":"IF(AND(Расчет!A1586<2000,Расчет!B1586<2000),Расчет!M1586,0)","v":0}]
[{"$f":"IF(OR(Расчет!A1587>=2000,Расчет!B1587>=2000),Расчет!G1587,0)","v":0},{"$f":"IF(AND(Расчет!A1587<2000,Расчет!B1587<2000),Расчет!G1587,0)","v":0},null,null,{"$f":"IF(OR(Расчет!A1587>=2000,Расчет!B1587>=2000),Расчет!J1587,0)","v":0},{"$f":"IF(AND(Расчет!A1587<2000,Расчет!B1587<2000),Расчет!J1587,0)","v":0},null,null,{"$f":"IF(OR(Расчет!A1587>=2000,Расчет!B1587>=2000),Расчет!M1587,0)","v":0},{"$f":"IF(AND(Расчет!A1587<2000,Расчет!B1587<2000),Расчет!M1587,0)","v":0}]
[{"$f":"IF(OR(Расчет!A1588>=2000,Расчет!B1588>=2000),Расчет!G1588,0)","v":0},{"$f":"IF(AND(Расчет!A1588<2000,Расчет!B1588<2000),Расчет!G1588,0)","v":0},null,null,{"$f":"IF(OR(Расчет!A1588>=2000,Расчет!B1588>=2000),Расчет!J1588,0)","v":0},{"$f":"IF(AND(Расчет!A1588<2000,Расчет!B1588<2000),Расчет!J1588,0)","v":0},null,null,{"$f":"IF(OR(Расчет!A1588>=2000,Расчет!B1588>=2000),Расчет!M1588,0)","v":0},{"$f":"IF(AND(Расчет!A1588<2000,Расчет!B1588<2000),Расчет!M1588,0)","v":0}]
[{"$f":"IF(OR(Расчет!A1589>=2000,Расчет!B1589>=2000),Расчет!G1589,0)","v":0},{"$f":"IF(AND(Расчет!A1589<2000,Расчет!B1589<2000),Расчет!G1589,0)","v":0},null,null,{"$f":"IF(OR(Расчет!A1589>=2000,Расчет!B1589>=2000),Расчет!J1589,0)","v":0},{"$f":"IF(AND(Расчет!A1589<2000,Расчет!B1589<2000),Расчет!J1589,0)","v":0},null,null,{"$f":"IF(OR(Расчет!A1589>=2000,Расчет!B1589>=2000),Расчет!M1589,0)","v":0},{"$f":"IF(AND(Расчет!A1589<2000,Расчет!B1589<2000),Расчет!M1589,0)","v":0}]
[{"$f":"IF(OR(Расчет!A1590>=2000,Расчет!B1590>=2000),Расчет!G1590,0)","v":0},{"$f":"IF(AND(Расчет!A1590<2000,Расчет!B1590<2000),Расчет!G1590,0)","v":0},null,null,{"$f":"IF(OR(Расчет!A1590>=2000,Расчет!B1590>=2000),Расчет!J1590,0)","v":0},{"$f":"IF(AND(Расчет!A1590<2000,Расчет!B1590<2000),Расчет!J1590,0)","v":0},null,null,{"$f":"IF(OR(Расчет!A1590>=2000,Расчет!B1590>=2000),Расчет!M1590,0)","v":0},{"$f":"IF(AND(Расчет!A1590<2000,Расчет!B1590<2000),Расчет!M1590,0)","v":0}]
[{"$f":"IF(OR(Расчет!A1591>=2000,Расчет!B1591>=2000),Расчет!G1591,0)","v":0},{"$f":"IF(AND(Расчет!A1591<2000,Расчет!B1591<2000),Расчет!G1591,0)","v":0},null,null,{"$f":"IF(OR(Расчет!A1591>=2000,Расчет!B1591>=2000),Расчет!J1591,0)","v":0},{"$f":"IF(AND(Расчет!A1591<2000,Расчет!B1591<2000),Расчет!J1591,0)","v":0},null,null,{"$f":"IF(OR(Расчет!A1591>=2000,Расчет!B1591>=2000),Расчет!M1591,0)","v":0},{"$f":"IF(AND(Расчет!A1591<2000,Расчет!B1591<2000),Расчет!M1591,0)","v":0}]
[{"$f":"IF(OR(Расчет!A1592>=2000,Расчет!B1592>=2000),Расчет!G1592,0)","v":0},{"$f":"IF(AND(Расчет!A1592<2000,Расчет!B1592<2000),Расчет!G1592,0)","v":0},null,null,{"$f":"IF(OR(Расчет!A1592>=2000,Расчет!B1592>=2000),Расчет!J1592,0)","v":0},{"$f":"IF(AND(Расчет!A1592<2000,Расчет!B1592<2000),Расчет!J1592,0)","v":0},null,null,{"$f":"IF(OR(Расчет!A1592>=2000,Расчет!B1592>=2000),Расчет!M1592,0)","v":0},{"$f":"IF(AND(Расчет!A1592<2000,Расчет!B1592<2000),Расчет!M1592,0)","v":0}]
[{"$f":"IF(OR(Расчет!A1593>=2000,Расчет!B1593>=2000),Расчет!G1593,0)","v":0},{"$f":"IF(AND(Расчет!A1593<2000,Расчет!B1593<2000),Расчет!G1593,0)","v":0},null,null,{"$f":"IF(OR(Расчет!A1593>=2000,Расчет!B1593>=2000),Расчет!J1593,0)","v":0},{"$f":"IF(AND(Расчет!A1593<2000,Расчет!B1593<2000),Расчет!J1593,0)","v":0},null,null,{"$f":"IF(OR(Расчет!A1593>=2000,Расчет!B1593>=2000),Расчет!M1593,0)","v":0},{"$f":"IF(AND(Расчет!A1593<2000,Расчет!B1593<2000),Расчет!M1593,0)","v":0}]
[{"$f":"IF(OR(Расчет!A1594>=2000,Расчет!B1594>=2000),Расчет!G1594,0)","v":0},{"$f":"IF(AND(Расчет!A1594<2000,Расчет!B1594<2000),Расчет!G1594,0)","v":0},null,null,{"$f":"IF(OR(Расчет!A1594>=2000,Расчет!B1594>=2000),Расчет!J1594,0)","v":0},{"$f":"IF(AND(Расчет!A1594<2000,Расчет!B1594<2000),Расчет!J1594,0)","v":0},null,null,{"$f":"IF(OR(Расчет!A1594>=2000,Расчет!B1594>=2000),Расчет!M1594,0)","v":0},{"$f":"IF(AND(Расчет!A1594<2000,Расчет!B1594<2000),Расчет!M1594,0)","v":0}]
[{"$f":"IF(OR(Расчет!A1595>=2000,Расчет!B1595>=2000),Расчет!G1595,0)","v":0},{"$f":"IF(AND(Расчет!A1595<2000,Расчет!B1595<2000),Расчет!G1595,0)","v":0},null,null,{"$f":"IF(OR(Расчет!A1595>=2000,Расчет!B1595>=2000),Расчет!J1595,0)","v":0},{"$f":"IF(AND(Расчет!A1595<2000,Расчет!B1595<2000),Расчет!J1595,0)","v":0},null,null,{"$f":"IF(OR(Расчет!A1595>=2000,Расчет!B1595>=2000),Расчет!M1595,0)","v":0},{"$f":"IF(AND(Расчет!A1595<2000,Расчет!B1595<2000),Расчет!M1595,0)","v":0}]
[{"$f":"IF(OR(Расчет!A1596>=2000,Расчет!B1596>=2000),Расчет!G1596,0)","v":0},{"$f":"IF(AND(Расчет!A1596<2000,Расчет!B1596<2000),Расчет!G1596,0)","v":0},null,null,{"$f":"IF(OR(Расчет!A1596>=2000,Расчет!B1596>=2000),Расчет!J1596,0)","v":0},{"$f":"IF(AND(Расчет!A1596<2000,Расчет!B1596<2000),Расчет!J1596,0)","v":0},null,null,{"$f":"IF(OR(Расчет!A1596>=2000,Расчет!B1596>=2000),Расчет!M1596,0)","v":0},{"$f":"IF(AND(Расчет!A1596<2000,Расчет!B1596<2000),Расчет!M1596,0)","v":0}]
[{"$f":"IF(OR(Расчет!A1597>=2000,Расчет!B1597>=2000),Расчет!G1597,0)","v":0},{"$f":"IF(AND(Расчет!A1597<2000,Расчет!B1597<2000),Расчет!G1597,0)","v":0},null,null,{"$f":"IF(OR(Расчет!A1597>=2000,Расчет!B1597>=2000),Расчет!J1597,0)","v":0},{"$f":"IF(AND(Расчет!A1597<2000,Расчет!B1597<2000),Расчет!J1597,0)","v":0},null,null,{"$f":"IF(OR(Расчет!A1597>=2000,Расчет!B1597>=2000),Расчет!M1597,0)","v":0},{"$f":"IF(AND(Расчет!A1597<2000,Расчет!B1597<2000),Расчет!M1597,0)","v":0}]
[{"$f":"IF(OR(Расчет!A1598>=2000,Расчет!B1598>=2000),Расчет!G1598,0)","v":0},{"$f":"IF(AND(Расчет!A1598<2000,Расчет!B1598<2000),Расчет!G1598,0)","v":0},null,null,{"$f":"IF(OR(Расчет!A1598>=2000,Расчет!B1598>=2000),Расчет!J1598,0)","v":0},{"$f":"IF(AND(Расчет!A1598<2000,Расчет!B1598<2000),Расчет!J1598,0)","v":0},null,null,{"$f":"IF(OR(Расчет!A1598>=2000,Расчет!B1598>=2000),Расчет!M1598,0)","v":0},{"$f":"IF(AND(Расчет!A1598<2000,Расчет!B1598<2000),Расчет!M1598,0)","v":0}]
[{"$f":"IF(OR(Расчет!A1599>=2000,Расчет!B1599>=2000),Расчет!G1599,0)","v":0},{"$f":"IF(AND(Расчет!A1599<2000,Расчет!B1599<2000),Расчет!G1599,0)","v":0},null,null,{"$f":"IF(OR(Расчет!A1599>=2000,Расчет!B1599>=2000),Расчет!J1599,0)","v":0},{"$f":"IF(AND(Расчет!A1599<2000,Расчет!B1599<2000),Расчет!J1599,0)","v":0},null,null,{"$f":"IF(OR(Расчет!A1599>=2000,Расчет!B1599>=2000),Расчет!M1599,0)","v":0},{"$f":"IF(AND(Расчет!A1599<2000,Расчет!B1599<2000),Расчет!M1599,0)","v":0}]
[{"$f":"IF(OR(Расчет!A1600>=2000,Расчет!B1600>=2000),Расчет!G1600,0)","v":0},{"$f":"IF(AND(Расчет!A1600<2000,Расчет!B1600<2000),Расчет!G1600,0)","v":0},null,null,{"$f":"IF(OR(Расчет!A1600>=2000,Расчет!B1600>=2000),Расчет!J1600,0)","v":0},{"$f":"IF(AND(Расчет!A1600<2000,Расчет!B1600<2000),Расчет!J1600,0)","v":0},null,null,{"$f":"IF(OR(Расчет!A1600>=2000,Расчет!B1600>=2000),Расчет!M1600,0)","v":0},{"$f":"IF(AND(Расчет!A1600<2000,Расчет!B1600<2000),Расчет!M1600,0)","v":0}]
[{"$f":"IF(OR(Расчет!A1601>=2000,Расчет!B1601>=2000),Расчет!G1601,0)","v":0},{"$f":"IF(AND(Расчет!A1601<2000,Расчет!B1601<2000),Расчет!G1601,0)","v":0},null,null,{"$f":"IF(OR(Расчет!A1601>=2000,Расчет!B1601>=2000),Расчет!J1601,0)","v":0},{"$f":"IF(AND(Расчет!A1601<2000,Расчет!B1601<2000),Расчет!J1601,0)","v":0},null,null,{"$f":"IF(OR(Расчет!A1601>=2000,Расчет!B1601>=2000),Расчет!M1601,0)","v":0},{"$f":"IF(AND(Расчет!A1601<2000,Расчет!B1601<2000),Расчет!M1601,0)","v":0}]
[{"$f":"IF(OR(Расчет!A1602>=2000,Расчет!B1602>=2000),Расчет!G1602,0)","v":0},{"$f":"IF(AND(Расчет!A1602<2000,Расчет!B1602<2000),Расчет!G1602,0)","v":0},null,null,{"$f":"IF(OR(Расчет!A1602>=2000,Расчет!B1602>=2000),Расчет!J1602,0)","v":0},{"$f":"IF(AND(Расчет!A1602<2000,Расчет!B1602<2000),Расчет!J1602,0)","v":0},null,null,{"$f":"IF(OR(Расчет!A1602>=2000,Расчет!B1602>=2000),Расчет!M1602,0)","v":0},{"$f":"IF(AND(Расчет!A1602<2000,Расчет!B1602<2000),Расчет!M1602,0)","v":0}]
[{"$f":"IF(OR(Расчет!A1603>=2000,Расчет!B1603>=2000),Расчет!G1603,0)","v":0},{"$f":"IF(AND(Расчет!A1603<2000,Расчет!B1603<2000),Расчет!G1603,0)","v":0},null,null,{"$f":"IF(OR(Расчет!A1603>=2000,Расчет!B1603>=2000),Расчет!J1603,0)","v":0},{"$f":"IF(AND(Расчет!A1603<2000,Расчет!B1603<2000),Расчет!J1603,0)","v":0},null,null,{"$f":"IF(OR(Расчет!A1603>=2000,Расчет!B1603>=2000),Расчет!M1603,0)","v":0},{"$f":"IF(AND(Расчет!A1603<2000,Расчет!B1603<2000),Расчет!M1603,0)","v":0}]
[{"$f":"IF(OR(Расчет!A1604>=2000,Расчет!B1604>=2000),Расчет!G1604,0)","v":0},{"$f":"IF(AND(Расчет!A1604<2000,Расчет!B1604<2000),Расчет!G1604,0)","v":0},null,null,{"$f":"IF(OR(Расчет!A1604>=2000,Расчет!B1604>=2000),Расчет!J1604,0)","v":0},{"$f":"IF(AND(Расчет!A1604<2000,Расчет!B1604<2000),Расчет!J1604,0)","v":0},null,null,{"$f":"IF(OR(Расчет!A1604>=2000,Расчет!B1604>=2000),Расчет!M1604,0)","v":0},{"$f":"IF(AND(Расчет!A1604<2000,Расчет!B1604<2000),Расчет!M1604,0)","v":0}]
[{"$f":"IF(OR(Расчет!A1605>=2000,Расчет!B1605>=2000),Расчет!G1605,0)","v":0},{"$f":"IF(AND(Расчет!A1605<2000,Расчет!B1605<2000),Расчет!G1605,0)","v":0},null,null,{"$f":"IF(OR(Расчет!A1605>=2000,Расчет!B1605>=2000),Расчет!J1605,0)","v":0},{"$f":"IF(AND(Расчет!A1605<2000,Расчет!B1605<2000),Расчет!J1605,0)","v":0},null,null,{"$f":"IF(OR(Расчет!A1605>=2000,Расчет!B1605>=2000),Расчет!M1605,0)","v":0},{"$f":"IF(AND(Расчет!A1605<2000,Расчет!B1605<2000),Расчет!M1605,0)","v":0}]
[{"$f":"IF(OR(Расчет!A1606>=2000,Расчет!B1606>=2000),Расчет!G1606,0)","v":0},{"$f":"IF(AND(Расчет!A1606<2000,Расчет!B1606<2000),Расчет!G1606,0)","v":0},null,null,{"$f":"IF(OR(Расчет!A1606>=2000,Расчет!B1606>=2000),Расчет!J1606,0)","v":0},{"$f":"IF(AND(Расчет!A1606<2000,Расчет!B1606<2000),Расчет!J1606,0)","v":0},null,null,{"$f":"IF(OR(Расчет!A1606>=2000,Расчет!B1606>=2000),Расчет!M1606,0)","v":0},{"$f":"IF(AND(Расчет!A1606<2000,Расчет!B1606<2000),Расчет!M1606,0)","v":0}]
[{"$f":"IF(OR(Расчет!A1607>=2000,Расчет!B1607>=2000),Расчет!G1607,0)","v":0},{"$f":"IF(AND(Расчет!A1607<2000,Расчет!B1607<2000),Расчет!G1607,0)","v":0},null,null,{"$f":"IF(OR(Расчет!A1607>=2000,Расчет!B1607>=2000),Расчет!J1607,0)","v":0},{"$f":"IF(AND(Расчет!A1607<2000,Расчет!B1607<2000),Расчет!J1607,0)","v":0},null,null,{"$f":"IF(OR(Расчет!A1607>=2000,Расчет!B1607>=2000),Расчет!M1607,0)","v":0},{"$f":"IF(AND(Расчет!A1607<2000,Расчет!B1607<2000),Расчет!M1607,0)","v":0}]
[{"$f":"IF(OR(Расчет!A1608>=2000,Расчет!B1608>=2000),Расчет!G1608,0)","v":0},{"$f":"IF(AND(Расчет!A1608<2000,Расчет!B1608<2000),Расчет!G1608,0)","v":0},null,null,{"$f":"IF(OR(Расчет!A1608>=2000,Расчет!B1608>=2000),Расчет!J1608,0)","v":0},{"$f":"IF(AND(Расчет!A1608<2000,Расчет!B1608<2000),Расчет!J1608,0)","v":0},null,null,{"$f":"IF(OR(Расчет!A1608>=2000,Расчет!B1608>=2000),Расчет!M1608,0)","v":0},{"$f":"IF(AND(Расчет!A1608<2000,Расчет!B1608<2000),Расчет!M1608,0)","v":0}]
[{"$f":"IF(OR(Расчет!A1609>=2000,Расчет!B1609>=2000),Расчет!G1609,0)","v":0},{"$f":"IF(AND(Расчет!A1609<2000,Расчет!B1609<2000),Расчет!G1609,0)","v":0},null,null,{"$f":"IF(OR(Расчет!A1609>=2000,Расчет!B1609>=2000),Расчет!J1609,0)","v":0},{"$f":"IF(AND(Расчет!A1609<2000,Расчет!B1609<2000),Расчет!J1609,0)","v":0},null,null,{"$f":"IF(OR(Расчет!A1609>=2000,Расчет!B1609>=2000),Расчет!M1609,0)","v":0},{"$f":"IF(AND(Расчет!A1609<2000,Расчет!B1609<2000),Расчет!M1609,0)","v":0}]
[{"$f":"IF(OR(Расчет!A1610>=2000,Расчет!B1610>=2000),Расчет!G1610,0)","v":0},{"$f":"IF(AND(Расчет!A1610<2000,Расчет!B1610<2000),Расчет!G1610,0)","v":0},null,null,{"$f":"IF(OR(Расчет!A1610>=2000,Расчет!B1610>=2000),Расчет!J1610,0)","v":0},{"$f":"IF(AND(Расчет!A1610<2000,Расчет!B1610<2000),Расчет!J1610,0)","v":0},null,null,{"$f":"IF(OR(Расчет!A1610>=2000,Расчет!B1610>=2000),Расчет!M1610,0)","v":0},{"$f":"IF(AND(Расчет!A1610<2000,Расчет!B1610<2000),Расчет!M1610,0)","v":0}]
[{"$f":"IF(OR(Расчет!A1611>=2000,Расчет!B1611>=2000),Расчет!G1611,0)","v":0},{"$f":"IF(AND(Расчет!A1611<2000,Расчет!B1611<2000),Расчет!G1611,0)","v":0},null,null,{"$f":"IF(OR(Расчет!A1611>=2000,Расчет!B1611>=2000),Расчет!J1611,0)","v":0},{"$f":"IF(AND(Расчет!A1611<2000,Расчет!B1611<2000),Расчет!J1611,0)","v":0},null,null,{"$f":"IF(OR(Расчет!A1611>=2000,Расчет!B1611>=2000),Расчет!M1611,0)","v":0},{"$f":"IF(AND(Расчет!A1611<2000,Расчет!B1611<2000),Расчет!M1611,0)","v":0}]
[{"$f":"IF(OR(Расчет!A1612>=2000,Расчет!B1612>=2000),Расчет!G1612,0)","v":0},{"$f":"IF(AND(Расчет!A1612<2000,Расчет!B1612<2000),Расчет!G1612,0)","v":0},null,null,{"$f":"IF(OR(Расчет!A1612>=2000,Расчет!B1612>=2000),Расчет!J1612,0)","v":0},{"$f":"IF(AND(Расчет!A1612<2000,Расчет!B1612<2000),Расчет!J1612,0)","v":0},null,null,{"$f":"IF(OR(Расчет!A1612>=2000,Расчет!B1612>=2000),Расчет!M1612,0)","v":0},{"$f":"IF(AND(Расчет!A1612<2000,Расчет!B1612<2000),Расчет!M1612,0)","v":0}]
[{"$f":"IF(OR(Расчет!A1613>=2000,Расчет!B1613>=2000),Расчет!G1613,0)","v":0},{"$f":"IF(AND(Расчет!A1613<2000,Расчет!B1613<2000),Расчет!G1613,0)","v":0},null,null,{"$f":"IF(OR(Расчет!A1613>=2000,Расчет!B1613>=2000),Расчет!J1613,0)","v":0},{"$f":"IF(AND(Расчет!A1613<2000,Расчет!B1613<2000),Расчет!J1613,0)","v":0},null,null,{"$f":"IF(OR(Расчет!A1613>=2000,Расчет!B1613>=2000),Расчет!M1613,0)","v":0},{"$f":"IF(AND(Расчет!A1613<2000,Расчет!B1613<2000),Расчет!M1613,0)","v":0}]
[{"$f":"IF(OR(Расчет!A1614>=2000,Расчет!B1614>=2000),Расчет!G1614,0)","v":0},{"$f":"IF(AND(Расчет!A1614<2000,Расчет!B1614<2000),Расчет!G1614,0)","v":0},null,null,{"$f":"IF(OR(Расчет!A1614>=2000,Расчет!B1614>=2000),Расчет!J1614,0)","v":0},{"$f":"IF(AND(Расчет!A1614<2000,Расчет!B1614<2000),Расчет!J1614,0)","v":0},null,null,{"$f":"IF(OR(Расчет!A1614>=2000,Расчет!B1614>=2000),Расчет!M1614,0)","v":0},{"$f":"IF(AND(Расчет!A1614<2000,Расчет!B1614<2000),Расчет!M1614,0)","v":0}]
[{"$f":"IF(OR(Расчет!A1615>=2000,Расчет!B1615>=2000),Расчет!G1615,0)","v":0},{"$f":"IF(AND(Расчет!A1615<2000,Расчет!B1615<2000),Расчет!G1615,0)","v":0},null,null,{"$f":"IF(OR(Расчет!A1615>=2000,Расчет!B1615>=2000),Расчет!J1615,0)","v":0},{"$f":"IF(AND(Расчет!A1615<2000,Расчет!B1615<2000),Расчет!J1615,0)","v":0},null,null,{"$f":"IF(OR(Расчет!A1615>=2000,Расчет!B1615>=2000),Расчет!M1615,0)","v":0},{"$f":"IF(AND(Расчет!A1615<2000,Расчет!B1615<2000),Расчет!M1615,0)","v":0}]
[{"$f":"IF(OR(Расчет!A1616>=2000,Расчет!B1616>=2000),Расчет!G1616,0)","v":0},{"$f":"IF(AND(Расчет!A1616<2000,Расчет!B1616<2000),Расчет!G1616,0)","v":0},null,null,{"$f":"IF(OR(Расчет!A1616>=2000,Расчет!B1616>=2000),Расчет!J1616,0)","v":0},{"$f":"IF(AND(Расчет!A1616<2000,Расчет!B1616<2000),Расчет!J1616,0)","v":0},null,null,{"$f":"IF(OR(Расчет!A1616>=2000,Расчет!B1616>=2000),Расчет!M1616,0)","v":0},{"$f":"IF(AND(Расчет!A1616<2000,Расчет!B1616<2000),Расчет!M1616,0)","v":0}]
[{"$f":"IF(OR(Расчет!A1617>=2000,Расчет!B1617>=2000),Расчет!G1617,0)","v":0},{"$f":"IF(AND(Расчет!A1617<2000,Расчет!B1617<2000),Расчет!G1617,0)","v":0},null,null,{"$f":"IF(OR(Расчет!A1617>=2000,Расчет!B1617>=2000),Расчет!J1617,0)","v":0},{"$f":"IF(AND(Расчет!A1617<2000,Расчет!B1617<2000),Расчет!J1617,0)","v":0},null,null,{"$f":"IF(OR(Расчет!A1617>=2000,Расчет!B1617>=2000),Расчет!M1617,0)","v":0},{"$f":"IF(AND(Расчет!A1617<2000,Расчет!B1617<2000),Расчет!M1617,0)","v":0}]
[{"$f":"IF(OR(Расчет!A1618>=2000,Расчет!B1618>=2000),Расчет!G1618,0)","v":0},{"$f":"IF(AND(Расчет!A1618<2000,Расчет!B1618<2000),Расчет!G1618,0)","v":0},null,null,{"$f":"IF(OR(Расчет!A1618>=2000,Расчет!B1618>=2000),Расчет!J1618,0)","v":0},{"$f":"IF(AND(Расчет!A1618<2000,Расчет!B1618<2000),Расчет!J1618,0)","v":0},null,null,{"$f":"IF(OR(Расчет!A1618>=2000,Расчет!B1618>=2000),Расчет!M1618,0)","v":0},{"$f":"IF(AND(Расчет!A1618<2000,Расчет!B1618<2000),Расчет!M1618,0)","v":0}]
[{"$f":"IF(OR(Расчет!A1619>=2000,Расчет!B1619>=2000),Расчет!G1619,0)","v":0},{"$f":"IF(AND(Расчет!A1619<2000,Расчет!B1619<2000),Расчет!G1619,0)","v":0},null,null,{"$f":"IF(OR(Расчет!A1619>=2000,Расчет!B1619>=2000),Расчет!J1619,0)","v":0},{"$f":"IF(AND(Расчет!A1619<2000,Расчет!B1619<2000),Расчет!J1619,0)","v":0},null,null,{"$f":"IF(OR(Расчет!A1619>=2000,Расчет!B1619>=2000),Расчет!M1619,0)","v":0},{"$f":"IF(AND(Расчет!A1619<2000,Расчет!B1619<2000),Расчет!M1619,0)","v":0}]
[{"$f":"IF(OR(Расчет!A1620>=2000,Расчет!B1620>=2000),Расчет!G1620,0)","v":0},{"$f":"IF(AND(Расчет!A1620<2000,Расчет!B1620<2000),Расчет!G1620,0)","v":0},null,null,{"$f":"IF(OR(Расчет!A1620>=2000,Расчет!B1620>=2000),Расчет!J1620,0)","v":0},{"$f":"IF(AND(Расчет!A1620<2000,Расчет!B1620<2000),Расчет!J1620,0)","v":0},null,null,{"$f":"IF(OR(Расчет!A1620>=2000,Расчет!B1620>=2000),Расчет!M1620,0)","v":0},{"$f":"IF(AND(Расчет!A1620<2000,Расчет!B1620<2000),Расчет!M1620,0)","v":0}]
[{"$f":"IF(OR(Расчет!A1621>=2000,Расчет!B1621>=2000),Расчет!G1621,0)","v":0},{"$f":"IF(AND(Расчет!A1621<2000,Расчет!B1621<2000),Расчет!G1621,0)","v":0},null,null,{"$f":"IF(OR(Расчет!A1621>=2000,Расчет!B1621>=2000),Расчет!J1621,0)","v":0},{"$f":"IF(AND(Расчет!A1621<2000,Расчет!B1621<2000),Расчет!J1621,0)","v":0},null,null,{"$f":"IF(OR(Расчет!A1621>=2000,Расчет!B1621>=2000),Расчет!M1621,0)","v":0},{"$f":"IF(AND(Расчет!A1621<2000,Расчет!B1621<2000),Расчет!M1621,0)","v":0}]
[{"$f":"IF(OR(Расчет!A1622>=2000,Расчет!B1622>=2000),Расчет!G1622,0)","v":0},{"$f":"IF(AND(Расчет!A1622<2000,Расчет!B1622<2000),Расчет!G1622,0)","v":0},null,null,{"$f":"IF(OR(Расчет!A1622>=2000,Расчет!B1622>=2000),Расчет!J1622,0)","v":0},{"$f":"IF(AND(Расчет!A1622<2000,Расчет!B1622<2000),Расчет!J1622,0)","v":0},null,null,{"$f":"IF(OR(Расчет!A1622>=2000,Расчет!B1622>=2000),Расчет!M1622,0)","v":0},{"$f":"IF(AND(Расчет!A1622<2000,Расчет!B1622<2000),Расчет!M1622,0)","v":0}]
[{"$f":"IF(OR(Расчет!A1623>=2000,Расчет!B1623>=2000),Расчет!G1623,0)","v":0},{"$f":"IF(AND(Расчет!A1623<2000,Расчет!B1623<2000),Расчет!G1623,0)","v":0},null,null,{"$f":"IF(OR(Расчет!A1623>=2000,Расчет!B1623>=2000),Расчет!J1623,0)","v":0},{"$f":"IF(AND(Расчет!A1623<2000,Расчет!B1623<2000),Расчет!J1623,0)","v":0},null,null,{"$f":"IF(OR(Расчет!A1623>=2000,Расчет!B1623>=2000),Расчет!M1623,0)","v":0},{"$f":"IF(AND(Расчет!A1623<2000,Расчет!B1623<2000),Расчет!M1623,0)","v":0}]
[{"$f":"IF(OR(Расчет!A1624>=2000,Расчет!B1624>=2000),Расчет!G1624,0)","v":0},{"$f":"IF(AND(Расчет!A1624<2000,Расчет!B1624<2000),Расчет!G1624,0)","v":0},null,null,{"$f":"IF(OR(Расчет!A1624>=2000,Расчет!B1624>=2000),Расчет!J1624,0)","v":0},{"$f":"IF(AND(Расчет!A1624<2000,Расчет!B1624<2000),Расчет!J1624,0)","v":0},null,null,{"$f":"IF(OR(Расчет!A1624>=2000,Расчет!B1624>=2000),Расчет!M1624,0)","v":0},{"$f":"IF(AND(Расчет!A1624<2000,Расчет!B1624<2000),Расчет!M1624,0)","v":0}]
[{"$f":"IF(OR(Расчет!A1625>=2000,Расчет!B1625>=2000),Расчет!G1625,0)","v":0},{"$f":"IF(AND(Расчет!A1625<2000,Расчет!B1625<2000),Расчет!G1625,0)","v":0},null,null,{"$f":"IF(OR(Расчет!A1625>=2000,Расчет!B1625>=2000),Расчет!J1625,0)","v":0},{"$f":"IF(AND(Расчет!A1625<2000,Расчет!B1625<2000),Расчет!J1625,0)","v":0},null,null,{"$f":"IF(OR(Расчет!A1625>=2000,Расчет!B1625>=2000),Расчет!M1625,0)","v":0},{"$f":"IF(AND(Расчет!A1625<2000,Расчет!B1625<2000),Расчет!M1625,0)","v":0}]
[{"$f":"IF(OR(Расчет!A1626>=2000,Расчет!B1626>=2000),Расчет!G1626,0)","v":0},{"$f":"IF(AND(Расчет!A1626<2000,Расчет!B1626<2000),Расчет!G1626,0)","v":0},null,null,{"$f":"IF(OR(Расчет!A1626>=2000,Расчет!B1626>=2000),Расчет!J1626,0)","v":0},{"$f":"IF(AND(Расчет!A1626<2000,Расчет!B1626<2000),Расчет!J1626,0)","v":0},null,null,{"$f":"IF(OR(Расчет!A1626>=2000,Расчет!B1626>=2000),Расчет!M1626,0)","v":0},{"$f":"IF(AND(Расчет!A1626<2000,Расчет!B1626<2000),Расчет!M1626,0)","v":0}]
[{"$f":"IF(OR(Расчет!A1627>=2000,Расчет!B1627>=2000),Расчет!G1627,0)","v":0},{"$f":"IF(AND(Расчет!A1627<2000,Расчет!B1627<2000),Расчет!G1627,0)","v":0},null,null,{"$f":"IF(OR(Расчет!A1627>=2000,Расчет!B1627>=2000),Расчет!J1627,0)","v":0},{"$f":"IF(AND(Расчет!A1627<2000,Расчет!B1627<2000),Расчет!J1627,0)","v":0},null,null,{"$f":"IF(OR(Расчет!A1627>=2000,Расчет!B1627>=2000),Расчет!M1627,0)","v":0},{"$f":"IF(AND(Расчет!A1627<2000,Расчет!B1627<2000),Расчет!M1627,0)","v":0}]
[{"$f":"IF(OR(Расчет!A1628>=2000,Расчет!B1628>=2000),Расчет!G1628,0)","v":0},{"$f":"IF(AND(Расчет!A1628<2000,Расчет!B1628<2000),Расчет!G1628,0)","v":0},null,null,{"$f":"IF(OR(Расчет!A1628>=2000,Расчет!B1628>=2000),Расчет!J1628,0)","v":0},{"$f":"IF(AND(Расчет!A1628<2000,Расчет!B1628<2000),Расчет!J1628,0)","v":0},null,null,{"$f":"IF(OR(Расчет!A1628>=2000,Расчет!B1628>=2000),Расчет!M1628,0)","v":0},{"$f":"IF(AND(Расчет!A1628<2000,Расчет!B1628<2000),Расчет!M1628,0)","v":0}]
[{"$f":"IF(OR(Расчет!A1629>=2000,Расчет!B1629>=2000),Расчет!G1629,0)","v":0},{"$f":"IF(AND(Расчет!A1629<2000,Расчет!B1629<2000),Расчет!G1629,0)","v":0},null,null,{"$f":"IF(OR(Расчет!A1629>=2000,Расчет!B1629>=2000),Расчет!J1629,0)","v":0},{"$f":"IF(AND(Расчет!A1629<2000,Расчет!B1629<2000),Расчет!J1629,0)","v":0},null,null,{"$f":"IF(OR(Расчет!A1629>=2000,Расчет!B1629>=2000),Расчет!M1629,0)","v":0},{"$f":"IF(AND(Расчет!A1629<2000,Расчет!B1629<2000),Расчет!M1629,0)","v":0}]
[{"$f":"IF(OR(Расчет!A1630>=2000,Расчет!B1630>=2000),Расчет!G1630,0)","v":0},{"$f":"IF(AND(Расчет!A1630<2000,Расчет!B1630<2000),Расчет!G1630,0)","v":0},null,null,{"$f":"IF(OR(Расчет!A1630>=2000,Расчет!B1630>=2000),Расчет!J1630,0)","v":0},{"$f":"IF(AND(Расчет!A1630<2000,Расчет!B1630<2000),Расчет!J1630,0)","v":0},null,null,{"$f":"IF(OR(Расчет!A1630>=2000,Расчет!B1630>=2000),Расчет!M1630,0)","v":0},{"$f":"IF(AND(Расчет!A1630<2000,Расчет!B1630<2000),Расчет!M1630,0)","v":0}]
[{"$f":"IF(OR(Расчет!A1631>=2000,Расчет!B1631>=2000),Расчет!G1631,0)","v":0},{"$f":"IF(AND(Расчет!A1631<2000,Расчет!B1631<2000),Расчет!G1631,0)","v":0},null,null,{"$f":"IF(OR(Расчет!A1631>=2000,Расчет!B1631>=2000),Расчет!J1631,0)","v":0},{"$f":"IF(AND(Расчет!A1631<2000,Расчет!B1631<2000),Расчет!J1631,0)","v":0},null,null,{"$f":"IF(OR(Расчет!A1631>=2000,Расчет!B1631>=2000),Расчет!M1631,0)","v":0},{"$f":"IF(AND(Расчет!A1631<2000,Расчет!B1631<2000),Расчет!M1631,0)","v":0}]
[{"$f":"IF(OR(Расчет!A1632>=2000,Расчет!B1632>=2000),Расчет!G1632,0)","v":0},{"$f":"IF(AND(Расчет!A1632<2000,Расчет!B1632<2000),Расчет!G1632,0)","v":0},null,null,{"$f":"IF(OR(Расчет!A1632>=2000,Расчет!B1632>=2000),Расчет!J1632,0)","v":0},{"$f":"IF(AND(Расчет!A1632<2000,Расчет!B1632<2000),Расчет!J1632,0)","v":0},null,null,{"$f":"IF(OR(Расчет!A1632>=2000,Расчет!B1632>=2000),Расчет!M1632,0)","v":0},{"$f":"IF(AND(Расчет!A1632<2000,Расчет!B1632<2000),Расчет!M1632,0)","v":0}]
[{"$f":"IF(OR(Расчет!A1633>=2000,Расчет!B1633>=2000),Расчет!G1633,0)","v":0},{"$f":"IF(AND(Расчет!A1633<2000,Расчет!B1633<2000),Расчет!G1633,0)","v":0},null,null,{"$f":"IF(OR(Расчет!A1633>=2000,Расчет!B1633>=2000),Расчет!J1633,0)","v":0},{"$f":"IF(AND(Расчет!A1633<2000,Расчет!B1633<2000),Расчет!J1633,0)","v":0},null,null,{"$f":"IF(OR(Расчет!A1633>=2000,Расчет!B1633>=2000),Расчет!M1633,0)","v":0},{"$f":"IF(AND(Расчет!A1633<2000,Расчет!B1633<2000),Расчет!M1633,0)","v":0}]
[{"$f":"IF(OR(Расчет!A1634>=2000,Расчет!B1634>=2000),Расчет!G1634,0)","v":0},{"$f":"IF(AND(Расчет!A1634<2000,Расчет!B1634<2000),Расчет!G1634,0)","v":0},null,null,{"$f":"IF(OR(Расчет!A1634>=2000,Расчет!B1634>=2000),Расчет!J1634,0)","v":0},{"$f":"IF(AND(Расчет!A1634<2000,Расчет!B1634<2000),Расчет!J1634,0)","v":0},null,null,{"$f":"IF(OR(Расчет!A1634>=2000,Расчет!B1634>=2000),Расчет!M1634,0)","v":0},{"$f":"IF(AND(Расчет!A1634<2000,Расчет!B1634<2000),Расчет!M1634,0)","v":0}]
[{"$f":"IF(OR(Расчет!A1635>=2000,Расчет!B1635>=2000),Расчет!G1635,0)","v":0},{"$f":"IF(AND(Расчет!A1635<2000,Расчет!B1635<2000),Расчет!G1635,0)","v":0},null,null,{"$f":"IF(OR(Расчет!A1635>=2000,Расчет!B1635>=2000),Расчет!J1635,0)","v":0},{"$f":"IF(AND(Расчет!A1635<2000,Расчет!B1635<2000),Расчет!J1635,0)","v":0},null,null,{"$f":"IF(OR(Расчет!A1635>=2000,Расчет!B1635>=2000),Расчет!M1635,0)","v":0},{"$f":"IF(AND(Расчет!A1635<2000,Расчет!B1635<2000),Расчет!M1635,0)","v":0}]
[{"$f":"IF(OR(Расчет!A1636>=2000,Расчет!B1636>=2000),Расчет!G1636,0)","v":0},{"$f":"IF(AND(Расчет!A1636<2000,Расчет!B1636<2000),Расчет!G1636,0)","v":0},null,null,{"$f":"IF(OR(Расчет!A1636>=2000,Расчет!B1636>=2000),Расчет!J1636,0)","v":0},{"$f":"IF(AND(Расчет!A1636<2000,Расчет!B1636<2000),Расчет!J1636,0)","v":0},null,null,{"$f":"IF(OR(Расчет!A1636>=2000,Расчет!B1636>=2000),Расчет!M1636,0)","v":0},{"$f":"IF(AND(Расчет!A1636<2000,Расчет!B1636<2000),Расчет!M1636,0)","v":0}]
[{"$f":"IF(OR(Расчет!A1637>=2000,Расчет!B1637>=2000),Расчет!G1637,0)","v":0},{"$f":"IF(AND(Расчет!A1637<2000,Расчет!B1637<2000),Расчет!G1637,0)","v":0},null,null,{"$f":"IF(OR(Расчет!A1637>=2000,Расчет!B1637>=2000),Расчет!J1637,0)","v":0},{"$f":"IF(AND(Расчет!A1637<2000,Расчет!B1637<2000),Расчет!J1637,0)","v":0},null,null,{"$f":"IF(OR(Расчет!A1637>=2000,Расчет!B1637>=2000),Расчет!M1637,0)","v":0},{"$f":"IF(AND(Расчет!A1637<2000,Расчет!B1637<2000),Расчет!M1637,0)","v":0}]
[{"$f":"IF(OR(Расчет!A1638>=2000,Расчет!B1638>=2000),Расчет!G1638,0)","v":0},{"$f":"IF(AND(Расчет!A1638<2000,Расчет!B1638<2000),Расчет!G1638,0)","v":0},null,null,{"$f":"IF(OR(Расчет!A1638>=2000,Расчет!B1638>=2000),Расчет!J1638,0)","v":0},{"$f":"IF(AND(Расчет!A1638<2000,Расчет!B1638<2000),Расчет!J1638,0)","v":0},null,null,{"$f":"IF(OR(Расчет!A1638>=2000,Расчет!B1638>=2000),Расчет!M1638,0)","v":0},{"$f":"IF(AND(Расчет!A1638<2000,Расчет!B1638<2000),Расчет!M1638,0)","v":0}]
[{"$f":"IF(OR(Расчет!A1639>=2000,Расчет!B1639>=2000),Расчет!G1639,0)","v":0},{"$f":"IF(AND(Расчет!A1639<2000,Расчет!B1639<2000),Расчет!G1639,0)","v":0},null,null,{"$f":"IF(OR(Расчет!A1639>=2000,Расчет!B1639>=2000),Расчет!J1639,0)","v":0},{"$f":"IF(AND(Расчет!A1639<2000,Расчет!B1639<2000),Расчет!J1639,0)","v":0},null,null,{"$f":"IF(OR(Расчет!A1639>=2000,Расчет!B1639>=2000),Расчет!M1639,0)","v":0},{"$f":"IF(AND(Расчет!A1639<2000,Расчет!B1639<2000),Расчет!M1639,0)","v":0}]
[{"$f":"IF(OR(Расчет!A1640>=2000,Расчет!B1640>=2000),Расчет!G1640,0)","v":0},{"$f":"IF(AND(Расчет!A1640<2000,Расчет!B1640<2000),Расчет!G1640,0)","v":0},null,null,{"$f":"IF(OR(Расчет!A1640>=2000,Расчет!B1640>=2000),Расчет!J1640,0)","v":0},{"$f":"IF(AND(Расчет!A1640<2000,Расчет!B1640<2000),Расчет!J1640,0)","v":0},null,null,{"$f":"IF(OR(Расчет!A1640>=2000,Расчет!B1640>=2000),Расчет!M1640,0)","v":0},{"$f":"IF(AND(Расчет!A1640<2000,Расчет!B1640<2000),Расчет!M1640,0)","v":0}]
[{"$f":"IF(OR(Расчет!A1641>=2000,Расчет!B1641>=2000),Расчет!G1641,0)","v":0},{"$f":"IF(AND(Расчет!A1641<2000,Расчет!B1641<2000),Расчет!G1641,0)","v":0},null,null,{"$f":"IF(OR(Расчет!A1641>=2000,Расчет!B1641>=2000),Расчет!J1641,0)","v":0},{"$f":"IF(AND(Расчет!A1641<2000,Расчет!B1641<2000),Расчет!J1641,0)","v":0},null,null,{"$f":"IF(OR(Расчет!A1641>=2000,Расчет!B1641>=2000),Расчет!M1641,0)","v":0},{"$f":"IF(AND(Расчет!A1641<2000,Расчет!B1641<2000),Расчет!M1641,0)","v":0}]
[{"$f":"IF(OR(Расчет!A1642>=2000,Расчет!B1642>=2000),Расчет!G1642,0)","v":0},{"$f":"IF(AND(Расчет!A1642<2000,Расчет!B1642<2000),Расчет!G1642,0)","v":0},null,null,{"$f":"IF(OR(Расчет!A1642>=2000,Расчет!B1642>=2000),Расчет!J1642,0)","v":0},{"$f":"IF(AND(Расчет!A1642<2000,Расчет!B1642<2000),Расчет!J1642,0)","v":0},null,null,{"$f":"IF(OR(Расчет!A1642>=2000,Расчет!B1642>=2000),Расчет!M1642,0)","v":0},{"$f":"IF(AND(Расчет!A1642<2000,Расчет!B1642<2000),Расчет!M1642,0)","v":0}]
[{"$f":"IF(OR(Расчет!A1643>=2000,Расчет!B1643>=2000),Расчет!G1643,0)","v":0},{"$f":"IF(AND(Расчет!A1643<2000,Расчет!B1643<2000),Расчет!G1643,0)","v":0},null,null,{"$f":"IF(OR(Расчет!A1643>=2000,Расчет!B1643>=2000),Расчет!J1643,0)","v":0},{"$f":"IF(AND(Расчет!A1643<2000,Расчет!B1643<2000),Расчет!J1643,0)","v":0},null,null,{"$f":"IF(OR(Расчет!A1643>=2000,Расчет!B1643>=2000),Расчет!M1643,0)","v":0},{"$f":"IF(AND(Расчет!A1643<2000,Расчет!B1643<2000),Расчет!M1643,0)","v":0}]
[{"$f":"IF(OR(Расчет!A1644>=2000,Расчет!B1644>=2000),Расчет!G1644,0)","v":0},{"$f":"IF(AND(Расчет!A1644<2000,Расчет!B1644<2000),Расчет!G1644,0)","v":0},null,null,{"$f":"IF(OR(Расчет!A1644>=2000,Расчет!B1644>=2000),Расчет!J1644,0)","v":0},{"$f":"IF(AND(Расчет!A1644<2000,Расчет!B1644<2000),Расчет!J1644,0)","v":0},null,null,{"$f":"IF(OR(Расчет!A1644>=2000,Расчет!B1644>=2000),Расчет!M1644,0)","v":0},{"$f":"IF(AND(Расчет!A1644<2000,Расчет!B1644<2000),Расчет!M1644,0)","v":0}]
[{"$f":"IF(OR(Расчет!A1645>=2000,Расчет!B1645>=2000),Расчет!G1645,0)","v":0},{"$f":"IF(AND(Расчет!A1645<2000,Расчет!B1645<2000),Расчет!G1645,0)","v":0},null,null,{"$f":"IF(OR(Расчет!A1645>=2000,Расчет!B1645>=2000),Расчет!J1645,0)","v":0},{"$f":"IF(AND(Расчет!A1645<2000,Расчет!B1645<2000),Расчет!J1645,0)","v":0},null,null,{"$f":"IF(OR(Расчет!A1645>=2000,Расчет!B1645>=2000),Расчет!M1645,0)","v":0},{"$f":"IF(AND(Расчет!A1645<2000,Расчет!B1645<2000),Расчет!M1645,0)","v":0}]
[{"$f":"IF(OR(Расчет!A1646>=2000,Расчет!B1646>=2000),Расчет!G1646,0)","v":0},{"$f":"IF(AND(Расчет!A1646<2000,Расчет!B1646<2000),Расчет!G1646,0)","v":0},null,null,{"$f":"IF(OR(Расчет!A1646>=2000,Расчет!B1646>=2000),Расчет!J1646,0)","v":0},{"$f":"IF(AND(Расчет!A1646<2000,Расчет!B1646<2000),Расчет!J1646,0)","v":0},null,null,{"$f":"IF(OR(Расчет!A1646>=2000,Расчет!B1646>=2000),Расчет!M1646,0)","v":0},{"$f":"IF(AND(Расчет!A1646<2000,Расчет!B1646<2000),Расчет!M1646,0)","v":0}]
[{"$f":"IF(OR(Расчет!A1647>=2000,Расчет!B1647>=2000),Расчет!G1647,0)","v":0},{"$f":"IF(AND(Расчет!A1647<2000,Расчет!B1647<2000),Расчет!G1647,0)","v":0},null,null,{"$f":"IF(OR(Расчет!A1647>=2000,Расчет!B1647>=2000),Расчет!J1647,0)","v":0},{"$f":"IF(AND(Расчет!A1647<2000,Расчет!B1647<2000),Расчет!J1647,0)","v":0},null,null,{"$f":"IF(OR(Расчет!A1647>=2000,Расчет!B1647>=2000),Расчет!M1647,0)","v":0},{"$f":"IF(AND(Расчет!A1647<2000,Расчет!B1647<2000),Расчет!M1647,0)","v":0}]
[{"$f":"IF(OR(Расчет!A1648>=2000,Расчет!B1648>=2000),Расчет!G1648,0)","v":0},{"$f":"IF(AND(Расчет!A1648<2000,Расчет!B1648<2000),Расчет!G1648,0)","v":0},null,null,{"$f":"IF(OR(Расчет!A1648>=2000,Расчет!B1648>=2000),Расчет!J1648,0)","v":0},{"$f":"IF(AND(Расчет!A1648<2000,Расчет!B1648<2000),Расчет!J1648,0)","v":0},null,null,{"$f":"IF(OR(Расчет!A1648>=2000,Расчет!B1648>=2000),Расчет!M1648,0)","v":0},{"$f":"IF(AND(Расчет!A1648<2000,Расчет!B1648<2000),Расчет!M1648,0)","v":0}]
[{"$f":"IF(OR(Расчет!A1649>=2000,Расчет!B1649>=2000),Расчет!G1649,0)","v":0},{"$f":"IF(AND(Расчет!A1649<2000,Расчет!B1649<2000),Расчет!G1649,0)","v":0},null,null,{"$f":"IF(OR(Расчет!A1649>=2000,Расчет!B1649>=2000),Расчет!J1649,0)","v":0},{"$f":"IF(AND(Расчет!A1649<2000,Расчет!B1649<2000),Расчет!J1649,0)","v":0},null,null,{"$f":"IF(OR(Расчет!A1649>=2000,Расчет!B1649>=2000),Расчет!M1649,0)","v":0},{"$f":"IF(AND(Расчет!A1649<2000,Расчет!B1649<2000),Расчет!M1649,0)","v":0}]
[{"$f":"IF(OR(Расчет!A1650>=2000,Расчет!B1650>=2000),Расчет!G1650,0)","v":0},{"$f":"IF(AND(Расчет!A1650<2000,Расчет!B1650<2000),Расчет!G1650,0)","v":0},null,null,{"$f":"IF(OR(Расчет!A1650>=2000,Расчет!B1650>=2000),Расчет!J1650,0)","v":0},{"$f":"IF(AND(Расчет!A1650<2000,Расчет!B1650<2000),Расчет!J1650,0)","v":0},null,null,{"$f":"IF(OR(Расчет!A1650>=2000,Расчет!B1650>=2000),Расчет!M1650,0)","v":0},{"$f":"IF(AND(Расчет!A1650<2000,Расчет!B1650<2000),Расчет!M1650,0)","v":0}]
[{"$f":"IF(OR(Расчет!A1651>=2000,Расчет!B1651>=2000),Расчет!G1651,0)","v":0},{"$f":"IF(AND(Расчет!A1651<2000,Расчет!B1651<2000),Расчет!G1651,0)","v":0},null,null,{"$f":"IF(OR(Расчет!A1651>=2000,Расчет!B1651>=2000),Расчет!J1651,0)","v":0},{"$f":"IF(AND(Расчет!A1651<2000,Расчет!B1651<2000),Расчет!J1651,0)","v":0},null,null,{"$f":"IF(OR(Расчет!A1651>=2000,Расчет!B1651>=2000),Расчет!M1651,0)","v":0},{"$f":"IF(AND(Расчет!A1651<2000,Расчет!B1651<2000),Расчет!M1651,0)","v":0}]
[{"$f":"IF(OR(Расчет!A1652>=2000,Расчет!B1652>=2000),Расчет!G1652,0)","v":0},{"$f":"IF(AND(Расчет!A1652<2000,Расчет!B1652<2000),Расчет!G1652,0)","v":0},null,null,{"$f":"IF(OR(Расчет!A1652>=2000,Расчет!B1652>=2000),Расчет!J1652,0)","v":0},{"$f":"IF(AND(Расчет!A1652<2000,Расчет!B1652<2000),Расчет!J1652,0)","v":0},null,null,{"$f":"IF(OR(Расчет!A1652>=2000,Расчет!B1652>=2000),Расчет!M1652,0)","v":0},{"$f":"IF(AND(Расчет!A1652<2000,Расчет!B1652<2000),Расчет!M1652,0)","v":0}]
[{"$f":"IF(OR(Расчет!A1653>=2000,Расчет!B1653>=2000),Расчет!G1653,0)","v":0},{"$f":"IF(AND(Расчет!A1653<2000,Расчет!B1653<2000),Расчет!G1653,0)","v":0},null,null,{"$f":"IF(OR(Расчет!A1653>=2000,Расчет!B1653>=2000),Расчет!J1653,0)","v":0},{"$f":"IF(AND(Расчет!A1653<2000,Расчет!B1653<2000),Расчет!J1653,0)","v":0},null,null,{"$f":"IF(OR(Расчет!A1653>=2000,Расчет!B1653>=2000),Расчет!M1653,0)","v":0},{"$f":"IF(AND(Расчет!A1653<2000,Расчет!B1653<2000),Расчет!M1653,0)","v":0}]
[{"$f":"IF(OR(Расчет!A1654>=2000,Расчет!B1654>=2000),Расчет!G1654,0)","v":0},{"$f":"IF(AND(Расчет!A1654<2000,Расчет!B1654<2000),Расчет!G1654,0)","v":0},null,null,{"$f":"IF(OR(Расчет!A1654>=2000,Расчет!B1654>=2000),Расчет!J1654,0)","v":0},{"$f":"IF(AND(Расчет!A1654<2000,Расчет!B1654<2000),Расчет!J1654,0)","v":0},null,null,{"$f":"IF(OR(Расчет!A1654>=2000,Расчет!B1654>=2000),Расчет!M1654,0)","v":0},{"$f":"IF(AND(Расчет!A1654<2000,Расчет!B1654<2000),Расчет!M1654,0)","v":0}]
[{"$f":"IF(OR(Расчет!A1655>=2000,Расчет!B1655>=2000),Расчет!G1655,0)","v":0},{"$f":"IF(AND(Расчет!A1655<2000,Расчет!B1655<2000),Расчет!G1655,0)","v":0},null,null,{"$f":"IF(OR(Расчет!A1655>=2000,Расчет!B1655>=2000),Расчет!J1655,0)","v":0},{"$f":"IF(AND(Расчет!A1655<2000,Расчет!B1655<2000),Расчет!J1655,0)","v":0},null,null,{"$f":"IF(OR(Расчет!A1655>=2000,Расчет!B1655>=2000),Расчет!M1655,0)","v":0},{"$f":"IF(AND(Расчет!A1655<2000,Расчет!B1655<2000),Расчет!M1655,0)","v":0}]
[{"$f":"IF(OR(Расчет!A1656>=2000,Расчет!B1656>=2000),Расчет!G1656,0)","v":0},{"$f":"IF(AND(Расчет!A1656<2000,Расчет!B1656<2000),Расчет!G1656,0)","v":0},null,null,{"$f":"IF(OR(Расчет!A1656>=2000,Расчет!B1656>=2000),Расчет!J1656,0)","v":0},{"$f":"IF(AND(Расчет!A1656<2000,Расчет!B1656<2000),Расчет!J1656,0)","v":0},null,null,{"$f":"IF(OR(Расчет!A1656>=2000,Расчет!B1656>=2000),Расчет!M1656,0)","v":0},{"$f":"IF(AND(Расчет!A1656<2000,Расчет!B1656<2000),Расчет!M1656,0)","v":0}]
[{"$f":"IF(OR(Расчет!A1657>=2000,Расчет!B1657>=2000),Расчет!G1657,0)","v":0},{"$f":"IF(AND(Расчет!A1657<2000,Расчет!B1657<2000),Расчет!G1657,0)","v":0},null,null,{"$f":"IF(OR(Расчет!A1657>=2000,Расчет!B1657>=2000),Расчет!J1657,0)","v":0},{"$f":"IF(AND(Расчет!A1657<2000,Расчет!B1657<2000),Расчет!J1657,0)","v":0},null,null,{"$f":"IF(OR(Расчет!A1657>=2000,Расчет!B1657>=2000),Расчет!M1657,0)","v":0},{"$f":"IF(AND(Расчет!A1657<2000,Расчет!B1657<2000),Расчет!M1657,0)","v":0}]
[{"$f":"IF(OR(Расчет!A1658>=2000,Расчет!B1658>=2000),Расчет!G1658,0)","v":0},{"$f":"IF(AND(Расчет!A1658<2000,Расчет!B1658<2000),Расчет!G1658,0)","v":0},null,null,{"$f":"IF(OR(Расчет!A1658>=2000,Расчет!B1658>=2000),Расчет!J1658,0)","v":0},{"$f":"IF(AND(Расчет!A1658<2000,Расчет!B1658<2000),Расчет!J1658,0)","v":0},null,null,{"$f":"IF(OR(Расчет!A1658>=2000,Расчет!B1658>=2000),Расчет!M1658,0)","v":0},{"$f":"IF(AND(Расчет!A1658<2000,Расчет!B1658<2000),Расчет!M1658,0)","v":0}]
[{"$f":"IF(OR(Расчет!A1659>=2000,Расчет!B1659>=2000),Расчет!G1659,0)","v":0},{"$f":"IF(AND(Расчет!A1659<2000,Расчет!B1659<2000),Расчет!G1659,0)","v":0},null,null,{"$f":"IF(OR(Расчет!A1659>=2000,Расчет!B1659>=2000),Расчет!J1659,0)","v":0},{"$f":"IF(AND(Расчет!A1659<2000,Расчет!B1659<2000),Расчет!J1659,0)","v":0},null,null,{"$f":"IF(OR(Расчет!A1659>=2000,Расчет!B1659>=2000),Расчет!M1659,0)","v":0},{"$f":"IF(AND(Расчет!A1659<2000,Расчет!B1659<2000),Расчет!M1659,0)","v":0}]
[{"$f":"IF(OR(Расчет!A1660>=2000,Расчет!B1660>=2000),Расчет!G1660,0)","v":0},{"$f":"IF(AND(Расчет!A1660<2000,Расчет!B1660<2000),Расчет!G1660,0)","v":0},null,null,{"$f":"IF(OR(Расчет!A1660>=2000,Расчет!B1660>=2000),Расчет!J1660,0)","v":0},{"$f":"IF(AND(Расчет!A1660<2000,Расчет!B1660<2000),Расчет!J1660,0)","v":0},null,null,{"$f":"IF(OR(Расчет!A1660>=2000,Расчет!B1660>=2000),Расчет!M1660,0)","v":0},{"$f":"IF(AND(Расчет!A1660<2000,Расчет!B1660<2000),Расчет!M1660,0)","v":0}]
[{"$f":"IF(OR(Расчет!A1661>=2000,Расчет!B1661>=2000),Расчет!G1661,0)","v":0},{"$f":"IF(AND(Расчет!A1661<2000,Расчет!B1661<2000),Расчет!G1661,0)","v":0},null,null,{"$f":"IF(OR(Расчет!A1661>=2000,Расчет!B1661>=2000),Расчет!J1661,0)","v":0},{"$f":"IF(AND(Расчет!A1661<2000,Расчет!B1661<2000),Расчет!J1661,0)","v":0},null,null,{"$f":"IF(OR(Расчет!A1661>=2000,Расчет!B1661>=2000),Расчет!M1661,0)","v":0},{"$f":"IF(AND(Расчет!A1661<2000,Расчет!B1661<2000),Расчет!M1661,0)","v":0}]
[{"$f":"IF(OR(Расчет!A1662>=2000,Расчет!B1662>=2000),Расчет!G1662,0)","v":0},{"$f":"IF(AND(Расчет!A1662<2000,Расчет!B1662<2000),Расчет!G1662,0)","v":0},null,null,{"$f":"IF(OR(Расчет!A1662>=2000,Расчет!B1662>=2000),Расчет!J1662,0)","v":0},{"$f":"IF(AND(Расчет!A1662<2000,Расчет!B1662<2000),Расчет!J1662,0)","v":0},null,null,{"$f":"IF(OR(Расчет!A1662>=2000,Расчет!B1662>=2000),Расчет!M1662,0)","v":0},{"$f":"IF(AND(Расчет!A1662<2000,Расчет!B1662<2000),Расчет!M1662,0)","v":0}]
[{"$f":"IF(OR(Расчет!A1663>=2000,Расчет!B1663>=2000),Расчет!G1663,0)","v":0},{"$f":"IF(AND(Расчет!A1663<2000,Расчет!B1663<2000),Расчет!G1663,0)","v":0},null,null,{"$f":"IF(OR(Расчет!A1663>=2000,Расчет!B1663>=2000),Расчет!J1663,0)","v":0},{"$f":"IF(AND(Расчет!A1663<2000,Расчет!B1663<2000),Расчет!J1663,0)","v":0},null,null,{"$f":"IF(OR(Расчет!A1663>=2000,Расчет!B1663>=2000),Расчет!M1663,0)","v":0},{"$f":"IF(AND(Расчет!A1663<2000,Расчет!B1663<2000),Расчет!M1663,0)","v":0}]
[{"$f":"IF(OR(Расчет!A1664>=2000,Расчет!B1664>=2000),Расчет!G1664,0)","v":0},{"$f":"IF(AND(Расчет!A1664<2000,Расчет!B1664<2000),Расчет!G1664,0)","v":0},null,null,{"$f":"IF(OR(Расчет!A1664>=2000,Расчет!B1664>=2000),Расчет!J1664,0)","v":0},{"$f":"IF(AND(Расчет!A1664<2000,Расчет!B1664<2000),Расчет!J1664,0)","v":0},null,null,{"$f":"IF(OR(Расчет!A1664>=2000,Расчет!B1664>=2000),Расчет!M1664,0)","v":0},{"$f":"IF(AND(Расчет!A1664<2000,Расчет!B1664<2000),Расчет!M1664,0)","v":0}]
[{"$f":"IF(OR(Расчет!A1665>=2000,Расчет!B1665>=2000),Расчет!G1665,0)","v":0},{"$f":"IF(AND(Расчет!A1665<2000,Расчет!B1665<2000),Расчет!G1665,0)","v":0},null,null,{"$f":"IF(OR(Расчет!A1665>=2000,Расчет!B1665>=2000),Расчет!J1665,0)","v":0},{"$f":"IF(AND(Расчет!A1665<2000,Расчет!B1665<2000),Расчет!J1665,0)","v":0},null,null,{"$f":"IF(OR(Расчет!A1665>=2000,Расчет!B1665>=2000),Расчет!M1665,0)","v":0},{"$f":"IF(AND(Расчет!A1665<2000,Расчет!B1665<2000),Расчет!M1665,0)","v":0}]
[{"$f":"IF(OR(Расчет!A1666>=2000,Расчет!B1666>=2000),Расчет!G1666,0)","v":0},{"$f":"IF(AND(Расчет!A1666<2000,Расчет!B1666<2000),Расчет!G1666,0)","v":0},null,null,{"$f":"IF(OR(Расчет!A1666>=2000,Расчет!B1666>=2000),Расчет!J1666,0)","v":0},{"$f":"IF(AND(Расчет!A1666<2000,Расчет!B1666<2000),Расчет!J1666,0)","v":0},null,null,{"$f":"IF(OR(Расчет!A1666>=2000,Расчет!B1666>=2000),Расчет!M1666,0)","v":0},{"$f":"IF(AND(Расчет!A1666<2000,Расчет!B1666<2000),Расчет!M1666,0)","v":0}]
[{"$f":"IF(OR(Расчет!A1667>=2000,Расчет!B1667>=2000),Расчет!G1667,0)","v":0},{"$f":"IF(AND(Расчет!A1667<2000,Расчет!B1667<2000),Расчет!G1667,0)","v":0},null,null,{"$f":"IF(OR(Расчет!A1667>=2000,Расчет!B1667>=2000),Расчет!J1667,0)","v":0},{"$f":"IF(AND(Расчет!A1667<2000,Расчет!B1667<2000),Расчет!J1667,0)","v":0},null,null,{"$f":"IF(OR(Расчет!A1667>=2000,Расчет!B1667>=2000),Расчет!M1667,0)","v":0},{"$f":"IF(AND(Расчет!A1667<2000,Расчет!B1667<2000),Расчет!M1667,0)","v":0}]
[{"$f":"IF(OR(Расчет!A1668>=2000,Расчет!B1668>=2000),Расчет!G1668,0)","v":0},{"$f":"IF(AND(Расчет!A1668<2000,Расчет!B1668<2000),Расчет!G1668,0)","v":0},null,null,{"$f":"IF(OR(Расчет!A1668>=2000,Расчет!B1668>=2000),Расчет!J1668,0)","v":0},{"$f":"IF(AND(Расчет!A1668<2000,Расчет!B1668<2000),Расчет!J1668,0)","v":0},null,null,{"$f":"IF(OR(Расчет!A1668>=2000,Расчет!B1668>=2000),Расчет!M1668,0)","v":0},{"$f":"IF(AND(Расчет!A1668<2000,Расчет!B1668<2000),Расчет!M1668,0)","v":0}]
[{"$f":"IF(OR(Расчет!A1669>=2000,Расчет!B1669>=2000),Расчет!G1669,0)","v":0},{"$f":"IF(AND(Расчет!A1669<2000,Расчет!B1669<2000),Расчет!G1669,0)","v":0},null,null,{"$f":"IF(OR(Расчет!A1669>=2000,Расчет!B1669>=2000),Расчет!J1669,0)","v":0},{"$f":"IF(AND(Расчет!A1669<2000,Расчет!B1669<2000),Расчет!J1669,0)","v":0},null,null,{"$f":"IF(OR(Расчет!A1669>=2000,Расчет!B1669>=2000),Расчет!M1669,0)","v":0},{"$f":"IF(AND(Расчет!A1669<2000,Расчет!B1669<2000),Расчет!M1669,0)","v":0}]
[{"$f":"IF(OR(Расчет!A1670>=2000,Расчет!B1670>=2000),Расчет!G1670,0)","v":0},{"$f":"IF(AND(Расчет!A1670<2000,Расчет!B1670<2000),Расчет!G1670,0)","v":0},null,null,{"$f":"IF(OR(Расчет!A1670>=2000,Расчет!B1670>=2000),Расчет!J1670,0)","v":0},{"$f":"IF(AND(Расчет!A1670<2000,Расчет!B1670<2000),Расчет!J1670,0)","v":0},null,null,{"$f":"IF(OR(Расчет!A1670>=2000,Расчет!B1670>=2000),Расчет!M1670,0)","v":0},{"$f":"IF(AND(Расчет!A1670<2000,Расчет!B1670<2000),Расчет!M1670,0)","v":0}]
[{"$f":"IF(OR(Расчет!A1671>=2000,Расчет!B1671>=2000),Расчет!G1671,0)","v":0},{"$f":"IF(AND(Расчет!A1671<2000,Расчет!B1671<2000),Расчет!G1671,0)","v":0},null,null,{"$f":"IF(OR(Расчет!A1671>=2000,Расчет!B1671>=2000),Расчет!J1671,0)","v":0},{"$f":"IF(AND(Расчет!A1671<2000,Расчет!B1671<2000),Расчет!J1671,0)","v":0},null,null,{"$f":"IF(OR(Расчет!A1671>=2000,Расчет!B1671>=2000),Расчет!M1671,0)","v":0},{"$f":"IF(AND(Расчет!A1671<2000,Расчет!B1671<2000),Расчет!M1671,0)","v":0}]
[{"$f":"IF(OR(Расчет!A1672>=2000,Расчет!B1672>=2000),Расчет!G1672,0)","v":0},{"$f":"IF(AND(Расчет!A1672<2000,Расчет!B1672<2000),Расчет!G1672,0)","v":0},null,null,{"$f":"IF(OR(Расчет!A1672>=2000,Расчет!B1672>=2000),Расчет!J1672,0)","v":0},{"$f":"IF(AND(Расчет!A1672<2000,Расчет!B1672<2000),Расчет!J1672,0)","v":0},null,null,{"$f":"IF(OR(Расчет!A1672>=2000,Расчет!B1672>=2000),Расчет!M1672,0)","v":0},{"$f":"IF(AND(Расчет!A1672<2000,Расчет!B1672<2000),Расчет!M1672,0)","v":0}]
[{"$f":"IF(OR(Расчет!A1673>=2000,Расчет!B1673>=2000),Расчет!G1673,0)","v":0},{"$f":"IF(AND(Расчет!A1673<2000,Расчет!B1673<2000),Расчет!G1673,0)","v":0},null,null,{"$f":"IF(OR(Расчет!A1673>=2000,Расчет!B1673>=2000),Расчет!J1673,0)","v":0},{"$f":"IF(AND(Расчет!A1673<2000,Расчет!B1673<2000),Расчет!J1673,0)","v":0},null,null,{"$f":"IF(OR(Расчет!A1673>=2000,Расчет!B1673>=2000),Расчет!M1673,0)","v":0},{"$f":"IF(AND(Расчет!A1673<2000,Расчет!B1673<2000),Расчет!M1673,0)","v":0}]
[{"$f":"IF(OR(Расчет!A1674>=2000,Расчет!B1674>=2000),Расчет!G1674,0)","v":0},{"$f":"IF(AND(Расчет!A1674<2000,Расчет!B1674<2000),Расчет!G1674,0)","v":0},null,null,{"$f":"IF(OR(Расчет!A1674>=2000,Расчет!B1674>=2000),Расчет!J1674,0)","v":0},{"$f":"IF(AND(Расчет!A1674<2000,Расчет!B1674<2000),Расчет!J1674,0)","v":0},null,null,{"$f":"IF(OR(Расчет!A1674>=2000,Расчет!B1674>=2000),Расчет!M1674,0)","v":0},{"$f":"IF(AND(Расчет!A1674<2000,Расчет!B1674<2000),Расчет!M1674,0)","v":0}]
[{"$f":"IF(OR(Расчет!A1675>=2000,Расчет!B1675>=2000),Расчет!G1675,0)","v":0},{"$f":"IF(AND(Расчет!A1675<2000,Расчет!B1675<2000),Расчет!G1675,0)","v":0},null,null,{"$f":"IF(OR(Расчет!A1675>=2000,Расчет!B1675>=2000),Расчет!J1675,0)","v":0},{"$f":"IF(AND(Расчет!A1675<2000,Расчет!B1675<2000),Расчет!J1675,0)","v":0},null,null,{"$f":"IF(OR(Расчет!A1675>=2000,Расчет!B1675>=2000),Расчет!M1675,0)","v":0},{"$f":"IF(AND(Расчет!A1675<2000,Расчет!B1675<2000),Расчет!M1675,0)","v":0}]
[{"$f":"IF(OR(Расчет!A1676>=2000,Расчет!B1676>=2000),Расчет!G1676,0)","v":0},{"$f":"IF(AND(Расчет!A1676<2000,Расчет!B1676<2000),Расчет!G1676,0)","v":0},null,null,{"$f":"IF(OR(Расчет!A1676>=2000,Расчет!B1676>=2000),Расчет!J1676,0)","v":0},{"$f":"IF(AND(Расчет!A1676<2000,Расчет!B1676<2000),Расчет!J1676,0)","v":0},null,null,{"$f":"IF(OR(Расчет!A1676>=2000,Расчет!B1676>=2000),Расчет!M1676,0)","v":0},{"$f":"IF(AND(Расчет!A1676<2000,Расчет!B1676<2000),Расчет!M1676,0)","v":0}]
[{"$f":"IF(OR(Расчет!A1677>=2000,Расчет!B1677>=2000),Расчет!G1677,0)","v":0},{"$f":"IF(AND(Расчет!A1677<2000,Расчет!B1677<2000),Расчет!G1677,0)","v":0},null,null,{"$f":"IF(OR(Расчет!A1677>=2000,Расчет!B1677>=2000),Расчет!J1677,0)","v":0},{"$f":"IF(AND(Расчет!A1677<2000,Расчет!B1677<2000),Расчет!J1677,0)","v":0},null,null,{"$f":"IF(OR(Расчет!A1677>=2000,Расчет!B1677>=2000),Расчет!M1677,0)","v":0},{"$f":"IF(AND(Расчет!A1677<2000,Расчет!B1677<2000),Расчет!M1677,0)","v":0}]
[{"$f":"IF(OR(Расчет!A1678>=2000,Расчет!B1678>=2000),Расчет!G1678,0)","v":0},{"$f":"IF(AND(Расчет!A1678<2000,Расчет!B1678<2000),Расчет!G1678,0)","v":0},null,null,{"$f":"IF(OR(Расчет!A1678>=2000,Расчет!B1678>=2000),Расчет!J1678,0)","v":0},{"$f":"IF(AND(Расчет!A1678<2000,Расчет!B1678<2000),Расчет!J1678,0)","v":0},null,null,{"$f":"IF(OR(Расчет!A1678>=2000,Расчет!B1678>=2000),Расчет!M1678,0)","v":0},{"$f":"IF(AND(Расчет!A1678<2000,Расчет!B1678<2000),Расчет!M1678,0)","v":0}]
[{"$f":"IF(OR(Расчет!A1679>=2000,Расчет!B1679>=2000),Расчет!G1679,0)","v":0},{"$f":"IF(AND(Расчет!A1679<2000,Расчет!B1679<2000),Расчет!G1679,0)","v":0},null,null,{"$f":"IF(OR(Расчет!A1679>=2000,Расчет!B1679>=2000),Расчет!J1679,0)","v":0},{"$f":"IF(AND(Расчет!A1679<2000,Расчет!B1679<2000),Расчет!J1679,0)","v":0},null,null,{"$f":"IF(OR(Расчет!A1679>=2000,Расчет!B1679>=2000),Расчет!M1679,0)","v":0},{"$f":"IF(AND(Расчет!A1679<2000,Расчет!B1679<2000),Расчет!M1679,0)","v":0}]
[{"$f":"IF(OR(Расчет!A1680>=2000,Расчет!B1680>=2000),Расчет!G1680,0)","v":0},{"$f":"IF(AND(Расчет!A1680<2000,Расчет!B1680<2000),Расчет!G1680,0)","v":0},null,null,{"$f":"IF(OR(Расчет!A1680>=2000,Расчет!B1680>=2000),Расчет!J1680,0)","v":0},{"$f":"IF(AND(Расчет!A1680<2000,Расчет!B1680<2000),Расчет!J1680,0)","v":0},null,null,{"$f":"IF(OR(Расчет!A1680>=2000,Расчет!B1680>=2000),Расчет!M1680,0)","v":0},{"$f":"IF(AND(Расчет!A1680<2000,Расчет!B1680<2000),Расчет!M1680,0)","v":0}]
[{"$f":"IF(OR(Расчет!A1681>=2000,Расчет!B1681>=2000),Расчет!G1681,0)","v":0},{"$f":"IF(AND(Расчет!A1681<2000,Расчет!B1681<2000),Расчет!G1681,0)","v":0},null,null,{"$f":"IF(OR(Расчет!A1681>=2000,Расчет!B1681>=2000),Расчет!J1681,0)","v":0},{"$f":"IF(AND(Расчет!A1681<2000,Расчет!B1681<2000),Расчет!J1681,0)","v":0},null,null,{"$f":"IF(OR(Расчет!A1681>=2000,Расчет!B1681>=2000),Расчет!M1681,0)","v":0},{"$f":"IF(AND(Расчет!A1681<2000,Расчет!B1681<2000),Расчет!M1681,0)","v":0}]
[{"$f":"IF(OR(Расчет!A1682>=2000,Расчет!B1682>=2000),Расчет!G1682,0)","v":0},{"$f":"IF(AND(Расчет!A1682<2000,Расчет!B1682<2000),Расчет!G1682,0)","v":0},null,null,{"$f":"IF(OR(Расчет!A1682>=2000,Расчет!B1682>=2000),Расчет!J1682,0)","v":0},{"$f":"IF(AND(Расчет!A1682<2000,Расчет!B1682<2000),Расчет!J1682,0)","v":0},null,null,{"$f":"IF(OR(Расчет!A1682>=2000,Расчет!B1682>=2000),Расчет!M1682,0)","v":0},{"$f":"IF(AND(Расчет!A1682<2000,Расчет!B1682<2000),Расчет!M1682,0)","v":0}]
[{"$f":"IF(OR(Расчет!A1683>=2000,Расчет!B1683>=2000),Расчет!G1683,0)","v":0},{"$f":"IF(AND(Расчет!A1683<2000,Расчет!B1683<2000),Расчет!G1683,0)","v":0},null,null,{"$f":"IF(OR(Расчет!A1683>=2000,Расчет!B1683>=2000),Расчет!J1683,0)","v":0},{"$f":"IF(AND(Расчет!A1683<2000,Расчет!B1683<2000),Расчет!J1683,0)","v":0},null,null,{"$f":"IF(OR(Расчет!A1683>=2000,Расчет!B1683>=2000),Расчет!M1683,0)","v":0},{"$f":"IF(AND(Расчет!A1683<2000,Расчет!B1683<2000),Расчет!M1683,0)","v":0}]
[{"$f":"IF(OR(Расчет!A1684>=2000,Расчет!B1684>=2000),Расчет!G1684,0)","v":0},{"$f":"IF(AND(Расчет!A1684<2000,Расчет!B1684<2000),Расчет!G1684,0)","v":0},null,null,{"$f":"IF(OR(Расчет!A1684>=2000,Расчет!B1684>=2000),Расчет!J1684,0)","v":0},{"$f":"IF(AND(Расчет!A1684<2000,Расчет!B1684<2000),Расчет!J1684,0)","v":0},null,null,{"$f":"IF(OR(Расчет!A1684>=2000,Расчет!B1684>=2000),Расчет!M1684,0)","v":0},{"$f":"IF(AND(Расчет!A1684<2000,Расчет!B1684<2000),Расчет!M1684,0)","v":0}]
[{"$f":"IF(OR(Расчет!A1685>=2000,Расчет!B1685>=2000),Расчет!G1685,0)","v":0},{"$f":"IF(AND(Расчет!A1685<2000,Расчет!B1685<2000),Расчет!G1685,0)","v":0},null,null,{"$f":"IF(OR(Расчет!A1685>=2000,Расчет!B1685>=2000),Расчет!J1685,0)","v":0},{"$f":"IF(AND(Расчет!A1685<2000,Расчет!B1685<2000),Расчет!J1685,0)","v":0},null,null,{"$f":"IF(OR(Расчет!A1685>=2000,Расчет!B1685>=2000),Расчет!M1685,0)","v":0},{"$f":"IF(AND(Расчет!A1685<2000,Расчет!B1685<2000),Расчет!M1685,0)","v":0}]
[{"$f":"IF(OR(Расчет!A1686>=2000,Расчет!B1686>=2000),Расчет!G1686,0)","v":0},{"$f":"IF(AND(Расчет!A1686<2000,Расчет!B1686<2000),Расчет!G1686,0)","v":0},null,null,{"$f":"IF(OR(Расчет!A1686>=2000,Расчет!B1686>=2000),Расчет!J1686,0)","v":0},{"$f":"IF(AND(Расчет!A1686<2000,Расчет!B1686<2000),Расчет!J1686,0)","v":0},null,null,{"$f":"IF(OR(Расчет!A1686>=2000,Расчет!B1686>=2000),Расчет!M1686,0)","v":0},{"$f":"IF(AND(Расчет!A1686<2000,Расчет!B1686<2000),Расчет!M1686,0)","v":0}]
[{"$f":"IF(OR(Расчет!A1687>=2000,Расчет!B1687>=2000),Расчет!G1687,0)","v":0},{"$f":"IF(AND(Расчет!A1687<2000,Расчет!B1687<2000),Расчет!G1687,0)","v":0},null,null,{"$f":"IF(OR(Расчет!A1687>=2000,Расчет!B1687>=2000),Расчет!J1687,0)","v":0},{"$f":"IF(AND(Расчет!A1687<2000,Расчет!B1687<2000),Расчет!J1687,0)","v":0},null,null,{"$f":"IF(OR(Расчет!A1687>=2000,Расчет!B1687>=2000),Расчет!M1687,0)","v":0},{"$f":"IF(AND(Расчет!A1687<2000,Расчет!B1687<2000),Расчет!M1687,0)","v":0}]
[{"$f":"IF(OR(Расчет!A1688>=2000,Расчет!B1688>=2000),Расчет!G1688,0)","v":0},{"$f":"IF(AND(Расчет!A1688<2000,Расчет!B1688<2000),Расчет!G1688,0)","v":0},null,null,{"$f":"IF(OR(Расчет!A1688>=2000,Расчет!B1688>=2000),Расчет!J1688,0)","v":0},{"$f":"IF(AND(Расчет!A1688<2000,Расчет!B1688<2000),Расчет!J1688,0)","v":0},null,null,{"$f":"IF(OR(Расчет!A1688>=2000,Расчет!B1688>=2000),Расчет!M1688,0)","v":0},{"$f":"IF(AND(Расчет!A1688<2000,Расчет!B1688<2000),Расчет!M1688,0)","v":0}]
[{"$f":"IF(OR(Расчет!A1689>=2000,Расчет!B1689>=2000),Расчет!G1689,0)","v":0},{"$f":"IF(AND(Расчет!A1689<2000,Расчет!B1689<2000),Расчет!G1689,0)","v":0},null,null,{"$f":"IF(OR(Расчет!A1689>=2000,Расчет!B1689>=2000),Расчет!J1689,0)","v":0},{"$f":"IF(AND(Расчет!A1689<2000,Расчет!B1689<2000),Расчет!J1689,0)","v":0},null,null,{"$f":"IF(OR(Расчет!A1689>=2000,Расчет!B1689>=2000),Расчет!M1689,0)","v":0},{"$f":"IF(AND(Расчет!A1689<2000,Расчет!B1689<2000),Расчет!M1689,0)","v":0}]
[{"$f":"IF(OR(Расчет!A1690>=2000,Расчет!B1690>=2000),Расчет!G1690,0)","v":0},{"$f":"IF(AND(Расчет!A1690<2000,Расчет!B1690<2000),Расчет!G1690,0)","v":0},null,null,{"$f":"IF(OR(Расчет!A1690>=2000,Расчет!B1690>=2000),Расчет!J1690,0)","v":0},{"$f":"IF(AND(Расчет!A1690<2000,Расчет!B1690<2000),Расчет!J1690,0)","v":0},null,null,{"$f":"IF(OR(Расчет!A1690>=2000,Расчет!B1690>=2000),Расчет!M1690,0)","v":0},{"$f":"IF(AND(Расчет!A1690<2000,Расчет!B1690<2000),Расчет!M1690,0)","v":0}]
[{"$f":"IF(OR(Расчет!A1691>=2000,Расчет!B1691>=2000),Расчет!G1691,0)","v":0},{"$f":"IF(AND(Расчет!A1691<2000,Расчет!B1691<2000),Расчет!G1691,0)","v":0},null,null,{"$f":"IF(OR(Расчет!A1691>=2000,Расчет!B1691>=2000),Расчет!J1691,0)","v":0},{"$f":"IF(AND(Расчет!A1691<2000,Расчет!B1691<2000),Расчет!J1691,0)","v":0},null,null,{"$f":"IF(OR(Расчет!A1691>=2000,Расчет!B1691>=2000),Расчет!M1691,0)","v":0},{"$f":"IF(AND(Расчет!A1691<2000,Расчет!B1691<2000),Расчет!M1691,0)","v":0}]
[{"$f":"IF(OR(Расчет!A1692>=2000,Расчет!B1692>=2000),Расчет!G1692,0)","v":0},{"$f":"IF(AND(Расчет!A1692<2000,Расчет!B1692<2000),Расчет!G1692,0)","v":0},null,null,{"$f":"IF(OR(Расчет!A1692>=2000,Расчет!B1692>=2000),Расчет!J1692,0)","v":0},{"$f":"IF(AND(Расчет!A1692<2000,Расчет!B1692<2000),Расчет!J1692,0)","v":0},null,null,{"$f":"IF(OR(Расчет!A1692>=2000,Расчет!B1692>=2000),Расчет!M1692,0)","v":0},{"$f":"IF(AND(Расчет!A1692<2000,Расчет!B1692<2000),Расчет!M1692,0)","v":0}]
[{"$f":"IF(OR(Расчет!A1693>=2000,Расчет!B1693>=2000),Расчет!G1693,0)","v":0},{"$f":"IF(AND(Расчет!A1693<2000,Расчет!B1693<2000),Расчет!G1693,0)","v":0},null,null,{"$f":"IF(OR(Расчет!A1693>=2000,Расчет!B1693>=2000),Расчет!J1693,0)","v":0},{"$f":"IF(AND(Расчет!A1693<2000,Расчет!B1693<2000),Расчет!J1693,0)","v":0},null,null,{"$f":"IF(OR(Расчет!A1693>=2000,Расчет!B1693>=2000),Расчет!M1693,0)","v":0},{"$f":"IF(AND(Расчет!A1693<2000,Расчет!B1693<2000),Расчет!M1693,0)","v":0}]
[{"$f":"IF(OR(Расчет!A1694>=2000,Расчет!B1694>=2000),Расчет!G1694,0)","v":0},{"$f":"IF(AND(Расчет!A1694<2000,Расчет!B1694<2000),Расчет!G1694,0)","v":0},null,null,{"$f":"IF(OR(Расчет!A1694>=2000,Расчет!B1694>=2000),Расчет!J1694,0)","v":0},{"$f":"IF(AND(Расчет!A1694<2000,Расчет!B1694<2000),Расчет!J1694,0)","v":0},null,null,{"$f":"IF(OR(Расчет!A1694>=2000,Расчет!B1694>=2000),Расчет!M1694,0)","v":0},{"$f":"IF(AND(Расчет!A1694<2000,Расчет!B1694<2000),Расчет!M1694,0)","v":0}]
[{"$f":"IF(OR(Расчет!A1695>=2000,Расчет!B1695>=2000),Расчет!G1695,0)","v":0},{"$f":"IF(AND(Расчет!A1695<2000,Расчет!B1695<2000),Расчет!G1695,0)","v":0},null,null,{"$f":"IF(OR(Расчет!A1695>=2000,Расчет!B1695>=2000),Расчет!J1695,0)","v":0},{"$f":"IF(AND(Расчет!A1695<2000,Расчет!B1695<2000),Расчет!J1695,0)","v":0},null,null,{"$f":"IF(OR(Расчет!A1695>=2000,Расчет!B1695>=2000),Расчет!M1695,0)","v":0},{"$f":"IF(AND(Расчет!A1695<2000,Расчет!B1695<2000),Расчет!M1695,0)","v":0}]
[{"$f":"IF(OR(Расчет!A1696>=2000,Расчет!B1696>=2000),Расчет!G1696,0)","v":0},{"$f":"IF(AND(Расчет!A1696<2000,Расчет!B1696<2000),Расчет!G1696,0)","v":0},null,null,{"$f":"IF(OR(Расчет!A1696>=2000,Расчет!B1696>=2000),Расчет!J1696,0)","v":0},{"$f":"IF(AND(Расчет!A1696<2000,Расчет!B1696<2000),Расчет!J1696,0)","v":0},null,null,{"$f":"IF(OR(Расчет!A1696>=2000,Расчет!B1696>=2000),Расчет!M1696,0)","v":0},{"$f":"IF(AND(Расчет!A1696<2000,Расчет!B1696<2000),Расчет!M1696,0)","v":0}]
[{"$f":"IF(OR(Расчет!A1697>=2000,Расчет!B1697>=2000),Расчет!G1697,0)","v":0},{"$f":"IF(AND(Расчет!A1697<2000,Расчет!B1697<2000),Расчет!G1697,0)","v":0},null,null,{"$f":"IF(OR(Расчет!A1697>=2000,Расчет!B1697>=2000),Расчет!J1697,0)","v":0},{"$f":"IF(AND(Расчет!A1697<2000,Расчет!B1697<2000),Расчет!J1697,0)","v":0},null,null,{"$f":"IF(OR(Расчет!A1697>=2000,Расчет!B1697>=2000),Расчет!M1697,0)","v":0},{"$f":"IF(AND(Расчет!A1697<2000,Расчет!B1697<2000),Расчет!M1697,0)","v":0}]
[{"$f":"IF(OR(Расчет!A1698>=2000,Расчет!B1698>=2000),Расчет!G1698,0)","v":0},{"$f":"IF(AND(Расчет!A1698<2000,Расчет!B1698<2000),Расчет!G1698,0)","v":0},null,null,{"$f":"IF(OR(Расчет!A1698>=2000,Расчет!B1698>=2000),Расчет!J1698,0)","v":0},{"$f":"IF(AND(Расчет!A1698<2000,Расчет!B1698<2000),Расчет!J1698,0)","v":0},null,null,{"$f":"IF(OR(Расчет!A1698>=2000,Расчет!B1698>=2000),Расчет!M1698,0)","v":0},{"$f":"IF(AND(Расчет!A1698<2000,Расчет!B1698<2000),Расчет!M1698,0)","v":0}]
[{"$f":"IF(OR(Расчет!A1699>=2000,Расчет!B1699>=2000),Расчет!G1699,0)","v":0},{"$f":"IF(AND(Расчет!A1699<2000,Расчет!B1699<2000),Расчет!G1699,0)","v":0},null,null,{"$f":"IF(OR(Расчет!A1699>=2000,Расчет!B1699>=2000),Расчет!J1699,0)","v":0},{"$f":"IF(AND(Расчет!A1699<2000,Расчет!B1699<2000),Расчет!J1699,0)","v":0},null,null,{"$f":"IF(OR(Расчет!A1699>=2000,Расчет!B1699>=2000),Расчет!M1699,0)","v":0},{"$f":"IF(AND(Расчет!A1699<2000,Расчет!B1699<2000),Расчет!M1699,0)","v":0}]
[{"$f":"IF(OR(Расчет!A1700>=2000,Расчет!B1700>=2000),Расчет!G1700,0)","v":0},{"$f":"IF(AND(Расчет!A1700<2000,Расчет!B1700<2000),Расчет!G1700,0)","v":0},null,null,{"$f":"IF(OR(Расчет!A1700>=2000,Расчет!B1700>=2000),Расчет!J1700,0)","v":0},{"$f":"IF(AND(Расчет!A1700<2000,Расчет!B1700<2000),Расчет!J1700,0)","v":0},null,null,{"$f":"IF(OR(Расчет!A1700>=2000,Расчет!B1700>=2000),Расчет!M1700,0)","v":0},{"$f":"IF(AND(Расчет!A1700<2000,Расчет!B1700<2000),Расчет!M1700,0)","v":0}]
[{"$f":"IF(OR(Расчет!A1701>=2000,Расчет!B1701>=2000),Расчет!G1701,0)","v":0},{"$f":"IF(AND(Расчет!A1701<2000,Расчет!B1701<2000),Расчет!G1701,0)","v":0},null,null,{"$f":"IF(OR(Расчет!A1701>=2000,Расчет!B1701>=2000),Расчет!J1701,0)","v":0},{"$f":"IF(AND(Расчет!A1701<2000,Расчет!B1701<2000),Расчет!J1701,0)","v":0},null,null,{"$f":"IF(OR(Расчет!A1701>=2000,Расчет!B1701>=2000),Расчет!M1701,0)","v":0},{"$f":"IF(AND(Расчет!A1701<2000,Расчет!B1701<2000),Расчет!M1701,0)","v":0}]
[{"$f":"IF(OR(Расчет!A1702>=2000,Расчет!B1702>=2000),Расчет!G1702,0)","v":0},{"$f":"IF(AND(Расчет!A1702<2000,Расчет!B1702<2000),Расчет!G1702,0)","v":0},null,null,{"$f":"IF(OR(Расчет!A1702>=2000,Расчет!B1702>=2000),Расчет!J1702,0)","v":0},{"$f":"IF(AND(Расчет!A1702<2000,Расчет!B1702<2000),Расчет!J1702,0)","v":0},null,null,{"$f":"IF(OR(Расчет!A1702>=2000,Расчет!B1702>=2000),Расчет!M1702,0)","v":0},{"$f":"IF(AND(Расчет!A1702<2000,Расчет!B1702<2000),Расчет!M1702,0)","v":0}]
[{"$f":"IF(OR(Расчет!A1703>=2000,Расчет!B1703>=2000),Расчет!G1703,0)","v":0},{"$f":"IF(AND(Расчет!A1703<2000,Расчет!B1703<2000),Расчет!G1703,0)","v":0},null,null,{"$f":"IF(OR(Расчет!A1703>=2000,Расчет!B1703>=2000),Расчет!J1703,0)","v":0},{"$f":"IF(AND(Расчет!A1703<2000,Расчет!B1703<2000),Расчет!J1703,0)","v":0},null,null,{"$f":"IF(OR(Расчет!A1703>=2000,Расчет!B1703>=2000),Расчет!M1703,0)","v":0},{"$f":"IF(AND(Расчет!A1703<2000,Расчет!B1703<2000),Расчет!M1703,0)","v":0}]
[{"$f":"IF(OR(Расчет!A1704>=2000,Расчет!B1704>=2000),Расчет!G1704,0)","v":0},{"$f":"IF(AND(Расчет!A1704<2000,Расчет!B1704<2000),Расчет!G1704,0)","v":0},null,null,{"$f":"IF(OR(Расчет!A1704>=2000,Расчет!B1704>=2000),Расчет!J1704,0)","v":0},{"$f":"IF(AND(Расчет!A1704<2000,Расчет!B1704<2000),Расчет!J1704,0)","v":0},null,null,{"$f":"IF(OR(Расчет!A1704>=2000,Расчет!B1704>=2000),Расчет!M1704,0)","v":0},{"$f":"IF(AND(Расчет!A1704<2000,Расчет!B1704<2000),Расчет!M1704,0)","v":0}]
[{"$f":"IF(OR(Расчет!A1705>=2000,Расчет!B1705>=2000),Расчет!G1705,0)","v":0},{"$f":"IF(AND(Расчет!A1705<2000,Расчет!B1705<2000),Расчет!G1705,0)","v":0},null,null,{"$f":"IF(OR(Расчет!A1705>=2000,Расчет!B1705>=2000),Расчет!J1705,0)","v":0},{"$f":"IF(AND(Расчет!A1705<2000,Расчет!B1705<2000),Расчет!J1705,0)","v":0},null,null,{"$f":"IF(OR(Расчет!A1705>=2000,Расчет!B1705>=2000),Расчет!M1705,0)","v":0},{"$f":"IF(AND(Расчет!A1705<2000,Расчет!B1705<2000),Расчет!M1705,0)","v":0}]
[{"$f":"IF(OR(Расчет!A1706>=2000,Расчет!B1706>=2000),Расчет!G1706,0)","v":0},{"$f":"IF(AND(Расчет!A1706<2000,Расчет!B1706<2000),Расчет!G1706,0)","v":0},null,null,{"$f":"IF(OR(Расчет!A1706>=2000,Расчет!B1706>=2000),Расчет!J1706,0)","v":0},{"$f":"IF(AND(Расчет!A1706<2000,Расчет!B1706<2000),Расчет!J1706,0)","v":0},null,null,{"$f":"IF(OR(Расчет!A1706>=2000,Расчет!B1706>=2000),Расчет!M1706,0)","v":0},{"$f":"IF(AND(Расчет!A1706<2000,Расчет!B1706<2000),Расчет!M1706,0)","v":0}]
[{"$f":"IF(OR(Расчет!A1707>=2000,Расчет!B1707>=2000),Расчет!G1707,0)","v":0},{"$f":"IF(AND(Расчет!A1707<2000,Расчет!B1707<2000),Расчет!G1707,0)","v":0},null,null,{"$f":"IF(OR(Расчет!A1707>=2000,Расчет!B1707>=2000),Расчет!J1707,0)","v":0},{"$f":"IF(AND(Расчет!A1707<2000,Расчет!B1707<2000),Расчет!J1707,0)","v":0},null,null,{"$f":"IF(OR(Расчет!A1707>=2000,Расчет!B1707>=2000),Расчет!M1707,0)","v":0},{"$f":"IF(AND(Расчет!A1707<2000,Расчет!B1707<2000),Расчет!M1707,0)","v":0}]
[{"$f":"IF(OR(Расчет!A1708>=2000,Расчет!B1708>=2000),Расчет!G1708,0)","v":0},{"$f":"IF(AND(Расчет!A1708<2000,Расчет!B1708<2000),Расчет!G1708,0)","v":0},null,null,{"$f":"IF(OR(Расчет!A1708>=2000,Расчет!B1708>=2000),Расчет!J1708,0)","v":0},{"$f":"IF(AND(Расчет!A1708<2000,Расчет!B1708<2000),Расчет!J1708,0)","v":0},null,null,{"$f":"IF(OR(Расчет!A1708>=2000,Расчет!B1708>=2000),Расчет!M1708,0)","v":0},{"$f":"IF(AND(Расчет!A1708<2000,Расчет!B1708<2000),Расчет!M1708,0)","v":0}]
[{"$f":"IF(OR(Расчет!A1709>=2000,Расчет!B1709>=2000),Расчет!G1709,0)","v":0},{"$f":"IF(AND(Расчет!A1709<2000,Расчет!B1709<2000),Расчет!G1709,0)","v":0},null,null,{"$f":"IF(OR(Расчет!A1709>=2000,Расчет!B1709>=2000),Расчет!J1709,0)","v":0},{"$f":"IF(AND(Расчет!A1709<2000,Расчет!B1709<2000),Расчет!J1709,0)","v":0},null,null,{"$f":"IF(OR(Расчет!A1709>=2000,Расчет!B1709>=2000),Расчет!M1709,0)","v":0},{"$f":"IF(AND(Расчет!A1709<2000,Расчет!B1709<2000),Расчет!M1709,0)","v":0}]
[{"$f":"IF(OR(Расчет!A1710>=2000,Расчет!B1710>=2000),Расчет!G1710,0)","v":0},{"$f":"IF(AND(Расчет!A1710<2000,Расчет!B1710<2000),Расчет!G1710,0)","v":0},null,null,{"$f":"IF(OR(Расчет!A1710>=2000,Расчет!B1710>=2000),Расчет!J1710,0)","v":0},{"$f":"IF(AND(Расчет!A1710<2000,Расчет!B1710<2000),Расчет!J1710,0)","v":0},null,null,{"$f":"IF(OR(Расчет!A1710>=2000,Расчет!B1710>=2000),Расчет!M1710,0)","v":0},{"$f":"IF(AND(Расчет!A1710<2000,Расчет!B1710<2000),Расчет!M1710,0)","v":0}]
[{"$f":"IF(OR(Расчет!A1711>=2000,Расчет!B1711>=2000),Расчет!G1711,0)","v":0},{"$f":"IF(AND(Расчет!A1711<2000,Расчет!B1711<2000),Расчет!G1711,0)","v":0},null,null,{"$f":"IF(OR(Расчет!A1711>=2000,Расчет!B1711>=2000),Расчет!J1711,0)","v":0},{"$f":"IF(AND(Расчет!A1711<2000,Расчет!B1711<2000),Расчет!J1711,0)","v":0},null,null,{"$f":"IF(OR(Расчет!A1711>=2000,Расчет!B1711>=2000),Расчет!M1711,0)","v":0},{"$f":"IF(AND(Расчет!A1711<2000,Расчет!B1711<2000),Расчет!M1711,0)","v":0}]
[{"$f":"IF(OR(Расчет!A1712>=2000,Расчет!B1712>=2000),Расчет!G1712,0)","v":0},{"$f":"IF(AND(Расчет!A1712<2000,Расчет!B1712<2000),Расчет!G1712,0)","v":0},null,null,{"$f":"IF(OR(Расчет!A1712>=2000,Расчет!B1712>=2000),Расчет!J1712,0)","v":0},{"$f":"IF(AND(Расчет!A1712<2000,Расчет!B1712<2000),Расчет!J1712,0)","v":0},null,null,{"$f":"IF(OR(Расчет!A1712>=2000,Расчет!B1712>=2000),Расчет!M1712,0)","v":0},{"$f":"IF(AND(Расчет!A1712<2000,Расчет!B1712<2000),Расчет!M1712,0)","v":0}]
[{"$f":"IF(OR(Расчет!A1713>=2000,Расчет!B1713>=2000),Расчет!G1713,0)","v":0},{"$f":"IF(AND(Расчет!A1713<2000,Расчет!B1713<2000),Расчет!G1713,0)","v":0},null,null,{"$f":"IF(OR(Расчет!A1713>=2000,Расчет!B1713>=2000),Расчет!J1713,0)","v":0},{"$f":"IF(AND(Расчет!A1713<2000,Расчет!B1713<2000),Расчет!J1713,0)","v":0},null,null,{"$f":"IF(OR(Расчет!A1713>=2000,Расчет!B1713>=2000),Расчет!M1713,0)","v":0},{"$f":"IF(AND(Расчет!A1713<2000,Расчет!B1713<2000),Расчет!M1713,0)","v":0}]
[{"$f":"IF(OR(Расчет!A1714>=2000,Расчет!B1714>=2000),Расчет!G1714,0)","v":0},{"$f":"IF(AND(Расчет!A1714<2000,Расчет!B1714<2000),Расчет!G1714,0)","v":0},null,null,{"$f":"IF(OR(Расчет!A1714>=2000,Расчет!B1714>=2000),Расчет!J1714,0)","v":0},{"$f":"IF(AND(Расчет!A1714<2000,Расчет!B1714<2000),Расчет!J1714,0)","v":0},null,null,{"$f":"IF(OR(Расчет!A1714>=2000,Расчет!B1714>=2000),Расчет!M1714,0)","v":0},{"$f":"IF(AND(Расчет!A1714<2000,Расчет!B1714<2000),Расчет!M1714,0)","v":0}]
[{"$f":"IF(OR(Расчет!A1715>=2000,Расчет!B1715>=2000),Расчет!G1715,0)","v":0},{"$f":"IF(AND(Расчет!A1715<2000,Расчет!B1715<2000),Расчет!G1715,0)","v":0},null,null,{"$f":"IF(OR(Расчет!A1715>=2000,Расчет!B1715>=2000),Расчет!J1715,0)","v":0},{"$f":"IF(AND(Расчет!A1715<2000,Расчет!B1715<2000),Расчет!J1715,0)","v":0},null,null,{"$f":"IF(OR(Расчет!A1715>=2000,Расчет!B1715>=2000),Расчет!M1715,0)","v":0},{"$f":"IF(AND(Расчет!A1715<2000,Расчет!B1715<2000),Расчет!M1715,0)","v":0}]
[{"$f":"IF(OR(Расчет!A1716>=2000,Расчет!B1716>=2000),Расчет!G1716,0)","v":0},{"$f":"IF(AND(Расчет!A1716<2000,Расчет!B1716<2000),Расчет!G1716,0)","v":0},null,null,{"$f":"IF(OR(Расчет!A1716>=2000,Расчет!B1716>=2000),Расчет!J1716,0)","v":0},{"$f":"IF(AND(Расчет!A1716<2000,Расчет!B1716<2000),Расчет!J1716,0)","v":0},null,null,{"$f":"IF(OR(Расчет!A1716>=2000,Расчет!B1716>=2000),Расчет!M1716,0)","v":0},{"$f":"IF(AND(Расчет!A1716<2000,Расчет!B1716<2000),Расчет!M1716,0)","v":0}]
[{"$f":"IF(OR(Расчет!A1717>=2000,Расчет!B1717>=2000),Расчет!G1717,0)","v":0},{"$f":"IF(AND(Расчет!A1717<2000,Расчет!B1717<2000),Расчет!G1717,0)","v":0},null,null,{"$f":"IF(OR(Расчет!A1717>=2000,Расчет!B1717>=2000),Расчет!J1717,0)","v":0},{"$f":"IF(AND(Расчет!A1717<2000,Расчет!B1717<2000),Расчет!J1717,0)","v":0},null,null,{"$f":"IF(OR(Расчет!A1717>=2000,Расчет!B1717>=2000),Расчет!M1717,0)","v":0},{"$f":"IF(AND(Расчет!A1717<2000,Расчет!B1717<2000),Расчет!M1717,0)","v":0}]
[{"$f":"IF(OR(Расчет!A1718>=2000,Расчет!B1718>=2000),Расчет!G1718,0)","v":0},{"$f":"IF(AND(Расчет!A1718<2000,Расчет!B1718<2000),Расчет!G1718,0)","v":0},null,null,{"$f":"IF(OR(Расчет!A1718>=2000,Расчет!B1718>=2000),Расчет!J1718,0)","v":0},{"$f":"IF(AND(Расчет!A1718<2000,Расчет!B1718<2000),Расчет!J1718,0)","v":0},null,null,{"$f":"IF(OR(Расчет!A1718>=2000,Расчет!B1718>=2000),Расчет!M1718,0)","v":0},{"$f":"IF(AND(Расчет!A1718<2000,Расчет!B1718<2000),Расчет!M1718,0)","v":0}]
[{"$f":"IF(OR(Расчет!A1719>=2000,Расчет!B1719>=2000),Расчет!G1719,0)","v":0},{"$f":"IF(AND(Расчет!A1719<2000,Расчет!B1719<2000),Расчет!G1719,0)","v":0},null,null,{"$f":"IF(OR(Расчет!A1719>=2000,Расчет!B1719>=2000),Расчет!J1719,0)","v":0},{"$f":"IF(AND(Расчет!A1719<2000,Расчет!B1719<2000),Расчет!J1719,0)","v":0},null,null,{"$f":"IF(OR(Расчет!A1719>=2000,Расчет!B1719>=2000),Расчет!M1719,0)","v":0},{"$f":"IF(AND(Расчет!A1719<2000,Расчет!B1719<2000),Расчет!M1719,0)","v":0}]
[{"$f":"IF(OR(Расчет!A1720>=2000,Расчет!B1720>=2000),Расчет!G1720,0)","v":0},{"$f":"IF(AND(Расчет!A1720<2000,Расчет!B1720<2000),Расчет!G1720,0)","v":0},null,null,{"$f":"IF(OR(Расчет!A1720>=2000,Расчет!B1720>=2000),Расчет!J1720,0)","v":0},{"$f":"IF(AND(Расчет!A1720<2000,Расчет!B1720<2000),Расчет!J1720,0)","v":0},null,null,{"$f":"IF(OR(Расчет!A1720>=2000,Расчет!B1720>=2000),Расчет!M1720,0)","v":0},{"$f":"IF(AND(Расчет!A1720<2000,Расчет!B1720<2000),Расчет!M1720,0)","v":0}]
[{"$f":"IF(OR(Расчет!A1721>=2000,Расчет!B1721>=2000),Расчет!G1721,0)","v":0},{"$f":"IF(AND(Расчет!A1721<2000,Расчет!B1721<2000),Расчет!G1721,0)","v":0},null,null,{"$f":"IF(OR(Расчет!A1721>=2000,Расчет!B1721>=2000),Расчет!J1721,0)","v":0},{"$f":"IF(AND(Расчет!A1721<2000,Расчет!B1721<2000),Расчет!J1721,0)","v":0},null,null,{"$f":"IF(OR(Расчет!A1721>=2000,Расчет!B1721>=2000),Расчет!M1721,0)","v":0},{"$f":"IF(AND(Расчет!A1721<2000,Расчет!B1721<2000),Расчет!M1721,0)","v":0}]
[{"$f":"IF(OR(Расчет!A1722>=2000,Расчет!B1722>=2000),Расчет!G1722,0)","v":0},{"$f":"IF(AND(Расчет!A1722<2000,Расчет!B1722<2000),Расчет!G1722,0)","v":0},null,null,{"$f":"IF(OR(Расчет!A1722>=2000,Расчет!B1722>=2000),Расчет!J1722,0)","v":0},{"$f":"IF(AND(Расчет!A1722<2000,Расчет!B1722<2000),Расчет!J1722,0)","v":0},null,null,{"$f":"IF(OR(Расчет!A1722>=2000,Расчет!B1722>=2000),Расчет!M1722,0)","v":0},{"$f":"IF(AND(Расчет!A1722<2000,Расчет!B1722<2000),Расчет!M1722,0)","v":0}]
[{"$f":"IF(OR(Расчет!A1723>=2000,Расчет!B1723>=2000),Расчет!G1723,0)","v":0},{"$f":"IF(AND(Расчет!A1723<2000,Расчет!B1723<2000),Расчет!G1723,0)","v":0},null,null,{"$f":"IF(OR(Расчет!A1723>=2000,Расчет!B1723>=2000),Расчет!J1723,0)","v":0},{"$f":"IF(AND(Расчет!A1723<2000,Расчет!B1723<2000),Расчет!J1723,0)","v":0},null,null,{"$f":"IF(OR(Расчет!A1723>=2000,Расчет!B1723>=2000),Расчет!M1723,0)","v":0},{"$f":"IF(AND(Расчет!A1723<2000,Расчет!B1723<2000),Расчет!M1723,0)","v":0}]
[{"$f":"IF(OR(Расчет!A1724>=2000,Расчет!B1724>=2000),Расчет!G1724,0)","v":0},{"$f":"IF(AND(Расчет!A1724<2000,Расчет!B1724<2000),Расчет!G1724,0)","v":0},null,null,{"$f":"IF(OR(Расчет!A1724>=2000,Расчет!B1724>=2000),Расчет!J1724,0)","v":0},{"$f":"IF(AND(Расчет!A1724<2000,Расчет!B1724<2000),Расчет!J1724,0)","v":0},null,null,{"$f":"IF(OR(Расчет!A1724>=2000,Расчет!B1724>=2000),Расчет!M1724,0)","v":0},{"$f":"IF(AND(Расчет!A1724<2000,Расчет!B1724<2000),Расчет!M1724,0)","v":0}]
[{"$f":"IF(OR(Расчет!A1725>=2000,Расчет!B1725>=2000),Расчет!G1725,0)","v":0},{"$f":"IF(AND(Расчет!A1725<2000,Расчет!B1725<2000),Расчет!G1725,0)","v":0},null,null,{"$f":"IF(OR(Расчет!A1725>=2000,Расчет!B1725>=2000),Расчет!J1725,0)","v":0},{"$f":"IF(AND(Расчет!A1725<2000,Расчет!B1725<2000),Расчет!J1725,0)","v":0},null,null,{"$f":"IF(OR(Расчет!A1725>=2000,Расчет!B1725>=2000),Расчет!M1725,0)","v":0},{"$f":"IF(AND(Расчет!A1725<2000,Расчет!B1725<2000),Расчет!M1725,0)","v":0}]
[{"$f":"IF(OR(Расчет!A1726>=2000,Расчет!B1726>=2000),Расчет!G1726,0)","v":0},{"$f":"IF(AND(Расчет!A1726<2000,Расчет!B1726<2000),Расчет!G1726,0)","v":0},null,null,{"$f":"IF(OR(Расчет!A1726>=2000,Расчет!B1726>=2000),Расчет!J1726,0)","v":0},{"$f":"IF(AND(Расчет!A1726<2000,Расчет!B1726<2000),Расчет!J1726,0)","v":0},null,null,{"$f":"IF(OR(Расчет!A1726>=2000,Расчет!B1726>=2000),Расчет!M1726,0)","v":0},{"$f":"IF(AND(Расчет!A1726<2000,Расчет!B1726<2000),Расчет!M1726,0)","v":0}]
[{"$f":"IF(OR(Расчет!A1727>=2000,Расчет!B1727>=2000),Расчет!G1727,0)","v":0},{"$f":"IF(AND(Расчет!A1727<2000,Расчет!B1727<2000),Расчет!G1727,0)","v":0},null,null,{"$f":"IF(OR(Расчет!A1727>=2000,Расчет!B1727>=2000),Расчет!J1727,0)","v":0},{"$f":"IF(AND(Расчет!A1727<2000,Расчет!B1727<2000),Расчет!J1727,0)","v":0},null,null,{"$f":"IF(OR(Расчет!A1727>=2000,Расчет!B1727>=2000),Расчет!M1727,0)","v":0},{"$f":"IF(AND(Расчет!A1727<2000,Расчет!B1727<2000),Расчет!M1727,0)","v":0}]
[{"$f":"IF(OR(Расчет!A1728>=2000,Расчет!B1728>=2000),Расчет!G1728,0)","v":0},{"$f":"IF(AND(Расчет!A1728<2000,Расчет!B1728<2000),Расчет!G1728,0)","v":0},null,null,{"$f":"IF(OR(Расчет!A1728>=2000,Расчет!B1728>=2000),Расчет!J1728,0)","v":0},{"$f":"IF(AND(Расчет!A1728<2000,Расчет!B1728<2000),Расчет!J1728,0)","v":0},null,null,{"$f":"IF(OR(Расчет!A1728>=2000,Расчет!B1728>=2000),Расчет!M1728,0)","v":0},{"$f":"IF(AND(Расчет!A1728<2000,Расчет!B1728<2000),Расчет!M1728,0)","v":0}]
[{"$f":"IF(OR(Расчет!A1729>=2000,Расчет!B1729>=2000),Расчет!G1729,0)","v":0},{"$f":"IF(AND(Расчет!A1729<2000,Расчет!B1729<2000),Расчет!G1729,0)","v":0},null,null,{"$f":"IF(OR(Расчет!A1729>=2000,Расчет!B1729>=2000),Расчет!J1729,0)","v":0},{"$f":"IF(AND(Расчет!A1729<2000,Расчет!B1729<2000),Расчет!J1729,0)","v":0},null,null,{"$f":"IF(OR(Расчет!A1729>=2000,Расчет!B1729>=2000),Расчет!M1729,0)","v":0},{"$f":"IF(AND(Расчет!A1729<2000,Расчет!B1729<2000),Расчет!M1729,0)","v":0}]
[{"$f":"IF(OR(Расчет!A1730>=2000,Расчет!B1730>=2000),Расчет!G1730,0)","v":0},{"$f":"IF(AND(Расчет!A1730<2000,Расчет!B1730<2000),Расчет!G1730,0)","v":0},null,null,{"$f":"IF(OR(Расчет!A1730>=2000,Расчет!B1730>=2000),Расчет!J1730,0)","v":0},{"$f":"IF(AND(Расчет!A1730<2000,Расчет!B1730<2000),Расчет!J1730,0)","v":0},null,null,{"$f":"IF(OR(Расчет!A1730>=2000,Расчет!B1730>=2000),Расчет!M1730,0)","v":0},{"$f":"IF(AND(Расчет!A1730<2000,Расчет!B1730<2000),Расчет!M1730,0)","v":0}]
[{"$f":"IF(OR(Расчет!A1731>=2000,Расчет!B1731>=2000),Расчет!G1731,0)","v":0},{"$f":"IF(AND(Расчет!A1731<2000,Расчет!B1731<2000),Расчет!G1731,0)","v":0},null,null,{"$f":"IF(OR(Расчет!A1731>=2000,Расчет!B1731>=2000),Расчет!J1731,0)","v":0},{"$f":"IF(AND(Расчет!A1731<2000,Расчет!B1731<2000),Расчет!J1731,0)","v":0},null,null,{"$f":"IF(OR(Расчет!A1731>=2000,Расчет!B1731>=2000),Расчет!M1731,0)","v":0},{"$f":"IF(AND(Расчет!A1731<2000,Расчет!B1731<2000),Расчет!M1731,0)","v":0}]
[{"$f":"IF(OR(Расчет!A1732>=2000,Расчет!B1732>=2000),Расчет!G1732,0)","v":0},{"$f":"IF(AND(Расчет!A1732<2000,Расчет!B1732<2000),Расчет!G1732,0)","v":0},null,null,{"$f":"IF(OR(Расчет!A1732>=2000,Расчет!B1732>=2000),Расчет!J1732,0)","v":0},{"$f":"IF(AND(Расчет!A1732<2000,Расчет!B1732<2000),Расчет!J1732,0)","v":0},null,null,{"$f":"IF(OR(Расчет!A1732>=2000,Расчет!B1732>=2000),Расчет!M1732,0)","v":0},{"$f":"IF(AND(Расчет!A1732<2000,Расчет!B1732<2000),Расчет!M1732,0)","v":0}]
[{"$f":"IF(OR(Расчет!A1733>=2000,Расчет!B1733>=2000),Расчет!G1733,0)","v":0},{"$f":"IF(AND(Расчет!A1733<2000,Расчет!B1733<2000),Расчет!G1733,0)","v":0},null,null,{"$f":"IF(OR(Расчет!A1733>=2000,Расчет!B1733>=2000),Расчет!J1733,0)","v":0},{"$f":"IF(AND(Расчет!A1733<2000,Расчет!B1733<2000),Расчет!J1733,0)","v":0},null,null,{"$f":"IF(OR(Расчет!A1733>=2000,Расчет!B1733>=2000),Расчет!M1733,0)","v":0},{"$f":"IF(AND(Расчет!A1733<2000,Расчет!B1733<2000),Расчет!M1733,0)","v":0}]
[{"$f":"IF(OR(Расчет!A1734>=2000,Расчет!B1734>=2000),Расчет!G1734,0)","v":0},{"$f":"IF(AND(Расчет!A1734<2000,Расчет!B1734<2000),Расчет!G1734,0)","v":0},null,null,{"$f":"IF(OR(Расчет!A1734>=2000,Расчет!B1734>=2000),Расчет!J1734,0)","v":0},{"$f":"IF(AND(Расчет!A1734<2000,Расчет!B1734<2000),Расчет!J1734,0)","v":0},null,null,{"$f":"IF(OR(Расчет!A1734>=2000,Расчет!B1734>=2000),Расчет!M1734,0)","v":0},{"$f":"IF(AND(Расчет!A1734<2000,Расчет!B1734<2000),Расчет!M1734,0)","v":0}]
[{"$f":"IF(OR(Расчет!A1735>=2000,Расчет!B1735>=2000),Расчет!G1735,0)","v":0},{"$f":"IF(AND(Расчет!A1735<2000,Расчет!B1735<2000),Расчет!G1735,0)","v":0},null,null,{"$f":"IF(OR(Расчет!A1735>=2000,Расчет!B1735>=2000),Расчет!J1735,0)","v":0},{"$f":"IF(AND(Расчет!A1735<2000,Расчет!B1735<2000),Расчет!J1735,0)","v":0},null,null,{"$f":"IF(OR(Расчет!A1735>=2000,Расчет!B1735>=2000),Расчет!M1735,0)","v":0},{"$f":"IF(AND(Расчет!A1735<2000,Расчет!B1735<2000),Расчет!M1735,0)","v":0}]
[{"$f":"IF(OR(Расчет!A1736>=2000,Расчет!B1736>=2000),Расчет!G1736,0)","v":0},{"$f":"IF(AND(Расчет!A1736<2000,Расчет!B1736<2000),Расчет!G1736,0)","v":0},null,null,{"$f":"IF(OR(Расчет!A1736>=2000,Расчет!B1736>=2000),Расчет!J1736,0)","v":0},{"$f":"IF(AND(Расчет!A1736<2000,Расчет!B1736<2000),Расчет!J1736,0)","v":0},null,null,{"$f":"IF(OR(Расчет!A1736>=2000,Расчет!B1736>=2000),Расчет!M1736,0)","v":0},{"$f":"IF(AND(Расчет!A1736<2000,Расчет!B1736<2000),Расчет!M1736,0)","v":0}]
[{"$f":"IF(OR(Расчет!A1737>=2000,Расчет!B1737>=2000),Расчет!G1737,0)","v":0},{"$f":"IF(AND(Расчет!A1737<2000,Расчет!B1737<2000),Расчет!G1737,0)","v":0},null,null,{"$f":"IF(OR(Расчет!A1737>=2000,Расчет!B1737>=2000),Расчет!J1737,0)","v":0},{"$f":"IF(AND(Расчет!A1737<2000,Расчет!B1737<2000),Расчет!J1737,0)","v":0},null,null,{"$f":"IF(OR(Расчет!A1737>=2000,Расчет!B1737>=2000),Расчет!M1737,0)","v":0},{"$f":"IF(AND(Расчет!A1737<2000,Расчет!B1737<2000),Расчет!M1737,0)","v":0}]
[{"$f":"IF(OR(Расчет!A1738>=2000,Расчет!B1738>=2000),Расчет!G1738,0)","v":0},{"$f":"IF(AND(Расчет!A1738<2000,Расчет!B1738<2000),Расчет!G1738,0)","v":0},null,null,{"$f":"IF(OR(Расчет!A1738>=2000,Расчет!B1738>=2000),Расчет!J1738,0)","v":0},{"$f":"IF(AND(Расчет!A1738<2000,Расчет!B1738<2000),Расчет!J1738,0)","v":0},null,null,{"$f":"IF(OR(Расчет!A1738>=2000,Расчет!B1738>=2000),Расчет!M1738,0)","v":0},{"$f":"IF(AND(Расчет!A1738<2000,Расчет!B1738<2000),Расчет!M1738,0)","v":0}]
[{"$f":"IF(OR(Расчет!A1739>=2000,Расчет!B1739>=2000),Расчет!G1739,0)","v":0},{"$f":"IF(AND(Расчет!A1739<2000,Расчет!B1739<2000),Расчет!G1739,0)","v":0},null,null,{"$f":"IF(OR(Расчет!A1739>=2000,Расчет!B1739>=2000),Расчет!J1739,0)","v":0},{"$f":"IF(AND(Расчет!A1739<2000,Расчет!B1739<2000),Расчет!J1739,0)","v":0},null,null,{"$f":"IF(OR(Расчет!A1739>=2000,Расчет!B1739>=2000),Расчет!M1739,0)","v":0},{"$f":"IF(AND(Расчет!A1739<2000,Расчет!B1739<2000),Расчет!M1739,0)","v":0}]
[{"$f":"IF(OR(Расчет!A1740>=2000,Расчет!B1740>=2000),Расчет!G1740,0)","v":0},{"$f":"IF(AND(Расчет!A1740<2000,Расчет!B1740<2000),Расчет!G1740,0)","v":0},null,null,{"$f":"IF(OR(Расчет!A1740>=2000,Расчет!B1740>=2000),Расчет!J1740,0)","v":0},{"$f":"IF(AND(Расчет!A1740<2000,Расчет!B1740<2000),Расчет!J1740,0)","v":0},null,null,{"$f":"IF(OR(Расчет!A1740>=2000,Расчет!B1740>=2000),Расчет!M1740,0)","v":0},{"$f":"IF(AND(Расчет!A1740<2000,Расчет!B1740<2000),Расчет!M1740,0)","v":0}]
[{"$f":"IF(OR(Расчет!A1741>=2000,Расчет!B1741>=2000),Расчет!G1741,0)","v":0},{"$f":"IF(AND(Расчет!A1741<2000,Расчет!B1741<2000),Расчет!G1741,0)","v":0},null,null,{"$f":"IF(OR(Расчет!A1741>=2000,Расчет!B1741>=2000),Расчет!J1741,0)","v":0},{"$f":"IF(AND(Расчет!A1741<2000,Расчет!B1741<2000),Расчет!J1741,0)","v":0},null,null,{"$f":"IF(OR(Расчет!A1741>=2000,Расчет!B1741>=2000),Расчет!M1741,0)","v":0},{"$f":"IF(AND(Расчет!A1741<2000,Расчет!B1741<2000),Расчет!M1741,0)","v":0}]
[{"$f":"IF(OR(Расчет!A1742>=2000,Расчет!B1742>=2000),Расчет!G1742,0)","v":0},{"$f":"IF(AND(Расчет!A1742<2000,Расчет!B1742<2000),Расчет!G1742,0)","v":0},null,null,{"$f":"IF(OR(Расчет!A1742>=2000,Расчет!B1742>=2000),Расчет!J1742,0)","v":0},{"$f":"IF(AND(Расчет!A1742<2000,Расчет!B1742<2000),Расчет!J1742,0)","v":0},null,null,{"$f":"IF(OR(Расчет!A1742>=2000,Расчет!B1742>=2000),Расчет!M1742,0)","v":0},{"$f":"IF(AND(Расчет!A1742<2000,Расчет!B1742<2000),Расчет!M1742,0)","v":0}]
[{"$f":"IF(OR(Расчет!A1743>=2000,Расчет!B1743>=2000),Расчет!G1743,0)","v":0},{"$f":"IF(AND(Расчет!A1743<2000,Расчет!B1743<2000),Расчет!G1743,0)","v":0},null,null,{"$f":"IF(OR(Расчет!A1743>=2000,Расчет!B1743>=2000),Расчет!J1743,0)","v":0},{"$f":"IF(AND(Расчет!A1743<2000,Расчет!B1743<2000),Расчет!J1743,0)","v":0},null,null,{"$f":"IF(OR(Расчет!A1743>=2000,Расчет!B1743>=2000),Расчет!M1743,0)","v":0},{"$f":"IF(AND(Расчет!A1743<2000,Расчет!B1743<2000),Расчет!M1743,0)","v":0}]
[{"$f":"IF(OR(Расчет!A1744>=2000,Расчет!B1744>=2000),Расчет!G1744,0)","v":0},{"$f":"IF(AND(Расчет!A1744<2000,Расчет!B1744<2000),Расчет!G1744,0)","v":0},null,null,{"$f":"IF(OR(Расчет!A1744>=2000,Расчет!B1744>=2000),Расчет!J1744,0)","v":0},{"$f":"IF(AND(Расчет!A1744<2000,Расчет!B1744<2000),Расчет!J1744,0)","v":0},null,null,{"$f":"IF(OR(Расчет!A1744>=2000,Расчет!B1744>=2000),Расчет!M1744,0)","v":0},{"$f":"IF(AND(Расчет!A1744<2000,Расчет!B1744<2000),Расчет!M1744,0)","v":0}]
[{"$f":"IF(OR(Расчет!A1745>=2000,Расчет!B1745>=2000),Расчет!G1745,0)","v":0},{"$f":"IF(AND(Расчет!A1745<2000,Расчет!B1745<2000),Расчет!G1745,0)","v":0},null,null,{"$f":"IF(OR(Расчет!A1745>=2000,Расчет!B1745>=2000),Расчет!J1745,0)","v":0},{"$f":"IF(AND(Расчет!A1745<2000,Расчет!B1745<2000),Расчет!J1745,0)","v":0},null,null,{"$f":"IF(OR(Расчет!A1745>=2000,Расчет!B1745>=2000),Расчет!M1745,0)","v":0},{"$f":"IF(AND(Расчет!A1745<2000,Расчет!B1745<2000),Расчет!M1745,0)","v":0}]
[{"$f":"IF(OR(Расчет!A1746>=2000,Расчет!B1746>=2000),Расчет!G1746,0)","v":0},{"$f":"IF(AND(Расчет!A1746<2000,Расчет!B1746<2000),Расчет!G1746,0)","v":0},null,null,{"$f":"IF(OR(Расчет!A1746>=2000,Расчет!B1746>=2000),Расчет!J1746,0)","v":0},{"$f":"IF(AND(Расчет!A1746<2000,Расчет!B1746<2000),Расчет!J1746,0)","v":0},null,null,{"$f":"IF(OR(Расчет!A1746>=2000,Расчет!B1746>=2000),Расчет!M1746,0)","v":0},{"$f":"IF(AND(Расчет!A1746<2000,Расчет!B1746<2000),Расчет!M1746,0)","v":0}]
[{"$f":"IF(OR(Расчет!A1747>=2000,Расчет!B1747>=2000),Расчет!G1747,0)","v":0},{"$f":"IF(AND(Расчет!A1747<2000,Расчет!B1747<2000),Расчет!G1747,0)","v":0},null,null,{"$f":"IF(OR(Расчет!A1747>=2000,Расчет!B1747>=2000),Расчет!J1747,0)","v":0},{"$f":"IF(AND(Расчет!A1747<2000,Расчет!B1747<2000),Расчет!J1747,0)","v":0},null,null,{"$f":"IF(OR(Расчет!A1747>=2000,Расчет!B1747>=2000),Расчет!M1747,0)","v":0},{"$f":"IF(AND(Расчет!A1747<2000,Расчет!B1747<2000),Расчет!M1747,0)","v":0}]
[{"$f":"IF(OR(Расчет!A1748>=2000,Расчет!B1748>=2000),Расчет!G1748,0)","v":0},{"$f":"IF(AND(Расчет!A1748<2000,Расчет!B1748<2000),Расчет!G1748,0)","v":0},null,null,{"$f":"IF(OR(Расчет!A1748>=2000,Расчет!B1748>=2000),Расчет!J1748,0)","v":0},{"$f":"IF(AND(Расчет!A1748<2000,Расчет!B1748<2000),Расчет!J1748,0)","v":0},null,null,{"$f":"IF(OR(Расчет!A1748>=2000,Расчет!B1748>=2000),Расчет!M1748,0)","v":0},{"$f":"IF(AND(Расчет!A1748<2000,Расчет!B1748<2000),Расчет!M1748,0)","v":0}]
[{"$f":"IF(OR(Расчет!A1749>=2000,Расчет!B1749>=2000),Расчет!G1749,0)","v":0},{"$f":"IF(AND(Расчет!A1749<2000,Расчет!B1749<2000),Расчет!G1749,0)","v":0},null,null,{"$f":"IF(OR(Расчет!A1749>=2000,Расчет!B1749>=2000),Расчет!J1749,0)","v":0},{"$f":"IF(AND(Расчет!A1749<2000,Расчет!B1749<2000),Расчет!J1749,0)","v":0},null,null,{"$f":"IF(OR(Расчет!A1749>=2000,Расчет!B1749>=2000),Расчет!M1749,0)","v":0},{"$f":"IF(AND(Расчет!A1749<2000,Расчет!B1749<2000),Расчет!M1749,0)","v":0}]
[{"$f":"IF(OR(Расчет!A1750>=2000,Расчет!B1750>=2000),Расчет!G1750,0)","v":0},{"$f":"IF(AND(Расчет!A1750<2000,Расчет!B1750<2000),Расчет!G1750,0)","v":0},null,null,{"$f":"IF(OR(Расчет!A1750>=2000,Расчет!B1750>=2000),Расчет!J1750,0)","v":0},{"$f":"IF(AND(Расчет!A1750<2000,Расчет!B1750<2000),Расчет!J1750,0)","v":0},null,null,{"$f":"IF(OR(Расчет!A1750>=2000,Расчет!B1750>=2000),Расчет!M1750,0)","v":0},{"$f":"IF(AND(Расчет!A1750<2000,Расчет!B1750<2000),Расчет!M1750,0)","v":0}]
[{"$f":"IF(OR(Расчет!A1751>=2000,Расчет!B1751>=2000),Расчет!G1751,0)","v":0},{"$f":"IF(AND(Расчет!A1751<2000,Расчет!B1751<2000),Расчет!G1751,0)","v":0},null,null,{"$f":"IF(OR(Расчет!A1751>=2000,Расчет!B1751>=2000),Расчет!J1751,0)","v":0},{"$f":"IF(AND(Расчет!A1751<2000,Расчет!B1751<2000),Расчет!J1751,0)","v":0},null,null,{"$f":"IF(OR(Расчет!A1751>=2000,Расчет!B1751>=2000),Расчет!M1751,0)","v":0},{"$f":"IF(AND(Расчет!A1751<2000,Расчет!B1751<2000),Расчет!M1751,0)","v":0}]
[{"$f":"IF(OR(Расчет!A1752>=2000,Расчет!B1752>=2000),Расчет!G1752,0)","v":0},{"$f":"IF(AND(Расчет!A1752<2000,Расчет!B1752<2000),Расчет!G1752,0)","v":0},null,null,{"$f":"IF(OR(Расчет!A1752>=2000,Расчет!B1752>=2000),Расчет!J1752,0)","v":0},{"$f":"IF(AND(Расчет!A1752<2000,Расчет!B1752<2000),Расчет!J1752,0)","v":0},null,null,{"$f":"IF(OR(Расчет!A1752>=2000,Расчет!B1752>=2000),Расчет!M1752,0)","v":0},{"$f":"IF(AND(Расчет!A1752<2000,Расчет!B1752<2000),Расчет!M1752,0)","v":0}]
[{"$f":"IF(OR(Расчет!A1753>=2000,Расчет!B1753>=2000),Расчет!G1753,0)","v":0},{"$f":"IF(AND(Расчет!A1753<2000,Расчет!B1753<2000),Расчет!G1753,0)","v":0},null,null,{"$f":"IF(OR(Расчет!A1753>=2000,Расчет!B1753>=2000),Расчет!J1753,0)","v":0},{"$f":"IF(AND(Расчет!A1753<2000,Расчет!B1753<2000),Расчет!J1753,0)","v":0},null,null,{"$f":"IF(OR(Расчет!A1753>=2000,Расчет!B1753>=2000),Расчет!M1753,0)","v":0},{"$f":"IF(AND(Расчет!A1753<2000,Расчет!B1753<2000),Расчет!M1753,0)","v":0}]
[{"$f":"IF(OR(Расчет!A1754>=2000,Расчет!B1754>=2000),Расчет!G1754,0)","v":0},{"$f":"IF(AND(Расчет!A1754<2000,Расчет!B1754<2000),Расчет!G1754,0)","v":0},null,null,{"$f":"IF(OR(Расчет!A1754>=2000,Расчет!B1754>=2000),Расчет!J1754,0)","v":0},{"$f":"IF(AND(Расчет!A1754<2000,Расчет!B1754<2000),Расчет!J1754,0)","v":0},null,null,{"$f":"IF(OR(Расчет!A1754>=2000,Расчет!B1754>=2000),Расчет!M1754,0)","v":0},{"$f":"IF(AND(Расчет!A1754<2000,Расчет!B1754<2000),Расчет!M1754,0)","v":0}]
[{"$f":"IF(OR(Расчет!A1755>=2000,Расчет!B1755>=2000),Расчет!G1755,0)","v":0},{"$f":"IF(AND(Расчет!A1755<2000,Расчет!B1755<2000),Расчет!G1755,0)","v":0},null,null,{"$f":"IF(OR(Расчет!A1755>=2000,Расчет!B1755>=2000),Расчет!J1755,0)","v":0},{"$f":"IF(AND(Расчет!A1755<2000,Расчет!B1755<2000),Расчет!J1755,0)","v":0},null,null,{"$f":"IF(OR(Расчет!A1755>=2000,Расчет!B1755>=2000),Расчет!M1755,0)","v":0},{"$f":"IF(AND(Расчет!A1755<2000,Расчет!B1755<2000),Расчет!M1755,0)","v":0}]
[{"$f":"IF(OR(Расчет!A1756>=2000,Расчет!B1756>=2000),Расчет!G1756,0)","v":0},{"$f":"IF(AND(Расчет!A1756<2000,Расчет!B1756<2000),Расчет!G1756,0)","v":0},null,null,{"$f":"IF(OR(Расчет!A1756>=2000,Расчет!B1756>=2000),Расчет!J1756,0)","v":0},{"$f":"IF(AND(Расчет!A1756<2000,Расчет!B1756<2000),Расчет!J1756,0)","v":0},null,null,{"$f":"IF(OR(Расчет!A1756>=2000,Расчет!B1756>=2000),Расчет!M1756,0)","v":0},{"$f":"IF(AND(Расчет!A1756<2000,Расчет!B1756<2000),Расчет!M1756,0)","v":0}]
[{"$f":"IF(OR(Расчет!A1757>=2000,Расчет!B1757>=2000),Расчет!G1757,0)","v":0},{"$f":"IF(AND(Расчет!A1757<2000,Расчет!B1757<2000),Расчет!G1757,0)","v":0},null,null,{"$f":"IF(OR(Расчет!A1757>=2000,Расчет!B1757>=2000),Расчет!J1757,0)","v":0},{"$f":"IF(AND(Расчет!A1757<2000,Расчет!B1757<2000),Расчет!J1757,0)","v":0},null,null,{"$f":"IF(OR(Расчет!A1757>=2000,Расчет!B1757>=2000),Расчет!M1757,0)","v":0},{"$f":"IF(AND(Расчет!A1757<2000,Расчет!B1757<2000),Расчет!M1757,0)","v":0}]
[{"$f":"IF(OR(Расчет!A1758>=2000,Расчет!B1758>=2000),Расчет!G1758,0)","v":0},{"$f":"IF(AND(Расчет!A1758<2000,Расчет!B1758<2000),Расчет!G1758,0)","v":0},null,null,{"$f":"IF(OR(Расчет!A1758>=2000,Расчет!B1758>=2000),Расчет!J1758,0)","v":0},{"$f":"IF(AND(Расчет!A1758<2000,Расчет!B1758<2000),Расчет!J1758,0)","v":0},null,null,{"$f":"IF(OR(Расчет!A1758>=2000,Расчет!B1758>=2000),Расчет!M1758,0)","v":0},{"$f":"IF(AND(Расчет!A1758<2000,Расчет!B1758<2000),Расчет!M1758,0)","v":0}]
[{"$f":"IF(OR(Расчет!A1759>=2000,Расчет!B1759>=2000),Расчет!G1759,0)","v":0},{"$f":"IF(AND(Расчет!A1759<2000,Расчет!B1759<2000),Расчет!G1759,0)","v":0},null,null,{"$f":"IF(OR(Расчет!A1759>=2000,Расчет!B1759>=2000),Расчет!J1759,0)","v":0},{"$f":"IF(AND(Расчет!A1759<2000,Расчет!B1759<2000),Расчет!J1759,0)","v":0},null,null,{"$f":"IF(OR(Расчет!A1759>=2000,Расчет!B1759>=2000),Расчет!M1759,0)","v":0},{"$f":"IF(AND(Расчет!A1759<2000,Расчет!B1759<2000),Расчет!M1759,0)","v":0}]
[{"$f":"IF(OR(Расчет!A1760>=2000,Расчет!B1760>=2000),Расчет!G1760,0)","v":0},{"$f":"IF(AND(Расчет!A1760<2000,Расчет!B1760<2000),Расчет!G1760,0)","v":0},null,null,{"$f":"IF(OR(Расчет!A1760>=2000,Расчет!B1760>=2000),Расчет!J1760,0)","v":0},{"$f":"IF(AND(Расчет!A1760<2000,Расчет!B1760<2000),Расчет!J1760,0)","v":0},null,null,{"$f":"IF(OR(Расчет!A1760>=2000,Расчет!B1760>=2000),Расчет!M1760,0)","v":0},{"$f":"IF(AND(Расчет!A1760<2000,Расчет!B1760<2000),Расчет!M1760,0)","v":0}]
[{"$f":"IF(OR(Расчет!A1761>=2000,Расчет!B1761>=2000),Расчет!G1761,0)","v":0},{"$f":"IF(AND(Расчет!A1761<2000,Расчет!B1761<2000),Расчет!G1761,0)","v":0},null,null,{"$f":"IF(OR(Расчет!A1761>=2000,Расчет!B1761>=2000),Расчет!J1761,0)","v":0},{"$f":"IF(AND(Расчет!A1761<2000,Расчет!B1761<2000),Расчет!J1761,0)","v":0},null,null,{"$f":"IF(OR(Расчет!A1761>=2000,Расчет!B1761>=2000),Расчет!M1761,0)","v":0},{"$f":"IF(AND(Расчет!A1761<2000,Расчет!B1761<2000),Расчет!M1761,0)","v":0}]
[{"$f":"IF(OR(Расчет!A1762>=2000,Расчет!B1762>=2000),Расчет!G1762,0)","v":0},{"$f":"IF(AND(Расчет!A1762<2000,Расчет!B1762<2000),Расчет!G1762,0)","v":0},null,null,{"$f":"IF(OR(Расчет!A1762>=2000,Расчет!B1762>=2000),Расчет!J1762,0)","v":0},{"$f":"IF(AND(Расчет!A1762<2000,Расчет!B1762<2000),Расчет!J1762,0)","v":0},null,null,{"$f":"IF(OR(Расчет!A1762>=2000,Расчет!B1762>=2000),Расчет!M1762,0)","v":0},{"$f":"IF(AND(Расчет!A1762<2000,Расчет!B1762<2000),Расчет!M1762,0)","v":0}]
[{"$f":"IF(OR(Расчет!A1763>=2000,Расчет!B1763>=2000),Расчет!G1763,0)","v":0},{"$f":"IF(AND(Расчет!A1763<2000,Расчет!B1763<2000),Расчет!G1763,0)","v":0},null,null,{"$f":"IF(OR(Расчет!A1763>=2000,Расчет!B1763>=2000),Расчет!J1763,0)","v":0},{"$f":"IF(AND(Расчет!A1763<2000,Расчет!B1763<2000),Расчет!J1763,0)","v":0},null,null,{"$f":"IF(OR(Расчет!A1763>=2000,Расчет!B1763>=2000),Расчет!M1763,0)","v":0},{"$f":"IF(AND(Расчет!A1763<2000,Расчет!B1763<2000),Расчет!M1763,0)","v":0}]
[{"$f":"IF(OR(Расчет!A1764>=2000,Расчет!B1764>=2000),Расчет!G1764,0)","v":0},{"$f":"IF(AND(Расчет!A1764<2000,Расчет!B1764<2000),Расчет!G1764,0)","v":0},null,null,{"$f":"IF(OR(Расчет!A1764>=2000,Расчет!B1764>=2000),Расчет!J1764,0)","v":0},{"$f":"IF(AND(Расчет!A1764<2000,Расчет!B1764<2000),Расчет!J1764,0)","v":0},null,null,{"$f":"IF(OR(Расчет!A1764>=2000,Расчет!B1764>=2000),Расчет!M1764,0)","v":0},{"$f":"IF(AND(Расчет!A1764<2000,Расчет!B1764<2000),Расчет!M1764,0)","v":0}]
[{"$f":"IF(OR(Расчет!A1765>=2000,Расчет!B1765>=2000),Расчет!G1765,0)","v":0},{"$f":"IF(AND(Расчет!A1765<2000,Расчет!B1765<2000),Расчет!G1765,0)","v":0},null,null,{"$f":"IF(OR(Расчет!A1765>=2000,Расчет!B1765>=2000),Расчет!J1765,0)","v":0},{"$f":"IF(AND(Расчет!A1765<2000,Расчет!B1765<2000),Расчет!J1765,0)","v":0},null,null,{"$f":"IF(OR(Расчет!A1765>=2000,Расчет!B1765>=2000),Расчет!M1765,0)","v":0},{"$f":"IF(AND(Расчет!A1765<2000,Расчет!B1765<2000),Расчет!M1765,0)","v":0}]
[{"$f":"IF(OR(Расчет!A1766>=2000,Расчет!B1766>=2000),Расчет!G1766,0)","v":0},{"$f":"IF(AND(Расчет!A1766<2000,Расчет!B1766<2000),Расчет!G1766,0)","v":0},null,null,{"$f":"IF(OR(Расчет!A1766>=2000,Расчет!B1766>=2000),Расчет!J1766,0)","v":0},{"$f":"IF(AND(Расчет!A1766<2000,Расчет!B1766<2000),Расчет!J1766,0)","v":0},null,null,{"$f":"IF(OR(Расчет!A1766>=2000,Расчет!B1766>=2000),Расчет!M1766,0)","v":0},{"$f":"IF(AND(Расчет!A1766<2000,Расчет!B1766<2000),Расчет!M1766,0)","v":0}]
[{"$f":"IF(OR(Расчет!A1767>=2000,Расчет!B1767>=2000),Расчет!G1767,0)","v":0},{"$f":"IF(AND(Расчет!A1767<2000,Расчет!B1767<2000),Расчет!G1767,0)","v":0},null,null,{"$f":"IF(OR(Расчет!A1767>=2000,Расчет!B1767>=2000),Расчет!J1767,0)","v":0},{"$f":"IF(AND(Расчет!A1767<2000,Расчет!B1767<2000),Расчет!J1767,0)","v":0},null,null,{"$f":"IF(OR(Расчет!A1767>=2000,Расчет!B1767>=2000),Расчет!M1767,0)","v":0},{"$f":"IF(AND(Расчет!A1767<2000,Расчет!B1767<2000),Расчет!M1767,0)","v":0}]
[{"$f":"IF(OR(Расчет!A1768>=2000,Расчет!B1768>=2000),Расчет!G1768,0)","v":0},{"$f":"IF(AND(Расчет!A1768<2000,Расчет!B1768<2000),Расчет!G1768,0)","v":0},null,null,{"$f":"IF(OR(Расчет!A1768>=2000,Расчет!B1768>=2000),Расчет!J1768,0)","v":0},{"$f":"IF(AND(Расчет!A1768<2000,Расчет!B1768<2000),Расчет!J1768,0)","v":0},null,null,{"$f":"IF(OR(Расчет!A1768>=2000,Расчет!B1768>=2000),Расчет!M1768,0)","v":0},{"$f":"IF(AND(Расчет!A1768<2000,Расчет!B1768<2000),Расчет!M1768,0)","v":0}]
[{"$f":"IF(OR(Расчет!A1769>=2000,Расчет!B1769>=2000),Расчет!G1769,0)","v":0},{"$f":"IF(AND(Расчет!A1769<2000,Расчет!B1769<2000),Расчет!G1769,0)","v":0},null,null,{"$f":"IF(OR(Расчет!A1769>=2000,Расчет!B1769>=2000),Расчет!J1769,0)","v":0},{"$f":"IF(AND(Расчет!A1769<2000,Расчет!B1769<2000),Расчет!J1769,0)","v":0},null,null,{"$f":"IF(OR(Расчет!A1769>=2000,Расчет!B1769>=2000),Расчет!M1769,0)","v":0},{"$f":"IF(AND(Расчет!A1769<2000,Расчет!B1769<2000),Расчет!M1769,0)","v":0}]
[{"$f":"IF(OR(Расчет!A1770>=2000,Расчет!B1770>=2000),Расчет!G1770,0)","v":0},{"$f":"IF(AND(Расчет!A1770<2000,Расчет!B1770<2000),Расчет!G1770,0)","v":0},null,null,{"$f":"IF(OR(Расчет!A1770>=2000,Расчет!B1770>=2000),Расчет!J1770,0)","v":0},{"$f":"IF(AND(Расчет!A1770<2000,Расчет!B1770<2000),Расчет!J1770,0)","v":0},null,null,{"$f":"IF(OR(Расчет!A1770>=2000,Расчет!B1770>=2000),Расчет!M1770,0)","v":0},{"$f":"IF(AND(Расчет!A1770<2000,Расчет!B1770<2000),Расчет!M1770,0)","v":0}]
[{"$f":"IF(OR(Расчет!A1771>=2000,Расчет!B1771>=2000),Расчет!G1771,0)","v":0},{"$f":"IF(AND(Расчет!A1771<2000,Расчет!B1771<2000),Расчет!G1771,0)","v":0},null,null,{"$f":"IF(OR(Расчет!A1771>=2000,Расчет!B1771>=2000),Расчет!J1771,0)","v":0},{"$f":"IF(AND(Расчет!A1771<2000,Расчет!B1771<2000),Расчет!J1771,0)","v":0},null,null,{"$f":"IF(OR(Расчет!A1771>=2000,Расчет!B1771>=2000),Расчет!M1771,0)","v":0},{"$f":"IF(AND(Расчет!A1771<2000,Расчет!B1771<2000),Расчет!M1771,0)","v":0}]
[{"$f":"IF(OR(Расчет!A1772>=2000,Расчет!B1772>=2000),Расчет!G1772,0)","v":0},{"$f":"IF(AND(Расчет!A1772<2000,Расчет!B1772<2000),Расчет!G1772,0)","v":0},null,null,{"$f":"IF(OR(Расчет!A1772>=2000,Расчет!B1772>=2000),Расчет!J1772,0)","v":0},{"$f":"IF(AND(Расчет!A1772<2000,Расчет!B1772<2000),Расчет!J1772,0)","v":0},null,null,{"$f":"IF(OR(Расчет!A1772>=2000,Расчет!B1772>=2000),Расчет!M1772,0)","v":0},{"$f":"IF(AND(Расчет!A1772<2000,Расчет!B1772<2000),Расчет!M1772,0)","v":0}]
[{"$f":"IF(OR(Расчет!A1773>=2000,Расчет!B1773>=2000),Расчет!G1773,0)","v":0},{"$f":"IF(AND(Расчет!A1773<2000,Расчет!B1773<2000),Расчет!G1773,0)","v":0},null,null,{"$f":"IF(OR(Расчет!A1773>=2000,Расчет!B1773>=2000),Расчет!J1773,0)","v":0},{"$f":"IF(AND(Расчет!A1773<2000,Расчет!B1773<2000),Расчет!J1773,0)","v":0},null,null,{"$f":"IF(OR(Расчет!A1773>=2000,Расчет!B1773>=2000),Расчет!M1773,0)","v":0},{"$f":"IF(AND(Расчет!A1773<2000,Расчет!B1773<2000),Расчет!M1773,0)","v":0}]
[{"$f":"IF(OR(Расчет!A1774>=2000,Расчет!B1774>=2000),Расчет!G1774,0)","v":0},{"$f":"IF(AND(Расчет!A1774<2000,Расчет!B1774<2000),Расчет!G1774,0)","v":0},null,null,{"$f":"IF(OR(Расчет!A1774>=2000,Расчет!B1774>=2000),Расчет!J1774,0)","v":0},{"$f":"IF(AND(Расчет!A1774<2000,Расчет!B1774<2000),Расчет!J1774,0)","v":0},null,null,{"$f":"IF(OR(Расчет!A1774>=2000,Расчет!B1774>=2000),Расчет!M1774,0)","v":0},{"$f":"IF(AND(Расчет!A1774<2000,Расчет!B1774<2000),Расчет!M1774,0)","v":0}]
[{"$f":"IF(OR(Расчет!A1775>=2000,Расчет!B1775>=2000),Расчет!G1775,0)","v":0},{"$f":"IF(AND(Расчет!A1775<2000,Расчет!B1775<2000),Расчет!G1775,0)","v":0},null,null,{"$f":"IF(OR(Расчет!A1775>=2000,Расчет!B1775>=2000),Расчет!J1775,0)","v":0},{"$f":"IF(AND(Расчет!A1775<2000,Расчет!B1775<2000),Расчет!J1775,0)","v":0},null,null,{"$f":"IF(OR(Расчет!A1775>=2000,Расчет!B1775>=2000),Расчет!M1775,0)","v":0},{"$f":"IF(AND(Расчет!A1775<2000,Расчет!B1775<2000),Расчет!M1775,0)","v":0}]
[{"$f":"IF(OR(Расчет!A1776>=2000,Расчет!B1776>=2000),Расчет!G1776,0)","v":0},{"$f":"IF(AND(Расчет!A1776<2000,Расчет!B1776<2000),Расчет!G1776,0)","v":0},null,null,{"$f":"IF(OR(Расчет!A1776>=2000,Расчет!B1776>=2000),Расчет!J1776,0)","v":0},{"$f":"IF(AND(Расчет!A1776<2000,Расчет!B1776<2000),Расчет!J1776,0)","v":0},null,null,{"$f":"IF(OR(Расчет!A1776>=2000,Расчет!B1776>=2000),Расчет!M1776,0)","v":0},{"$f":"IF(AND(Расчет!A1776<2000,Расчет!B1776<2000),Расчет!M1776,0)","v":0}]
[{"$f":"IF(OR(Расчет!A1777>=2000,Расчет!B1777>=2000),Расчет!G1777,0)","v":0},{"$f":"IF(AND(Расчет!A1777<2000,Расчет!B1777<2000),Расчет!G1777,0)","v":0},null,null,{"$f":"IF(OR(Расчет!A1777>=2000,Расчет!B1777>=2000),Расчет!J1777,0)","v":0},{"$f":"IF(AND(Расчет!A1777<2000,Расчет!B1777<2000),Расчет!J1777,0)","v":0},null,null,{"$f":"IF(OR(Расчет!A1777>=2000,Расчет!B1777>=2000),Расчет!M1777,0)","v":0},{"$f":"IF(AND(Расчет!A1777<2000,Расчет!B1777<2000),Расчет!M1777,0)","v":0}]
[{"$f":"IF(OR(Расчет!A1778>=2000,Расчет!B1778>=2000),Расчет!G1778,0)","v":0},{"$f":"IF(AND(Расчет!A1778<2000,Расчет!B1778<2000),Расчет!G1778,0)","v":0},null,null,{"$f":"IF(OR(Расчет!A1778>=2000,Расчет!B1778>=2000),Расчет!J1778,0)","v":0},{"$f":"IF(AND(Расчет!A1778<2000,Расчет!B1778<2000),Расчет!J1778,0)","v":0},null,null,{"$f":"IF(OR(Расчет!A1778>=2000,Расчет!B1778>=2000),Расчет!M1778,0)","v":0},{"$f":"IF(AND(Расчет!A1778<2000,Расчет!B1778<2000),Расчет!M1778,0)","v":0}]
[{"$f":"IF(OR(Расчет!A1779>=2000,Расчет!B1779>=2000),Расчет!G1779,0)","v":0},{"$f":"IF(AND(Расчет!A1779<2000,Расчет!B1779<2000),Расчет!G1779,0)","v":0},null,null,{"$f":"IF(OR(Расчет!A1779>=2000,Расчет!B1779>=2000),Расчет!J1779,0)","v":0},{"$f":"IF(AND(Расчет!A1779<2000,Расчет!B1779<2000),Расчет!J1779,0)","v":0},null,null,{"$f":"IF(OR(Расчет!A1779>=2000,Расчет!B1779>=2000),Расчет!M1779,0)","v":0},{"$f":"IF(AND(Расчет!A1779<2000,Расчет!B1779<2000),Расчет!M1779,0)","v":0}]
[{"$f":"IF(OR(Расчет!A1780>=2000,Расчет!B1780>=2000),Расчет!G1780,0)","v":0},{"$f":"IF(AND(Расчет!A1780<2000,Расчет!B1780<2000),Расчет!G1780,0)","v":0},null,null,{"$f":"IF(OR(Расчет!A1780>=2000,Расчет!B1780>=2000),Расчет!J1780,0)","v":0},{"$f":"IF(AND(Расчет!A1780<2000,Расчет!B1780<2000),Расчет!J1780,0)","v":0},null,null,{"$f":"IF(OR(Расчет!A1780>=2000,Расчет!B1780>=2000),Расчет!M1780,0)","v":0},{"$f":"IF(AND(Расчет!A1780<2000,Расчет!B1780<2000),Расчет!M1780,0)","v":0}]
[{"$f":"IF(OR(Расчет!A1781>=2000,Расчет!B1781>=2000),Расчет!G1781,0)","v":0},{"$f":"IF(AND(Расчет!A1781<2000,Расчет!B1781<2000),Расчет!G1781,0)","v":0},null,null,{"$f":"IF(OR(Расчет!A1781>=2000,Расчет!B1781>=2000),Расчет!J1781,0)","v":0},{"$f":"IF(AND(Расчет!A1781<2000,Расчет!B1781<2000),Расчет!J1781,0)","v":0},null,null,{"$f":"IF(OR(Расчет!A1781>=2000,Расчет!B1781>=2000),Расчет!M1781,0)","v":0},{"$f":"IF(AND(Расчет!A1781<2000,Расчет!B1781<2000),Расчет!M1781,0)","v":0}]
[{"$f":"IF(OR(Расчет!A1782>=2000,Расчет!B1782>=2000),Расчет!G1782,0)","v":0},{"$f":"IF(AND(Расчет!A1782<2000,Расчет!B1782<2000),Расчет!G1782,0)","v":0},null,null,{"$f":"IF(OR(Расчет!A1782>=2000,Расчет!B1782>=2000),Расчет!J1782,0)","v":0},{"$f":"IF(AND(Расчет!A1782<2000,Расчет!B1782<2000),Расчет!J1782,0)","v":0},null,null,{"$f":"IF(OR(Расчет!A1782>=2000,Расчет!B1782>=2000),Расчет!M1782,0)","v":0},{"$f":"IF(AND(Расчет!A1782<2000,Расчет!B1782<2000),Расчет!M1782,0)","v":0}]
[{"$f":"IF(OR(Расчет!A1783>=2000,Расчет!B1783>=2000),Расчет!G1783,0)","v":0},{"$f":"IF(AND(Расчет!A1783<2000,Расчет!B1783<2000),Расчет!G1783,0)","v":0},null,null,{"$f":"IF(OR(Расчет!A1783>=2000,Расчет!B1783>=2000),Расчет!J1783,0)","v":0},{"$f":"IF(AND(Расчет!A1783<2000,Расчет!B1783<2000),Расчет!J1783,0)","v":0},null,null,{"$f":"IF(OR(Расчет!A1783>=2000,Расчет!B1783>=2000),Расчет!M1783,0)","v":0},{"$f":"IF(AND(Расчет!A1783<2000,Расчет!B1783<2000),Расчет!M1783,0)","v":0}]
[{"$f":"IF(OR(Расчет!A1784>=2000,Расчет!B1784>=2000),Расчет!G1784,0)","v":0},{"$f":"IF(AND(Расчет!A1784<2000,Расчет!B1784<2000),Расчет!G1784,0)","v":0},null,null,{"$f":"IF(OR(Расчет!A1784>=2000,Расчет!B1784>=2000),Расчет!J1784,0)","v":0},{"$f":"IF(AND(Расчет!A1784<2000,Расчет!B1784<2000),Расчет!J1784,0)","v":0},null,null,{"$f":"IF(OR(Расчет!A1784>=2000,Расчет!B1784>=2000),Расчет!M1784,0)","v":0},{"$f":"IF(AND(Расчет!A1784<2000,Расчет!B1784<2000),Расчет!M1784,0)","v":0}]
[{"$f":"IF(OR(Расчет!A1785>=2000,Расчет!B1785>=2000),Расчет!G1785,0)","v":0},{"$f":"IF(AND(Расчет!A1785<2000,Расчет!B1785<2000),Расчет!G1785,0)","v":0},null,null,{"$f":"IF(OR(Расчет!A1785>=2000,Расчет!B1785>=2000),Расчет!J1785,0)","v":0},{"$f":"IF(AND(Расчет!A1785<2000,Расчет!B1785<2000),Расчет!J1785,0)","v":0},null,null,{"$f":"IF(OR(Расчет!A1785>=2000,Расчет!B1785>=2000),Расчет!M1785,0)","v":0},{"$f":"IF(AND(Расчет!A1785<2000,Расчет!B1785<2000),Расчет!M1785,0)","v":0}]
[{"$f":"IF(OR(Расчет!A1786>=2000,Расчет!B1786>=2000),Расчет!G1786,0)","v":0},{"$f":"IF(AND(Расчет!A1786<2000,Расчет!B1786<2000),Расчет!G1786,0)","v":0},null,null,{"$f":"IF(OR(Расчет!A1786>=2000,Расчет!B1786>=2000),Расчет!J1786,0)","v":0},{"$f":"IF(AND(Расчет!A1786<2000,Расчет!B1786<2000),Расчет!J1786,0)","v":0},null,null,{"$f":"IF(OR(Расчет!A1786>=2000,Расчет!B1786>=2000),Расчет!M1786,0)","v":0},{"$f":"IF(AND(Расчет!A1786<2000,Расчет!B1786<2000),Расчет!M1786,0)","v":0}]
[{"$f":"IF(OR(Расчет!A1787>=2000,Расчет!B1787>=2000),Расчет!G1787,0)","v":0},{"$f":"IF(AND(Расчет!A1787<2000,Расчет!B1787<2000),Расчет!G1787,0)","v":0},null,null,{"$f":"IF(OR(Расчет!A1787>=2000,Расчет!B1787>=2000),Расчет!J1787,0)","v":0},{"$f":"IF(AND(Расчет!A1787<2000,Расчет!B1787<2000),Расчет!J1787,0)","v":0},null,null,{"$f":"IF(OR(Расчет!A1787>=2000,Расчет!B1787>=2000),Расчет!M1787,0)","v":0},{"$f":"IF(AND(Расчет!A1787<2000,Расчет!B1787<2000),Расчет!M1787,0)","v":0}]
[{"$f":"IF(OR(Расчет!A1788>=2000,Расчет!B1788>=2000),Расчет!G1788,0)","v":0},{"$f":"IF(AND(Расчет!A1788<2000,Расчет!B1788<2000),Расчет!G1788,0)","v":0},null,null,{"$f":"IF(OR(Расчет!A1788>=2000,Расчет!B1788>=2000),Расчет!J1788,0)","v":0},{"$f":"IF(AND(Расчет!A1788<2000,Расчет!B1788<2000),Расчет!J1788,0)","v":0},null,null,{"$f":"IF(OR(Расчет!A1788>=2000,Расчет!B1788>=2000),Расчет!M1788,0)","v":0},{"$f":"IF(AND(Расчет!A1788<2000,Расчет!B1788<2000),Расчет!M1788,0)","v":0}]
[{"$f":"IF(OR(Расчет!A1789>=2000,Расчет!B1789>=2000),Расчет!G1789,0)","v":0},{"$f":"IF(AND(Расчет!A1789<2000,Расчет!B1789<2000),Расчет!G1789,0)","v":0},null,null,{"$f":"IF(OR(Расчет!A1789>=2000,Расчет!B1789>=2000),Расчет!J1789,0)","v":0},{"$f":"IF(AND(Расчет!A1789<2000,Расчет!B1789<2000),Расчет!J1789,0)","v":0},null,null,{"$f":"IF(OR(Расчет!A1789>=2000,Расчет!B1789>=2000),Расчет!M1789,0)","v":0},{"$f":"IF(AND(Расчет!A1789<2000,Расчет!B1789<2000),Расчет!M1789,0)","v":0}]
[{"$f":"IF(OR(Расчет!A1790>=2000,Расчет!B1790>=2000),Расчет!G1790,0)","v":0},{"$f":"IF(AND(Расчет!A1790<2000,Расчет!B1790<2000),Расчет!G1790,0)","v":0},null,null,{"$f":"IF(OR(Расчет!A1790>=2000,Расчет!B1790>=2000),Расчет!J1790,0)","v":0},{"$f":"IF(AND(Расчет!A1790<2000,Расчет!B1790<2000),Расчет!J1790,0)","v":0},null,null,{"$f":"IF(OR(Расчет!A1790>=2000,Расчет!B1790>=2000),Расчет!M1790,0)","v":0},{"$f":"IF(AND(Расчет!A1790<2000,Расчет!B1790<2000),Расчет!M1790,0)","v":0}]
[{"$f":"IF(OR(Расчет!A1791>=2000,Расчет!B1791>=2000),Расчет!G1791,0)","v":0},{"$f":"IF(AND(Расчет!A1791<2000,Расчет!B1791<2000),Расчет!G1791,0)","v":0},null,null,{"$f":"IF(OR(Расчет!A1791>=2000,Расчет!B1791>=2000),Расчет!J1791,0)","v":0},{"$f":"IF(AND(Расчет!A1791<2000,Расчет!B1791<2000),Расчет!J1791,0)","v":0},null,null,{"$f":"IF(OR(Расчет!A1791>=2000,Расчет!B1791>=2000),Расчет!M1791,0)","v":0},{"$f":"IF(AND(Расчет!A1791<2000,Расчет!B1791<2000),Расчет!M1791,0)","v":0}]
[{"$f":"IF(OR(Расчет!A1792>=2000,Расчет!B1792>=2000),Расчет!G1792,0)","v":0},{"$f":"IF(AND(Расчет!A1792<2000,Расчет!B1792<2000),Расчет!G1792,0)","v":0},null,null,{"$f":"IF(OR(Расчет!A1792>=2000,Расчет!B1792>=2000),Расчет!J1792,0)","v":0},{"$f":"IF(AND(Расчет!A1792<2000,Расчет!B1792<2000),Расчет!J1792,0)","v":0},null,null,{"$f":"IF(OR(Расчет!A1792>=2000,Расчет!B1792>=2000),Расчет!M1792,0)","v":0},{"$f":"IF(AND(Расчет!A1792<2000,Расчет!B1792<2000),Расчет!M1792,0)","v":0}]
[{"$f":"IF(OR(Расчет!A1793>=2000,Расчет!B1793>=2000),Расчет!G1793,0)","v":0},{"$f":"IF(AND(Расчет!A1793<2000,Расчет!B1793<2000),Расчет!G1793,0)","v":0},null,null,{"$f":"IF(OR(Расчет!A1793>=2000,Расчет!B1793>=2000),Расчет!J1793,0)","v":0},{"$f":"IF(AND(Расчет!A1793<2000,Расчет!B1793<2000),Расчет!J1793,0)","v":0},null,null,{"$f":"IF(OR(Расчет!A1793>=2000,Расчет!B1793>=2000),Расчет!M1793,0)","v":0},{"$f":"IF(AND(Расчет!A1793<2000,Расчет!B1793<2000),Расчет!M1793,0)","v":0}]
[{"$f":"IF(OR(Расчет!A1794>=2000,Расчет!B1794>=2000),Расчет!G1794,0)","v":0},{"$f":"IF(AND(Расчет!A1794<2000,Расчет!B1794<2000),Расчет!G1794,0)","v":0},null,null,{"$f":"IF(OR(Расчет!A1794>=2000,Расчет!B1794>=2000),Расчет!J1794,0)","v":0},{"$f":"IF(AND(Расчет!A1794<2000,Расчет!B1794<2000),Расчет!J1794,0)","v":0},null,null,{"$f":"IF(OR(Расчет!A1794>=2000,Расчет!B1794>=2000),Расчет!M1794,0)","v":0},{"$f":"IF(AND(Расчет!A1794<2000,Расчет!B1794<2000),Расчет!M1794,0)","v":0}]
[{"$f":"IF(OR(Расчет!A1795>=2000,Расчет!B1795>=2000),Расчет!G1795,0)","v":0},{"$f":"IF(AND(Расчет!A1795<2000,Расчет!B1795<2000),Расчет!G1795,0)","v":0},null,null,{"$f":"IF(OR(Расчет!A1795>=2000,Расчет!B1795>=2000),Расчет!J1795,0)","v":0},{"$f":"IF(AND(Расчет!A1795<2000,Расчет!B1795<2000),Расчет!J1795,0)","v":0},null,null,{"$f":"IF(OR(Расчет!A1795>=2000,Расчет!B1795>=2000),Расчет!M1795,0)","v":0},{"$f":"IF(AND(Расчет!A1795<2000,Расчет!B1795<2000),Расчет!M1795,0)","v":0}]
[{"$f":"IF(OR(Расчет!A1796>=2000,Расчет!B1796>=2000),Расчет!G1796,0)","v":0},{"$f":"IF(AND(Расчет!A1796<2000,Расчет!B1796<2000),Расчет!G1796,0)","v":0},null,null,{"$f":"IF(OR(Расчет!A1796>=2000,Расчет!B1796>=2000),Расчет!J1796,0)","v":0},{"$f":"IF(AND(Расчет!A1796<2000,Расчет!B1796<2000),Расчет!J1796,0)","v":0},null,null,{"$f":"IF(OR(Расчет!A1796>=2000,Расчет!B1796>=2000),Расчет!M1796,0)","v":0},{"$f":"IF(AND(Расчет!A1796<2000,Расчет!B1796<2000),Расчет!M1796,0)","v":0}]
[{"$f":"IF(OR(Расчет!A1797>=2000,Расчет!B1797>=2000),Расчет!G1797,0)","v":0},{"$f":"IF(AND(Расчет!A1797<2000,Расчет!B1797<2000),Расчет!G1797,0)","v":0},null,null,{"$f":"IF(OR(Расчет!A1797>=2000,Расчет!B1797>=2000),Расчет!J1797,0)","v":0},{"$f":"IF(AND(Расчет!A1797<2000,Расчет!B1797<2000),Расчет!J1797,0)","v":0},null,null,{"$f":"IF(OR(Расчет!A1797>=2000,Расчет!B1797>=2000),Расчет!M1797,0)","v":0},{"$f":"IF(AND(Расчет!A1797<2000,Расчет!B1797<2000),Расчет!M1797,0)","v":0}]
[{"$f":"IF(OR(Расчет!A1798>=2000,Расчет!B1798>=2000),Расчет!G1798,0)","v":0},{"$f":"IF(AND(Расчет!A1798<2000,Расчет!B1798<2000),Расчет!G1798,0)","v":0},null,null,{"$f":"IF(OR(Расчет!A1798>=2000,Расчет!B1798>=2000),Расчет!J1798,0)","v":0},{"$f":"IF(AND(Расчет!A1798<2000,Расчет!B1798<2000),Расчет!J1798,0)","v":0},null,null,{"$f":"IF(OR(Расчет!A1798>=2000,Расчет!B1798>=2000),Расчет!M1798,0)","v":0},{"$f":"IF(AND(Расчет!A1798<2000,Расчет!B1798<2000),Расчет!M1798,0)","v":0}]
[{"$f":"IF(OR(Расчет!A1799>=2000,Расчет!B1799>=2000),Расчет!G1799,0)","v":0},{"$f":"IF(AND(Расчет!A1799<2000,Расчет!B1799<2000),Расчет!G1799,0)","v":0},null,null,{"$f":"IF(OR(Расчет!A1799>=2000,Расчет!B1799>=2000),Расчет!J1799,0)","v":0},{"$f":"IF(AND(Расчет!A1799<2000,Расчет!B1799<2000),Расчет!J1799,0)","v":0},null,null,{"$f":"IF(OR(Расчет!A1799>=2000,Расчет!B1799>=2000),Расчет!M1799,0)","v":0},{"$f":"IF(AND(Расчет!A1799<2000,Расчет!B1799<2000),Расчет!M1799,0)","v":0}]
[{"$f":"IF(OR(Расчет!A1800>=2000,Расчет!B1800>=2000),Расчет!G1800,0)","v":0},{"$f":"IF(AND(Расчет!A1800<2000,Расчет!B1800<2000),Расчет!G1800,0)","v":0},null,null,{"$f":"IF(OR(Расчет!A1800>=2000,Расчет!B1800>=2000),Расчет!J1800,0)","v":0},{"$f":"IF(AND(Расчет!A1800<2000,Расчет!B1800<2000),Расчет!J1800,0)","v":0},null,null,{"$f":"IF(OR(Расчет!A1800>=2000,Расчет!B1800>=2000),Расчет!M1800,0)","v":0},{"$f":"IF(AND(Расчет!A1800<2000,Расчет!B1800<2000),Расчет!M1800,0)","v":0}]
[{"$f":"IF(OR(Расчет!A1801>=2000,Расчет!B1801>=2000),Расчет!G1801,0)","v":0},{"$f":"IF(AND(Расчет!A1801<2000,Расчет!B1801<2000),Расчет!G1801,0)","v":0},null,null,{"$f":"IF(OR(Расчет!A1801>=2000,Расчет!B1801>=2000),Расчет!J1801,0)","v":0},{"$f":"IF(AND(Расчет!A1801<2000,Расчет!B1801<2000),Расчет!J1801,0)","v":0},null,null,{"$f":"IF(OR(Расчет!A1801>=2000,Расчет!B1801>=2000),Расчет!M1801,0)","v":0},{"$f":"IF(AND(Расчет!A1801<2000,Расчет!B1801<2000),Расчет!M1801,0)","v":0}]
[{"$f":"IF(OR(Расчет!A1802>=2000,Расчет!B1802>=2000),Расчет!G1802,0)","v":0},{"$f":"IF(AND(Расчет!A1802<2000,Расчет!B1802<2000),Расчет!G1802,0)","v":0},null,null,{"$f":"IF(OR(Расчет!A1802>=2000,Расчет!B1802>=2000),Расчет!J1802,0)","v":0},{"$f":"IF(AND(Расчет!A1802<2000,Расчет!B1802<2000),Расчет!J1802,0)","v":0},null,null,{"$f":"IF(OR(Расчет!A1802>=2000,Расчет!B1802>=2000),Расчет!M1802,0)","v":0},{"$f":"IF(AND(Расчет!A1802<2000,Расчет!B1802<2000),Расчет!M1802,0)","v":0}]
[{"$f":"IF(OR(Расчет!A1803>=2000,Расчет!B1803>=2000),Расчет!G1803,0)","v":0},{"$f":"IF(AND(Расчет!A1803<2000,Расчет!B1803<2000),Расчет!G1803,0)","v":0},null,null,{"$f":"IF(OR(Расчет!A1803>=2000,Расчет!B1803>=2000),Расчет!J1803,0)","v":0},{"$f":"IF(AND(Расчет!A1803<2000,Расчет!B1803<2000),Расчет!J1803,0)","v":0},null,null,{"$f":"IF(OR(Расчет!A1803>=2000,Расчет!B1803>=2000),Расчет!M1803,0)","v":0},{"$f":"IF(AND(Расчет!A1803<2000,Расчет!B1803<2000),Расчет!M1803,0)","v":0}]
[{"$f":"IF(OR(Расчет!A1804>=2000,Расчет!B1804>=2000),Расчет!G1804,0)","v":0},{"$f":"IF(AND(Расчет!A1804<2000,Расчет!B1804<2000),Расчет!G1804,0)","v":0},null,null,{"$f":"IF(OR(Расчет!A1804>=2000,Расчет!B1804>=2000),Расчет!J1804,0)","v":0},{"$f":"IF(AND(Расчет!A1804<2000,Расчет!B1804<2000),Расчет!J1804,0)","v":0},null,null,{"$f":"IF(OR(Расчет!A1804>=2000,Расчет!B1804>=2000),Расчет!M1804,0)","v":0},{"$f":"IF(AND(Расчет!A1804<2000,Расчет!B1804<2000),Расчет!M1804,0)","v":0}]
[{"$f":"IF(OR(Расчет!A1805>=2000,Расчет!B1805>=2000),Расчет!G1805,0)","v":0},{"$f":"IF(AND(Расчет!A1805<2000,Расчет!B1805<2000),Расчет!G1805,0)","v":0},null,null,{"$f":"IF(OR(Расчет!A1805>=2000,Расчет!B1805>=2000),Расчет!J1805,0)","v":0},{"$f":"IF(AND(Расчет!A1805<2000,Расчет!B1805<2000),Расчет!J1805,0)","v":0},null,null,{"$f":"IF(OR(Расчет!A1805>=2000,Расчет!B1805>=2000),Расчет!M1805,0)","v":0},{"$f":"IF(AND(Расчет!A1805<2000,Расчет!B1805<2000),Расчет!M1805,0)","v":0}]
[{"$f":"IF(OR(Расчет!A1806>=2000,Расчет!B1806>=2000),Расчет!G1806,0)","v":0},{"$f":"IF(AND(Расчет!A1806<2000,Расчет!B1806<2000),Расчет!G1806,0)","v":0},null,null,{"$f":"IF(OR(Расчет!A1806>=2000,Расчет!B1806>=2000),Расчет!J1806,0)","v":0},{"$f":"IF(AND(Расчет!A1806<2000,Расчет!B1806<2000),Расчет!J1806,0)","v":0},null,null,{"$f":"IF(OR(Расчет!A1806>=2000,Расчет!B1806>=2000),Расчет!M1806,0)","v":0},{"$f":"IF(AND(Расчет!A1806<2000,Расчет!B1806<2000),Расчет!M1806,0)","v":0}]
[{"$f":"IF(OR(Расчет!A1807>=2000,Расчет!B1807>=2000),Расчет!G1807,0)","v":0},{"$f":"IF(AND(Расчет!A1807<2000,Расчет!B1807<2000),Расчет!G1807,0)","v":0},null,null,{"$f":"IF(OR(Расчет!A1807>=2000,Расчет!B1807>=2000),Расчет!J1807,0)","v":0},{"$f":"IF(AND(Расчет!A1807<2000,Расчет!B1807<2000),Расчет!J1807,0)","v":0},null,null,{"$f":"IF(OR(Расчет!A1807>=2000,Расчет!B1807>=2000),Расчет!M1807,0)","v":0},{"$f":"IF(AND(Расчет!A1807<2000,Расчет!B1807<2000),Расчет!M1807,0)","v":0}]
[{"$f":"IF(OR(Расчет!A1808>=2000,Расчет!B1808>=2000),Расчет!G1808,0)","v":0},{"$f":"IF(AND(Расчет!A1808<2000,Расчет!B1808<2000),Расчет!G1808,0)","v":0},null,null,{"$f":"IF(OR(Расчет!A1808>=2000,Расчет!B1808>=2000),Расчет!J1808,0)","v":0},{"$f":"IF(AND(Расчет!A1808<2000,Расчет!B1808<2000),Расчет!J1808,0)","v":0},null,null,{"$f":"IF(OR(Расчет!A1808>=2000,Расчет!B1808>=2000),Расчет!M1808,0)","v":0},{"$f":"IF(AND(Расчет!A1808<2000,Расчет!B1808<2000),Расчет!M1808,0)","v":0}]
[{"$f":"IF(OR(Расчет!A1809>=2000,Расчет!B1809>=2000),Расчет!G1809,0)","v":0},{"$f":"IF(AND(Расчет!A1809<2000,Расчет!B1809<2000),Расчет!G1809,0)","v":0},null,null,{"$f":"IF(OR(Расчет!A1809>=2000,Расчет!B1809>=2000),Расчет!J1809,0)","v":0},{"$f":"IF(AND(Расчет!A1809<2000,Расчет!B1809<2000),Расчет!J1809,0)","v":0},null,null,{"$f":"IF(OR(Расчет!A1809>=2000,Расчет!B1809>=2000),Расчет!M1809,0)","v":0},{"$f":"IF(AND(Расчет!A1809<2000,Расчет!B1809<2000),Расчет!M1809,0)","v":0}]
[{"$f":"IF(OR(Расчет!A1810>=2000,Расчет!B1810>=2000),Расчет!G1810,0)","v":0},{"$f":"IF(AND(Расчет!A1810<2000,Расчет!B1810<2000),Расчет!G1810,0)","v":0},null,null,{"$f":"IF(OR(Расчет!A1810>=2000,Расчет!B1810>=2000),Расчет!J1810,0)","v":0},{"$f":"IF(AND(Расчет!A1810<2000,Расчет!B1810<2000),Расчет!J1810,0)","v":0},null,null,{"$f":"IF(OR(Расчет!A1810>=2000,Расчет!B1810>=2000),Расчет!M1810,0)","v":0},{"$f":"IF(AND(Расчет!A1810<2000,Расчет!B1810<2000),Расчет!M1810,0)","v":0}]
[{"$f":"IF(OR(Расчет!A1811>=2000,Расчет!B1811>=2000),Расчет!G1811,0)","v":0},{"$f":"IF(AND(Расчет!A1811<2000,Расчет!B1811<2000),Расчет!G1811,0)","v":0},null,null,{"$f":"IF(OR(Расчет!A1811>=2000,Расчет!B1811>=2000),Расчет!J1811,0)","v":0},{"$f":"IF(AND(Расчет!A1811<2000,Расчет!B1811<2000),Расчет!J1811,0)","v":0},null,null,{"$f":"IF(OR(Расчет!A1811>=2000,Расчет!B1811>=2000),Расчет!M1811,0)","v":0},{"$f":"IF(AND(Расчет!A1811<2000,Расчет!B1811<2000),Расчет!M1811,0)","v":0}]
[{"$f":"IF(OR(Расчет!A1812>=2000,Расчет!B1812>=2000),Расчет!G1812,0)","v":0},{"$f":"IF(AND(Расчет!A1812<2000,Расчет!B1812<2000),Расчет!G1812,0)","v":0},null,null,{"$f":"IF(OR(Расчет!A1812>=2000,Расчет!B1812>=2000),Расчет!J1812,0)","v":0},{"$f":"IF(AND(Расчет!A1812<2000,Расчет!B1812<2000),Расчет!J1812,0)","v":0},null,null,{"$f":"IF(OR(Расчет!A1812>=2000,Расчет!B1812>=2000),Расчет!M1812,0)","v":0},{"$f":"IF(AND(Расчет!A1812<2000,Расчет!B1812<2000),Расчет!M1812,0)","v":0}]
[{"$f":"IF(OR(Расчет!A1813>=2000,Расчет!B1813>=2000),Расчет!G1813,0)","v":0},{"$f":"IF(AND(Расчет!A1813<2000,Расчет!B1813<2000),Расчет!G1813,0)","v":0},null,null,{"$f":"IF(OR(Расчет!A1813>=2000,Расчет!B1813>=2000),Расчет!J1813,0)","v":0},{"$f":"IF(AND(Расчет!A1813<2000,Расчет!B1813<2000),Расчет!J1813,0)","v":0},null,null,{"$f":"IF(OR(Расчет!A1813>=2000,Расчет!B1813>=2000),Расчет!M1813,0)","v":0},{"$f":"IF(AND(Расчет!A1813<2000,Расчет!B1813<2000),Расчет!M1813,0)","v":0}]
[{"$f":"IF(OR(Расчет!A1814>=2000,Расчет!B1814>=2000),Расчет!G1814,0)","v":0},{"$f":"IF(AND(Расчет!A1814<2000,Расчет!B1814<2000),Расчет!G1814,0)","v":0},null,null,{"$f":"IF(OR(Расчет!A1814>=2000,Расчет!B1814>=2000),Расчет!J1814,0)","v":0},{"$f":"IF(AND(Расчет!A1814<2000,Расчет!B1814<2000),Расчет!J1814,0)","v":0},null,null,{"$f":"IF(OR(Расчет!A1814>=2000,Расчет!B1814>=2000),Расчет!M1814,0)","v":0},{"$f":"IF(AND(Расчет!A1814<2000,Расчет!B1814<2000),Расчет!M1814,0)","v":0}]
[{"$f":"IF(OR(Расчет!A1815>=2000,Расчет!B1815>=2000),Расчет!G1815,0)","v":0},{"$f":"IF(AND(Расчет!A1815<2000,Расчет!B1815<2000),Расчет!G1815,0)","v":0},null,null,{"$f":"IF(OR(Расчет!A1815>=2000,Расчет!B1815>=2000),Расчет!J1815,0)","v":0},{"$f":"IF(AND(Расчет!A1815<2000,Расчет!B1815<2000),Расчет!J1815,0)","v":0},null,null,{"$f":"IF(OR(Расчет!A1815>=2000,Расчет!B1815>=2000),Расчет!M1815,0)","v":0},{"$f":"IF(AND(Расчет!A1815<2000,Расчет!B1815<2000),Расчет!M1815,0)","v":0}]
[{"$f":"IF(OR(Расчет!A1816>=2000,Расчет!B1816>=2000),Расчет!G1816,0)","v":0},{"$f":"IF(AND(Расчет!A1816<2000,Расчет!B1816<2000),Расчет!G1816,0)","v":0},null,null,{"$f":"IF(OR(Расчет!A1816>=2000,Расчет!B1816>=2000),Расчет!J1816,0)","v":0},{"$f":"IF(AND(Расчет!A1816<2000,Расчет!B1816<2000),Расчет!J1816,0)","v":0},null,null,{"$f":"IF(OR(Расчет!A1816>=2000,Расчет!B1816>=2000),Расчет!M1816,0)","v":0},{"$f":"IF(AND(Расчет!A1816<2000,Расчет!B1816<2000),Расчет!M1816,0)","v":0}]
[{"$f":"IF(OR(Расчет!A1817>=2000,Расчет!B1817>=2000),Расчет!G1817,0)","v":0},{"$f":"IF(AND(Расчет!A1817<2000,Расчет!B1817<2000),Расчет!G1817,0)","v":0},null,null,{"$f":"IF(OR(Расчет!A1817>=2000,Расчет!B1817>=2000),Расчет!J1817,0)","v":0},{"$f":"IF(AND(Расчет!A1817<2000,Расчет!B1817<2000),Расчет!J1817,0)","v":0},null,null,{"$f":"IF(OR(Расчет!A1817>=2000,Расчет!B1817>=2000),Расчет!M1817,0)","v":0},{"$f":"IF(AND(Расчет!A1817<2000,Расчет!B1817<2000),Расчет!M1817,0)","v":0}]
[{"$f":"IF(OR(Расчет!A1818>=2000,Расчет!B1818>=2000),Расчет!G1818,0)","v":0},{"$f":"IF(AND(Расчет!A1818<2000,Расчет!B1818<2000),Расчет!G1818,0)","v":0},null,null,{"$f":"IF(OR(Расчет!A1818>=2000,Расчет!B1818>=2000),Расчет!J1818,0)","v":0},{"$f":"IF(AND(Расчет!A1818<2000,Расчет!B1818<2000),Расчет!J1818,0)","v":0},null,null,{"$f":"IF(OR(Расчет!A1818>=2000,Расчет!B1818>=2000),Расчет!M1818,0)","v":0},{"$f":"IF(AND(Расчет!A1818<2000,Расчет!B1818<2000),Расчет!M1818,0)","v":0}]
[{"$f":"IF(OR(Расчет!A1819>=2000,Расчет!B1819>=2000),Расчет!G1819,0)","v":0},{"$f":"IF(AND(Расчет!A1819<2000,Расчет!B1819<2000),Расчет!G1819,0)","v":0},null,null,{"$f":"IF(OR(Расчет!A1819>=2000,Расчет!B1819>=2000),Расчет!J1819,0)","v":0},{"$f":"IF(AND(Расчет!A1819<2000,Расчет!B1819<2000),Расчет!J1819,0)","v":0},null,null,{"$f":"IF(OR(Расчет!A1819>=2000,Расчет!B1819>=2000),Расчет!M1819,0)","v":0},{"$f":"IF(AND(Расчет!A1819<2000,Расчет!B1819<2000),Расчет!M1819,0)","v":0}]
[{"$f":"IF(OR(Расчет!A1820>=2000,Расчет!B1820>=2000),Расчет!G1820,0)","v":0},{"$f":"IF(AND(Расчет!A1820<2000,Расчет!B1820<2000),Расчет!G1820,0)","v":0},null,null,{"$f":"IF(OR(Расчет!A1820>=2000,Расчет!B1820>=2000),Расчет!J1820,0)","v":0},{"$f":"IF(AND(Расчет!A1820<2000,Расчет!B1820<2000),Расчет!J1820,0)","v":0},null,null,{"$f":"IF(OR(Расчет!A1820>=2000,Расчет!B1820>=2000),Расчет!M1820,0)","v":0},{"$f":"IF(AND(Расчет!A1820<2000,Расчет!B1820<2000),Расчет!M1820,0)","v":0}]
[{"$f":"IF(OR(Расчет!A1821>=2000,Расчет!B1821>=2000),Расчет!G1821,0)","v":0},{"$f":"IF(AND(Расчет!A1821<2000,Расчет!B1821<2000),Расчет!G1821,0)","v":0},null,null,{"$f":"IF(OR(Расчет!A1821>=2000,Расчет!B1821>=2000),Расчет!J1821,0)","v":0},{"$f":"IF(AND(Расчет!A1821<2000,Расчет!B1821<2000),Расчет!J1821,0)","v":0},null,null,{"$f":"IF(OR(Расчет!A1821>=2000,Расчет!B1821>=2000),Расчет!M1821,0)","v":0},{"$f":"IF(AND(Расчет!A1821<2000,Расчет!B1821<2000),Расчет!M1821,0)","v":0}]
[{"$f":"IF(OR(Расчет!A1822>=2000,Расчет!B1822>=2000),Расчет!G1822,0)","v":0},{"$f":"IF(AND(Расчет!A1822<2000,Расчет!B1822<2000),Расчет!G1822,0)","v":0},null,null,{"$f":"IF(OR(Расчет!A1822>=2000,Расчет!B1822>=2000),Расчет!J1822,0)","v":0},{"$f":"IF(AND(Расчет!A1822<2000,Расчет!B1822<2000),Расчет!J1822,0)","v":0},null,null,{"$f":"IF(OR(Расчет!A1822>=2000,Расчет!B1822>=2000),Расчет!M1822,0)","v":0},{"$f":"IF(AND(Расчет!A1822<2000,Расчет!B1822<2000),Расчет!M1822,0)","v":0}]
[{"$f":"IF(OR(Расчет!A1823>=2000,Расчет!B1823>=2000),Расчет!G1823,0)","v":0},{"$f":"IF(AND(Расчет!A1823<2000,Расчет!B1823<2000),Расчет!G1823,0)","v":0},null,null,{"$f":"IF(OR(Расчет!A1823>=2000,Расчет!B1823>=2000),Расчет!J1823,0)","v":0},{"$f":"IF(AND(Расчет!A1823<2000,Расчет!B1823<2000),Расчет!J1823,0)","v":0},null,null,{"$f":"IF(OR(Расчет!A1823>=2000,Расчет!B1823>=2000),Расчет!M1823,0)","v":0},{"$f":"IF(AND(Расчет!A1823<2000,Расчет!B1823<2000),Расчет!M1823,0)","v":0}]
[{"$f":"IF(OR(Расчет!A1824>=2000,Расчет!B1824>=2000),Расчет!G1824,0)","v":0},{"$f":"IF(AND(Расчет!A1824<2000,Расчет!B1824<2000),Расчет!G1824,0)","v":0},null,null,{"$f":"IF(OR(Расчет!A1824>=2000,Расчет!B1824>=2000),Расчет!J1824,0)","v":0},{"$f":"IF(AND(Расчет!A1824<2000,Расчет!B1824<2000),Расчет!J1824,0)","v":0},null,null,{"$f":"IF(OR(Расчет!A1824>=2000,Расчет!B1824>=2000),Расчет!M1824,0)","v":0},{"$f":"IF(AND(Расчет!A1824<2000,Расчет!B1824<2000),Расчет!M1824,0)","v":0}]
[{"$f":"IF(OR(Расчет!A1825>=2000,Расчет!B1825>=2000),Расчет!G1825,0)","v":0},{"$f":"IF(AND(Расчет!A1825<2000,Расчет!B1825<2000),Расчет!G1825,0)","v":0},null,null,{"$f":"IF(OR(Расчет!A1825>=2000,Расчет!B1825>=2000),Расчет!J1825,0)","v":0},{"$f":"IF(AND(Расчет!A1825<2000,Расчет!B1825<2000),Расчет!J1825,0)","v":0},null,null,{"$f":"IF(OR(Расчет!A1825>=2000,Расчет!B1825>=2000),Расчет!M1825,0)","v":0},{"$f":"IF(AND(Расчет!A1825<2000,Расчет!B1825<2000),Расчет!M1825,0)","v":0}]
[{"$f":"IF(OR(Расчет!A1826>=2000,Расчет!B1826>=2000),Расчет!G1826,0)","v":0},{"$f":"IF(AND(Расчет!A1826<2000,Расчет!B1826<2000),Расчет!G1826,0)","v":0},null,null,{"$f":"IF(OR(Расчет!A1826>=2000,Расчет!B1826>=2000),Расчет!J1826,0)","v":0},{"$f":"IF(AND(Расчет!A1826<2000,Расчет!B1826<2000),Расчет!J1826,0)","v":0},null,null,{"$f":"IF(OR(Расчет!A1826>=2000,Расчет!B1826>=2000),Расчет!M1826,0)","v":0},{"$f":"IF(AND(Расчет!A1826<2000,Расчет!B1826<2000),Расчет!M1826,0)","v":0}]
[{"$f":"IF(OR(Расчет!A1827>=2000,Расчет!B1827>=2000),Расчет!G1827,0)","v":0},{"$f":"IF(AND(Расчет!A1827<2000,Расчет!B1827<2000),Расчет!G1827,0)","v":0},null,null,{"$f":"IF(OR(Расчет!A1827>=2000,Расчет!B1827>=2000),Расчет!J1827,0)","v":0},{"$f":"IF(AND(Расчет!A1827<2000,Расчет!B1827<2000),Расчет!J1827,0)","v":0},null,null,{"$f":"IF(OR(Расчет!A1827>=2000,Расчет!B1827>=2000),Расчет!M1827,0)","v":0},{"$f":"IF(AND(Расчет!A1827<2000,Расчет!B1827<2000),Расчет!M1827,0)","v":0}]
[{"$f":"IF(OR(Расчет!A1828>=2000,Расчет!B1828>=2000),Расчет!G1828,0)","v":0},{"$f":"IF(AND(Расчет!A1828<2000,Расчет!B1828<2000),Расчет!G1828,0)","v":0},null,null,{"$f":"IF(OR(Расчет!A1828>=2000,Расчет!B1828>=2000),Расчет!J1828,0)","v":0},{"$f":"IF(AND(Расчет!A1828<2000,Расчет!B1828<2000),Расчет!J1828,0)","v":0},null,null,{"$f":"IF(OR(Расчет!A1828>=2000,Расчет!B1828>=2000),Расчет!M1828,0)","v":0},{"$f":"IF(AND(Расчет!A1828<2000,Расчет!B1828<2000),Расчет!M1828,0)","v":0}]
[{"$f":"IF(OR(Расчет!A1829>=2000,Расчет!B1829>=2000),Расчет!G1829,0)","v":0},{"$f":"IF(AND(Расчет!A1829<2000,Расчет!B1829<2000),Расчет!G1829,0)","v":0},null,null,{"$f":"IF(OR(Расчет!A1829>=2000,Расчет!B1829>=2000),Расчет!J1829,0)","v":0},{"$f":"IF(AND(Расчет!A1829<2000,Расчет!B1829<2000),Расчет!J1829,0)","v":0},null,null,{"$f":"IF(OR(Расчет!A1829>=2000,Расчет!B1829>=2000),Расчет!M1829,0)","v":0},{"$f":"IF(AND(Расчет!A1829<2000,Расчет!B1829<2000),Расчет!M1829,0)","v":0}]
[{"$f":"IF(OR(Расчет!A1830>=2000,Расчет!B1830>=2000),Расчет!G1830,0)","v":0},{"$f":"IF(AND(Расчет!A1830<2000,Расчет!B1830<2000),Расчет!G1830,0)","v":0},null,null,{"$f":"IF(OR(Расчет!A1830>=2000,Расчет!B1830>=2000),Расчет!J1830,0)","v":0},{"$f":"IF(AND(Расчет!A1830<2000,Расчет!B1830<2000),Расчет!J1830,0)","v":0},null,null,{"$f":"IF(OR(Расчет!A1830>=2000,Расчет!B1830>=2000),Расчет!M1830,0)","v":0},{"$f":"IF(AND(Расчет!A1830<2000,Расчет!B1830<2000),Расчет!M1830,0)","v":0}]
[{"$f":"IF(OR(Расчет!A1831>=2000,Расчет!B1831>=2000),Расчет!G1831,0)","v":0},{"$f":"IF(AND(Расчет!A1831<2000,Расчет!B1831<2000),Расчет!G1831,0)","v":0},null,null,{"$f":"IF(OR(Расчет!A1831>=2000,Расчет!B1831>=2000),Расчет!J1831,0)","v":0},{"$f":"IF(AND(Расчет!A1831<2000,Расчет!B1831<2000),Расчет!J1831,0)","v":0},null,null,{"$f":"IF(OR(Расчет!A1831>=2000,Расчет!B1831>=2000),Расчет!M1831,0)","v":0},{"$f":"IF(AND(Расчет!A1831<2000,Расчет!B1831<2000),Расчет!M1831,0)","v":0}]
[{"$f":"IF(OR(Расчет!A1832>=2000,Расчет!B1832>=2000),Расчет!G1832,0)","v":0},{"$f":"IF(AND(Расчет!A1832<2000,Расчет!B1832<2000),Расчет!G1832,0)","v":0},null,null,{"$f":"IF(OR(Расчет!A1832>=2000,Расчет!B1832>=2000),Расчет!J1832,0)","v":0},{"$f":"IF(AND(Расчет!A1832<2000,Расчет!B1832<2000),Расчет!J1832,0)","v":0},null,null,{"$f":"IF(OR(Расчет!A1832>=2000,Расчет!B1832>=2000),Расчет!M1832,0)","v":0},{"$f":"IF(AND(Расчет!A1832<2000,Расчет!B1832<2000),Расчет!M1832,0)","v":0}]
[{"$f":"IF(OR(Расчет!A1833>=2000,Расчет!B1833>=2000),Расчет!G1833,0)","v":0},{"$f":"IF(AND(Расчет!A1833<2000,Расчет!B1833<2000),Расчет!G1833,0)","v":0},null,null,{"$f":"IF(OR(Расчет!A1833>=2000,Расчет!B1833>=2000),Расчет!J1833,0)","v":0},{"$f":"IF(AND(Расчет!A1833<2000,Расчет!B1833<2000),Расчет!J1833,0)","v":0},null,null,{"$f":"IF(OR(Расчет!A1833>=2000,Расчет!B1833>=2000),Расчет!M1833,0)","v":0},{"$f":"IF(AND(Расчет!A1833<2000,Расчет!B1833<2000),Расчет!M1833,0)","v":0}]
[{"$f":"IF(OR(Расчет!A1834>=2000,Расчет!B1834>=2000),Расчет!G1834,0)","v":0},{"$f":"IF(AND(Расчет!A1834<2000,Расчет!B1834<2000),Расчет!G1834,0)","v":0},null,null,{"$f":"IF(OR(Расчет!A1834>=2000,Расчет!B1834>=2000),Расчет!J1834,0)","v":0},{"$f":"IF(AND(Расчет!A1834<2000,Расчет!B1834<2000),Расчет!J1834,0)","v":0},null,null,{"$f":"IF(OR(Расчет!A1834>=2000,Расчет!B1834>=2000),Расчет!M1834,0)","v":0},{"$f":"IF(AND(Расчет!A1834<2000,Расчет!B1834<2000),Расчет!M1834,0)","v":0}]
[{"$f":"IF(OR(Расчет!A1835>=2000,Расчет!B1835>=2000),Расчет!G1835,0)","v":0},{"$f":"IF(AND(Расчет!A1835<2000,Расчет!B1835<2000),Расчет!G1835,0)","v":0},null,null,{"$f":"IF(OR(Расчет!A1835>=2000,Расчет!B1835>=2000),Расчет!J1835,0)","v":0},{"$f":"IF(AND(Расчет!A1835<2000,Расчет!B1835<2000),Расчет!J1835,0)","v":0},null,null,{"$f":"IF(OR(Расчет!A1835>=2000,Расчет!B1835>=2000),Расчет!M1835,0)","v":0},{"$f":"IF(AND(Расчет!A1835<2000,Расчет!B1835<2000),Расчет!M1835,0)","v":0}]
[{"$f":"IF(OR(Расчет!A1836>=2000,Расчет!B1836>=2000),Расчет!G1836,0)","v":0},{"$f":"IF(AND(Расчет!A1836<2000,Расчет!B1836<2000),Расчет!G1836,0)","v":0},null,null,{"$f":"IF(OR(Расчет!A1836>=2000,Расчет!B1836>=2000),Расчет!J1836,0)","v":0},{"$f":"IF(AND(Расчет!A1836<2000,Расчет!B1836<2000),Расчет!J1836,0)","v":0},null,null,{"$f":"IF(OR(Расчет!A1836>=2000,Расчет!B1836>=2000),Расчет!M1836,0)","v":0},{"$f":"IF(AND(Расчет!A1836<2000,Расчет!B1836<2000),Расчет!M1836,0)","v":0}]
[{"$f":"IF(OR(Расчет!A1837>=2000,Расчет!B1837>=2000),Расчет!G1837,0)","v":0},{"$f":"IF(AND(Расчет!A1837<2000,Расчет!B1837<2000),Расчет!G1837,0)","v":0},null,null,{"$f":"IF(OR(Расчет!A1837>=2000,Расчет!B1837>=2000),Расчет!J1837,0)","v":0},{"$f":"IF(AND(Расчет!A1837<2000,Расчет!B1837<2000),Расчет!J1837,0)","v":0},null,null,{"$f":"IF(OR(Расчет!A1837>=2000,Расчет!B1837>=2000),Расчет!M1837,0)","v":0},{"$f":"IF(AND(Расчет!A1837<2000,Расчет!B1837<2000),Расчет!M1837,0)","v":0}]
[{"$f":"IF(OR(Расчет!A1838>=2000,Расчет!B1838>=2000),Расчет!G1838,0)","v":0},{"$f":"IF(AND(Расчет!A1838<2000,Расчет!B1838<2000),Расчет!G1838,0)","v":0},null,null,{"$f":"IF(OR(Расчет!A1838>=2000,Расчет!B1838>=2000),Расчет!J1838,0)","v":0},{"$f":"IF(AND(Расчет!A1838<2000,Расчет!B1838<2000),Расчет!J1838,0)","v":0},null,null,{"$f":"IF(OR(Расчет!A1838>=2000,Расчет!B1838>=2000),Расчет!M1838,0)","v":0},{"$f":"IF(AND(Расчет!A1838<2000,Расчет!B1838<2000),Расчет!M1838,0)","v":0}]
[{"$f":"IF(OR(Расчет!A1839>=2000,Расчет!B1839>=2000),Расчет!G1839,0)","v":0},{"$f":"IF(AND(Расчет!A1839<2000,Расчет!B1839<2000),Расчет!G1839,0)","v":0},null,null,{"$f":"IF(OR(Расчет!A1839>=2000,Расчет!B1839>=2000),Расчет!J1839,0)","v":0},{"$f":"IF(AND(Расчет!A1839<2000,Расчет!B1839<2000),Расчет!J1839,0)","v":0},null,null,{"$f":"IF(OR(Расчет!A1839>=2000,Расчет!B1839>=2000),Расчет!M1839,0)","v":0},{"$f":"IF(AND(Расчет!A1839<2000,Расчет!B1839<2000),Расчет!M1839,0)","v":0}]
[{"$f":"IF(OR(Расчет!A1840>=2000,Расчет!B1840>=2000),Расчет!G1840,0)","v":0},{"$f":"IF(AND(Расчет!A1840<2000,Расчет!B1840<2000),Расчет!G1840,0)","v":0},null,null,{"$f":"IF(OR(Расчет!A1840>=2000,Расчет!B1840>=2000),Расчет!J1840,0)","v":0},{"$f":"IF(AND(Расчет!A1840<2000,Расчет!B1840<2000),Расчет!J1840,0)","v":0},null,null,{"$f":"IF(OR(Расчет!A1840>=2000,Расчет!B1840>=2000),Расчет!M1840,0)","v":0},{"$f":"IF(AND(Расчет!A1840<2000,Расчет!B1840<2000),Расчет!M1840,0)","v":0}]
[{"$f":"IF(OR(Расчет!A1841>=2000,Расчет!B1841>=2000),Расчет!G1841,0)","v":0},{"$f":"IF(AND(Расчет!A1841<2000,Расчет!B1841<2000),Расчет!G1841,0)","v":0},null,null,{"$f":"IF(OR(Расчет!A1841>=2000,Расчет!B1841>=2000),Расчет!J1841,0)","v":0},{"$f":"IF(AND(Расчет!A1841<2000,Расчет!B1841<2000),Расчет!J1841,0)","v":0},null,null,{"$f":"IF(OR(Расчет!A1841>=2000,Расчет!B1841>=2000),Расчет!M1841,0)","v":0},{"$f":"IF(AND(Расчет!A1841<2000,Расчет!B1841<2000),Расчет!M1841,0)","v":0}]
[{"$f":"IF(OR(Расчет!A1842>=2000,Расчет!B1842>=2000),Расчет!G1842,0)","v":0},{"$f":"IF(AND(Расчет!A1842<2000,Расчет!B1842<2000),Расчет!G1842,0)","v":0},null,null,{"$f":"IF(OR(Расчет!A1842>=2000,Расчет!B1842>=2000),Расчет!J1842,0)","v":0},{"$f":"IF(AND(Расчет!A1842<2000,Расчет!B1842<2000),Расчет!J1842,0)","v":0},null,null,{"$f":"IF(OR(Расчет!A1842>=2000,Расчет!B1842>=2000),Расчет!M1842,0)","v":0},{"$f":"IF(AND(Расчет!A1842<2000,Расчет!B1842<2000),Расчет!M1842,0)","v":0}]
[{"$f":"IF(OR(Расчет!A1843>=2000,Расчет!B1843>=2000),Расчет!G1843,0)","v":0},{"$f":"IF(AND(Расчет!A1843<2000,Расчет!B1843<2000),Расчет!G1843,0)","v":0},null,null,{"$f":"IF(OR(Расчет!A1843>=2000,Расчет!B1843>=2000),Расчет!J1843,0)","v":0},{"$f":"IF(AND(Расчет!A1843<2000,Расчет!B1843<2000),Расчет!J1843,0)","v":0},null,null,{"$f":"IF(OR(Расчет!A1843>=2000,Расчет!B1843>=2000),Расчет!M1843,0)","v":0},{"$f":"IF(AND(Расчет!A1843<2000,Расчет!B1843<2000),Расчет!M1843,0)","v":0}]
[{"$f":"IF(OR(Расчет!A1844>=2000,Расчет!B1844>=2000),Расчет!G1844,0)","v":0},{"$f":"IF(AND(Расчет!A1844<2000,Расчет!B1844<2000),Расчет!G1844,0)","v":0},null,null,{"$f":"IF(OR(Расчет!A1844>=2000,Расчет!B1844>=2000),Расчет!J1844,0)","v":0},{"$f":"IF(AND(Расчет!A1844<2000,Расчет!B1844<2000),Расчет!J1844,0)","v":0},null,null,{"$f":"IF(OR(Расчет!A1844>=2000,Расчет!B1844>=2000),Расчет!M1844,0)","v":0},{"$f":"IF(AND(Расчет!A1844<2000,Расчет!B1844<2000),Расчет!M1844,0)","v":0}]
[{"$f":"IF(OR(Расчет!A1845>=2000,Расчет!B1845>=2000),Расчет!G1845,0)","v":0},{"$f":"IF(AND(Расчет!A1845<2000,Расчет!B1845<2000),Расчет!G1845,0)","v":0},null,null,{"$f":"IF(OR(Расчет!A1845>=2000,Расчет!B1845>=2000),Расчет!J1845,0)","v":0},{"$f":"IF(AND(Расчет!A1845<2000,Расчет!B1845<2000),Расчет!J1845,0)","v":0},null,null,{"$f":"IF(OR(Расчет!A1845>=2000,Расчет!B1845>=2000),Расчет!M1845,0)","v":0},{"$f":"IF(AND(Расчет!A1845<2000,Расчет!B1845<2000),Расчет!M1845,0)","v":0}]
[{"$f":"IF(OR(Расчет!A1846>=2000,Расчет!B1846>=2000),Расчет!G1846,0)","v":0},{"$f":"IF(AND(Расчет!A1846<2000,Расчет!B1846<2000),Расчет!G1846,0)","v":0},null,null,{"$f":"IF(OR(Расчет!A1846>=2000,Расчет!B1846>=2000),Расчет!J1846,0)","v":0},{"$f":"IF(AND(Расчет!A1846<2000,Расчет!B1846<2000),Расчет!J1846,0)","v":0},null,null,{"$f":"IF(OR(Расчет!A1846>=2000,Расчет!B1846>=2000),Расчет!M1846,0)","v":0},{"$f":"IF(AND(Расчет!A1846<2000,Расчет!B1846<2000),Расчет!M1846,0)","v":0}]
[{"$f":"IF(OR(Расчет!A1847>=2000,Расчет!B1847>=2000),Расчет!G1847,0)","v":0},{"$f":"IF(AND(Расчет!A1847<2000,Расчет!B1847<2000),Расчет!G1847,0)","v":0},null,null,{"$f":"IF(OR(Расчет!A1847>=2000,Расчет!B1847>=2000),Расчет!J1847,0)","v":0},{"$f":"IF(AND(Расчет!A1847<2000,Расчет!B1847<2000),Расчет!J1847,0)","v":0},null,null,{"$f":"IF(OR(Расчет!A1847>=2000,Расчет!B1847>=2000),Расчет!M1847,0)","v":0},{"$f":"IF(AND(Расчет!A1847<2000,Расчет!B1847<2000),Расчет!M1847,0)","v":0}]
[{"$f":"IF(OR(Расчет!A1848>=2000,Расчет!B1848>=2000),Расчет!G1848,0)","v":0},{"$f":"IF(AND(Расчет!A1848<2000,Расчет!B1848<2000),Расчет!G1848,0)","v":0},null,null,{"$f":"IF(OR(Расчет!A1848>=2000,Расчет!B1848>=2000),Расчет!J1848,0)","v":0},{"$f":"IF(AND(Расчет!A1848<2000,Расчет!B1848<2000),Расчет!J1848,0)","v":0},null,null,{"$f":"IF(OR(Расчет!A1848>=2000,Расчет!B1848>=2000),Расчет!M1848,0)","v":0},{"$f":"IF(AND(Расчет!A1848<2000,Расчет!B1848<2000),Расчет!M1848,0)","v":0}]
[{"$f":"IF(OR(Расчет!A1849>=2000,Расчет!B1849>=2000),Расчет!G1849,0)","v":0},{"$f":"IF(AND(Расчет!A1849<2000,Расчет!B1849<2000),Расчет!G1849,0)","v":0},null,null,{"$f":"IF(OR(Расчет!A1849>=2000,Расчет!B1849>=2000),Расчет!J1849,0)","v":0},{"$f":"IF(AND(Расчет!A1849<2000,Расчет!B1849<2000),Расчет!J1849,0)","v":0},null,null,{"$f":"IF(OR(Расчет!A1849>=2000,Расчет!B1849>=2000),Расчет!M1849,0)","v":0},{"$f":"IF(AND(Расчет!A1849<2000,Расчет!B1849<2000),Расчет!M1849,0)","v":0}]
[{"$f":"IF(OR(Расчет!A1850>=2000,Расчет!B1850>=2000),Расчет!G1850,0)","v":0},{"$f":"IF(AND(Расчет!A1850<2000,Расчет!B1850<2000),Расчет!G1850,0)","v":0},null,null,{"$f":"IF(OR(Расчет!A1850>=2000,Расчет!B1850>=2000),Расчет!J1850,0)","v":0},{"$f":"IF(AND(Расчет!A1850<2000,Расчет!B1850<2000),Расчет!J1850,0)","v":0},null,null,{"$f":"IF(OR(Расчет!A1850>=2000,Расчет!B1850>=2000),Расчет!M1850,0)","v":0},{"$f":"IF(AND(Расчет!A1850<2000,Расчет!B1850<2000),Расчет!M1850,0)","v":0}]
[{"$f":"IF(OR(Расчет!A1851>=2000,Расчет!B1851>=2000),Расчет!G1851,0)","v":0},{"$f":"IF(AND(Расчет!A1851<2000,Расчет!B1851<2000),Расчет!G1851,0)","v":0},null,null,{"$f":"IF(OR(Расчет!A1851>=2000,Расчет!B1851>=2000),Расчет!J1851,0)","v":0},{"$f":"IF(AND(Расчет!A1851<2000,Расчет!B1851<2000),Расчет!J1851,0)","v":0},null,null,{"$f":"IF(OR(Расчет!A1851>=2000,Расчет!B1851>=2000),Расчет!M1851,0)","v":0},{"$f":"IF(AND(Расчет!A1851<2000,Расчет!B1851<2000),Расчет!M1851,0)","v":0}]
[{"$f":"IF(OR(Расчет!A1852>=2000,Расчет!B1852>=2000),Расчет!G1852,0)","v":0},{"$f":"IF(AND(Расчет!A1852<2000,Расчет!B1852<2000),Расчет!G1852,0)","v":0},null,null,{"$f":"IF(OR(Расчет!A1852>=2000,Расчет!B1852>=2000),Расчет!J1852,0)","v":0},{"$f":"IF(AND(Расчет!A1852<2000,Расчет!B1852<2000),Расчет!J1852,0)","v":0},null,null,{"$f":"IF(OR(Расчет!A1852>=2000,Расчет!B1852>=2000),Расчет!M1852,0)","v":0},{"$f":"IF(AND(Расчет!A1852<2000,Расчет!B1852<2000),Расчет!M1852,0)","v":0}]
[{"$f":"IF(OR(Расчет!A1853>=2000,Расчет!B1853>=2000),Расчет!G1853,0)","v":0},{"$f":"IF(AND(Расчет!A1853<2000,Расчет!B1853<2000),Расчет!G1853,0)","v":0},null,null,{"$f":"IF(OR(Расчет!A1853>=2000,Расчет!B1853>=2000),Расчет!J1853,0)","v":0},{"$f":"IF(AND(Расчет!A1853<2000,Расчет!B1853<2000),Расчет!J1853,0)","v":0},null,null,{"$f":"IF(OR(Расчет!A1853>=2000,Расчет!B1853>=2000),Расчет!M1853,0)","v":0},{"$f":"IF(AND(Расчет!A1853<2000,Расчет!B1853<2000),Расчет!M1853,0)","v":0}]
[{"$f":"IF(OR(Расчет!A1854>=2000,Расчет!B1854>=2000),Расчет!G1854,0)","v":0},{"$f":"IF(AND(Расчет!A1854<2000,Расчет!B1854<2000),Расчет!G1854,0)","v":0},null,null,{"$f":"IF(OR(Расчет!A1854>=2000,Расчет!B1854>=2000),Расчет!J1854,0)","v":0},{"$f":"IF(AND(Расчет!A1854<2000,Расчет!B1854<2000),Расчет!J1854,0)","v":0},null,null,{"$f":"IF(OR(Расчет!A1854>=2000,Расчет!B1854>=2000),Расчет!M1854,0)","v":0},{"$f":"IF(AND(Расчет!A1854<2000,Расчет!B1854<2000),Расчет!M1854,0)","v":0}]
[{"$f":"IF(OR(Расчет!A1855>=2000,Расчет!B1855>=2000),Расчет!G1855,0)","v":0},{"$f":"IF(AND(Расчет!A1855<2000,Расчет!B1855<2000),Расчет!G1855,0)","v":0},null,null,{"$f":"IF(OR(Расчет!A1855>=2000,Расчет!B1855>=2000),Расчет!J1855,0)","v":0},{"$f":"IF(AND(Расчет!A1855<2000,Расчет!B1855<2000),Расчет!J1855,0)","v":0},null,null,{"$f":"IF(OR(Расчет!A1855>=2000,Расчет!B1855>=2000),Расчет!M1855,0)","v":0},{"$f":"IF(AND(Расчет!A1855<2000,Расчет!B1855<2000),Расчет!M1855,0)","v":0}]
[{"$f":"IF(OR(Расчет!A1856>=2000,Расчет!B1856>=2000),Расчет!G1856,0)","v":0},{"$f":"IF(AND(Расчет!A1856<2000,Расчет!B1856<2000),Расчет!G1856,0)","v":0},null,null,{"$f":"IF(OR(Расчет!A1856>=2000,Расчет!B1856>=2000),Расчет!J1856,0)","v":0},{"$f":"IF(AND(Расчет!A1856<2000,Расчет!B1856<2000),Расчет!J1856,0)","v":0},null,null,{"$f":"IF(OR(Расчет!A1856>=2000,Расчет!B1856>=2000),Расчет!M1856,0)","v":0},{"$f":"IF(AND(Расчет!A1856<2000,Расчет!B1856<2000),Расчет!M1856,0)","v":0}]
[{"$f":"IF(OR(Расчет!A1857>=2000,Расчет!B1857>=2000),Расчет!G1857,0)","v":0},{"$f":"IF(AND(Расчет!A1857<2000,Расчет!B1857<2000),Расчет!G1857,0)","v":0},null,null,{"$f":"IF(OR(Расчет!A1857>=2000,Расчет!B1857>=2000),Расчет!J1857,0)","v":0},{"$f":"IF(AND(Расчет!A1857<2000,Расчет!B1857<2000),Расчет!J1857,0)","v":0},null,null,{"$f":"IF(OR(Расчет!A1857>=2000,Расчет!B1857>=2000),Расчет!M1857,0)","v":0},{"$f":"IF(AND(Расчет!A1857<2000,Расчет!B1857<2000),Расчет!M1857,0)","v":0}]
[{"$f":"IF(OR(Расчет!A1858>=2000,Расчет!B1858>=2000),Расчет!G1858,0)","v":0},{"$f":"IF(AND(Расчет!A1858<2000,Расчет!B1858<2000),Расчет!G1858,0)","v":0},null,null,{"$f":"IF(OR(Расчет!A1858>=2000,Расчет!B1858>=2000),Расчет!J1858,0)","v":0},{"$f":"IF(AND(Расчет!A1858<2000,Расчет!B1858<2000),Расчет!J1858,0)","v":0},null,null,{"$f":"IF(OR(Расчет!A1858>=2000,Расчет!B1858>=2000),Расчет!M1858,0)","v":0},{"$f":"IF(AND(Расчет!A1858<2000,Расчет!B1858<2000),Расчет!M1858,0)","v":0}]
[{"$f":"IF(OR(Расчет!A1859>=2000,Расчет!B1859>=2000),Расчет!G1859,0)","v":0},{"$f":"IF(AND(Расчет!A1859<2000,Расчет!B1859<2000),Расчет!G1859,0)","v":0},null,null,{"$f":"IF(OR(Расчет!A1859>=2000,Расчет!B1859>=2000),Расчет!J1859,0)","v":0},{"$f":"IF(AND(Расчет!A1859<2000,Расчет!B1859<2000),Расчет!J1859,0)","v":0},null,null,{"$f":"IF(OR(Расчет!A1859>=2000,Расчет!B1859>=2000),Расчет!M1859,0)","v":0},{"$f":"IF(AND(Расчет!A1859<2000,Расчет!B1859<2000),Расчет!M1859,0)","v":0}]
[{"$f":"IF(OR(Расчет!A1860>=2000,Расчет!B1860>=2000),Расчет!G1860,0)","v":0},{"$f":"IF(AND(Расчет!A1860<2000,Расчет!B1860<2000),Расчет!G1860,0)","v":0},null,null,{"$f":"IF(OR(Расчет!A1860>=2000,Расчет!B1860>=2000),Расчет!J1860,0)","v":0},{"$f":"IF(AND(Расчет!A1860<2000,Расчет!B1860<2000),Расчет!J1860,0)","v":0},null,null,{"$f":"IF(OR(Расчет!A1860>=2000,Расчет!B1860>=2000),Расчет!M1860,0)","v":0},{"$f":"IF(AND(Расчет!A1860<2000,Расчет!B1860<2000),Расчет!M1860,0)","v":0}]
[{"$f":"IF(OR(Расчет!A1861>=2000,Расчет!B1861>=2000),Расчет!G1861,0)","v":0},{"$f":"IF(AND(Расчет!A1861<2000,Расчет!B1861<2000),Расчет!G1861,0)","v":0},null,null,{"$f":"IF(OR(Расчет!A1861>=2000,Расчет!B1861>=2000),Расчет!J1861,0)","v":0},{"$f":"IF(AND(Расчет!A1861<2000,Расчет!B1861<2000),Расчет!J1861,0)","v":0},null,null,{"$f":"IF(OR(Расчет!A1861>=2000,Расчет!B1861>=2000),Расчет!M1861,0)","v":0},{"$f":"IF(AND(Расчет!A1861<2000,Расчет!B1861<2000),Расчет!M1861,0)","v":0}]
[{"$f":"IF(OR(Расчет!A1862>=2000,Расчет!B1862>=2000),Расчет!G1862,0)","v":0},{"$f":"IF(AND(Расчет!A1862<2000,Расчет!B1862<2000),Расчет!G1862,0)","v":0},null,null,{"$f":"IF(OR(Расчет!A1862>=2000,Расчет!B1862>=2000),Расчет!J1862,0)","v":0},{"$f":"IF(AND(Расчет!A1862<2000,Расчет!B1862<2000),Расчет!J1862,0)","v":0},null,null,{"$f":"IF(OR(Расчет!A1862>=2000,Расчет!B1862>=2000),Расчет!M1862,0)","v":0},{"$f":"IF(AND(Расчет!A1862<2000,Расчет!B1862<2000),Расчет!M1862,0)","v":0}]
[{"$f":"IF(OR(Расчет!A1863>=2000,Расчет!B1863>=2000),Расчет!G1863,0)","v":0},{"$f":"IF(AND(Расчет!A1863<2000,Расчет!B1863<2000),Расчет!G1863,0)","v":0},null,null,{"$f":"IF(OR(Расчет!A1863>=2000,Расчет!B1863>=2000),Расчет!J1863,0)","v":0},{"$f":"IF(AND(Расчет!A1863<2000,Расчет!B1863<2000),Расчет!J1863,0)","v":0},null,null,{"$f":"IF(OR(Расчет!A1863>=2000,Расчет!B1863>=2000),Расчет!M1863,0)","v":0},{"$f":"IF(AND(Расчет!A1863<2000,Расчет!B1863<2000),Расчет!M1863,0)","v":0}]
[{"$f":"IF(OR(Расчет!A1864>=2000,Расчет!B1864>=2000),Расчет!G1864,0)","v":0},{"$f":"IF(AND(Расчет!A1864<2000,Расчет!B1864<2000),Расчет!G1864,0)","v":0},null,null,{"$f":"IF(OR(Расчет!A1864>=2000,Расчет!B1864>=2000),Расчет!J1864,0)","v":0},{"$f":"IF(AND(Расчет!A1864<2000,Расчет!B1864<2000),Расчет!J1864,0)","v":0},null,null,{"$f":"IF(OR(Расчет!A1864>=2000,Расчет!B1864>=2000),Расчет!M1864,0)","v":0},{"$f":"IF(AND(Расчет!A1864<2000,Расчет!B1864<2000),Расчет!M1864,0)","v":0}]
[{"$f":"IF(OR(Расчет!A1865>=2000,Расчет!B1865>=2000),Расчет!G1865,0)","v":0},{"$f":"IF(AND(Расчет!A1865<2000,Расчет!B1865<2000),Расчет!G1865,0)","v":0},null,null,{"$f":"IF(OR(Расчет!A1865>=2000,Расчет!B1865>=2000),Расчет!J1865,0)","v":0},{"$f":"IF(AND(Расчет!A1865<2000,Расчет!B1865<2000),Расчет!J1865,0)","v":0},null,null,{"$f":"IF(OR(Расчет!A1865>=2000,Расчет!B1865>=2000),Расчет!M1865,0)","v":0},{"$f":"IF(AND(Расчет!A1865<2000,Расчет!B1865<2000),Расчет!M1865,0)","v":0}]
[{"$f":"IF(OR(Расчет!A1866>=2000,Расчет!B1866>=2000),Расчет!G1866,0)","v":0},{"$f":"IF(AND(Расчет!A1866<2000,Расчет!B1866<2000),Расчет!G1866,0)","v":0},null,null,{"$f":"IF(OR(Расчет!A1866>=2000,Расчет!B1866>=2000),Расчет!J1866,0)","v":0},{"$f":"IF(AND(Расчет!A1866<2000,Расчет!B1866<2000),Расчет!J1866,0)","v":0},null,null,{"$f":"IF(OR(Расчет!A1866>=2000,Расчет!B1866>=2000),Расчет!M1866,0)","v":0},{"$f":"IF(AND(Расчет!A1866<2000,Расчет!B1866<2000),Расчет!M1866,0)","v":0}]
[{"$f":"IF(OR(Расчет!A1867>=2000,Расчет!B1867>=2000),Расчет!G1867,0)","v":0},{"$f":"IF(AND(Расчет!A1867<2000,Расчет!B1867<2000),Расчет!G1867,0)","v":0},null,null,{"$f":"IF(OR(Расчет!A1867>=2000,Расчет!B1867>=2000),Расчет!J1867,0)","v":0},{"$f":"IF(AND(Расчет!A1867<2000,Расчет!B1867<2000),Расчет!J1867,0)","v":0},null,null,{"$f":"IF(OR(Расчет!A1867>=2000,Расчет!B1867>=2000),Расчет!M1867,0)","v":0},{"$f":"IF(AND(Расчет!A1867<2000,Расчет!B1867<2000),Расчет!M1867,0)","v":0}]
[{"$f":"IF(OR(Расчет!A1868>=2000,Расчет!B1868>=2000),Расчет!G1868,0)","v":0},{"$f":"IF(AND(Расчет!A1868<2000,Расчет!B1868<2000),Расчет!G1868,0)","v":0},null,null,{"$f":"IF(OR(Расчет!A1868>=2000,Расчет!B1868>=2000),Расчет!J1868,0)","v":0},{"$f":"IF(AND(Расчет!A1868<2000,Расчет!B1868<2000),Расчет!J1868,0)","v":0},null,null,{"$f":"IF(OR(Расчет!A1868>=2000,Расчет!B1868>=2000),Расчет!M1868,0)","v":0},{"$f":"IF(AND(Расчет!A1868<2000,Расчет!B1868<2000),Расчет!M1868,0)","v":0}]
[{"$f":"IF(OR(Расчет!A1869>=2000,Расчет!B1869>=2000),Расчет!G1869,0)","v":0},{"$f":"IF(AND(Расчет!A1869<2000,Расчет!B1869<2000),Расчет!G1869,0)","v":0},null,null,{"$f":"IF(OR(Расчет!A1869>=2000,Расчет!B1869>=2000),Расчет!J1869,0)","v":0},{"$f":"IF(AND(Расчет!A1869<2000,Расчет!B1869<2000),Расчет!J1869,0)","v":0},null,null,{"$f":"IF(OR(Расчет!A1869>=2000,Расчет!B1869>=2000),Расчет!M1869,0)","v":0},{"$f":"IF(AND(Расчет!A1869<2000,Расчет!B1869<2000),Расчет!M1869,0)","v":0}]
[{"$f":"IF(OR(Расчет!A1870>=2000,Расчет!B1870>=2000),Расчет!G1870,0)","v":0},{"$f":"IF(AND(Расчет!A1870<2000,Расчет!B1870<2000),Расчет!G1870,0)","v":0},null,null,{"$f":"IF(OR(Расчет!A1870>=2000,Расчет!B1870>=2000),Расчет!J1870,0)","v":0},{"$f":"IF(AND(Расчет!A1870<2000,Расчет!B1870<2000),Расчет!J1870,0)","v":0},null,null,{"$f":"IF(OR(Расчет!A1870>=2000,Расчет!B1870>=2000),Расчет!M1870,0)","v":0},{"$f":"IF(AND(Расчет!A1870<2000,Расчет!B1870<2000),Расчет!M1870,0)","v":0}]
[{"$f":"IF(OR(Расчет!A1871>=2000,Расчет!B1871>=2000),Расчет!G1871,0)","v":0},{"$f":"IF(AND(Расчет!A1871<2000,Расчет!B1871<2000),Расчет!G1871,0)","v":0},null,null,{"$f":"IF(OR(Расчет!A1871>=2000,Расчет!B1871>=2000),Расчет!J1871,0)","v":0},{"$f":"IF(AND(Расчет!A1871<2000,Расчет!B1871<2000),Расчет!J1871,0)","v":0},null,null,{"$f":"IF(OR(Расчет!A1871>=2000,Расчет!B1871>=2000),Расчет!M1871,0)","v":0},{"$f":"IF(AND(Расчет!A1871<2000,Расчет!B1871<2000),Расчет!M1871,0)","v":0}]
[{"$f":"IF(OR(Расчет!A1872>=2000,Расчет!B1872>=2000),Расчет!G1872,0)","v":0},{"$f":"IF(AND(Расчет!A1872<2000,Расчет!B1872<2000),Расчет!G1872,0)","v":0},null,null,{"$f":"IF(OR(Расчет!A1872>=2000,Расчет!B1872>=2000),Расчет!J1872,0)","v":0},{"$f":"IF(AND(Расчет!A1872<2000,Расчет!B1872<2000),Расчет!J1872,0)","v":0},null,null,{"$f":"IF(OR(Расчет!A1872>=2000,Расчет!B1872>=2000),Расчет!M1872,0)","v":0},{"$f":"IF(AND(Расчет!A1872<2000,Расчет!B1872<2000),Расчет!M1872,0)","v":0}]
[{"$f":"IF(OR(Расчет!A1873>=2000,Расчет!B1873>=2000),Расчет!G1873,0)","v":0},{"$f":"IF(AND(Расчет!A1873<2000,Расчет!B1873<2000),Расчет!G1873,0)","v":0},null,null,{"$f":"IF(OR(Расчет!A1873>=2000,Расчет!B1873>=2000),Расчет!J1873,0)","v":0},{"$f":"IF(AND(Расчет!A1873<2000,Расчет!B1873<2000),Расчет!J1873,0)","v":0},null,null,{"$f":"IF(OR(Расчет!A1873>=2000,Расчет!B1873>=2000),Расчет!M1873,0)","v":0},{"$f":"IF(AND(Расчет!A1873<2000,Расчет!B1873<2000),Расчет!M1873,0)","v":0}]
[{"$f":"IF(OR(Расчет!A1874>=2000,Расчет!B1874>=2000),Расчет!G1874,0)","v":0},{"$f":"IF(AND(Расчет!A1874<2000,Расчет!B1874<2000),Расчет!G1874,0)","v":0},null,null,{"$f":"IF(OR(Расчет!A1874>=2000,Расчет!B1874>=2000),Расчет!J1874,0)","v":0},{"$f":"IF(AND(Расчет!A1874<2000,Расчет!B1874<2000),Расчет!J1874,0)","v":0},null,null,{"$f":"IF(OR(Расчет!A1874>=2000,Расчет!B1874>=2000),Расчет!M1874,0)","v":0},{"$f":"IF(AND(Расчет!A1874<2000,Расчет!B1874<2000),Расчет!M1874,0)","v":0}]
[{"$f":"IF(OR(Расчет!A1875>=2000,Расчет!B1875>=2000),Расчет!G1875,0)","v":0},{"$f":"IF(AND(Расчет!A1875<2000,Расчет!B1875<2000),Расчет!G1875,0)","v":0},null,null,{"$f":"IF(OR(Расчет!A1875>=2000,Расчет!B1875>=2000),Расчет!J1875,0)","v":0},{"$f":"IF(AND(Расчет!A1875<2000,Расчет!B1875<2000),Расчет!J1875,0)","v":0},null,null,{"$f":"IF(OR(Расчет!A1875>=2000,Расчет!B1875>=2000),Расчет!M1875,0)","v":0},{"$f":"IF(AND(Расчет!A1875<2000,Расчет!B1875<2000),Расчет!M1875,0)","v":0}]
[{"$f":"IF(OR(Расчет!A1876>=2000,Расчет!B1876>=2000),Расчет!G1876,0)","v":0},{"$f":"IF(AND(Расчет!A1876<2000,Расчет!B1876<2000),Расчет!G1876,0)","v":0},null,null,{"$f":"IF(OR(Расчет!A1876>=2000,Расчет!B1876>=2000),Расчет!J1876,0)","v":0},{"$f":"IF(AND(Расчет!A1876<2000,Расчет!B1876<2000),Расчет!J1876,0)","v":0},null,null,{"$f":"IF(OR(Расчет!A1876>=2000,Расчет!B1876>=2000),Расчет!M1876,0)","v":0},{"$f":"IF(AND(Расчет!A1876<2000,Расчет!B1876<2000),Расчет!M1876,0)","v":0}]
[{"$f":"IF(OR(Расчет!A1877>=2000,Расчет!B1877>=2000),Расчет!G1877,0)","v":0},{"$f":"IF(AND(Расчет!A1877<2000,Расчет!B1877<2000),Расчет!G1877,0)","v":0},null,null,{"$f":"IF(OR(Расчет!A1877>=2000,Расчет!B1877>=2000),Расчет!J1877,0)","v":0},{"$f":"IF(AND(Расчет!A1877<2000,Расчет!B1877<2000),Расчет!J1877,0)","v":0},null,null,{"$f":"IF(OR(Расчет!A1877>=2000,Расчет!B1877>=2000),Расчет!M1877,0)","v":0},{"$f":"IF(AND(Расчет!A1877<2000,Расчет!B1877<2000),Расчет!M1877,0)","v":0}]
[{"$f":"IF(OR(Расчет!A1878>=2000,Расчет!B1878>=2000),Расчет!G1878,0)","v":0},{"$f":"IF(AND(Расчет!A1878<2000,Расчет!B1878<2000),Расчет!G1878,0)","v":0},null,null,{"$f":"IF(OR(Расчет!A1878>=2000,Расчет!B1878>=2000),Расчет!J1878,0)","v":0},{"$f":"IF(AND(Расчет!A1878<2000,Расчет!B1878<2000),Расчет!J1878,0)","v":0},null,null,{"$f":"IF(OR(Расчет!A1878>=2000,Расчет!B1878>=2000),Расчет!M1878,0)","v":0},{"$f":"IF(AND(Расчет!A1878<2000,Расчет!B1878<2000),Расчет!M1878,0)","v":0}]
[{"$f":"IF(OR(Расчет!A1879>=2000,Расчет!B1879>=2000),Расчет!G1879,0)","v":0},{"$f":"IF(AND(Расчет!A1879<2000,Расчет!B1879<2000),Расчет!G1879,0)","v":0},null,null,{"$f":"IF(OR(Расчет!A1879>=2000,Расчет!B1879>=2000),Расчет!J1879,0)","v":0},{"$f":"IF(AND(Расчет!A1879<2000,Расчет!B1879<2000),Расчет!J1879,0)","v":0},null,null,{"$f":"IF(OR(Расчет!A1879>=2000,Расчет!B1879>=2000),Расчет!M1879,0)","v":0},{"$f":"IF(AND(Расчет!A1879<2000,Расчет!B1879<2000),Расчет!M1879,0)","v":0}]
[{"$f":"IF(OR(Расчет!A1880>=2000,Расчет!B1880>=2000),Расчет!G1880,0)","v":0},{"$f":"IF(AND(Расчет!A1880<2000,Расчет!B1880<2000),Расчет!G1880,0)","v":0},null,null,{"$f":"IF(OR(Расчет!A1880>=2000,Расчет!B1880>=2000),Расчет!J1880,0)","v":0},{"$f":"IF(AND(Расчет!A1880<2000,Расчет!B1880<2000),Расчет!J1880,0)","v":0},null,null,{"$f":"IF(OR(Расчет!A1880>=2000,Расчет!B1880>=2000),Расчет!M1880,0)","v":0},{"$f":"IF(AND(Расчет!A1880<2000,Расчет!B1880<2000),Расчет!M1880,0)","v":0}]
[{"$f":"IF(OR(Расчет!A1881>=2000,Расчет!B1881>=2000),Расчет!G1881,0)","v":0},{"$f":"IF(AND(Расчет!A1881<2000,Расчет!B1881<2000),Расчет!G1881,0)","v":0},null,null,{"$f":"IF(OR(Расчет!A1881>=2000,Расчет!B1881>=2000),Расчет!J1881,0)","v":0},{"$f":"IF(AND(Расчет!A1881<2000,Расчет!B1881<2000),Расчет!J1881,0)","v":0},null,null,{"$f":"IF(OR(Расчет!A1881>=2000,Расчет!B1881>=2000),Расчет!M1881,0)","v":0},{"$f":"IF(AND(Расчет!A1881<2000,Расчет!B1881<2000),Расчет!M1881,0)","v":0}]
[{"$f":"IF(OR(Расчет!A1882>=2000,Расчет!B1882>=2000),Расчет!G1882,0)","v":0},{"$f":"IF(AND(Расчет!A1882<2000,Расчет!B1882<2000),Расчет!G1882,0)","v":0},null,null,{"$f":"IF(OR(Расчет!A1882>=2000,Расчет!B1882>=2000),Расчет!J1882,0)","v":0},{"$f":"IF(AND(Расчет!A1882<2000,Расчет!B1882<2000),Расчет!J1882,0)","v":0},null,null,{"$f":"IF(OR(Расчет!A1882>=2000,Расчет!B1882>=2000),Расчет!M1882,0)","v":0},{"$f":"IF(AND(Расчет!A1882<2000,Расчет!B1882<2000),Расчет!M1882,0)","v":0}]
[{"$f":"IF(OR(Расчет!A1883>=2000,Расчет!B1883>=2000),Расчет!G1883,0)","v":0},{"$f":"IF(AND(Расчет!A1883<2000,Расчет!B1883<2000),Расчет!G1883,0)","v":0},null,null,{"$f":"IF(OR(Расчет!A1883>=2000,Расчет!B1883>=2000),Расчет!J1883,0)","v":0},{"$f":"IF(AND(Расчет!A1883<2000,Расчет!B1883<2000),Расчет!J1883,0)","v":0},null,null,{"$f":"IF(OR(Расчет!A1883>=2000,Расчет!B1883>=2000),Расчет!M1883,0)","v":0},{"$f":"IF(AND(Расчет!A1883<2000,Расчет!B1883<2000),Расчет!M1883,0)","v":0}]
[{"$f":"IF(OR(Расчет!A1884>=2000,Расчет!B1884>=2000),Расчет!G1884,0)","v":0},{"$f":"IF(AND(Расчет!A1884<2000,Расчет!B1884<2000),Расчет!G1884,0)","v":0},null,null,{"$f":"IF(OR(Расчет!A1884>=2000,Расчет!B1884>=2000),Расчет!J1884,0)","v":0},{"$f":"IF(AND(Расчет!A1884<2000,Расчет!B1884<2000),Расчет!J1884,0)","v":0},null,null,{"$f":"IF(OR(Расчет!A1884>=2000,Расчет!B1884>=2000),Расчет!M1884,0)","v":0},{"$f":"IF(AND(Расчет!A1884<2000,Расчет!B1884<2000),Расчет!M1884,0)","v":0}]
[{"$f":"IF(OR(Расчет!A1885>=2000,Расчет!B1885>=2000),Расчет!G1885,0)","v":0},{"$f":"IF(AND(Расчет!A1885<2000,Расчет!B1885<2000),Расчет!G1885,0)","v":0},null,null,{"$f":"IF(OR(Расчет!A1885>=2000,Расчет!B1885>=2000),Расчет!J1885,0)","v":0},{"$f":"IF(AND(Расчет!A1885<2000,Расчет!B1885<2000),Расчет!J1885,0)","v":0},null,null,{"$f":"IF(OR(Расчет!A1885>=2000,Расчет!B1885>=2000),Расчет!M1885,0)","v":0},{"$f":"IF(AND(Расчет!A1885<2000,Расчет!B1885<2000),Расчет!M1885,0)","v":0}]
[{"$f":"IF(OR(Расчет!A1886>=2000,Расчет!B1886>=2000),Расчет!G1886,0)","v":0},{"$f":"IF(AND(Расчет!A1886<2000,Расчет!B1886<2000),Расчет!G1886,0)","v":0},null,null,{"$f":"IF(OR(Расчет!A1886>=2000,Расчет!B1886>=2000),Расчет!J1886,0)","v":0},{"$f":"IF(AND(Расчет!A1886<2000,Расчет!B1886<2000),Расчет!J1886,0)","v":0},null,null,{"$f":"IF(OR(Расчет!A1886>=2000,Расчет!B1886>=2000),Расчет!M1886,0)","v":0},{"$f":"IF(AND(Расчет!A1886<2000,Расчет!B1886<2000),Расчет!M1886,0)","v":0}]
[{"$f":"IF(OR(Расчет!A1887>=2000,Расчет!B1887>=2000),Расчет!G1887,0)","v":0},{"$f":"IF(AND(Расчет!A1887<2000,Расчет!B1887<2000),Расчет!G1887,0)","v":0},null,null,{"$f":"IF(OR(Расчет!A1887>=2000,Расчет!B1887>=2000),Расчет!J1887,0)","v":0},{"$f":"IF(AND(Расчет!A1887<2000,Расчет!B1887<2000),Расчет!J1887,0)","v":0},null,null,{"$f":"IF(OR(Расчет!A1887>=2000,Расчет!B1887>=2000),Расчет!M1887,0)","v":0},{"$f":"IF(AND(Расчет!A1887<2000,Расчет!B1887<2000),Расчет!M1887,0)","v":0}]
[{"$f":"IF(OR(Расчет!A1888>=2000,Расчет!B1888>=2000),Расчет!G1888,0)","v":0},{"$f":"IF(AND(Расчет!A1888<2000,Расчет!B1888<2000),Расчет!G1888,0)","v":0},null,null,{"$f":"IF(OR(Расчет!A1888>=2000,Расчет!B1888>=2000),Расчет!J1888,0)","v":0},{"$f":"IF(AND(Расчет!A1888<2000,Расчет!B1888<2000),Расчет!J1888,0)","v":0},null,null,{"$f":"IF(OR(Расчет!A1888>=2000,Расчет!B1888>=2000),Расчет!M1888,0)","v":0},{"$f":"IF(AND(Расчет!A1888<2000,Расчет!B1888<2000),Расчет!M1888,0)","v":0}]
[{"$f":"IF(OR(Расчет!A1889>=2000,Расчет!B1889>=2000),Расчет!G1889,0)","v":0},{"$f":"IF(AND(Расчет!A1889<2000,Расчет!B1889<2000),Расчет!G1889,0)","v":0},null,null,{"$f":"IF(OR(Расчет!A1889>=2000,Расчет!B1889>=2000),Расчет!J1889,0)","v":0},{"$f":"IF(AND(Расчет!A1889<2000,Расчет!B1889<2000),Расчет!J1889,0)","v":0},null,null,{"$f":"IF(OR(Расчет!A1889>=2000,Расчет!B1889>=2000),Расчет!M1889,0)","v":0},{"$f":"IF(AND(Расчет!A1889<2000,Расчет!B1889<2000),Расчет!M1889,0)","v":0}]
[{"$f":"IF(OR(Расчет!A1890>=2000,Расчет!B1890>=2000),Расчет!G1890,0)","v":0},{"$f":"IF(AND(Расчет!A1890<2000,Расчет!B1890<2000),Расчет!G1890,0)","v":0},null,null,{"$f":"IF(OR(Расчет!A1890>=2000,Расчет!B1890>=2000),Расчет!J1890,0)","v":0},{"$f":"IF(AND(Расчет!A1890<2000,Расчет!B1890<2000),Расчет!J1890,0)","v":0},null,null,{"$f":"IF(OR(Расчет!A1890>=2000,Расчет!B1890>=2000),Расчет!M1890,0)","v":0},{"$f":"IF(AND(Расчет!A1890<2000,Расчет!B1890<2000),Расчет!M1890,0)","v":0}]
[{"$f":"IF(OR(Расчет!A1891>=2000,Расчет!B1891>=2000),Расчет!G1891,0)","v":0},{"$f":"IF(AND(Расчет!A1891<2000,Расчет!B1891<2000),Расчет!G1891,0)","v":0},null,null,{"$f":"IF(OR(Расчет!A1891>=2000,Расчет!B1891>=2000),Расчет!J1891,0)","v":0},{"$f":"IF(AND(Расчет!A1891<2000,Расчет!B1891<2000),Расчет!J1891,0)","v":0},null,null,{"$f":"IF(OR(Расчет!A1891>=2000,Расчет!B1891>=2000),Расчет!M1891,0)","v":0},{"$f":"IF(AND(Расчет!A1891<2000,Расчет!B1891<2000),Расчет!M1891,0)","v":0}]
[{"$f":"IF(OR(Расчет!A1892>=2000,Расчет!B1892>=2000),Расчет!G1892,0)","v":0},{"$f":"IF(AND(Расчет!A1892<2000,Расчет!B1892<2000),Расчет!G1892,0)","v":0},null,null,{"$f":"IF(OR(Расчет!A1892>=2000,Расчет!B1892>=2000),Расчет!J1892,0)","v":0},{"$f":"IF(AND(Расчет!A1892<2000,Расчет!B1892<2000),Расчет!J1892,0)","v":0},null,null,{"$f":"IF(OR(Расчет!A1892>=2000,Расчет!B1892>=2000),Расчет!M1892,0)","v":0},{"$f":"IF(AND(Расчет!A1892<2000,Расчет!B1892<2000),Расчет!M1892,0)","v":0}]
[{"$f":"IF(OR(Расчет!A1893>=2000,Расчет!B1893>=2000),Расчет!G1893,0)","v":0},{"$f":"IF(AND(Расчет!A1893<2000,Расчет!B1893<2000),Расчет!G1893,0)","v":0},null,null,{"$f":"IF(OR(Расчет!A1893>=2000,Расчет!B1893>=2000),Расчет!J1893,0)","v":0},{"$f":"IF(AND(Расчет!A1893<2000,Расчет!B1893<2000),Расчет!J1893,0)","v":0},null,null,{"$f":"IF(OR(Расчет!A1893>=2000,Расчет!B1893>=2000),Расчет!M1893,0)","v":0},{"$f":"IF(AND(Расчет!A1893<2000,Расчет!B1893<2000),Расчет!M1893,0)","v":0}]
[{"$f":"IF(OR(Расчет!A1894>=2000,Расчет!B1894>=2000),Расчет!G1894,0)","v":0},{"$f":"IF(AND(Расчет!A1894<2000,Расчет!B1894<2000),Расчет!G1894,0)","v":0},null,null,{"$f":"IF(OR(Расчет!A1894>=2000,Расчет!B1894>=2000),Расчет!J1894,0)","v":0},{"$f":"IF(AND(Расчет!A1894<2000,Расчет!B1894<2000),Расчет!J1894,0)","v":0},null,null,{"$f":"IF(OR(Расчет!A1894>=2000,Расчет!B1894>=2000),Расчет!M1894,0)","v":0},{"$f":"IF(AND(Расчет!A1894<2000,Расчет!B1894<2000),Расчет!M1894,0)","v":0}]
[{"$f":"IF(OR(Расчет!A1895>=2000,Расчет!B1895>=2000),Расчет!G1895,0)","v":0},{"$f":"IF(AND(Расчет!A1895<2000,Расчет!B1895<2000),Расчет!G1895,0)","v":0},null,null,{"$f":"IF(OR(Расчет!A1895>=2000,Расчет!B1895>=2000),Расчет!J1895,0)","v":0},{"$f":"IF(AND(Расчет!A1895<2000,Расчет!B1895<2000),Расчет!J1895,0)","v":0},null,null,{"$f":"IF(OR(Расчет!A1895>=2000,Расчет!B1895>=2000),Расчет!M1895,0)","v":0},{"$f":"IF(AND(Расчет!A1895<2000,Расчет!B1895<2000),Расчет!M1895,0)","v":0}]
[{"$f":"IF(OR(Расчет!A1896>=2000,Расчет!B1896>=2000),Расчет!G1896,0)","v":0},{"$f":"IF(AND(Расчет!A1896<2000,Расчет!B1896<2000),Расчет!G1896,0)","v":0},null,null,{"$f":"IF(OR(Расчет!A1896>=2000,Расчет!B1896>=2000),Расчет!J1896,0)","v":0},{"$f":"IF(AND(Расчет!A1896<2000,Расчет!B1896<2000),Расчет!J1896,0)","v":0},null,null,{"$f":"IF(OR(Расчет!A1896>=2000,Расчет!B1896>=2000),Расчет!M1896,0)","v":0},{"$f":"IF(AND(Расчет!A1896<2000,Расчет!B1896<2000),Расчет!M1896,0)","v":0}]
[{"$f":"IF(OR(Расчет!A1897>=2000,Расчет!B1897>=2000),Расчет!G1897,0)","v":0},{"$f":"IF(AND(Расчет!A1897<2000,Расчет!B1897<2000),Расчет!G1897,0)","v":0},null,null,{"$f":"IF(OR(Расчет!A1897>=2000,Расчет!B1897>=2000),Расчет!J1897,0)","v":0},{"$f":"IF(AND(Расчет!A1897<2000,Расчет!B1897<2000),Расчет!J1897,0)","v":0},null,null,{"$f":"IF(OR(Расчет!A1897>=2000,Расчет!B1897>=2000),Расчет!M1897,0)","v":0},{"$f":"IF(AND(Расчет!A1897<2000,Расчет!B1897<2000),Расчет!M1897,0)","v":0}]
[{"$f":"IF(OR(Расчет!A1898>=2000,Расчет!B1898>=2000),Расчет!G1898,0)","v":0},{"$f":"IF(AND(Расчет!A1898<2000,Расчет!B1898<2000),Расчет!G1898,0)","v":0},null,null,{"$f":"IF(OR(Расчет!A1898>=2000,Расчет!B1898>=2000),Расчет!J1898,0)","v":0},{"$f":"IF(AND(Расчет!A1898<2000,Расчет!B1898<2000),Расчет!J1898,0)","v":0},null,null,{"$f":"IF(OR(Расчет!A1898>=2000,Расчет!B1898>=2000),Расчет!M1898,0)","v":0},{"$f":"IF(AND(Расчет!A1898<2000,Расчет!B1898<2000),Расчет!M1898,0)","v":0}]
[{"$f":"IF(OR(Расчет!A1899>=2000,Расчет!B1899>=2000),Расчет!G1899,0)","v":0},{"$f":"IF(AND(Расчет!A1899<2000,Расчет!B1899<2000),Расчет!G1899,0)","v":0},null,null,{"$f":"IF(OR(Расчет!A1899>=2000,Расчет!B1899>=2000),Расчет!J1899,0)","v":0},{"$f":"IF(AND(Расчет!A1899<2000,Расчет!B1899<2000),Расчет!J1899,0)","v":0},null,null,{"$f":"IF(OR(Расчет!A1899>=2000,Расчет!B1899>=2000),Расчет!M1899,0)","v":0},{"$f":"IF(AND(Расчет!A1899<2000,Расчет!B1899<2000),Расчет!M1899,0)","v":0}]
[{"$f":"IF(OR(Расчет!A1900>=2000,Расчет!B1900>=2000),Расчет!G1900,0)","v":0},{"$f":"IF(AND(Расчет!A1900<2000,Расчет!B1900<2000),Расчет!G1900,0)","v":0},null,null,{"$f":"IF(OR(Расчет!A1900>=2000,Расчет!B1900>=2000),Расчет!J1900,0)","v":0},{"$f":"IF(AND(Расчет!A1900<2000,Расчет!B1900<2000),Расчет!J1900,0)","v":0},null,null,{"$f":"IF(OR(Расчет!A1900>=2000,Расчет!B1900>=2000),Расчет!M1900,0)","v":0},{"$f":"IF(AND(Расчет!A1900<2000,Расчет!B1900<2000),Расчет!M1900,0)","v":0}]
[{"$f":"IF(OR(Расчет!A1901>=2000,Расчет!B1901>=2000),Расчет!G1901,0)","v":0},{"$f":"IF(AND(Расчет!A1901<2000,Расчет!B1901<2000),Расчет!G1901,0)","v":0},null,null,{"$f":"IF(OR(Расчет!A1901>=2000,Расчет!B1901>=2000),Расчет!J1901,0)","v":0},{"$f":"IF(AND(Расчет!A1901<2000,Расчет!B1901<2000),Расчет!J1901,0)","v":0},null,null,{"$f":"IF(OR(Расчет!A1901>=2000,Расчет!B1901>=2000),Расчет!M1901,0)","v":0},{"$f":"IF(AND(Расчет!A1901<2000,Расчет!B1901<2000),Расчет!M1901,0)","v":0}]
[{"$f":"IF(OR(Расчет!A1902>=2000,Расчет!B1902>=2000),Расчет!G1902,0)","v":0},{"$f":"IF(AND(Расчет!A1902<2000,Расчет!B1902<2000),Расчет!G1902,0)","v":0},null,null,{"$f":"IF(OR(Расчет!A1902>=2000,Расчет!B1902>=2000),Расчет!J1902,0)","v":0},{"$f":"IF(AND(Расчет!A1902<2000,Расчет!B1902<2000),Расчет!J1902,0)","v":0},null,null,{"$f":"IF(OR(Расчет!A1902>=2000,Расчет!B1902>=2000),Расчет!M1902,0)","v":0},{"$f":"IF(AND(Расчет!A1902<2000,Расчет!B1902<2000),Расчет!M1902,0)","v":0}]
[{"$f":"IF(OR(Расчет!A1903>=2000,Расчет!B1903>=2000),Расчет!G1903,0)","v":0},{"$f":"IF(AND(Расчет!A1903<2000,Расчет!B1903<2000),Расчет!G1903,0)","v":0},null,null,{"$f":"IF(OR(Расчет!A1903>=2000,Расчет!B1903>=2000),Расчет!J1903,0)","v":0},{"$f":"IF(AND(Расчет!A1903<2000,Расчет!B1903<2000),Расчет!J1903,0)","v":0},null,null,{"$f":"IF(OR(Расчет!A1903>=2000,Расчет!B1903>=2000),Расчет!M1903,0)","v":0},{"$f":"IF(AND(Расчет!A1903<2000,Расчет!B1903<2000),Расчет!M1903,0)","v":0}]
[{"$f":"IF(OR(Расчет!A1904>=2000,Расчет!B1904>=2000),Расчет!G1904,0)","v":0},{"$f":"IF(AND(Расчет!A1904<2000,Расчет!B1904<2000),Расчет!G1904,0)","v":0},null,null,{"$f":"IF(OR(Расчет!A1904>=2000,Расчет!B1904>=2000),Расчет!J1904,0)","v":0},{"$f":"IF(AND(Расчет!A1904<2000,Расчет!B1904<2000),Расчет!J1904,0)","v":0},null,null,{"$f":"IF(OR(Расчет!A1904>=2000,Расчет!B1904>=2000),Расчет!M1904,0)","v":0},{"$f":"IF(AND(Расчет!A1904<2000,Расчет!B1904<2000),Расчет!M1904,0)","v":0}]
[{"$f":"IF(OR(Расчет!A1905>=2000,Расчет!B1905>=2000),Расчет!G1905,0)","v":0},{"$f":"IF(AND(Расчет!A1905<2000,Расчет!B1905<2000),Расчет!G1905,0)","v":0},null,null,{"$f":"IF(OR(Расчет!A1905>=2000,Расчет!B1905>=2000),Расчет!J1905,0)","v":0},{"$f":"IF(AND(Расчет!A1905<2000,Расчет!B1905<2000),Расчет!J1905,0)","v":0},null,null,{"$f":"IF(OR(Расчет!A1905>=2000,Расчет!B1905>=2000),Расчет!M1905,0)","v":0},{"$f":"IF(AND(Расчет!A1905<2000,Расчет!B1905<2000),Расчет!M1905,0)","v":0}]
[{"$f":"IF(OR(Расчет!A1906>=2000,Расчет!B1906>=2000),Расчет!G1906,0)","v":0},{"$f":"IF(AND(Расчет!A1906<2000,Расчет!B1906<2000),Расчет!G1906,0)","v":0},null,null,{"$f":"IF(OR(Расчет!A1906>=2000,Расчет!B1906>=2000),Расчет!J1906,0)","v":0},{"$f":"IF(AND(Расчет!A1906<2000,Расчет!B1906<2000),Расчет!J1906,0)","v":0},null,null,{"$f":"IF(OR(Расчет!A1906>=2000,Расчет!B1906>=2000),Расчет!M1906,0)","v":0},{"$f":"IF(AND(Расчет!A1906<2000,Расчет!B1906<2000),Расчет!M1906,0)","v":0}]
[{"$f":"IF(OR(Расчет!A1907>=2000,Расчет!B1907>=2000),Расчет!G1907,0)","v":0},{"$f":"IF(AND(Расчет!A1907<2000,Расчет!B1907<2000),Расчет!G1907,0)","v":0},null,null,{"$f":"IF(OR(Расчет!A1907>=2000,Расчет!B1907>=2000),Расчет!J1907,0)","v":0},{"$f":"IF(AND(Расчет!A1907<2000,Расчет!B1907<2000),Расчет!J1907,0)","v":0},null,null,{"$f":"IF(OR(Расчет!A1907>=2000,Расчет!B1907>=2000),Расчет!M1907,0)","v":0},{"$f":"IF(AND(Расчет!A1907<2000,Расчет!B1907<2000),Расчет!M1907,0)","v":0}]
[{"$f":"IF(OR(Расчет!A1908>=2000,Расчет!B1908>=2000),Расчет!G1908,0)","v":0},{"$f":"IF(AND(Расчет!A1908<2000,Расчет!B1908<2000),Расчет!G1908,0)","v":0},null,null,{"$f":"IF(OR(Расчет!A1908>=2000,Расчет!B1908>=2000),Расчет!J1908,0)","v":0},{"$f":"IF(AND(Расчет!A1908<2000,Расчет!B1908<2000),Расчет!J1908,0)","v":0},null,null,{"$f":"IF(OR(Расчет!A1908>=2000,Расчет!B1908>=2000),Расчет!M1908,0)","v":0},{"$f":"IF(AND(Расчет!A1908<2000,Расчет!B1908<2000),Расчет!M1908,0)","v":0}]
[{"$f":"IF(OR(Расчет!A1909>=2000,Расчет!B1909>=2000),Расчет!G1909,0)","v":0},{"$f":"IF(AND(Расчет!A1909<2000,Расчет!B1909<2000),Расчет!G1909,0)","v":0},null,null,{"$f":"IF(OR(Расчет!A1909>=2000,Расчет!B1909>=2000),Расчет!J1909,0)","v":0},{"$f":"IF(AND(Расчет!A1909<2000,Расчет!B1909<2000),Расчет!J1909,0)","v":0},null,null,{"$f":"IF(OR(Расчет!A1909>=2000,Расчет!B1909>=2000),Расчет!M1909,0)","v":0},{"$f":"IF(AND(Расчет!A1909<2000,Расчет!B1909<2000),Расчет!M1909,0)","v":0}]
[{"$f":"IF(OR(Расчет!A1910>=2000,Расчет!B1910>=2000),Расчет!G1910,0)","v":0},{"$f":"IF(AND(Расчет!A1910<2000,Расчет!B1910<2000),Расчет!G1910,0)","v":0},null,null,{"$f":"IF(OR(Расчет!A1910>=2000,Расчет!B1910>=2000),Расчет!J1910,0)","v":0},{"$f":"IF(AND(Расчет!A1910<2000,Расчет!B1910<2000),Расчет!J1910,0)","v":0},null,null,{"$f":"IF(OR(Расчет!A1910>=2000,Расчет!B1910>=2000),Расчет!M1910,0)","v":0},{"$f":"IF(AND(Расчет!A1910<2000,Расчет!B1910<2000),Расчет!M1910,0)","v":0}]
[{"$f":"IF(OR(Расчет!A1911>=2000,Расчет!B1911>=2000),Расчет!G1911,0)","v":0},{"$f":"IF(AND(Расчет!A1911<2000,Расчет!B1911<2000),Расчет!G1911,0)","v":0},null,null,{"$f":"IF(OR(Расчет!A1911>=2000,Расчет!B1911>=2000),Расчет!J1911,0)","v":0},{"$f":"IF(AND(Расчет!A1911<2000,Расчет!B1911<2000),Расчет!J1911,0)","v":0},null,null,{"$f":"IF(OR(Расчет!A1911>=2000,Расчет!B1911>=2000),Расчет!M1911,0)","v":0},{"$f":"IF(AND(Расчет!A1911<2000,Расчет!B1911<2000),Расчет!M1911,0)","v":0}]
[{"$f":"IF(OR(Расчет!A1912>=2000,Расчет!B1912>=2000),Расчет!G1912,0)","v":0},{"$f":"IF(AND(Расчет!A1912<2000,Расчет!B1912<2000),Расчет!G1912,0)","v":0},null,null,{"$f":"IF(OR(Расчет!A1912>=2000,Расчет!B1912>=2000),Расчет!J1912,0)","v":0},{"$f":"IF(AND(Расчет!A1912<2000,Расчет!B1912<2000),Расчет!J1912,0)","v":0},null,null,{"$f":"IF(OR(Расчет!A1912>=2000,Расчет!B1912>=2000),Расчет!M1912,0)","v":0},{"$f":"IF(AND(Расчет!A1912<2000,Расчет!B1912<2000),Расчет!M1912,0)","v":0}]
[{"$f":"IF(OR(Расчет!A1913>=2000,Расчет!B1913>=2000),Расчет!G1913,0)","v":0},{"$f":"IF(AND(Расчет!A1913<2000,Расчет!B1913<2000),Расчет!G1913,0)","v":0},null,null,{"$f":"IF(OR(Расчет!A1913>=2000,Расчет!B1913>=2000),Расчет!J1913,0)","v":0},{"$f":"IF(AND(Расчет!A1913<2000,Расчет!B1913<2000),Расчет!J1913,0)","v":0},null,null,{"$f":"IF(OR(Расчет!A1913>=2000,Расчет!B1913>=2000),Расчет!M1913,0)","v":0},{"$f":"IF(AND(Расчет!A1913<2000,Расчет!B1913<2000),Расчет!M1913,0)","v":0}]
[{"$f":"IF(OR(Расчет!A1914>=2000,Расчет!B1914>=2000),Расчет!G1914,0)","v":0},{"$f":"IF(AND(Расчет!A1914<2000,Расчет!B1914<2000),Расчет!G1914,0)","v":0},null,null,{"$f":"IF(OR(Расчет!A1914>=2000,Расчет!B1914>=2000),Расчет!J1914,0)","v":0},{"$f":"IF(AND(Расчет!A1914<2000,Расчет!B1914<2000),Расчет!J1914,0)","v":0},null,null,{"$f":"IF(OR(Расчет!A1914>=2000,Расчет!B1914>=2000),Расчет!M1914,0)","v":0},{"$f":"IF(AND(Расчет!A1914<2000,Расчет!B1914<2000),Расчет!M1914,0)","v":0}]
[{"$f":"IF(OR(Расчет!A1915>=2000,Расчет!B1915>=2000),Расчет!G1915,0)","v":0},{"$f":"IF(AND(Расчет!A1915<2000,Расчет!B1915<2000),Расчет!G1915,0)","v":0},null,null,{"$f":"IF(OR(Расчет!A1915>=2000,Расчет!B1915>=2000),Расчет!J1915,0)","v":0},{"$f":"IF(AND(Расчет!A1915<2000,Расчет!B1915<2000),Расчет!J1915,0)","v":0},null,null,{"$f":"IF(OR(Расчет!A1915>=2000,Расчет!B1915>=2000),Расчет!M1915,0)","v":0},{"$f":"IF(AND(Расчет!A1915<2000,Расчет!B1915<2000),Расчет!M1915,0)","v":0}]
[{"$f":"IF(OR(Расчет!A1916>=2000,Расчет!B1916>=2000),Расчет!G1916,0)","v":0},{"$f":"IF(AND(Расчет!A1916<2000,Расчет!B1916<2000),Расчет!G1916,0)","v":0},null,null,{"$f":"IF(OR(Расчет!A1916>=2000,Расчет!B1916>=2000),Расчет!J1916,0)","v":0},{"$f":"IF(AND(Расчет!A1916<2000,Расчет!B1916<2000),Расчет!J1916,0)","v":0},null,null,{"$f":"IF(OR(Расчет!A1916>=2000,Расчет!B1916>=2000),Расчет!M1916,0)","v":0},{"$f":"IF(AND(Расчет!A1916<2000,Расчет!B1916<2000),Расчет!M1916,0)","v":0}]
[{"$f":"IF(OR(Расчет!A1917>=2000,Расчет!B1917>=2000),Расчет!G1917,0)","v":0},{"$f":"IF(AND(Расчет!A1917<2000,Расчет!B1917<2000),Расчет!G1917,0)","v":0},null,null,{"$f":"IF(OR(Расчет!A1917>=2000,Расчет!B1917>=2000),Расчет!J1917,0)","v":0},{"$f":"IF(AND(Расчет!A1917<2000,Расчет!B1917<2000),Расчет!J1917,0)","v":0},null,null,{"$f":"IF(OR(Расчет!A1917>=2000,Расчет!B1917>=2000),Расчет!M1917,0)","v":0},{"$f":"IF(AND(Расчет!A1917<2000,Расчет!B1917<2000),Расчет!M1917,0)","v":0}]
[{"$f":"IF(OR(Расчет!A1918>=2000,Расчет!B1918>=2000),Расчет!G1918,0)","v":0},{"$f":"IF(AND(Расчет!A1918<2000,Расчет!B1918<2000),Расчет!G1918,0)","v":0},null,null,{"$f":"IF(OR(Расчет!A1918>=2000,Расчет!B1918>=2000),Расчет!J1918,0)","v":0},{"$f":"IF(AND(Расчет!A1918<2000,Расчет!B1918<2000),Расчет!J1918,0)","v":0},null,null,{"$f":"IF(OR(Расчет!A1918>=2000,Расчет!B1918>=2000),Расчет!M1918,0)","v":0},{"$f":"IF(AND(Расчет!A1918<2000,Расчет!B1918<2000),Расчет!M1918,0)","v":0}]
[{"$f":"IF(OR(Расчет!A1919>=2000,Расчет!B1919>=2000),Расчет!G1919,0)","v":0},{"$f":"IF(AND(Расчет!A1919<2000,Расчет!B1919<2000),Расчет!G1919,0)","v":0},null,null,{"$f":"IF(OR(Расчет!A1919>=2000,Расчет!B1919>=2000),Расчет!J1919,0)","v":0},{"$f":"IF(AND(Расчет!A1919<2000,Расчет!B1919<2000),Расчет!J1919,0)","v":0},null,null,{"$f":"IF(OR(Расчет!A1919>=2000,Расчет!B1919>=2000),Расчет!M1919,0)","v":0},{"$f":"IF(AND(Расчет!A1919<2000,Расчет!B1919<2000),Расчет!M1919,0)","v":0}]
[{"$f":"IF(OR(Расчет!A1920>=2000,Расчет!B1920>=2000),Расчет!G1920,0)","v":0},{"$f":"IF(AND(Расчет!A1920<2000,Расчет!B1920<2000),Расчет!G1920,0)","v":0},null,null,{"$f":"IF(OR(Расчет!A1920>=2000,Расчет!B1920>=2000),Расчет!J1920,0)","v":0},{"$f":"IF(AND(Расчет!A1920<2000,Расчет!B1920<2000),Расчет!J1920,0)","v":0},null,null,{"$f":"IF(OR(Расчет!A1920>=2000,Расчет!B1920>=2000),Расчет!M1920,0)","v":0},{"$f":"IF(AND(Расчет!A1920<2000,Расчет!B1920<2000),Расчет!M1920,0)","v":0}]
[{"$f":"IF(OR(Расчет!A1921>=2000,Расчет!B1921>=2000),Расчет!G1921,0)","v":0},{"$f":"IF(AND(Расчет!A1921<2000,Расчет!B1921<2000),Расчет!G1921,0)","v":0},null,null,{"$f":"IF(OR(Расчет!A1921>=2000,Расчет!B1921>=2000),Расчет!J1921,0)","v":0},{"$f":"IF(AND(Расчет!A1921<2000,Расчет!B1921<2000),Расчет!J1921,0)","v":0},null,null,{"$f":"IF(OR(Расчет!A1921>=2000,Расчет!B1921>=2000),Расчет!M1921,0)","v":0},{"$f":"IF(AND(Расчет!A1921<2000,Расчет!B1921<2000),Расчет!M1921,0)","v":0}]
[{"$f":"IF(OR(Расчет!A1922>=2000,Расчет!B1922>=2000),Расчет!G1922,0)","v":0},{"$f":"IF(AND(Расчет!A1922<2000,Расчет!B1922<2000),Расчет!G1922,0)","v":0},null,null,{"$f":"IF(OR(Расчет!A1922>=2000,Расчет!B1922>=2000),Расчет!J1922,0)","v":0},{"$f":"IF(AND(Расчет!A1922<2000,Расчет!B1922<2000),Расчет!J1922,0)","v":0},null,null,{"$f":"IF(OR(Расчет!A1922>=2000,Расчет!B1922>=2000),Расчет!M1922,0)","v":0},{"$f":"IF(AND(Расчет!A1922<2000,Расчет!B1922<2000),Расчет!M1922,0)","v":0}]
[{"$f":"IF(OR(Расчет!A1923>=2000,Расчет!B1923>=2000),Расчет!G1923,0)","v":0},{"$f":"IF(AND(Расчет!A1923<2000,Расчет!B1923<2000),Расчет!G1923,0)","v":0},null,null,{"$f":"IF(OR(Расчет!A1923>=2000,Расчет!B1923>=2000),Расчет!J1923,0)","v":0},{"$f":"IF(AND(Расчет!A1923<2000,Расчет!B1923<2000),Расчет!J1923,0)","v":0},null,null,{"$f":"IF(OR(Расчет!A1923>=2000,Расчет!B1923>=2000),Расчет!M1923,0)","v":0},{"$f":"IF(AND(Расчет!A1923<2000,Расчет!B1923<2000),Расчет!M1923,0)","v":0}]
[{"$f":"IF(OR(Расчет!A1924>=2000,Расчет!B1924>=2000),Расчет!G1924,0)","v":0},{"$f":"IF(AND(Расчет!A1924<2000,Расчет!B1924<2000),Расчет!G1924,0)","v":0},null,null,{"$f":"IF(OR(Расчет!A1924>=2000,Расчет!B1924>=2000),Расчет!J1924,0)","v":0},{"$f":"IF(AND(Расчет!A1924<2000,Расчет!B1924<2000),Расчет!J1924,0)","v":0},null,null,{"$f":"IF(OR(Расчет!A1924>=2000,Расчет!B1924>=2000),Расчет!M1924,0)","v":0},{"$f":"IF(AND(Расчет!A1924<2000,Расчет!B1924<2000),Расчет!M1924,0)","v":0}]
[{"$f":"IF(OR(Расчет!A1925>=2000,Расчет!B1925>=2000),Расчет!G1925,0)","v":0},{"$f":"IF(AND(Расчет!A1925<2000,Расчет!B1925<2000),Расчет!G1925,0)","v":0},null,null,{"$f":"IF(OR(Расчет!A1925>=2000,Расчет!B1925>=2000),Расчет!J1925,0)","v":0},{"$f":"IF(AND(Расчет!A1925<2000,Расчет!B1925<2000),Расчет!J1925,0)","v":0},null,null,{"$f":"IF(OR(Расчет!A1925>=2000,Расчет!B1925>=2000),Расчет!M1925,0)","v":0},{"$f":"IF(AND(Расчет!A1925<2000,Расчет!B1925<2000),Расчет!M1925,0)","v":0}]
[{"$f":"IF(OR(Расчет!A1926>=2000,Расчет!B1926>=2000),Расчет!G1926,0)","v":0},{"$f":"IF(AND(Расчет!A1926<2000,Расчет!B1926<2000),Расчет!G1926,0)","v":0},null,null,{"$f":"IF(OR(Расчет!A1926>=2000,Расчет!B1926>=2000),Расчет!J1926,0)","v":0},{"$f":"IF(AND(Расчет!A1926<2000,Расчет!B1926<2000),Расчет!J1926,0)","v":0},null,null,{"$f":"IF(OR(Расчет!A1926>=2000,Расчет!B1926>=2000),Расчет!M1926,0)","v":0},{"$f":"IF(AND(Расчет!A1926<2000,Расчет!B1926<2000),Расчет!M1926,0)","v":0}]
[{"$f":"IF(OR(Расчет!A1927>=2000,Расчет!B1927>=2000),Расчет!G1927,0)","v":0},{"$f":"IF(AND(Расчет!A1927<2000,Расчет!B1927<2000),Расчет!G1927,0)","v":0},null,null,{"$f":"IF(OR(Расчет!A1927>=2000,Расчет!B1927>=2000),Расчет!J1927,0)","v":0},{"$f":"IF(AND(Расчет!A1927<2000,Расчет!B1927<2000),Расчет!J1927,0)","v":0},null,null,{"$f":"IF(OR(Расчет!A1927>=2000,Расчет!B1927>=2000),Расчет!M1927,0)","v":0},{"$f":"IF(AND(Расчет!A1927<2000,Расчет!B1927<2000),Расчет!M1927,0)","v":0}]
[{"$f":"IF(OR(Расчет!A1928>=2000,Расчет!B1928>=2000),Расчет!G1928,0)","v":0},{"$f":"IF(AND(Расчет!A1928<2000,Расчет!B1928<2000),Расчет!G1928,0)","v":0},null,null,{"$f":"IF(OR(Расчет!A1928>=2000,Расчет!B1928>=2000),Расчет!J1928,0)","v":0},{"$f":"IF(AND(Расчет!A1928<2000,Расчет!B1928<2000),Расчет!J1928,0)","v":0},null,null,{"$f":"IF(OR(Расчет!A1928>=2000,Расчет!B1928>=2000),Расчет!M1928,0)","v":0},{"$f":"IF(AND(Расчет!A1928<2000,Расчет!B1928<2000),Расчет!M1928,0)","v":0}]
[{"$f":"IF(OR(Расчет!A1929>=2000,Расчет!B1929>=2000),Расчет!G1929,0)","v":0},{"$f":"IF(AND(Расчет!A1929<2000,Расчет!B1929<2000),Расчет!G1929,0)","v":0},null,null,{"$f":"IF(OR(Расчет!A1929>=2000,Расчет!B1929>=2000),Расчет!J1929,0)","v":0},{"$f":"IF(AND(Расчет!A1929<2000,Расчет!B1929<2000),Расчет!J1929,0)","v":0},null,null,{"$f":"IF(OR(Расчет!A1929>=2000,Расчет!B1929>=2000),Расчет!M1929,0)","v":0},{"$f":"IF(AND(Расчет!A1929<2000,Расчет!B1929<2000),Расчет!M1929,0)","v":0}]
[{"$f":"IF(OR(Расчет!A1930>=2000,Расчет!B1930>=2000),Расчет!G1930,0)","v":0},{"$f":"IF(AND(Расчет!A1930<2000,Расчет!B1930<2000),Расчет!G1930,0)","v":0},null,null,{"$f":"IF(OR(Расчет!A1930>=2000,Расчет!B1930>=2000),Расчет!J1930,0)","v":0},{"$f":"IF(AND(Расчет!A1930<2000,Расчет!B1930<2000),Расчет!J1930,0)","v":0},null,null,{"$f":"IF(OR(Расчет!A1930>=2000,Расчет!B1930>=2000),Расчет!M1930,0)","v":0},{"$f":"IF(AND(Расчет!A1930<2000,Расчет!B1930<2000),Расчет!M1930,0)","v":0}]
[{"$f":"IF(OR(Расчет!A1931>=2000,Расчет!B1931>=2000),Расчет!G1931,0)","v":0},{"$f":"IF(AND(Расчет!A1931<2000,Расчет!B1931<2000),Расчет!G1931,0)","v":0},null,null,{"$f":"IF(OR(Расчет!A1931>=2000,Расчет!B1931>=2000),Расчет!J1931,0)","v":0},{"$f":"IF(AND(Расчет!A1931<2000,Расчет!B1931<2000),Расчет!J1931,0)","v":0},null,null,{"$f":"IF(OR(Расчет!A1931>=2000,Расчет!B1931>=2000),Расчет!M1931,0)","v":0},{"$f":"IF(AND(Расчет!A1931<2000,Расчет!B1931<2000),Расчет!M1931,0)","v":0}]
[{"$f":"IF(OR(Расчет!A1932>=2000,Расчет!B1932>=2000),Расчет!G1932,0)","v":0},{"$f":"IF(AND(Расчет!A1932<2000,Расчет!B1932<2000),Расчет!G1932,0)","v":0},null,null,{"$f":"IF(OR(Расчет!A1932>=2000,Расчет!B1932>=2000),Расчет!J1932,0)","v":0},{"$f":"IF(AND(Расчет!A1932<2000,Расчет!B1932<2000),Расчет!J1932,0)","v":0},null,null,{"$f":"IF(OR(Расчет!A1932>=2000,Расчет!B1932>=2000),Расчет!M1932,0)","v":0},{"$f":"IF(AND(Расчет!A1932<2000,Расчет!B1932<2000),Расчет!M1932,0)","v":0}]
[{"$f":"IF(OR(Расчет!A1933>=2000,Расчет!B1933>=2000),Расчет!G1933,0)","v":0},{"$f":"IF(AND(Расчет!A1933<2000,Расчет!B1933<2000),Расчет!G1933,0)","v":0},null,null,{"$f":"IF(OR(Расчет!A1933>=2000,Расчет!B1933>=2000),Расчет!J1933,0)","v":0},{"$f":"IF(AND(Расчет!A1933<2000,Расчет!B1933<2000),Расчет!J1933,0)","v":0},null,null,{"$f":"IF(OR(Расчет!A1933>=2000,Расчет!B1933>=2000),Расчет!M1933,0)","v":0},{"$f":"IF(AND(Расчет!A1933<2000,Расчет!B1933<2000),Расчет!M1933,0)","v":0}]
[{"$f":"IF(OR(Расчет!A1934>=2000,Расчет!B1934>=2000),Расчет!G1934,0)","v":0},{"$f":"IF(AND(Расчет!A1934<2000,Расчет!B1934<2000),Расчет!G1934,0)","v":0},null,null,{"$f":"IF(OR(Расчет!A1934>=2000,Расчет!B1934>=2000),Расчет!J1934,0)","v":0},{"$f":"IF(AND(Расчет!A1934<2000,Расчет!B1934<2000),Расчет!J1934,0)","v":0},null,null,{"$f":"IF(OR(Расчет!A1934>=2000,Расчет!B1934>=2000),Расчет!M1934,0)","v":0},{"$f":"IF(AND(Расчет!A1934<2000,Расчет!B1934<2000),Расчет!M1934,0)","v":0}]
[{"$f":"IF(OR(Расчет!A1935>=2000,Расчет!B1935>=2000),Расчет!G1935,0)","v":0},{"$f":"IF(AND(Расчет!A1935<2000,Расчет!B1935<2000),Расчет!G1935,0)","v":0},null,null,{"$f":"IF(OR(Расчет!A1935>=2000,Расчет!B1935>=2000),Расчет!J1935,0)","v":0},{"$f":"IF(AND(Расчет!A1935<2000,Расчет!B1935<2000),Расчет!J1935,0)","v":0},null,null,{"$f":"IF(OR(Расчет!A1935>=2000,Расчет!B1935>=2000),Расчет!M1935,0)","v":0},{"$f":"IF(AND(Расчет!A1935<2000,Расчет!B1935<2000),Расчет!M1935,0)","v":0}]
[{"$f":"IF(OR(Расчет!A1936>=2000,Расчет!B1936>=2000),Расчет!G1936,0)","v":0},{"$f":"IF(AND(Расчет!A1936<2000,Расчет!B1936<2000),Расчет!G1936,0)","v":0},null,null,{"$f":"IF(OR(Расчет!A1936>=2000,Расчет!B1936>=2000),Расчет!J1936,0)","v":0},{"$f":"IF(AND(Расчет!A1936<2000,Расчет!B1936<2000),Расчет!J1936,0)","v":0},null,null,{"$f":"IF(OR(Расчет!A1936>=2000,Расчет!B1936>=2000),Расчет!M1936,0)","v":0},{"$f":"IF(AND(Расчет!A1936<2000,Расчет!B1936<2000),Расчет!M1936,0)","v":0}]
[{"$f":"IF(OR(Расчет!A1937>=2000,Расчет!B1937>=2000),Расчет!G1937,0)","v":0},{"$f":"IF(AND(Расчет!A1937<2000,Расчет!B1937<2000),Расчет!G1937,0)","v":0},null,null,{"$f":"IF(OR(Расчет!A1937>=2000,Расчет!B1937>=2000),Расчет!J1937,0)","v":0},{"$f":"IF(AND(Расчет!A1937<2000,Расчет!B1937<2000),Расчет!J1937,0)","v":0},null,null,{"$f":"IF(OR(Расчет!A1937>=2000,Расчет!B1937>=2000),Расчет!M1937,0)","v":0},{"$f":"IF(AND(Расчет!A1937<2000,Расчет!B1937<2000),Расчет!M1937,0)","v":0}]
[{"$f":"IF(OR(Расчет!A1938>=2000,Расчет!B1938>=2000),Расчет!G1938,0)","v":0},{"$f":"IF(AND(Расчет!A1938<2000,Расчет!B1938<2000),Расчет!G1938,0)","v":0},null,null,{"$f":"IF(OR(Расчет!A1938>=2000,Расчет!B1938>=2000),Расчет!J1938,0)","v":0},{"$f":"IF(AND(Расчет!A1938<2000,Расчет!B1938<2000),Расчет!J1938,0)","v":0},null,null,{"$f":"IF(OR(Расчет!A1938>=2000,Расчет!B1938>=2000),Расчет!M1938,0)","v":0},{"$f":"IF(AND(Расчет!A1938<2000,Расчет!B1938<2000),Расчет!M1938,0)","v":0}]
[{"$f":"IF(OR(Расчет!A1939>=2000,Расчет!B1939>=2000),Расчет!G1939,0)","v":0},{"$f":"IF(AND(Расчет!A1939<2000,Расчет!B1939<2000),Расчет!G1939,0)","v":0},null,null,{"$f":"IF(OR(Расчет!A1939>=2000,Расчет!B1939>=2000),Расчет!J1939,0)","v":0},{"$f":"IF(AND(Расчет!A1939<2000,Расчет!B1939<2000),Расчет!J1939,0)","v":0},null,null,{"$f":"IF(OR(Расчет!A1939>=2000,Расчет!B1939>=2000),Расчет!M1939,0)","v":0},{"$f":"IF(AND(Расчет!A1939<2000,Расчет!B1939<2000),Расчет!M1939,0)","v":0}]
[{"$f":"IF(OR(Расчет!A1940>=2000,Расчет!B1940>=2000),Расчет!G1940,0)","v":0},{"$f":"IF(AND(Расчет!A1940<2000,Расчет!B1940<2000),Расчет!G1940,0)","v":0},null,null,{"$f":"IF(OR(Расчет!A1940>=2000,Расчет!B1940>=2000),Расчет!J1940,0)","v":0},{"$f":"IF(AND(Расчет!A1940<2000,Расчет!B1940<2000),Расчет!J1940,0)","v":0},null,null,{"$f":"IF(OR(Расчет!A1940>=2000,Расчет!B1940>=2000),Расчет!M1940,0)","v":0},{"$f":"IF(AND(Расчет!A1940<2000,Расчет!B1940<2000),Расчет!M1940,0)","v":0}]
[{"$f":"IF(OR(Расчет!A1941>=2000,Расчет!B1941>=2000),Расчет!G1941,0)","v":0},{"$f":"IF(AND(Расчет!A1941<2000,Расчет!B1941<2000),Расчет!G1941,0)","v":0},null,null,{"$f":"IF(OR(Расчет!A1941>=2000,Расчет!B1941>=2000),Расчет!J1941,0)","v":0},{"$f":"IF(AND(Расчет!A1941<2000,Расчет!B1941<2000),Расчет!J1941,0)","v":0},null,null,{"$f":"IF(OR(Расчет!A1941>=2000,Расчет!B1941>=2000),Расчет!M1941,0)","v":0},{"$f":"IF(AND(Расчет!A1941<2000,Расчет!B1941<2000),Расчет!M1941,0)","v":0}]
[{"$f":"IF(OR(Расчет!A1942>=2000,Расчет!B1942>=2000),Расчет!G1942,0)","v":0},{"$f":"IF(AND(Расчет!A1942<2000,Расчет!B1942<2000),Расчет!G1942,0)","v":0},null,null,{"$f":"IF(OR(Расчет!A1942>=2000,Расчет!B1942>=2000),Расчет!J1942,0)","v":0},{"$f":"IF(AND(Расчет!A1942<2000,Расчет!B1942<2000),Расчет!J1942,0)","v":0},null,null,{"$f":"IF(OR(Расчет!A1942>=2000,Расчет!B1942>=2000),Расчет!M1942,0)","v":0},{"$f":"IF(AND(Расчет!A1942<2000,Расчет!B1942<2000),Расчет!M1942,0)","v":0}]
[{"$f":"IF(OR(Расчет!A1943>=2000,Расчет!B1943>=2000),Расчет!G1943,0)","v":0},{"$f":"IF(AND(Расчет!A1943<2000,Расчет!B1943<2000),Расчет!G1943,0)","v":0},null,null,{"$f":"IF(OR(Расчет!A1943>=2000,Расчет!B1943>=2000),Расчет!J1943,0)","v":0},{"$f":"IF(AND(Расчет!A1943<2000,Расчет!B1943<2000),Расчет!J1943,0)","v":0},null,null,{"$f":"IF(OR(Расчет!A1943>=2000,Расчет!B1943>=2000),Расчет!M1943,0)","v":0},{"$f":"IF(AND(Расчет!A1943<2000,Расчет!B1943<2000),Расчет!M1943,0)","v":0}]
[{"$f":"IF(OR(Расчет!A1944>=2000,Расчет!B1944>=2000),Расчет!G1944,0)","v":0},{"$f":"IF(AND(Расчет!A1944<2000,Расчет!B1944<2000),Расчет!G1944,0)","v":0},null,null,{"$f":"IF(OR(Расчет!A1944>=2000,Расчет!B1944>=2000),Расчет!J1944,0)","v":0},{"$f":"IF(AND(Расчет!A1944<2000,Расчет!B1944<2000),Расчет!J1944,0)","v":0},null,null,{"$f":"IF(OR(Расчет!A1944>=2000,Расчет!B1944>=2000),Расчет!M1944,0)","v":0},{"$f":"IF(AND(Расчет!A1944<2000,Расчет!B1944<2000),Расчет!M1944,0)","v":0}]
[{"$f":"IF(OR(Расчет!A1945>=2000,Расчет!B1945>=2000),Расчет!G1945,0)","v":0},{"$f":"IF(AND(Расчет!A1945<2000,Расчет!B1945<2000),Расчет!G1945,0)","v":0},null,null,{"$f":"IF(OR(Расчет!A1945>=2000,Расчет!B1945>=2000),Расчет!J1945,0)","v":0},{"$f":"IF(AND(Расчет!A1945<2000,Расчет!B1945<2000),Расчет!J1945,0)","v":0},null,null,{"$f":"IF(OR(Расчет!A1945>=2000,Расчет!B1945>=2000),Расчет!M1945,0)","v":0},{"$f":"IF(AND(Расчет!A1945<2000,Расчет!B1945<2000),Расчет!M1945,0)","v":0}]
[{"$f":"IF(OR(Расчет!A1946>=2000,Расчет!B1946>=2000),Расчет!G1946,0)","v":0},{"$f":"IF(AND(Расчет!A1946<2000,Расчет!B1946<2000),Расчет!G1946,0)","v":0},null,null,{"$f":"IF(OR(Расчет!A1946>=2000,Расчет!B1946>=2000),Расчет!J1946,0)","v":0},{"$f":"IF(AND(Расчет!A1946<2000,Расчет!B1946<2000),Расчет!J1946,0)","v":0},null,null,{"$f":"IF(OR(Расчет!A1946>=2000,Расчет!B1946>=2000),Расчет!M1946,0)","v":0},{"$f":"IF(AND(Расчет!A1946<2000,Расчет!B1946<2000),Расчет!M1946,0)","v":0}]
[{"$f":"IF(OR(Расчет!A1947>=2000,Расчет!B1947>=2000),Расчет!G1947,0)","v":0},{"$f":"IF(AND(Расчет!A1947<2000,Расчет!B1947<2000),Расчет!G1947,0)","v":0},null,null,{"$f":"IF(OR(Расчет!A1947>=2000,Расчет!B1947>=2000),Расчет!J1947,0)","v":0},{"$f":"IF(AND(Расчет!A1947<2000,Расчет!B1947<2000),Расчет!J1947,0)","v":0},null,null,{"$f":"IF(OR(Расчет!A1947>=2000,Расчет!B1947>=2000),Расчет!M1947,0)","v":0},{"$f":"IF(AND(Расчет!A1947<2000,Расчет!B1947<2000),Расчет!M1947,0)","v":0}]
[{"$f":"IF(OR(Расчет!A1948>=2000,Расчет!B1948>=2000),Расчет!G1948,0)","v":0},{"$f":"IF(AND(Расчет!A1948<2000,Расчет!B1948<2000),Расчет!G1948,0)","v":0},null,null,{"$f":"IF(OR(Расчет!A1948>=2000,Расчет!B1948>=2000),Расчет!J1948,0)","v":0},{"$f":"IF(AND(Расчет!A1948<2000,Расчет!B1948<2000),Расчет!J1948,0)","v":0},null,null,{"$f":"IF(OR(Расчет!A1948>=2000,Расчет!B1948>=2000),Расчет!M1948,0)","v":0},{"$f":"IF(AND(Расчет!A1948<2000,Расчет!B1948<2000),Расчет!M1948,0)","v":0}]
[{"$f":"IF(OR(Расчет!A1949>=2000,Расчет!B1949>=2000),Расчет!G1949,0)","v":0},{"$f":"IF(AND(Расчет!A1949<2000,Расчет!B1949<2000),Расчет!G1949,0)","v":0},null,null,{"$f":"IF(OR(Расчет!A1949>=2000,Расчет!B1949>=2000),Расчет!J1949,0)","v":0},{"$f":"IF(AND(Расчет!A1949<2000,Расчет!B1949<2000),Расчет!J1949,0)","v":0},null,null,{"$f":"IF(OR(Расчет!A1949>=2000,Расчет!B1949>=2000),Расчет!M1949,0)","v":0},{"$f":"IF(AND(Расчет!A1949<2000,Расчет!B1949<2000),Расчет!M1949,0)","v":0}]
[{"$f":"IF(OR(Расчет!A1950>=2000,Расчет!B1950>=2000),Расчет!G1950,0)","v":0},{"$f":"IF(AND(Расчет!A1950<2000,Расчет!B1950<2000),Расчет!G1950,0)","v":0},null,null,{"$f":"IF(OR(Расчет!A1950>=2000,Расчет!B1950>=2000),Расчет!J1950,0)","v":0},{"$f":"IF(AND(Расчет!A1950<2000,Расчет!B1950<2000),Расчет!J1950,0)","v":0},null,null,{"$f":"IF(OR(Расчет!A1950>=2000,Расчет!B1950>=2000),Расчет!M1950,0)","v":0},{"$f":"IF(AND(Расчет!A1950<2000,Расчет!B1950<2000),Расчет!M1950,0)","v":0}]
[{"$f":"IF(OR(Расчет!A1951>=2000,Расчет!B1951>=2000),Расчет!G1951,0)","v":0},{"$f":"IF(AND(Расчет!A1951<2000,Расчет!B1951<2000),Расчет!G1951,0)","v":0},null,null,{"$f":"IF(OR(Расчет!A1951>=2000,Расчет!B1951>=2000),Расчет!J1951,0)","v":0},{"$f":"IF(AND(Расчет!A1951<2000,Расчет!B1951<2000),Расчет!J1951,0)","v":0},null,null,{"$f":"IF(OR(Расчет!A1951>=2000,Расчет!B1951>=2000),Расчет!M1951,0)","v":0},{"$f":"IF(AND(Расчет!A1951<2000,Расчет!B1951<2000),Расчет!M1951,0)","v":0}]
[{"$f":"IF(OR(Расчет!A1952>=2000,Расчет!B1952>=2000),Расчет!G1952,0)","v":0},{"$f":"IF(AND(Расчет!A1952<2000,Расчет!B1952<2000),Расчет!G1952,0)","v":0},null,null,{"$f":"IF(OR(Расчет!A1952>=2000,Расчет!B1952>=2000),Расчет!J1952,0)","v":0},{"$f":"IF(AND(Расчет!A1952<2000,Расчет!B1952<2000),Расчет!J1952,0)","v":0},null,null,{"$f":"IF(OR(Расчет!A1952>=2000,Расчет!B1952>=2000),Расчет!M1952,0)","v":0},{"$f":"IF(AND(Расчет!A1952<2000,Расчет!B1952<2000),Расчет!M1952,0)","v":0}]
[{"$f":"IF(OR(Расчет!A1953>=2000,Расчет!B1953>=2000),Расчет!G1953,0)","v":0},{"$f":"IF(AND(Расчет!A1953<2000,Расчет!B1953<2000),Расчет!G1953,0)","v":0},null,null,{"$f":"IF(OR(Расчет!A1953>=2000,Расчет!B1953>=2000),Расчет!J1953,0)","v":0},{"$f":"IF(AND(Расчет!A1953<2000,Расчет!B1953<2000),Расчет!J1953,0)","v":0},null,null,{"$f":"IF(OR(Расчет!A1953>=2000,Расчет!B1953>=2000),Расчет!M1953,0)","v":0},{"$f":"IF(AND(Расчет!A1953<2000,Расчет!B1953<2000),Расчет!M1953,0)","v":0}]
[{"$f":"IF(OR(Расчет!A1954>=2000,Расчет!B1954>=2000),Расчет!G1954,0)","v":0},{"$f":"IF(AND(Расчет!A1954<2000,Расчет!B1954<2000),Расчет!G1954,0)","v":0},null,null,{"$f":"IF(OR(Расчет!A1954>=2000,Расчет!B1954>=2000),Расчет!J1954,0)","v":0},{"$f":"IF(AND(Расчет!A1954<2000,Расчет!B1954<2000),Расчет!J1954,0)","v":0},null,null,{"$f":"IF(OR(Расчет!A1954>=2000,Расчет!B1954>=2000),Расчет!M1954,0)","v":0},{"$f":"IF(AND(Расчет!A1954<2000,Расчет!B1954<2000),Расчет!M1954,0)","v":0}]
[{"$f":"IF(OR(Расчет!A1955>=2000,Расчет!B1955>=2000),Расчет!G1955,0)","v":0},{"$f":"IF(AND(Расчет!A1955<2000,Расчет!B1955<2000),Расчет!G1955,0)","v":0},null,null,{"$f":"IF(OR(Расчет!A1955>=2000,Расчет!B1955>=2000),Расчет!J1955,0)","v":0},{"$f":"IF(AND(Расчет!A1955<2000,Расчет!B1955<2000),Расчет!J1955,0)","v":0},null,null,{"$f":"IF(OR(Расчет!A1955>=2000,Расчет!B1955>=2000),Расчет!M1955,0)","v":0},{"$f":"IF(AND(Расчет!A1955<2000,Расчет!B1955<2000),Расчет!M1955,0)","v":0}]
[{"$f":"IF(OR(Расчет!A1956>=2000,Расчет!B1956>=2000),Расчет!G1956,0)","v":0},{"$f":"IF(AND(Расчет!A1956<2000,Расчет!B1956<2000),Расчет!G1956,0)","v":0},null,null,{"$f":"IF(OR(Расчет!A1956>=2000,Расчет!B1956>=2000),Расчет!J1956,0)","v":0},{"$f":"IF(AND(Расчет!A1956<2000,Расчет!B1956<2000),Расчет!J1956,0)","v":0},null,null,{"$f":"IF(OR(Расчет!A1956>=2000,Расчет!B1956>=2000),Расчет!M1956,0)","v":0},{"$f":"IF(AND(Расчет!A1956<2000,Расчет!B1956<2000),Расчет!M1956,0)","v":0}]
[{"$f":"IF(OR(Расчет!A1957>=2000,Расчет!B1957>=2000),Расчет!G1957,0)","v":0},{"$f":"IF(AND(Расчет!A1957<2000,Расчет!B1957<2000),Расчет!G1957,0)","v":0},null,null,{"$f":"IF(OR(Расчет!A1957>=2000,Расчет!B1957>=2000),Расчет!J1957,0)","v":0},{"$f":"IF(AND(Расчет!A1957<2000,Расчет!B1957<2000),Расчет!J1957,0)","v":0},null,null,{"$f":"IF(OR(Расчет!A1957>=2000,Расчет!B1957>=2000),Расчет!M1957,0)","v":0},{"$f":"IF(AND(Расчет!A1957<2000,Расчет!B1957<2000),Расчет!M1957,0)","v":0}]
[{"$f":"IF(OR(Расчет!A1958>=2000,Расчет!B1958>=2000),Расчет!G1958,0)","v":0},{"$f":"IF(AND(Расчет!A1958<2000,Расчет!B1958<2000),Расчет!G1958,0)","v":0},null,null,{"$f":"IF(OR(Расчет!A1958>=2000,Расчет!B1958>=2000),Расчет!J1958,0)","v":0},{"$f":"IF(AND(Расчет!A1958<2000,Расчет!B1958<2000),Расчет!J1958,0)","v":0},null,null,{"$f":"IF(OR(Расчет!A1958>=2000,Расчет!B1958>=2000),Расчет!M1958,0)","v":0},{"$f":"IF(AND(Расчет!A1958<2000,Расчет!B1958<2000),Расчет!M1958,0)","v":0}]
[{"$f":"IF(OR(Расчет!A1959>=2000,Расчет!B1959>=2000),Расчет!G1959,0)","v":0},{"$f":"IF(AND(Расчет!A1959<2000,Расчет!B1959<2000),Расчет!G1959,0)","v":0},null,null,{"$f":"IF(OR(Расчет!A1959>=2000,Расчет!B1959>=2000),Расчет!J1959,0)","v":0},{"$f":"IF(AND(Расчет!A1959<2000,Расчет!B1959<2000),Расчет!J1959,0)","v":0},null,null,{"$f":"IF(OR(Расчет!A1959>=2000,Расчет!B1959>=2000),Расчет!M1959,0)","v":0},{"$f":"IF(AND(Расчет!A1959<2000,Расчет!B1959<2000),Расчет!M1959,0)","v":0}]
[{"$f":"IF(OR(Расчет!A1960>=2000,Расчет!B1960>=2000),Расчет!G1960,0)","v":0},{"$f":"IF(AND(Расчет!A1960<2000,Расчет!B1960<2000),Расчет!G1960,0)","v":0},null,null,{"$f":"IF(OR(Расчет!A1960>=2000,Расчет!B1960>=2000),Расчет!J1960,0)","v":0},{"$f":"IF(AND(Расчет!A1960<2000,Расчет!B1960<2000),Расчет!J1960,0)","v":0},null,null,{"$f":"IF(OR(Расчет!A1960>=2000,Расчет!B1960>=2000),Расчет!M1960,0)","v":0},{"$f":"IF(AND(Расчет!A1960<2000,Расчет!B1960<2000),Расчет!M1960,0)","v":0}]
[{"$f":"IF(OR(Расчет!A1961>=2000,Расчет!B1961>=2000),Расчет!G1961,0)","v":0},{"$f":"IF(AND(Расчет!A1961<2000,Расчет!B1961<2000),Расчет!G1961,0)","v":0},null,null,{"$f":"IF(OR(Расчет!A1961>=2000,Расчет!B1961>=2000),Расчет!J1961,0)","v":0},{"$f":"IF(AND(Расчет!A1961<2000,Расчет!B1961<2000),Расчет!J1961,0)","v":0},null,null,{"$f":"IF(OR(Расчет!A1961>=2000,Расчет!B1961>=2000),Расчет!M1961,0)","v":0},{"$f":"IF(AND(Расчет!A1961<2000,Расчет!B1961<2000),Расчет!M1961,0)","v":0}]
[{"$f":"IF(OR(Расчет!A1962>=2000,Расчет!B1962>=2000),Расчет!G1962,0)","v":0},{"$f":"IF(AND(Расчет!A1962<2000,Расчет!B1962<2000),Расчет!G1962,0)","v":0},null,null,{"$f":"IF(OR(Расчет!A1962>=2000,Расчет!B1962>=2000),Расчет!J1962,0)","v":0},{"$f":"IF(AND(Расчет!A1962<2000,Расчет!B1962<2000),Расчет!J1962,0)","v":0},null,null,{"$f":"IF(OR(Расчет!A1962>=2000,Расчет!B1962>=2000),Расчет!M1962,0)","v":0},{"$f":"IF(AND(Расчет!A1962<2000,Расчет!B1962<2000),Расчет!M1962,0)","v":0}]
[{"$f":"IF(OR(Расчет!A1963>=2000,Расчет!B1963>=2000),Расчет!G1963,0)","v":0},{"$f":"IF(AND(Расчет!A1963<2000,Расчет!B1963<2000),Расчет!G1963,0)","v":0},null,null,{"$f":"IF(OR(Расчет!A1963>=2000,Расчет!B1963>=2000),Расчет!J1963,0)","v":0},{"$f":"IF(AND(Расчет!A1963<2000,Расчет!B1963<2000),Расчет!J1963,0)","v":0},null,null,{"$f":"IF(OR(Расчет!A1963>=2000,Расчет!B1963>=2000),Расчет!M1963,0)","v":0},{"$f":"IF(AND(Расчет!A1963<2000,Расчет!B1963<2000),Расчет!M1963,0)","v":0}]
[{"$f":"IF(OR(Расчет!A1964>=2000,Расчет!B1964>=2000),Расчет!G1964,0)","v":0},{"$f":"IF(AND(Расчет!A1964<2000,Расчет!B1964<2000),Расчет!G1964,0)","v":0},null,null,{"$f":"IF(OR(Расчет!A1964>=2000,Расчет!B1964>=2000),Расчет!J1964,0)","v":0},{"$f":"IF(AND(Расчет!A1964<2000,Расчет!B1964<2000),Расчет!J1964,0)","v":0},null,null,{"$f":"IF(OR(Расчет!A1964>=2000,Расчет!B1964>=2000),Расчет!M1964,0)","v":0},{"$f":"IF(AND(Расчет!A1964<2000,Расчет!B1964<2000),Расчет!M1964,0)","v":0}]
[{"$f":"IF(OR(Расчет!A1965>=2000,Расчет!B1965>=2000),Расчет!G1965,0)","v":0},{"$f":"IF(AND(Расчет!A1965<2000,Расчет!B1965<2000),Расчет!G1965,0)","v":0},null,null,{"$f":"IF(OR(Расчет!A1965>=2000,Расчет!B1965>=2000),Расчет!J1965,0)","v":0},{"$f":"IF(AND(Расчет!A1965<2000,Расчет!B1965<2000),Расчет!J1965,0)","v":0},null,null,{"$f":"IF(OR(Расчет!A1965>=2000,Расчет!B1965>=2000),Расчет!M1965,0)","v":0},{"$f":"IF(AND(Расчет!A1965<2000,Расчет!B1965<2000),Расчет!M1965,0)","v":0}]
[{"$f":"IF(OR(Расчет!A1966>=2000,Расчет!B1966>=2000),Расчет!G1966,0)","v":0},{"$f":"IF(AND(Расчет!A1966<2000,Расчет!B1966<2000),Расчет!G1966,0)","v":0},null,null,{"$f":"IF(OR(Расчет!A1966>=2000,Расчет!B1966>=2000),Расчет!J1966,0)","v":0},{"$f":"IF(AND(Расчет!A1966<2000,Расчет!B1966<2000),Расчет!J1966,0)","v":0},null,null,{"$f":"IF(OR(Расчет!A1966>=2000,Расчет!B1966>=2000),Расчет!M1966,0)","v":0},{"$f":"IF(AND(Расчет!A1966<2000,Расчет!B1966<2000),Расчет!M1966,0)","v":0}]
[{"$f":"IF(OR(Расчет!A1967>=2000,Расчет!B1967>=2000),Расчет!G1967,0)","v":0},{"$f":"IF(AND(Расчет!A1967<2000,Расчет!B1967<2000),Расчет!G1967,0)","v":0},null,null,{"$f":"IF(OR(Расчет!A1967>=2000,Расчет!B1967>=2000),Расчет!J1967,0)","v":0},{"$f":"IF(AND(Расчет!A1967<2000,Расчет!B1967<2000),Расчет!J1967,0)","v":0},null,null,{"$f":"IF(OR(Расчет!A1967>=2000,Расчет!B1967>=2000),Расчет!M1967,0)","v":0},{"$f":"IF(AND(Расчет!A1967<2000,Расчет!B1967<2000),Расчет!M1967,0)","v":0}]
[{"$f":"IF(OR(Расчет!A1968>=2000,Расчет!B1968>=2000),Расчет!G1968,0)","v":0},{"$f":"IF(AND(Расчет!A1968<2000,Расчет!B1968<2000),Расчет!G1968,0)","v":0},null,null,{"$f":"IF(OR(Расчет!A1968>=2000,Расчет!B1968>=2000),Расчет!J1968,0)","v":0},{"$f":"IF(AND(Расчет!A1968<2000,Расчет!B1968<2000),Расчет!J1968,0)","v":0},null,null,{"$f":"IF(OR(Расчет!A1968>=2000,Расчет!B1968>=2000),Расчет!M1968,0)","v":0},{"$f":"IF(AND(Расчет!A1968<2000,Расчет!B1968<2000),Расчет!M1968,0)","v":0}]
[{"$f":"IF(OR(Расчет!A1969>=2000,Расчет!B1969>=2000),Расчет!G1969,0)","v":0},{"$f":"IF(AND(Расчет!A1969<2000,Расчет!B1969<2000),Расчет!G1969,0)","v":0},null,null,{"$f":"IF(OR(Расчет!A1969>=2000,Расчет!B1969>=2000),Расчет!J1969,0)","v":0},{"$f":"IF(AND(Расчет!A1969<2000,Расчет!B1969<2000),Расчет!J1969,0)","v":0},null,null,{"$f":"IF(OR(Расчет!A1969>=2000,Расчет!B1969>=2000),Расчет!M1969,0)","v":0},{"$f":"IF(AND(Расчет!A1969<2000,Расчет!B1969<2000),Расчет!M1969,0)","v":0}]
[{"$f":"IF(OR(Расчет!A1970>=2000,Расчет!B1970>=2000),Расчет!G1970,0)","v":0},{"$f":"IF(AND(Расчет!A1970<2000,Расчет!B1970<2000),Расчет!G1970,0)","v":0},null,null,{"$f":"IF(OR(Расчет!A1970>=2000,Расчет!B1970>=2000),Расчет!J1970,0)","v":0},{"$f":"IF(AND(Расчет!A1970<2000,Расчет!B1970<2000),Расчет!J1970,0)","v":0},null,null,{"$f":"IF(OR(Расчет!A1970>=2000,Расчет!B1970>=2000),Расчет!M1970,0)","v":0},{"$f":"IF(AND(Расчет!A1970<2000,Расчет!B1970<2000),Расчет!M1970,0)","v":0}]
[{"$f":"IF(OR(Расчет!A1971>=2000,Расчет!B1971>=2000),Расчет!G1971,0)","v":0},{"$f":"IF(AND(Расчет!A1971<2000,Расчет!B1971<2000),Расчет!G1971,0)","v":0},null,null,{"$f":"IF(OR(Расчет!A1971>=2000,Расчет!B1971>=2000),Расчет!J1971,0)","v":0},{"$f":"IF(AND(Расчет!A1971<2000,Расчет!B1971<2000),Расчет!J1971,0)","v":0},null,null,{"$f":"IF(OR(Расчет!A1971>=2000,Расчет!B1971>=2000),Расчет!M1971,0)","v":0},{"$f":"IF(AND(Расчет!A1971<2000,Расчет!B1971<2000),Расчет!M1971,0)","v":0}]
[{"$f":"IF(OR(Расчет!A1972>=2000,Расчет!B1972>=2000),Расчет!G1972,0)","v":0},{"$f":"IF(AND(Расчет!A1972<2000,Расчет!B1972<2000),Расчет!G1972,0)","v":0},null,null,{"$f":"IF(OR(Расчет!A1972>=2000,Расчет!B1972>=2000),Расчет!J1972,0)","v":0},{"$f":"IF(AND(Расчет!A1972<2000,Расчет!B1972<2000),Расчет!J1972,0)","v":0},null,null,{"$f":"IF(OR(Расчет!A1972>=2000,Расчет!B1972>=2000),Расчет!M1972,0)","v":0},{"$f":"IF(AND(Расчет!A1972<2000,Расчет!B1972<2000),Расчет!M1972,0)","v":0}]
[{"$f":"IF(OR(Расчет!A1973>=2000,Расчет!B1973>=2000),Расчет!G1973,0)","v":0},{"$f":"IF(AND(Расчет!A1973<2000,Расчет!B1973<2000),Расчет!G1973,0)","v":0},null,null,{"$f":"IF(OR(Расчет!A1973>=2000,Расчет!B1973>=2000),Расчет!J1973,0)","v":0},{"$f":"IF(AND(Расчет!A1973<2000,Расчет!B1973<2000),Расчет!J1973,0)","v":0},null,null,{"$f":"IF(OR(Расчет!A1973>=2000,Расчет!B1973>=2000),Расчет!M1973,0)","v":0},{"$f":"IF(AND(Расчет!A1973<2000,Расчет!B1973<2000),Расчет!M1973,0)","v":0}]
[{"$f":"IF(OR(Расчет!A1974>=2000,Расчет!B1974>=2000),Расчет!G1974,0)","v":0},{"$f":"IF(AND(Расчет!A1974<2000,Расчет!B1974<2000),Расчет!G1974,0)","v":0},null,null,{"$f":"IF(OR(Расчет!A1974>=2000,Расчет!B1974>=2000),Расчет!J1974,0)","v":0},{"$f":"IF(AND(Расчет!A1974<2000,Расчет!B1974<2000),Расчет!J1974,0)","v":0},null,null,{"$f":"IF(OR(Расчет!A1974>=2000,Расчет!B1974>=2000),Расчет!M1974,0)","v":0},{"$f":"IF(AND(Расчет!A1974<2000,Расчет!B1974<2000),Расчет!M1974,0)","v":0}]
[{"$f":"IF(OR(Расчет!A1975>=2000,Расчет!B1975>=2000),Расчет!G1975,0)","v":0},{"$f":"IF(AND(Расчет!A1975<2000,Расчет!B1975<2000),Расчет!G1975,0)","v":0},null,null,{"$f":"IF(OR(Расчет!A1975>=2000,Расчет!B1975>=2000),Расчет!J1975,0)","v":0},{"$f":"IF(AND(Расчет!A1975<2000,Расчет!B1975<2000),Расчет!J1975,0)","v":0},null,null,{"$f":"IF(OR(Расчет!A1975>=2000,Расчет!B1975>=2000),Расчет!M1975,0)","v":0},{"$f":"IF(AND(Расчет!A1975<2000,Расчет!B1975<2000),Расчет!M1975,0)","v":0}]
[{"$f":"IF(OR(Расчет!A1976>=2000,Расчет!B1976>=2000),Расчет!G1976,0)","v":0},{"$f":"IF(AND(Расчет!A1976<2000,Расчет!B1976<2000),Расчет!G1976,0)","v":0},null,null,{"$f":"IF(OR(Расчет!A1976>=2000,Расчет!B1976>=2000),Расчет!J1976,0)","v":0},{"$f":"IF(AND(Расчет!A1976<2000,Расчет!B1976<2000),Расчет!J1976,0)","v":0},null,null,{"$f":"IF(OR(Расчет!A1976>=2000,Расчет!B1976>=2000),Расчет!M1976,0)","v":0},{"$f":"IF(AND(Расчет!A1976<2000,Расчет!B1976<2000),Расчет!M1976,0)","v":0}]
[{"$f":"IF(OR(Расчет!A1977>=2000,Расчет!B1977>=2000),Расчет!G1977,0)","v":0},{"$f":"IF(AND(Расчет!A1977<2000,Расчет!B1977<2000),Расчет!G1977,0)","v":0},null,null,{"$f":"IF(OR(Расчет!A1977>=2000,Расчет!B1977>=2000),Расчет!J1977,0)","v":0},{"$f":"IF(AND(Расчет!A1977<2000,Расчет!B1977<2000),Расчет!J1977,0)","v":0},null,null,{"$f":"IF(OR(Расчет!A1977>=2000,Расчет!B1977>=2000),Расчет!M1977,0)","v":0},{"$f":"IF(AND(Расчет!A1977<2000,Расчет!B1977<2000),Расчет!M1977,0)","v":0}]
[{"$f":"IF(OR(Расчет!A1978>=2000,Расчет!B1978>=2000),Расчет!G1978,0)","v":0},{"$f":"IF(AND(Расчет!A1978<2000,Расчет!B1978<2000),Расчет!G1978,0)","v":0},null,null,{"$f":"IF(OR(Расчет!A1978>=2000,Расчет!B1978>=2000),Расчет!J1978,0)","v":0},{"$f":"IF(AND(Расчет!A1978<2000,Расчет!B1978<2000),Расчет!J1978,0)","v":0},null,null,{"$f":"IF(OR(Расчет!A1978>=2000,Расчет!B1978>=2000),Расчет!M1978,0)","v":0},{"$f":"IF(AND(Расчет!A1978<2000,Расчет!B1978<2000),Расчет!M1978,0)","v":0}]
[{"$f":"IF(OR(Расчет!A1979>=2000,Расчет!B1979>=2000),Расчет!G1979,0)","v":0},{"$f":"IF(AND(Расчет!A1979<2000,Расчет!B1979<2000),Расчет!G1979,0)","v":0},null,null,{"$f":"IF(OR(Расчет!A1979>=2000,Расчет!B1979>=2000),Расчет!J1979,0)","v":0},{"$f":"IF(AND(Расчет!A1979<2000,Расчет!B1979<2000),Расчет!J1979,0)","v":0},null,null,{"$f":"IF(OR(Расчет!A1979>=2000,Расчет!B1979>=2000),Расчет!M1979,0)","v":0},{"$f":"IF(AND(Расчет!A1979<2000,Расчет!B1979<2000),Расчет!M1979,0)","v":0}]
[{"$f":"IF(OR(Расчет!A1980>=2000,Расчет!B1980>=2000),Расчет!G1980,0)","v":0},{"$f":"IF(AND(Расчет!A1980<2000,Расчет!B1980<2000),Расчет!G1980,0)","v":0},null,null,{"$f":"IF(OR(Расчет!A1980>=2000,Расчет!B1980>=2000),Расчет!J1980,0)","v":0},{"$f":"IF(AND(Расчет!A1980<2000,Расчет!B1980<2000),Расчет!J1980,0)","v":0},null,null,{"$f":"IF(OR(Расчет!A1980>=2000,Расчет!B1980>=2000),Расчет!M1980,0)","v":0},{"$f":"IF(AND(Расчет!A1980<2000,Расчет!B1980<2000),Расчет!M1980,0)","v":0}]
[{"$f":"IF(OR(Расчет!A1981>=2000,Расчет!B1981>=2000),Расчет!G1981,0)","v":0},{"$f":"IF(AND(Расчет!A1981<2000,Расчет!B1981<2000),Расчет!G1981,0)","v":0},null,null,{"$f":"IF(OR(Расчет!A1981>=2000,Расчет!B1981>=2000),Расчет!J1981,0)","v":0},{"$f":"IF(AND(Расчет!A1981<2000,Расчет!B1981<2000),Расчет!J1981,0)","v":0},null,null,{"$f":"IF(OR(Расчет!A1981>=2000,Расчет!B1981>=2000),Расчет!M1981,0)","v":0},{"$f":"IF(AND(Расчет!A1981<2000,Расчет!B1981<2000),Расчет!M1981,0)","v":0}]
[{"$f":"IF(OR(Расчет!A1982>=2000,Расчет!B1982>=2000),Расчет!G1982,0)","v":0},{"$f":"IF(AND(Расчет!A1982<2000,Расчет!B1982<2000),Расчет!G1982,0)","v":0},null,null,{"$f":"IF(OR(Расчет!A1982>=2000,Расчет!B1982>=2000),Расчет!J1982,0)","v":0},{"$f":"IF(AND(Расчет!A1982<2000,Расчет!B1982<2000),Расчет!J1982,0)","v":0},null,null,{"$f":"IF(OR(Расчет!A1982>=2000,Расчет!B1982>=2000),Расчет!M1982,0)","v":0},{"$f":"IF(AND(Расчет!A1982<2000,Расчет!B1982<2000),Расчет!M1982,0)","v":0}]
[{"$f":"IF(OR(Расчет!A1983>=2000,Расчет!B1983>=2000),Расчет!G1983,0)","v":0},{"$f":"IF(AND(Расчет!A1983<2000,Расчет!B1983<2000),Расчет!G1983,0)","v":0},null,null,{"$f":"IF(OR(Расчет!A1983>=2000,Расчет!B1983>=2000),Расчет!J1983,0)","v":0},{"$f":"IF(AND(Расчет!A1983<2000,Расчет!B1983<2000),Расчет!J1983,0)","v":0},null,null,{"$f":"IF(OR(Расчет!A1983>=2000,Расчет!B1983>=2000),Расчет!M1983,0)","v":0},{"$f":"IF(AND(Расчет!A1983<2000,Расчет!B1983<2000),Расчет!M1983,0)","v":0}]
[{"$f":"IF(OR(Расчет!A1984>=2000,Расчет!B1984>=2000),Расчет!G1984,0)","v":0},{"$f":"IF(AND(Расчет!A1984<2000,Расчет!B1984<2000),Расчет!G1984,0)","v":0},null,null,{"$f":"IF(OR(Расчет!A1984>=2000,Расчет!B1984>=2000),Расчет!J1984,0)","v":0},{"$f":"IF(AND(Расчет!A1984<2000,Расчет!B1984<2000),Расчет!J1984,0)","v":0},null,null,{"$f":"IF(OR(Расчет!A1984>=2000,Расчет!B1984>=2000),Расчет!M1984,0)","v":0},{"$f":"IF(AND(Расчет!A1984<2000,Расчет!B1984<2000),Расчет!M1984,0)","v":0}]
[{"$f":"IF(OR(Расчет!A1985>=2000,Расчет!B1985>=2000),Расчет!G1985,0)","v":0},{"$f":"IF(AND(Расчет!A1985<2000,Расчет!B1985<2000),Расчет!G1985,0)","v":0},null,null,{"$f":"IF(OR(Расчет!A1985>=2000,Расчет!B1985>=2000),Расчет!J1985,0)","v":0},{"$f":"IF(AND(Расчет!A1985<2000,Расчет!B1985<2000),Расчет!J1985,0)","v":0},null,null,{"$f":"IF(OR(Расчет!A1985>=2000,Расчет!B1985>=2000),Расчет!M1985,0)","v":0},{"$f":"IF(AND(Расчет!A1985<2000,Расчет!B1985<2000),Расчет!M1985,0)","v":0}]
[{"$f":"IF(OR(Расчет!A1986>=2000,Расчет!B1986>=2000),Расчет!G1986,0)","v":0},{"$f":"IF(AND(Расчет!A1986<2000,Расчет!B1986<2000),Расчет!G1986,0)","v":0},null,null,{"$f":"IF(OR(Расчет!A1986>=2000,Расчет!B1986>=2000),Расчет!J1986,0)","v":0},{"$f":"IF(AND(Расчет!A1986<2000,Расчет!B1986<2000),Расчет!J1986,0)","v":0},null,null,{"$f":"IF(OR(Расчет!A1986>=2000,Расчет!B1986>=2000),Расчет!M1986,0)","v":0},{"$f":"IF(AND(Расчет!A1986<2000,Расчет!B1986<2000),Расчет!M1986,0)","v":0}]
[{"$f":"IF(OR(Расчет!A1987>=2000,Расчет!B1987>=2000),Расчет!G1987,0)","v":0},{"$f":"IF(AND(Расчет!A1987<2000,Расчет!B1987<2000),Расчет!G1987,0)","v":0},null,null,{"$f":"IF(OR(Расчет!A1987>=2000,Расчет!B1987>=2000),Расчет!J1987,0)","v":0},{"$f":"IF(AND(Расчет!A1987<2000,Расчет!B1987<2000),Расчет!J1987,0)","v":0},null,null,{"$f":"IF(OR(Расчет!A1987>=2000,Расчет!B1987>=2000),Расчет!M1987,0)","v":0},{"$f":"IF(AND(Расчет!A1987<2000,Расчет!B1987<2000),Расчет!M1987,0)","v":0}]
[{"$f":"IF(OR(Расчет!A1988>=2000,Расчет!B1988>=2000),Расчет!G1988,0)","v":0},{"$f":"IF(AND(Расчет!A1988<2000,Расчет!B1988<2000),Расчет!G1988,0)","v":0},null,null,{"$f":"IF(OR(Расчет!A1988>=2000,Расчет!B1988>=2000),Расчет!J1988,0)","v":0},{"$f":"IF(AND(Расчет!A1988<2000,Расчет!B1988<2000),Расчет!J1988,0)","v":0},null,null,{"$f":"IF(OR(Расчет!A1988>=2000,Расчет!B1988>=2000),Расчет!M1988,0)","v":0},{"$f":"IF(AND(Расчет!A1988<2000,Расчет!B1988<2000),Расчет!M1988,0)","v":0}]
[{"$f":"IF(OR(Расчет!A1989>=2000,Расчет!B1989>=2000),Расчет!G1989,0)","v":0},{"$f":"IF(AND(Расчет!A1989<2000,Расчет!B1989<2000),Расчет!G1989,0)","v":0},null,null,{"$f":"IF(OR(Расчет!A1989>=2000,Расчет!B1989>=2000),Расчет!J1989,0)","v":0},{"$f":"IF(AND(Расчет!A1989<2000,Расчет!B1989<2000),Расчет!J1989,0)","v":0},null,null,{"$f":"IF(OR(Расчет!A1989>=2000,Расчет!B1989>=2000),Расчет!M1989,0)","v":0},{"$f":"IF(AND(Расчет!A1989<2000,Расчет!B1989<2000),Расчет!M1989,0)","v":0}]
[{"$f":"IF(OR(Расчет!A1990>=2000,Расчет!B1990>=2000),Расчет!G1990,0)","v":0},{"$f":"IF(AND(Расчет!A1990<2000,Расчет!B1990<2000),Расчет!G1990,0)","v":0},null,null,{"$f":"IF(OR(Расчет!A1990>=2000,Расчет!B1990>=2000),Расчет!J1990,0)","v":0},{"$f":"IF(AND(Расчет!A1990<2000,Расчет!B1990<2000),Расчет!J1990,0)","v":0},null,null,{"$f":"IF(OR(Расчет!A1990>=2000,Расчет!B1990>=2000),Расчет!M1990,0)","v":0},{"$f":"IF(AND(Расчет!A1990<2000,Расчет!B1990<2000),Расчет!M1990,0)","v":0}]
[{"$f":"IF(OR(Расчет!A1991>=2000,Расчет!B1991>=2000),Расчет!G1991,0)","v":0},{"$f":"IF(AND(Расчет!A1991<2000,Расчет!B1991<2000),Расчет!G1991,0)","v":0},null,null,{"$f":"IF(OR(Расчет!A1991>=2000,Расчет!B1991>=2000),Расчет!J1991,0)","v":0},{"$f":"IF(AND(Расчет!A1991<2000,Расчет!B1991<2000),Расчет!J1991,0)","v":0},null,null,{"$f":"IF(OR(Расчет!A1991>=2000,Расчет!B1991>=2000),Расчет!M1991,0)","v":0},{"$f":"IF(AND(Расчет!A1991<2000,Расчет!B1991<2000),Расчет!M1991,0)","v":0}]
[{"$f":"IF(OR(Расчет!A1992>=2000,Расчет!B1992>=2000),Расчет!G1992,0)","v":0},{"$f":"IF(AND(Расчет!A1992<2000,Расчет!B1992<2000),Расчет!G1992,0)","v":0},null,null,{"$f":"IF(OR(Расчет!A1992>=2000,Расчет!B1992>=2000),Расчет!J1992,0)","v":0},{"$f":"IF(AND(Расчет!A1992<2000,Расчет!B1992<2000),Расчет!J1992,0)","v":0},null,null,{"$f":"IF(OR(Расчет!A1992>=2000,Расчет!B1992>=2000),Расчет!M1992,0)","v":0},{"$f":"IF(AND(Расчет!A1992<2000,Расчет!B1992<2000),Расчет!M1992,0)","v":0}]
[{"$f":"IF(OR(Расчет!A1993>=2000,Расчет!B1993>=2000),Расчет!G1993,0)","v":0},{"$f":"IF(AND(Расчет!A1993<2000,Расчет!B1993<2000),Расчет!G1993,0)","v":0},null,null,{"$f":"IF(OR(Расчет!A1993>=2000,Расчет!B1993>=2000),Расчет!J1993,0)","v":0},{"$f":"IF(AND(Расчет!A1993<2000,Расчет!B1993<2000),Расчет!J1993,0)","v":0},null,null,{"$f":"IF(OR(Расчет!A1993>=2000,Расчет!B1993>=2000),Расчет!M1993,0)","v":0},{"$f":"IF(AND(Расчет!A1993<2000,Расчет!B1993<2000),Расчет!M1993,0)","v":0}]
[{"$f":"IF(OR(Расчет!A1994>=2000,Расчет!B1994>=2000),Расчет!G1994,0)","v":0},{"$f":"IF(AND(Расчет!A1994<2000,Расчет!B1994<2000),Расчет!G1994,0)","v":0},null,null,{"$f":"IF(OR(Расчет!A1994>=2000,Расчет!B1994>=2000),Расчет!J1994,0)","v":0},{"$f":"IF(AND(Расчет!A1994<2000,Расчет!B1994<2000),Расчет!J1994,0)","v":0},null,null,{"$f":"IF(OR(Расчет!A1994>=2000,Расчет!B1994>=2000),Расчет!M1994,0)","v":0},{"$f":"IF(AND(Расчет!A1994<2000,Расчет!B1994<2000),Расчет!M1994,0)","v":0}]
[{"$f":"IF(OR(Расчет!A1995>=2000,Расчет!B1995>=2000),Расчет!G1995,0)","v":0},{"$f":"IF(AND(Расчет!A1995<2000,Расчет!B1995<2000),Расчет!G1995,0)","v":0},null,null,{"$f":"IF(OR(Расчет!A1995>=2000,Расчет!B1995>=2000),Расчет!J1995,0)","v":0},{"$f":"IF(AND(Расчет!A1995<2000,Расчет!B1995<2000),Расчет!J1995,0)","v":0},null,null,{"$f":"IF(OR(Расчет!A1995>=2000,Расчет!B1995>=2000),Расчет!M1995,0)","v":0},{"$f":"IF(AND(Расчет!A1995<2000,Расчет!B1995<2000),Расчет!M1995,0)","v":0}]
[{"$f":"IF(OR(Расчет!A1996>=2000,Расчет!B1996>=2000),Расчет!G1996,0)","v":0},{"$f":"IF(AND(Расчет!A1996<2000,Расчет!B1996<2000),Расчет!G1996,0)","v":0},null,null,{"$f":"IF(OR(Расчет!A1996>=2000,Расчет!B1996>=2000),Расчет!J1996,0)","v":0},{"$f":"IF(AND(Расчет!A1996<2000,Расчет!B1996<2000),Расчет!J1996,0)","v":0},null,null,{"$f":"IF(OR(Расчет!A1996>=2000,Расчет!B1996>=2000),Расчет!M1996,0)","v":0},{"$f":"IF(AND(Расчет!A1996<2000,Расчет!B1996<2000),Расчет!M1996,0)","v":0}]
[{"$f":"IF(OR(Расчет!A1997>=2000,Расчет!B1997>=2000),Расчет!G1997,0)","v":0},{"$f":"IF(AND(Расчет!A1997<2000,Расчет!B1997<2000),Расчет!G1997,0)","v":0},null,null,{"$f":"IF(OR(Расчет!A1997>=2000,Расчет!B1997>=2000),Расчет!J1997,0)","v":0},{"$f":"IF(AND(Расчет!A1997<2000,Расчет!B1997<2000),Расчет!J1997,0)","v":0},null,null,{"$f":"IF(OR(Расчет!A1997>=2000,Расчет!B1997>=2000),Расчет!M1997,0)","v":0},{"$f":"IF(AND(Расчет!A1997<2000,Расчет!B1997<2000),Расчет!M1997,0)","v":0}]
[{"$f":"IF(OR(Расчет!A1998>=2000,Расчет!B1998>=2000),Расчет!G1998,0)","v":0},{"$f":"IF(AND(Расчет!A1998<2000,Расчет!B1998<2000),Расчет!G1998,0)","v":0},null,null,{"$f":"IF(OR(Расчет!A1998>=2000,Расчет!B1998>=2000),Расчет!J1998,0)","v":0},{"$f":"IF(AND(Расчет!A1998<2000,Расчет!B1998<2000),Расчет!J1998,0)","v":0},null,null,{"$f":"IF(OR(Расчет!A1998>=2000,Расчет!B1998>=2000),Расчет!M1998,0)","v":0},{"$f":"IF(AND(Расчет!A1998<2000,Расчет!B1998<2000),Расчет!M1998,0)","v":0}]
[{"$f":"IF(OR(Расчет!A1999>=2000,Расчет!B1999>=2000),Расчет!G1999,0)","v":0},{"$f":"IF(AND(Расчет!A1999<2000,Расчет!B1999<2000),Расчет!G1999,0)","v":0},null,null,{"$f":"IF(OR(Расчет!A1999>=2000,Расчет!B1999>=2000),Расчет!J1999,0)","v":0},{"$f":"IF(AND(Расчет!A1999<2000,Расчет!B1999<2000),Расчет!J1999,0)","v":0},null,null,{"$f":"IF(OR(Расчет!A1999>=2000,Расчет!B1999>=2000),Расчет!M1999,0)","v":0},{"$f":"IF(AND(Расчет!A1999<2000,Расчет!B1999<2000),Расчет!M1999,0)","v":0}]
[{"$f":"IF(OR(Расчет!A2000>=2000,Расчет!B2000>=2000),Расчет!G2000,0)","v":0},{"$f":"IF(AND(Расчет!A2000<2000,Расчет!B2000<2000),Расчет!G2000,0)","v":0},null,null,{"$f":"IF(OR(Расчет!A2000>=2000,Расчет!B2000>=2000),Расчет!J2000,0)","v":0},{"$f":"IF(AND(Расчет!A2000<2000,Расчет!B2000<2000),Расчет!J2000,0)","v":0},null,null,{"$f":"IF(OR(Расчет!A2000>=2000,Расчет!B2000>=2000),Расчет!M2000,0)","v":0},{"$f":"IF(AND(Расчет!A2000<2000,Расчет!B2000<2000),Расчет!M2000,0)","v":0}]
[{"$f":"IF(OR(Расчет!A2001>=2000,Расчет!B2001>=2000),Расчет!G2001,0)","v":0},{"$f":"IF(AND(Расчет!A2001<2000,Расчет!B2001<2000),Расчет!G2001,0)","v":0},null,null,{"$f":"IF(OR(Расчет!A2001>=2000,Расчет!B2001>=2000),Расчет!J2001,0)","v":0},{"$f":"IF(AND(Расчет!A2001<2000,Расчет!B2001<2000),Расчет!J2001,0)","v":0},null,null,{"$f":"IF(OR(Расчет!A2001>=2000,Расчет!B2001>=2000),Расчет!M2001,0)","v":0},{"$f":"IF(AND(Расчет!A2001<2000,Расчет!B2001<2000),Расчет!M2001,0)","v":0}]
[{"$f":"IF(OR(Расчет!A2002>=2000,Расчет!B2002>=2000),Расчет!G2002,0)","v":0},{"$f":"IF(AND(Расчет!A2002<2000,Расчет!B2002<2000),Расчет!G2002,0)","v":0},null,null,{"$f":"IF(OR(Расчет!A2002>=2000,Расчет!B2002>=2000),Расчет!J2002,0)","v":0},{"$f":"IF(AND(Расчет!A2002<2000,Расчет!B2002<2000),Расчет!J2002,0)","v":0},null,null,{"$f":"IF(OR(Расчет!A2002>=2000,Расчет!B2002>=2000),Расчет!M2002,0)","v":0},{"$f":"IF(AND(Расчет!A2002<2000,Расчет!B2002<2000),Расчет!M2002,0)","v":0}]
[{"$f":"IF(OR(Расчет!A2003>=2000,Расчет!B2003>=2000),Расчет!G2003,0)","v":0},{"$f":"IF(AND(Расчет!A2003<2000,Расчет!B2003<2000),Расчет!G2003,0)","v":0},null,null,{"$f":"IF(OR(Расчет!A2003>=2000,Расчет!B2003>=2000),Расчет!J2003,0)","v":0},{"$f":"IF(AND(Расчет!A2003<2000,Расчет!B2003<2000),Расчет!J2003,0)","v":0},null,null,{"$f":"IF(OR(Расчет!A2003>=2000,Расчет!B2003>=2000),Расчет!M2003,0)","v":0},{"$f":"IF(AND(Расчет!A2003<2000,Расчет!B2003<2000),Расчет!M2003,0)","v":0}]
[{"$f":"IF(OR(Расчет!A2004>=2000,Расчет!B2004>=2000),Расчет!G2004,0)","v":0},{"$f":"IF(AND(Расчет!A2004<2000,Расчет!B2004<2000),Расчет!G2004,0)","v":0},null,null,{"$f":"IF(OR(Расчет!A2004>=2000,Расчет!B2004>=2000),Расчет!J2004,0)","v":0},{"$f":"IF(AND(Расчет!A2004<2000,Расчет!B2004<2000),Расчет!J2004,0)","v":0},null,null,{"$f":"IF(OR(Расчет!A2004>=2000,Расчет!B2004>=2000),Расчет!M2004,0)","v":0},{"$f":"IF(AND(Расчет!A2004<2000,Расчет!B2004<2000),Расчет!M2004,0)","v":0}]
[{"$f":"IF(OR(Расчет!A2005>=2000,Расчет!B2005>=2000),Расчет!G2005,0)","v":0},{"$f":"IF(AND(Расчет!A2005<2000,Расчет!B2005<2000),Расчет!G2005,0)","v":0},null,null,{"$f":"IF(OR(Расчет!A2005>=2000,Расчет!B2005>=2000),Расчет!J2005,0)","v":0},{"$f":"IF(AND(Расчет!A2005<2000,Расчет!B2005<2000),Расчет!J2005,0)","v":0},null,null,{"$f":"IF(OR(Расчет!A2005>=2000,Расчет!B2005>=2000),Расчет!M2005,0)","v":0},{"$f":"IF(AND(Расчет!A2005<2000,Расчет!B2005<2000),Расчет!M2005,0)","v":0}]
[{"$f":"IF(OR(Расчет!A2006>=2000,Расчет!B2006>=2000),Расчет!G2006,0)","v":0},{"$f":"IF(AND(Расчет!A2006<2000,Расчет!B2006<2000),Расчет!G2006,0)","v":0},null,null,{"$f":"IF(OR(Расчет!A2006>=2000,Расчет!B2006>=2000),Расчет!J2006,0)","v":0},{"$f":"IF(AND(Расчет!A2006<2000,Расчет!B2006<2000),Расчет!J2006,0)","v":0},null,null,{"$f":"IF(OR(Расчет!A2006>=2000,Расчет!B2006>=2000),Расчет!M2006,0)","v":0},{"$f":"IF(AND(Расчет!A2006<2000,Расчет!B2006<2000),Расчет!M2006,0)","v":0}]
[{"$f":"IF(OR(Расчет!A2007>=2000,Расчет!B2007>=2000),Расчет!G2007,0)","v":0},{"$f":"IF(AND(Расчет!A2007<2000,Расчет!B2007<2000),Расчет!G2007,0)","v":0},null,null,{"$f":"IF(OR(Расчет!A2007>=2000,Расчет!B2007>=2000),Расчет!J2007,0)","v":0},{"$f":"IF(AND(Расчет!A2007<2000,Расчет!B2007<2000),Расчет!J2007,0)","v":0},null,null,{"$f":"IF(OR(Расчет!A2007>=2000,Расчет!B2007>=2000),Расчет!M2007,0)","v":0},{"$f":"IF(AND(Расчет!A2007<2000,Расчет!B2007<2000),Расчет!M2007,0)","v":0}]
[{"$f":"IF(OR(Расчет!A2008>=2000,Расчет!B2008>=2000),Расчет!G2008,0)","v":0},{"$f":"IF(AND(Расчет!A2008<2000,Расчет!B2008<2000),Расчет!G2008,0)","v":0},null,null,{"$f":"IF(OR(Расчет!A2008>=2000,Расчет!B2008>=2000),Расчет!J2008,0)","v":0},{"$f":"IF(AND(Расчет!A2008<2000,Расчет!B2008<2000),Расчет!J2008,0)","v":0},null,null,{"$f":"IF(OR(Расчет!A2008>=2000,Расчет!B2008>=2000),Расчет!M2008,0)","v":0},{"$f":"IF(AND(Расчет!A2008<2000,Расчет!B2008<2000),Расчет!M2008,0)","v":0}]
[{"$f":"IF(OR(Расчет!A2009>=2000,Расчет!B2009>=2000),Расчет!G2009,0)","v":0},{"$f":"IF(AND(Расчет!A2009<2000,Расчет!B2009<2000),Расчет!G2009,0)","v":0},null,null,{"$f":"IF(OR(Расчет!A2009>=2000,Расчет!B2009>=2000),Расчет!J2009,0)","v":0},{"$f":"IF(AND(Расчет!A2009<2000,Расчет!B2009<2000),Расчет!J2009,0)","v":0},null,null,{"$f":"IF(OR(Расчет!A2009>=2000,Расчет!B2009>=2000),Расчет!M2009,0)","v":0},{"$f":"IF(AND(Расчет!A2009<2000,Расчет!B2009<2000),Расчет!M2009,0)","v":0}]
[{"$f":"IF(OR(Расчет!A2010>=2000,Расчет!B2010>=2000),Расчет!G2010,0)","v":0},{"$f":"IF(AND(Расчет!A2010<2000,Расчет!B2010<2000),Расчет!G2010,0)","v":0},null,null,{"$f":"IF(OR(Расчет!A2010>=2000,Расчет!B2010>=2000),Расчет!J2010,0)","v":0},{"$f":"IF(AND(Расчет!A2010<2000,Расчет!B2010<2000),Расчет!J2010,0)","v":0},null,null,{"$f":"IF(OR(Расчет!A2010>=2000,Расчет!B2010>=2000),Расчет!M2010,0)","v":0},{"$f":"IF(AND(Расчет!A2010<2000,Расчет!B2010<2000),Расчет!M2010,0)","v":0}]
[{"$f":"IF(OR(Расчет!A2011>=2000,Расчет!B2011>=2000),Расчет!G2011,0)","v":0},{"$f":"IF(AND(Расчет!A2011<2000,Расчет!B2011<2000),Расчет!G2011,0)","v":0},null,null,{"$f":"IF(OR(Расчет!A2011>=2000,Расчет!B2011>=2000),Расчет!J2011,0)","v":0},{"$f":"IF(AND(Расчет!A2011<2000,Расчет!B2011<2000),Расчет!J2011,0)","v":0},null,null,{"$f":"IF(OR(Расчет!A2011>=2000,Расчет!B2011>=2000),Расчет!M2011,0)","v":0},{"$f":"IF(AND(Расчет!A2011<2000,Расчет!B2011<2000),Расчет!M2011,0)","v":0}]
[{"$f":"IF(OR(Расчет!A2012>=2000,Расчет!B2012>=2000),Расчет!G2012,0)","v":0},{"$f":"IF(AND(Расчет!A2012<2000,Расчет!B2012<2000),Расчет!G2012,0)","v":0},null,null,{"$f":"IF(OR(Расчет!A2012>=2000,Расчет!B2012>=2000),Расчет!J2012,0)","v":0},{"$f":"IF(AND(Расчет!A2012<2000,Расчет!B2012<2000),Расчет!J2012,0)","v":0},null,null,{"$f":"IF(OR(Расчет!A2012>=2000,Расчет!B2012>=2000),Расчет!M2012,0)","v":0},{"$f":"IF(AND(Расчет!A2012<2000,Расчет!B2012<2000),Расчет!M2012,0)","v":0}]
[{"$f":"IF(OR(Расчет!A2013>=2000,Расчет!B2013>=2000),Расчет!G2013,0)","v":0},{"$f":"IF(AND(Расчет!A2013<2000,Расчет!B2013<2000),Расчет!G2013,0)","v":0},null,null,{"$f":"IF(OR(Расчет!A2013>=2000,Расчет!B2013>=2000),Расчет!J2013,0)","v":0},{"$f":"IF(AND(Расчет!A2013<2000,Расчет!B2013<2000),Расчет!J2013,0)","v":0},null,null,{"$f":"IF(OR(Расчет!A2013>=2000,Расчет!B2013>=2000),Расчет!M2013,0)","v":0},{"$f":"IF(AND(Расчет!A2013<2000,Расчет!B2013<2000),Расчет!M2013,0)","v":0}]
[{"$f":"IF(OR(Расчет!A2014>=2000,Расчет!B2014>=2000),Расчет!G2014,0)","v":0},{"$f":"IF(AND(Расчет!A2014<2000,Расчет!B2014<2000),Расчет!G2014,0)","v":0},null,null,{"$f":"IF(OR(Расчет!A2014>=2000,Расчет!B2014>=2000),Расчет!J2014,0)","v":0},{"$f":"IF(AND(Расчет!A2014<2000,Расчет!B2014<2000),Расчет!J2014,0)","v":0},null,null,{"$f":"IF(OR(Расчет!A2014>=2000,Расчет!B2014>=2000),Расчет!M2014,0)","v":0},{"$f":"IF(AND(Расчет!A2014<2000,Расчет!B2014<2000),Расчет!M2014,0)","v":0}]
[{"$f":"IF(OR(Расчет!A2015>=2000,Расчет!B2015>=2000),Расчет!G2015,0)","v":0},{"$f":"IF(AND(Расчет!A2015<2000,Расчет!B2015<2000),Расчет!G2015,0)","v":0},null,null,{"$f":"IF(OR(Расчет!A2015>=2000,Расчет!B2015>=2000),Расчет!J2015,0)","v":0},{"$f":"IF(AND(Расчет!A2015<2000,Расчет!B2015<2000),Расчет!J2015,0)","v":0},null,null,{"$f":"IF(OR(Расчет!A2015>=2000,Расчет!B2015>=2000),Расчет!M2015,0)","v":0},{"$f":"IF(AND(Расчет!A2015<2000,Расчет!B2015<2000),Расчет!M2015,0)","v":0}]
[{"$f":"IF(OR(Расчет!A2016>=2000,Расчет!B2016>=2000),Расчет!G2016,0)","v":0},{"$f":"IF(AND(Расчет!A2016<2000,Расчет!B2016<2000),Расчет!G2016,0)","v":0},null,null,{"$f":"IF(OR(Расчет!A2016>=2000,Расчет!B2016>=2000),Расчет!J2016,0)","v":0},{"$f":"IF(AND(Расчет!A2016<2000,Расчет!B2016<2000),Расчет!J2016,0)","v":0},null,null,{"$f":"IF(OR(Расчет!A2016>=2000,Расчет!B2016>=2000),Расчет!M2016,0)","v":0},{"$f":"IF(AND(Расчет!A2016<2000,Расчет!B2016<2000),Расчет!M2016,0)","v":0}]
[{"$f":"IF(OR(Расчет!A2017>=2000,Расчет!B2017>=2000),Расчет!G2017,0)","v":0},{"$f":"IF(AND(Расчет!A2017<2000,Расчет!B2017<2000),Расчет!G2017,0)","v":0},null,null,{"$f":"IF(OR(Расчет!A2017>=2000,Расчет!B2017>=2000),Расчет!J2017,0)","v":0},{"$f":"IF(AND(Расчет!A2017<2000,Расчет!B2017<2000),Расчет!J2017,0)","v":0},null,null,{"$f":"IF(OR(Расчет!A2017>=2000,Расчет!B2017>=2000),Расчет!M2017,0)","v":0},{"$f":"IF(AND(Расчет!A2017<2000,Расчет!B2017<2000),Расчет!M2017,0)","v":0}]
[{"$f":"IF(OR(Расчет!A2018>=2000,Расчет!B2018>=2000),Расчет!G2018,0)","v":0},{"$f":"IF(AND(Расчет!A2018<2000,Расчет!B2018<2000),Расчет!G2018,0)","v":0},null,null,{"$f":"IF(OR(Расчет!A2018>=2000,Расчет!B2018>=2000),Расчет!J2018,0)","v":0},{"$f":"IF(AND(Расчет!A2018<2000,Расчет!B2018<2000),Расчет!J2018,0)","v":0},null,null,{"$f":"IF(OR(Расчет!A2018>=2000,Расчет!B2018>=2000),Расчет!M2018,0)","v":0},{"$f":"IF(AND(Расчет!A2018<2000,Расчет!B2018<2000),Расчет!M2018,0)","v":0}]
[{"$f":"IF(OR(Расчет!A2019>=2000,Расчет!B2019>=2000),Расчет!G2019,0)","v":0},{"$f":"IF(AND(Расчет!A2019<2000,Расчет!B2019<2000),Расчет!G2019,0)","v":0},null,null,{"$f":"IF(OR(Расчет!A2019>=2000,Расчет!B2019>=2000),Расчет!J2019,0)","v":0},{"$f":"IF(AND(Расчет!A2019<2000,Расчет!B2019<2000),Расчет!J2019,0)","v":0},null,null,{"$f":"IF(OR(Расчет!A2019>=2000,Расчет!B2019>=2000),Расчет!M2019,0)","v":0},{"$f":"IF(AND(Расчет!A2019<2000,Расчет!B2019<2000),Расчет!M2019,0)","v":0}]
[{"$f":"IF(OR(Расчет!A2020>=2000,Расчет!B2020>=2000),Расчет!G2020,0)","v":0},{"$f":"IF(AND(Расчет!A2020<2000,Расчет!B2020<2000),Расчет!G2020,0)","v":0},null,null,{"$f":"IF(OR(Расчет!A2020>=2000,Расчет!B2020>=2000),Расчет!J2020,0)","v":0},{"$f":"IF(AND(Расчет!A2020<2000,Расчет!B2020<2000),Расчет!J2020,0)","v":0},null,null,{"$f":"IF(OR(Расчет!A2020>=2000,Расчет!B2020>=2000),Расчет!M2020,0)","v":0},{"$f":"IF(AND(Расчет!A2020<2000,Расчет!B2020<2000),Расчет!M2020,0)","v":0}]
[{"$f":"IF(OR(Расчет!A2021>=2000,Расчет!B2021>=2000),Расчет!G2021,0)","v":0},{"$f":"IF(AND(Расчет!A2021<2000,Расчет!B2021<2000),Расчет!G2021,0)","v":0},null,null,{"$f":"IF(OR(Расчет!A2021>=2000,Расчет!B2021>=2000),Расчет!J2021,0)","v":0},{"$f":"IF(AND(Расчет!A2021<2000,Расчет!B2021<2000),Расчет!J2021,0)","v":0},null,null,{"$f":"IF(OR(Расчет!A2021>=2000,Расчет!B2021>=2000),Расчет!M2021,0)","v":0},{"$f":"IF(AND(Расчет!A2021<2000,Расчет!B2021<2000),Расчет!M2021,0)","v":0}]
[{"$f":"IF(OR(Расчет!A2022>=2000,Расчет!B2022>=2000),Расчет!G2022,0)","v":0},{"$f":"IF(AND(Расчет!A2022<2000,Расчет!B2022<2000),Расчет!G2022,0)","v":0},null,null,{"$f":"IF(OR(Расчет!A2022>=2000,Расчет!B2022>=2000),Расчет!J2022,0)","v":0},{"$f":"IF(AND(Расчет!A2022<2000,Расчет!B2022<2000),Расчет!J2022,0)","v":0},null,null,{"$f":"IF(OR(Расчет!A2022>=2000,Расчет!B2022>=2000),Расчет!M2022,0)","v":0},{"$f":"IF(AND(Расчет!A2022<2000,Расчет!B2022<2000),Расчет!M2022,0)","v":0}]
[{"$f":"IF(OR(Расчет!A2023>=2000,Расчет!B2023>=2000),Расчет!G2023,0)","v":0},{"$f":"IF(AND(Расчет!A2023<2000,Расчет!B2023<2000),Расчет!G2023,0)","v":0},null,null,{"$f":"IF(OR(Расчет!A2023>=2000,Расчет!B2023>=2000),Расчет!J2023,0)","v":0},{"$f":"IF(AND(Расчет!A2023<2000,Расчет!B2023<2000),Расчет!J2023,0)","v":0},null,null,{"$f":"IF(OR(Расчет!A2023>=2000,Расчет!B2023>=2000),Расчет!M2023,0)","v":0},{"$f":"IF(AND(Расчет!A2023<2000,Расчет!B2023<2000),Расчет!M2023,0)","v":0}]
[{"$f":"IF(OR(Расчет!A2024>=2000,Расчет!B2024>=2000),Расчет!G2024,0)","v":0},{"$f":"IF(AND(Расчет!A2024<2000,Расчет!B2024<2000),Расчет!G2024,0)","v":0},null,null,{"$f":"IF(OR(Расчет!A2024>=2000,Расчет!B2024>=2000),Расчет!J2024,0)","v":0},{"$f":"IF(AND(Расчет!A2024<2000,Расчет!B2024<2000),Расчет!J2024,0)","v":0},null,null,{"$f":"IF(OR(Расчет!A2024>=2000,Расчет!B2024>=2000),Расчет!M2024,0)","v":0},{"$f":"IF(AND(Расчет!A2024<2000,Расчет!B2024<2000),Расчет!M2024,0)","v":0}]
[{"$f":"IF(OR(Расчет!A2025>=2000,Расчет!B2025>=2000),Расчет!G2025,0)","v":0},{"$f":"IF(AND(Расчет!A2025<2000,Расчет!B2025<2000),Расчет!G2025,0)","v":0},null,null,{"$f":"IF(OR(Расчет!A2025>=2000,Расчет!B2025>=2000),Расчет!J2025,0)","v":0},{"$f":"IF(AND(Расчет!A2025<2000,Расчет!B2025<2000),Расчет!J2025,0)","v":0},null,null,{"$f":"IF(OR(Расчет!A2025>=2000,Расчет!B2025>=2000),Расчет!M2025,0)","v":0},{"$f":"IF(AND(Расчет!A2025<2000,Расчет!B2025<2000),Расчет!M2025,0)","v":0}]
[{"$f":"IF(OR(Расчет!A2026>=2000,Расчет!B2026>=2000),Расчет!G2026,0)","v":0},{"$f":"IF(AND(Расчет!A2026<2000,Расчет!B2026<2000),Расчет!G2026,0)","v":0},null,null,{"$f":"IF(OR(Расчет!A2026>=2000,Расчет!B2026>=2000),Расчет!J2026,0)","v":0},{"$f":"IF(AND(Расчет!A2026<2000,Расчет!B2026<2000),Расчет!J2026,0)","v":0},null,null,{"$f":"IF(OR(Расчет!A2026>=2000,Расчет!B2026>=2000),Расчет!M2026,0)","v":0},{"$f":"IF(AND(Расчет!A2026<2000,Расчет!B2026<2000),Расчет!M2026,0)","v":0}]
[{"$f":"IF(OR(Расчет!A2027>=2000,Расчет!B2027>=2000),Расчет!G2027,0)","v":0},{"$f":"IF(AND(Расчет!A2027<2000,Расчет!B2027<2000),Расчет!G2027,0)","v":0},null,null,{"$f":"IF(OR(Расчет!A2027>=2000,Расчет!B2027>=2000),Расчет!J2027,0)","v":0},{"$f":"IF(AND(Расчет!A2027<2000,Расчет!B2027<2000),Расчет!J2027,0)","v":0},null,null,{"$f":"IF(OR(Расчет!A2027>=2000,Расчет!B2027>=2000),Расчет!M2027,0)","v":0},{"$f":"IF(AND(Расчет!A2027<2000,Расчет!B2027<2000),Расчет!M2027,0)","v":0}]
[{"$f":"IF(OR(Расчет!A2028>=2000,Расчет!B2028>=2000),Расчет!G2028,0)","v":0},{"$f":"IF(AND(Расчет!A2028<2000,Расчет!B2028<2000),Расчет!G2028,0)","v":0},null,null,{"$f":"IF(OR(Расчет!A2028>=2000,Расчет!B2028>=2000),Расчет!J2028,0)","v":0},{"$f":"IF(AND(Расчет!A2028<2000,Расчет!B2028<2000),Расчет!J2028,0)","v":0},null,null,{"$f":"IF(OR(Расчет!A2028>=2000,Расчет!B2028>=2000),Расчет!M2028,0)","v":0},{"$f":"IF(AND(Расчет!A2028<2000,Расчет!B2028<2000),Расчет!M2028,0)","v":0}]
[{"$f":"IF(OR(Расчет!A2029>=2000,Расчет!B2029>=2000),Расчет!G2029,0)","v":0},{"$f":"IF(AND(Расчет!A2029<2000,Расчет!B2029<2000),Расчет!G2029,0)","v":0},null,null,{"$f":"IF(OR(Расчет!A2029>=2000,Расчет!B2029>=2000),Расчет!J2029,0)","v":0},{"$f":"IF(AND(Расчет!A2029<2000,Расчет!B2029<2000),Расчет!J2029,0)","v":0},null,null,{"$f":"IF(OR(Расчет!A2029>=2000,Расчет!B2029>=2000),Расчет!M2029,0)","v":0},{"$f":"IF(AND(Расчет!A2029<2000,Расчет!B2029<2000),Расчет!M2029,0)","v":0}]
[{"$f":"IF(OR(Расчет!A2030>=2000,Расчет!B2030>=2000),Расчет!G2030,0)","v":0},{"$f":"IF(AND(Расчет!A2030<2000,Расчет!B2030<2000),Расчет!G2030,0)","v":0},null,null,{"$f":"IF(OR(Расчет!A2030>=2000,Расчет!B2030>=2000),Расчет!J2030,0)","v":0},{"$f":"IF(AND(Расчет!A2030<2000,Расчет!B2030<2000),Расчет!J2030,0)","v":0},null,null,{"$f":"IF(OR(Расчет!A2030>=2000,Расчет!B2030>=2000),Расчет!M2030,0)","v":0},{"$f":"IF(AND(Расчет!A2030<2000,Расчет!B2030<2000),Расчет!M2030,0)","v":0}]
[{"$f":"IF(OR(Расчет!A2031>=2000,Расчет!B2031>=2000),Расчет!G2031,0)","v":0},{"$f":"IF(AND(Расчет!A2031<2000,Расчет!B2031<2000),Расчет!G2031,0)","v":0},null,null,{"$f":"IF(OR(Расчет!A2031>=2000,Расчет!B2031>=2000),Расчет!J2031,0)","v":0},{"$f":"IF(AND(Расчет!A2031<2000,Расчет!B2031<2000),Расчет!J2031,0)","v":0},null,null,{"$f":"IF(OR(Расчет!A2031>=2000,Расчет!B2031>=2000),Расчет!M2031,0)","v":0},{"$f":"IF(AND(Расчет!A2031<2000,Расчет!B2031<2000),Расчет!M2031,0)","v":0}]
[{"$f":"IF(OR(Расчет!A2032>=2000,Расчет!B2032>=2000),Расчет!G2032,0)","v":0},{"$f":"IF(AND(Расчет!A2032<2000,Расчет!B2032<2000),Расчет!G2032,0)","v":0},null,null,{"$f":"IF(OR(Расчет!A2032>=2000,Расчет!B2032>=2000),Расчет!J2032,0)","v":0},{"$f":"IF(AND(Расчет!A2032<2000,Расчет!B2032<2000),Расчет!J2032,0)","v":0},null,null,{"$f":"IF(OR(Расчет!A2032>=2000,Расчет!B2032>=2000),Расчет!M2032,0)","v":0},{"$f":"IF(AND(Расчет!A2032<2000,Расчет!B2032<2000),Расчет!M2032,0)","v":0}]
[{"$f":"IF(OR(Расчет!A2033>=2000,Расчет!B2033>=2000),Расчет!G2033,0)","v":0},{"$f":"IF(AND(Расчет!A2033<2000,Расчет!B2033<2000),Расчет!G2033,0)","v":0},null,null,{"$f":"IF(OR(Расчет!A2033>=2000,Расчет!B2033>=2000),Расчет!J2033,0)","v":0},{"$f":"IF(AND(Расчет!A2033<2000,Расчет!B2033<2000),Расчет!J2033,0)","v":0},null,null,{"$f":"IF(OR(Расчет!A2033>=2000,Расчет!B2033>=2000),Расчет!M2033,0)","v":0},{"$f":"IF(AND(Расчет!A2033<2000,Расчет!B2033<2000),Расчет!M2033,0)","v":0}]
[{"$f":"IF(OR(Расчет!A2034>=2000,Расчет!B2034>=2000),Расчет!G2034,0)","v":0},{"$f":"IF(AND(Расчет!A2034<2000,Расчет!B2034<2000),Расчет!G2034,0)","v":0},null,null,{"$f":"IF(OR(Расчет!A2034>=2000,Расчет!B2034>=2000),Расчет!J2034,0)","v":0},{"$f":"IF(AND(Расчет!A2034<2000,Расчет!B2034<2000),Расчет!J2034,0)","v":0},null,null,{"$f":"IF(OR(Расчет!A2034>=2000,Расчет!B2034>=2000),Расчет!M2034,0)","v":0},{"$f":"IF(AND(Расчет!A2034<2000,Расчет!B2034<2000),Расчет!M2034,0)","v":0}]
[{"$f":"IF(OR(Расчет!A2035>=2000,Расчет!B2035>=2000),Расчет!G2035,0)","v":0},{"$f":"IF(AND(Расчет!A2035<2000,Расчет!B2035<2000),Расчет!G2035,0)","v":0},null,null,{"$f":"IF(OR(Расчет!A2035>=2000,Расчет!B2035>=2000),Расчет!J2035,0)","v":0},{"$f":"IF(AND(Расчет!A2035<2000,Расчет!B2035<2000),Расчет!J2035,0)","v":0},null,null,{"$f":"IF(OR(Расчет!A2035>=2000,Расчет!B2035>=2000),Расчет!M2035,0)","v":0},{"$f":"IF(AND(Расчет!A2035<2000,Расчет!B2035<2000),Расчет!M2035,0)","v":0}]
[{"$f":"IF(OR(Расчет!A2036>=2000,Расчет!B2036>=2000),Расчет!G2036,0)","v":0},{"$f":"IF(AND(Расчет!A2036<2000,Расчет!B2036<2000),Расчет!G2036,0)","v":0},null,null,{"$f":"IF(OR(Расчет!A2036>=2000,Расчет!B2036>=2000),Расчет!J2036,0)","v":0},{"$f":"IF(AND(Расчет!A2036<2000,Расчет!B2036<2000),Расчет!J2036,0)","v":0},null,null,{"$f":"IF(OR(Расчет!A2036>=2000,Расчет!B2036>=2000),Расчет!M2036,0)","v":0},{"$f":"IF(AND(Расчет!A2036<2000,Расчет!B2036<2000),Расчет!M2036,0)","v":0}]
[{"$f":"IF(OR(Расчет!A2037>=2000,Расчет!B2037>=2000),Расчет!G2037,0)","v":0},{"$f":"IF(AND(Расчет!A2037<2000,Расчет!B2037<2000),Расчет!G2037,0)","v":0},null,null,{"$f":"IF(OR(Расчет!A2037>=2000,Расчет!B2037>=2000),Расчет!J2037,0)","v":0},{"$f":"IF(AND(Расчет!A2037<2000,Расчет!B2037<2000),Расчет!J2037,0)","v":0},null,null,{"$f":"IF(OR(Расчет!A2037>=2000,Расчет!B2037>=2000),Расчет!M2037,0)","v":0},{"$f":"IF(AND(Расчет!A2037<2000,Расчет!B2037<2000),Расчет!M2037,0)","v":0}]
[{"$f":"IF(OR(Расчет!A2038>=2000,Расчет!B2038>=2000),Расчет!G2038,0)","v":0},{"$f":"IF(AND(Расчет!A2038<2000,Расчет!B2038<2000),Расчет!G2038,0)","v":0},null,null,{"$f":"IF(OR(Расчет!A2038>=2000,Расчет!B2038>=2000),Расчет!J2038,0)","v":0},{"$f":"IF(AND(Расчет!A2038<2000,Расчет!B2038<2000),Расчет!J2038,0)","v":0},null,null,{"$f":"IF(OR(Расчет!A2038>=2000,Расчет!B2038>=2000),Расчет!M2038,0)","v":0},{"$f":"IF(AND(Расчет!A2038<2000,Расчет!B2038<2000),Расчет!M2038,0)","v":0}]
[{"$f":"IF(OR(Расчет!A2039>=2000,Расчет!B2039>=2000),Расчет!G2039,0)","v":0},{"$f":"IF(AND(Расчет!A2039<2000,Расчет!B2039<2000),Расчет!G2039,0)","v":0},null,null,{"$f":"IF(OR(Расчет!A2039>=2000,Расчет!B2039>=2000),Расчет!J2039,0)","v":0},{"$f":"IF(AND(Расчет!A2039<2000,Расчет!B2039<2000),Расчет!J2039,0)","v":0},null,null,{"$f":"IF(OR(Расчет!A2039>=2000,Расчет!B2039>=2000),Расчет!M2039,0)","v":0},{"$f":"IF(AND(Расчет!A2039<2000,Расчет!B2039<2000),Расчет!M2039,0)","v":0}]
[{"$f":"IF(OR(Расчет!A2040>=2000,Расчет!B2040>=2000),Расчет!G2040,0)","v":0},{"$f":"IF(AND(Расчет!A2040<2000,Расчет!B2040<2000),Расчет!G2040,0)","v":0},null,null,{"$f":"IF(OR(Расчет!A2040>=2000,Расчет!B2040>=2000),Расчет!J2040,0)","v":0},{"$f":"IF(AND(Расчет!A2040<2000,Расчет!B2040<2000),Расчет!J2040,0)","v":0},null,null,{"$f":"IF(OR(Расчет!A2040>=2000,Расчет!B2040>=2000),Расчет!M2040,0)","v":0},{"$f":"IF(AND(Расчет!A2040<2000,Расчет!B2040<2000),Расчет!M2040,0)","v":0}]
[{"$f":"IF(OR(Расчет!A2041>=2000,Расчет!B2041>=2000),Расчет!G2041,0)","v":0},{"$f":"IF(AND(Расчет!A2041<2000,Расчет!B2041<2000),Расчет!G2041,0)","v":0},null,null,{"$f":"IF(OR(Расчет!A2041>=2000,Расчет!B2041>=2000),Расчет!J2041,0)","v":0},{"$f":"IF(AND(Расчет!A2041<2000,Расчет!B2041<2000),Расчет!J2041,0)","v":0},null,null,{"$f":"IF(OR(Расчет!A2041>=2000,Расчет!B2041>=2000),Расчет!M2041,0)","v":0},{"$f":"IF(AND(Расчет!A2041<2000,Расчет!B2041<2000),Расчет!M2041,0)","v":0}]
[{"$f":"IF(OR(Расчет!A2042>=2000,Расчет!B2042>=2000),Расчет!G2042,0)","v":0},{"$f":"IF(AND(Расчет!A2042<2000,Расчет!B2042<2000),Расчет!G2042,0)","v":0},null,null,{"$f":"IF(OR(Расчет!A2042>=2000,Расчет!B2042>=2000),Расчет!J2042,0)","v":0},{"$f":"IF(AND(Расчет!A2042<2000,Расчет!B2042<2000),Расчет!J2042,0)","v":0},null,null,{"$f":"IF(OR(Расчет!A2042>=2000,Расчет!B2042>=2000),Расчет!M2042,0)","v":0},{"$f":"IF(AND(Расчет!A2042<2000,Расчет!B2042<2000),Расчет!M2042,0)","v":0}]
[{"$f":"IF(OR(Расчет!A2043>=2000,Расчет!B2043>=2000),Расчет!G2043,0)","v":0},{"$f":"IF(AND(Расчет!A2043<2000,Расчет!B2043<2000),Расчет!G2043,0)","v":0},null,null,{"$f":"IF(OR(Расчет!A2043>=2000,Расчет!B2043>=2000),Расчет!J2043,0)","v":0},{"$f":"IF(AND(Расчет!A2043<2000,Расчет!B2043<2000),Расчет!J2043,0)","v":0},null,null,{"$f":"IF(OR(Расчет!A2043>=2000,Расчет!B2043>=2000),Расчет!M2043,0)","v":0},{"$f":"IF(AND(Расчет!A2043<2000,Расчет!B2043<2000),Расчет!M2043,0)","v":0}]
[{"$f":"IF(OR(Расчет!A2044>=2000,Расчет!B2044>=2000),Расчет!G2044,0)","v":0},{"$f":"IF(AND(Расчет!A2044<2000,Расчет!B2044<2000),Расчет!G2044,0)","v":0},null,null,{"$f":"IF(OR(Расчет!A2044>=2000,Расчет!B2044>=2000),Расчет!J2044,0)","v":0},{"$f":"IF(AND(Расчет!A2044<2000,Расчет!B2044<2000),Расчет!J2044,0)","v":0},null,null,{"$f":"IF(OR(Расчет!A2044>=2000,Расчет!B2044>=2000),Расчет!M2044,0)","v":0},{"$f":"IF(AND(Расчет!A2044<2000,Расчет!B2044<2000),Расчет!M2044,0)","v":0}]
[{"$f":"IF(OR(Расчет!A2045>=2000,Расчет!B2045>=2000),Расчет!G2045,0)","v":0},{"$f":"IF(AND(Расчет!A2045<2000,Расчет!B2045<2000),Расчет!G2045,0)","v":0},null,null,{"$f":"IF(OR(Расчет!A2045>=2000,Расчет!B2045>=2000),Расчет!J2045,0)","v":0},{"$f":"IF(AND(Расчет!A2045<2000,Расчет!B2045<2000),Расчет!J2045,0)","v":0},null,null,{"$f":"IF(OR(Расчет!A2045>=2000,Расчет!B2045>=2000),Расчет!M2045,0)","v":0},{"$f":"IF(AND(Расчет!A2045<2000,Расчет!B2045<2000),Расчет!M2045,0)","v":0}]
[{"$f":"IF(OR(Расчет!A2046>=2000,Расчет!B2046>=2000),Расчет!G2046,0)","v":0},{"$f":"IF(AND(Расчет!A2046<2000,Расчет!B2046<2000),Расчет!G2046,0)","v":0},null,null,{"$f":"IF(OR(Расчет!A2046>=2000,Расчет!B2046>=2000),Расчет!J2046,0)","v":0},{"$f":"IF(AND(Расчет!A2046<2000,Расчет!B2046<2000),Расчет!J2046,0)","v":0},null,null,{"$f":"IF(OR(Расчет!A2046>=2000,Расчет!B2046>=2000),Расчет!M2046,0)","v":0},{"$f":"IF(AND(Расчет!A2046<2000,Расчет!B2046<2000),Расчет!M2046,0)","v":0}]
[{"$f":"IF(OR(Расчет!A2047>=2000,Расчет!B2047>=2000),Расчет!G2047,0)","v":0},{"$f":"IF(AND(Расчет!A2047<2000,Расчет!B2047<2000),Расчет!G2047,0)","v":0},null,null,{"$f":"IF(OR(Расчет!A2047>=2000,Расчет!B2047>=2000),Расчет!J2047,0)","v":0},{"$f":"IF(AND(Расчет!A2047<2000,Расчет!B2047<2000),Расчет!J2047,0)","v":0},null,null,{"$f":"IF(OR(Расчет!A2047>=2000,Расчет!B2047>=2000),Расчет!M2047,0)","v":0},{"$f":"IF(AND(Расчет!A2047<2000,Расчет!B2047<2000),Расчет!M2047,0)","v":0}]
[{"$f":"IF(OR(Расчет!A2048>=2000,Расчет!B2048>=2000),Расчет!G2048,0)","v":0},{"$f":"IF(AND(Расчет!A2048<2000,Расчет!B2048<2000),Расчет!G2048,0)","v":0},null,null,{"$f":"IF(OR(Расчет!A2048>=2000,Расчет!B2048>=2000),Расчет!J2048,0)","v":0},{"$f":"IF(AND(Расчет!A2048<2000,Расчет!B2048<2000),Расчет!J2048,0)","v":0},null,null,{"$f":"IF(OR(Расчет!A2048>=2000,Расчет!B2048>=2000),Расчет!M2048,0)","v":0},{"$f":"IF(AND(Расчет!A2048<2000,Расчет!B2048<2000),Расчет!M2048,0)","v":0}]
[{"$f":"IF(OR(Расчет!A2049>=2000,Расчет!B2049>=2000),Расчет!G2049,0)","v":0},{"$f":"IF(AND(Расчет!A2049<2000,Расчет!B2049<2000),Расчет!G2049,0)","v":0},null,null,{"$f":"IF(OR(Расчет!A2049>=2000,Расчет!B2049>=2000),Расчет!J2049,0)","v":0},{"$f":"IF(AND(Расчет!A2049<2000,Расчет!B2049<2000),Расчет!J2049,0)","v":0},null,null,{"$f":"IF(OR(Расчет!A2049>=2000,Расчет!B2049>=2000),Расчет!M2049,0)","v":0},{"$f":"IF(AND(Расчет!A2049<2000,Расчет!B2049<2000),Расчет!M2049,0)","v":0}]
[{"$f":"IF(OR(Расчет!A2050>=2000,Расчет!B2050>=2000),Расчет!G2050,0)","v":0},{"$f":"IF(AND(Расчет!A2050<2000,Расчет!B2050<2000),Расчет!G2050,0)","v":0},null,null,{"$f":"IF(OR(Расчет!A2050>=2000,Расчет!B2050>=2000),Расчет!J2050,0)","v":0},{"$f":"IF(AND(Расчет!A2050<2000,Расчет!B2050<2000),Расчет!J2050,0)","v":0},null,null,{"$f":"IF(OR(Расчет!A2050>=2000,Расчет!B2050>=2000),Расчет!M2050,0)","v":0},{"$f":"IF(AND(Расчет!A2050<2000,Расчет!B2050<2000),Расчет!M2050,0)","v":0}]
[{"$f":"IF(OR(Расчет!A2051>=2000,Расчет!B2051>=2000),Расчет!G2051,0)","v":0},{"$f":"IF(AND(Расчет!A2051<2000,Расчет!B2051<2000),Расчет!G2051,0)","v":0},null,null,{"$f":"IF(OR(Расчет!A2051>=2000,Расчет!B2051>=2000),Расчет!J2051,0)","v":0},{"$f":"IF(AND(Расчет!A2051<2000,Расчет!B2051<2000),Расчет!J2051,0)","v":0},null,null,{"$f":"IF(OR(Расчет!A2051>=2000,Расчет!B2051>=2000),Расчет!M2051,0)","v":0},{"$f":"IF(AND(Расчет!A2051<2000,Расчет!B2051<2000),Расчет!M2051,0)","v":0}]
[{"$f":"IF(OR(Расчет!A2052>=2000,Расчет!B2052>=2000),Расчет!G2052,0)","v":0},{"$f":"IF(AND(Расчет!A2052<2000,Расчет!B2052<2000),Расчет!G2052,0)","v":0},null,null,{"$f":"IF(OR(Расчет!A2052>=2000,Расчет!B2052>=2000),Расчет!J2052,0)","v":0},{"$f":"IF(AND(Расчет!A2052<2000,Расчет!B2052<2000),Расчет!J2052,0)","v":0},null,null,{"$f":"IF(OR(Расчет!A2052>=2000,Расчет!B2052>=2000),Расчет!M2052,0)","v":0},{"$f":"IF(AND(Расчет!A2052<2000,Расчет!B2052<2000),Расчет!M2052,0)","v":0}]
[{"$f":"IF(OR(Расчет!A2053>=2000,Расчет!B2053>=2000),Расчет!G2053,0)","v":0},{"$f":"IF(AND(Расчет!A2053<2000,Расчет!B2053<2000),Расчет!G2053,0)","v":0},null,null,{"$f":"IF(OR(Расчет!A2053>=2000,Расчет!B2053>=2000),Расчет!J2053,0)","v":0},{"$f":"IF(AND(Расчет!A2053<2000,Расчет!B2053<2000),Расчет!J2053,0)","v":0},null,null,{"$f":"IF(OR(Расчет!A2053>=2000,Расчет!B2053>=2000),Расчет!M2053,0)","v":0},{"$f":"IF(AND(Расчет!A2053<2000,Расчет!B2053<2000),Расчет!M2053,0)","v":0}]
[{"$f":"IF(OR(Расчет!A2054>=2000,Расчет!B2054>=2000),Расчет!G2054,0)","v":0},{"$f":"IF(AND(Расчет!A2054<2000,Расчет!B2054<2000),Расчет!G2054,0)","v":0},null,null,{"$f":"IF(OR(Расчет!A2054>=2000,Расчет!B2054>=2000),Расчет!J2054,0)","v":0},{"$f":"IF(AND(Расчет!A2054<2000,Расчет!B2054<2000),Расчет!J2054,0)","v":0},null,null,{"$f":"IF(OR(Расчет!A2054>=2000,Расчет!B2054>=2000),Расчет!M2054,0)","v":0},{"$f":"IF(AND(Расчет!A2054<2000,Расчет!B2054<2000),Расчет!M2054,0)","v":0}]
[{"$f":"IF(OR(Расчет!A2055>=2000,Расчет!B2055>=2000),Расчет!G2055,0)","v":0},{"$f":"IF(AND(Расчет!A2055<2000,Расчет!B2055<2000),Расчет!G2055,0)","v":0},null,null,{"$f":"IF(OR(Расчет!A2055>=2000,Расчет!B2055>=2000),Расчет!J2055,0)","v":0},{"$f":"IF(AND(Расчет!A2055<2000,Расчет!B2055<2000),Расчет!J2055,0)","v":0},null,null,{"$f":"IF(OR(Расчет!A2055>=2000,Расчет!B2055>=2000),Расчет!M2055,0)","v":0},{"$f":"IF(AND(Расчет!A2055<2000,Расчет!B2055<2000),Расчет!M2055,0)","v":0}]
[{"$f":"IF(OR(Расчет!A2056>=2000,Расчет!B2056>=2000),Расчет!G2056,0)","v":0},{"$f":"IF(AND(Расчет!A2056<2000,Расчет!B2056<2000),Расчет!G2056,0)","v":0},null,null,{"$f":"IF(OR(Расчет!A2056>=2000,Расчет!B2056>=2000),Расчет!J2056,0)","v":0},{"$f":"IF(AND(Расчет!A2056<2000,Расчет!B2056<2000),Расчет!J2056,0)","v":0},null,null,{"$f":"IF(OR(Расчет!A2056>=2000,Расчет!B2056>=2000),Расчет!M2056,0)","v":0},{"$f":"IF(AND(Расчет!A2056<2000,Расчет!B2056<2000),Расчет!M2056,0)","v":0}]
[{"$f":"IF(OR(Расчет!A2057>=2000,Расчет!B2057>=2000),Расчет!G2057,0)","v":0},{"$f":"IF(AND(Расчет!A2057<2000,Расчет!B2057<2000),Расчет!G2057,0)","v":0},null,null,{"$f":"IF(OR(Расчет!A2057>=2000,Расчет!B2057>=2000),Расчет!J2057,0)","v":0},{"$f":"IF(AND(Расчет!A2057<2000,Расчет!B2057<2000),Расчет!J2057,0)","v":0},null,null,{"$f":"IF(OR(Расчет!A2057>=2000,Расчет!B2057>=2000),Расчет!M2057,0)","v":0},{"$f":"IF(AND(Расчет!A2057<2000,Расчет!B2057<2000),Расчет!M2057,0)","v":0}]
[{"$f":"IF(OR(Расчет!A2058>=2000,Расчет!B2058>=2000),Расчет!G2058,0)","v":0},{"$f":"IF(AND(Расчет!A2058<2000,Расчет!B2058<2000),Расчет!G2058,0)","v":0},null,null,{"$f":"IF(OR(Расчет!A2058>=2000,Расчет!B2058>=2000),Расчет!J2058,0)","v":0},{"$f":"IF(AND(Расчет!A2058<2000,Расчет!B2058<2000),Расчет!J2058,0)","v":0},null,null,{"$f":"IF(OR(Расчет!A2058>=2000,Расчет!B2058>=2000),Расчет!M2058,0)","v":0},{"$f":"IF(AND(Расчет!A2058<2000,Расчет!B2058<2000),Расчет!M2058,0)","v":0}]
[{"$f":"IF(OR(Расчет!A2059>=2000,Расчет!B2059>=2000),Расчет!G2059,0)","v":0},{"$f":"IF(AND(Расчет!A2059<2000,Расчет!B2059<2000),Расчет!G2059,0)","v":0},null,null,{"$f":"IF(OR(Расчет!A2059>=2000,Расчет!B2059>=2000),Расчет!J2059,0)","v":0},{"$f":"IF(AND(Расчет!A2059<2000,Расчет!B2059<2000),Расчет!J2059,0)","v":0},null,null,{"$f":"IF(OR(Расчет!A2059>=2000,Расчет!B2059>=2000),Расчет!M2059,0)","v":0},{"$f":"IF(AND(Расчет!A2059<2000,Расчет!B2059<2000),Расчет!M2059,0)","v":0}]
[{"$f":"IF(OR(Расчет!A2060>=2000,Расчет!B2060>=2000),Расчет!G2060,0)","v":0},{"$f":"IF(AND(Расчет!A2060<2000,Расчет!B2060<2000),Расчет!G2060,0)","v":0},null,null,{"$f":"IF(OR(Расчет!A2060>=2000,Расчет!B2060>=2000),Расчет!J2060,0)","v":0},{"$f":"IF(AND(Расчет!A2060<2000,Расчет!B2060<2000),Расчет!J2060,0)","v":0},null,null,{"$f":"IF(OR(Расчет!A2060>=2000,Расчет!B2060>=2000),Расчет!M2060,0)","v":0},{"$f":"IF(AND(Расчет!A2060<2000,Расчет!B2060<2000),Расчет!M2060,0)","v":0}]
[{"$f":"IF(OR(Расчет!A2061>=2000,Расчет!B2061>=2000),Расчет!G2061,0)","v":0},{"$f":"IF(AND(Расчет!A2061<2000,Расчет!B2061<2000),Расчет!G2061,0)","v":0},null,null,{"$f":"IF(OR(Расчет!A2061>=2000,Расчет!B2061>=2000),Расчет!J2061,0)","v":0},{"$f":"IF(AND(Расчет!A2061<2000,Расчет!B2061<2000),Расчет!J2061,0)","v":0},null,null,{"$f":"IF(OR(Расчет!A2061>=2000,Расчет!B2061>=2000),Расчет!M2061,0)","v":0},{"$f":"IF(AND(Расчет!A2061<2000,Расчет!B2061<2000),Расчет!M2061,0)","v":0}]
[{"$f":"IF(OR(Расчет!A2062>=2000,Расчет!B2062>=2000),Расчет!G2062,0)","v":0},{"$f":"IF(AND(Расчет!A2062<2000,Расчет!B2062<2000),Расчет!G2062,0)","v":0},null,null,{"$f":"IF(OR(Расчет!A2062>=2000,Расчет!B2062>=2000),Расчет!J2062,0)","v":0},{"$f":"IF(AND(Расчет!A2062<2000,Расчет!B2062<2000),Расчет!J2062,0)","v":0},null,null,{"$f":"IF(OR(Расчет!A2062>=2000,Расчет!B2062>=2000),Расчет!M2062,0)","v":0},{"$f":"IF(AND(Расчет!A2062<2000,Расчет!B2062<2000),Расчет!M2062,0)","v":0}]
[{"$f":"IF(OR(Расчет!A2063>=2000,Расчет!B2063>=2000),Расчет!G2063,0)","v":0},{"$f":"IF(AND(Расчет!A2063<2000,Расчет!B2063<2000),Расчет!G2063,0)","v":0},null,null,{"$f":"IF(OR(Расчет!A2063>=2000,Расчет!B2063>=2000),Расчет!J2063,0)","v":0},{"$f":"IF(AND(Расчет!A2063<2000,Расчет!B2063<2000),Расчет!J2063,0)","v":0},null,null,{"$f":"IF(OR(Расчет!A2063>=2000,Расчет!B2063>=2000),Расчет!M2063,0)","v":0},{"$f":"IF(AND(Расчет!A2063<2000,Расчет!B2063<2000),Расчет!M2063,0)","v":0}]
[{"$f":"IF(OR(Расчет!A2064>=2000,Расчет!B2064>=2000),Расчет!G2064,0)","v":0},{"$f":"IF(AND(Расчет!A2064<2000,Расчет!B2064<2000),Расчет!G2064,0)","v":0},null,null,{"$f":"IF(OR(Расчет!A2064>=2000,Расчет!B2064>=2000),Расчет!J2064,0)","v":0},{"$f":"IF(AND(Расчет!A2064<2000,Расчет!B2064<2000),Расчет!J2064,0)","v":0},null,null,{"$f":"IF(OR(Расчет!A2064>=2000,Расчет!B2064>=2000),Расчет!M2064,0)","v":0},{"$f":"IF(AND(Расчет!A2064<2000,Расчет!B2064<2000),Расчет!M2064,0)","v":0}]
[{"$f":"IF(OR(Расчет!A2065>=2000,Расчет!B2065>=2000),Расчет!G2065,0)","v":0},{"$f":"IF(AND(Расчет!A2065<2000,Расчет!B2065<2000),Расчет!G2065,0)","v":0},null,null,{"$f":"IF(OR(Расчет!A2065>=2000,Расчет!B2065>=2000),Расчет!J2065,0)","v":0},{"$f":"IF(AND(Расчет!A2065<2000,Расчет!B2065<2000),Расчет!J2065,0)","v":0},null,null,{"$f":"IF(OR(Расчет!A2065>=2000,Расчет!B2065>=2000),Расчет!M2065,0)","v":0},{"$f":"IF(AND(Расчет!A2065<2000,Расчет!B2065<2000),Расчет!M2065,0)","v":0}]
[{"$f":"IF(OR(Расчет!A2066>=2000,Расчет!B2066>=2000),Расчет!G2066,0)","v":0},{"$f":"IF(AND(Расчет!A2066<2000,Расчет!B2066<2000),Расчет!G2066,0)","v":0},null,null,{"$f":"IF(OR(Расчет!A2066>=2000,Расчет!B2066>=2000),Расчет!J2066,0)","v":0},{"$f":"IF(AND(Расчет!A2066<2000,Расчет!B2066<2000),Расчет!J2066,0)","v":0},null,null,{"$f":"IF(OR(Расчет!A2066>=2000,Расчет!B2066>=2000),Расчет!M2066,0)","v":0},{"$f":"IF(AND(Расчет!A2066<2000,Расчет!B2066<2000),Расчет!M2066,0)","v":0}]
[{"$f":"IF(OR(Расчет!A2067>=2000,Расчет!B2067>=2000),Расчет!G2067,0)","v":0},{"$f":"IF(AND(Расчет!A2067<2000,Расчет!B2067<2000),Расчет!G2067,0)","v":0},null,null,{"$f":"IF(OR(Расчет!A2067>=2000,Расчет!B2067>=2000),Расчет!J2067,0)","v":0},{"$f":"IF(AND(Расчет!A2067<2000,Расчет!B2067<2000),Расчет!J2067,0)","v":0},null,null,{"$f":"IF(OR(Расчет!A2067>=2000,Расчет!B2067>=2000),Расчет!M2067,0)","v":0},{"$f":"IF(AND(Расчет!A2067<2000,Расчет!B2067<2000),Расчет!M2067,0)","v":0}]
[{"$f":"IF(OR(Расчет!A2068>=2000,Расчет!B2068>=2000),Расчет!G2068,0)","v":0},{"$f":"IF(AND(Расчет!A2068<2000,Расчет!B2068<2000),Расчет!G2068,0)","v":0},null,null,{"$f":"IF(OR(Расчет!A2068>=2000,Расчет!B2068>=2000),Расчет!J2068,0)","v":0},{"$f":"IF(AND(Расчет!A2068<2000,Расчет!B2068<2000),Расчет!J2068,0)","v":0},null,null,{"$f":"IF(OR(Расчет!A2068>=2000,Расчет!B2068>=2000),Расчет!M2068,0)","v":0},{"$f":"IF(AND(Расчет!A2068<2000,Расчет!B2068<2000),Расчет!M2068,0)","v":0}]
[{"$f":"IF(OR(Расчет!A2069>=2000,Расчет!B2069>=2000),Расчет!G2069,0)","v":0},{"$f":"IF(AND(Расчет!A2069<2000,Расчет!B2069<2000),Расчет!G2069,0)","v":0},null,null,{"$f":"IF(OR(Расчет!A2069>=2000,Расчет!B2069>=2000),Расчет!J2069,0)","v":0},{"$f":"IF(AND(Расчет!A2069<2000,Расчет!B2069<2000),Расчет!J2069,0)","v":0},null,null,{"$f":"IF(OR(Расчет!A2069>=2000,Расчет!B2069>=2000),Расчет!M2069,0)","v":0},{"$f":"IF(AND(Расчет!A2069<2000,Расчет!B2069<2000),Расчет!M2069,0)","v":0}]
[{"$f":"IF(OR(Расчет!A2070>=2000,Расчет!B2070>=2000),Расчет!G2070,0)","v":0},{"$f":"IF(AND(Расчет!A2070<2000,Расчет!B2070<2000),Расчет!G2070,0)","v":0},null,null,{"$f":"IF(OR(Расчет!A2070>=2000,Расчет!B2070>=2000),Расчет!J2070,0)","v":0},{"$f":"IF(AND(Расчет!A2070<2000,Расчет!B2070<2000),Расчет!J2070,0)","v":0},null,null,{"$f":"IF(OR(Расчет!A2070>=2000,Расчет!B2070>=2000),Расчет!M2070,0)","v":0},{"$f":"IF(AND(Расчет!A2070<2000,Расчет!B2070<2000),Расчет!M2070,0)","v":0}]
[{"$f":"IF(OR(Расчет!A2071>=2000,Расчет!B2071>=2000),Расчет!G2071,0)","v":0},{"$f":"IF(AND(Расчет!A2071<2000,Расчет!B2071<2000),Расчет!G2071,0)","v":0},null,null,{"$f":"IF(OR(Расчет!A2071>=2000,Расчет!B2071>=2000),Расчет!J2071,0)","v":0},{"$f":"IF(AND(Расчет!A2071<2000,Расчет!B2071<2000),Расчет!J2071,0)","v":0},null,null,{"$f":"IF(OR(Расчет!A2071>=2000,Расчет!B2071>=2000),Расчет!M2071,0)","v":0},{"$f":"IF(AND(Расчет!A2071<2000,Расчет!B2071<2000),Расчет!M2071,0)","v":0}]
[{"$f":"IF(OR(Расчет!A2072>=2000,Расчет!B2072>=2000),Расчет!G2072,0)","v":0},{"$f":"IF(AND(Расчет!A2072<2000,Расчет!B2072<2000),Расчет!G2072,0)","v":0},null,null,{"$f":"IF(OR(Расчет!A2072>=2000,Расчет!B2072>=2000),Расчет!J2072,0)","v":0},{"$f":"IF(AND(Расчет!A2072<2000,Расчет!B2072<2000),Расчет!J2072,0)","v":0},null,null,{"$f":"IF(OR(Расчет!A2072>=2000,Расчет!B2072>=2000),Расчет!M2072,0)","v":0},{"$f":"IF(AND(Расчет!A2072<2000,Расчет!B2072<2000),Расчет!M2072,0)","v":0}]
[{"$f":"IF(OR(Расчет!A2073>=2000,Расчет!B2073>=2000),Расчет!G2073,0)","v":0},{"$f":"IF(AND(Расчет!A2073<2000,Расчет!B2073<2000),Расчет!G2073,0)","v":0},null,null,{"$f":"IF(OR(Расчет!A2073>=2000,Расчет!B2073>=2000),Расчет!J2073,0)","v":0},{"$f":"IF(AND(Расчет!A2073<2000,Расчет!B2073<2000),Расчет!J2073,0)","v":0},null,null,{"$f":"IF(OR(Расчет!A2073>=2000,Расчет!B2073>=2000),Расчет!M2073,0)","v":0},{"$f":"IF(AND(Расчет!A2073<2000,Расчет!B2073<2000),Расчет!M2073,0)","v":0}]
[{"$f":"IF(OR(Расчет!A2074>=2000,Расчет!B2074>=2000),Расчет!G2074,0)","v":0},{"$f":"IF(AND(Расчет!A2074<2000,Расчет!B2074<2000),Расчет!G2074,0)","v":0},null,null,{"$f":"IF(OR(Расчет!A2074>=2000,Расчет!B2074>=2000),Расчет!J2074,0)","v":0},{"$f":"IF(AND(Расчет!A2074<2000,Расчет!B2074<2000),Расчет!J2074,0)","v":0},null,null,{"$f":"IF(OR(Расчет!A2074>=2000,Расчет!B2074>=2000),Расчет!M2074,0)","v":0},{"$f":"IF(AND(Расчет!A2074<2000,Расчет!B2074<2000),Расчет!M2074,0)","v":0}]
[{"$f":"IF(OR(Расчет!A2075>=2000,Расчет!B2075>=2000),Расчет!G2075,0)","v":0},{"$f":"IF(AND(Расчет!A2075<2000,Расчет!B2075<2000),Расчет!G2075,0)","v":0},null,null,{"$f":"IF(OR(Расчет!A2075>=2000,Расчет!B2075>=2000),Расчет!J2075,0)","v":0},{"$f":"IF(AND(Расчет!A2075<2000,Расчет!B2075<2000),Расчет!J2075,0)","v":0},null,null,{"$f":"IF(OR(Расчет!A2075>=2000,Расчет!B2075>=2000),Расчет!M2075,0)","v":0},{"$f":"IF(AND(Расчет!A2075<2000,Расчет!B2075<2000),Расчет!M2075,0)","v":0}]
[{"$f":"IF(OR(Расчет!A2076>=2000,Расчет!B2076>=2000),Расчет!G2076,0)","v":0},{"$f":"IF(AND(Расчет!A2076<2000,Расчет!B2076<2000),Расчет!G2076,0)","v":0},null,null,{"$f":"IF(OR(Расчет!A2076>=2000,Расчет!B2076>=2000),Расчет!J2076,0)","v":0},{"$f":"IF(AND(Расчет!A2076<2000,Расчет!B2076<2000),Расчет!J2076,0)","v":0},null,null,{"$f":"IF(OR(Расчет!A2076>=2000,Расчет!B2076>=2000),Расчет!M2076,0)","v":0},{"$f":"IF(AND(Расчет!A2076<2000,Расчет!B2076<2000),Расчет!M2076,0)","v":0}]
[{"$f":"IF(OR(Расчет!A2077>=2000,Расчет!B2077>=2000),Расчет!G2077,0)","v":0},{"$f":"IF(AND(Расчет!A2077<2000,Расчет!B2077<2000),Расчет!G2077,0)","v":0},null,null,{"$f":"IF(OR(Расчет!A2077>=2000,Расчет!B2077>=2000),Расчет!J2077,0)","v":0},{"$f":"IF(AND(Расчет!A2077<2000,Расчет!B2077<2000),Расчет!J2077,0)","v":0},null,null,{"$f":"IF(OR(Расчет!A2077>=2000,Расчет!B2077>=2000),Расчет!M2077,0)","v":0},{"$f":"IF(AND(Расчет!A2077<2000,Расчет!B2077<2000),Расчет!M2077,0)","v":0}]
[{"$f":"IF(OR(Расчет!A2078>=2000,Расчет!B2078>=2000),Расчет!G2078,0)","v":0},{"$f":"IF(AND(Расчет!A2078<2000,Расчет!B2078<2000),Расчет!G2078,0)","v":0},null,null,{"$f":"IF(OR(Расчет!A2078>=2000,Расчет!B2078>=2000),Расчет!J2078,0)","v":0},{"$f":"IF(AND(Расчет!A2078<2000,Расчет!B2078<2000),Расчет!J2078,0)","v":0},null,null,{"$f":"IF(OR(Расчет!A2078>=2000,Расчет!B2078>=2000),Расчет!M2078,0)","v":0},{"$f":"IF(AND(Расчет!A2078<2000,Расчет!B2078<2000),Расчет!M2078,0)","v":0}]
[{"$f":"IF(OR(Расчет!A2079>=2000,Расчет!B2079>=2000),Расчет!G2079,0)","v":0},{"$f":"IF(AND(Расчет!A2079<2000,Расчет!B2079<2000),Расчет!G2079,0)","v":0},null,null,{"$f":"IF(OR(Расчет!A2079>=2000,Расчет!B2079>=2000),Расчет!J2079,0)","v":0},{"$f":"IF(AND(Расчет!A2079<2000,Расчет!B2079<2000),Расчет!J2079,0)","v":0},null,null,{"$f":"IF(OR(Расчет!A2079>=2000,Расчет!B2079>=2000),Расчет!M2079,0)","v":0},{"$f":"IF(AND(Расчет!A2079<2000,Расчет!B2079<2000),Расчет!M2079,0)","v":0}]
[{"$f":"IF(OR(Расчет!A2080>=2000,Расчет!B2080>=2000),Расчет!G2080,0)","v":0},{"$f":"IF(AND(Расчет!A2080<2000,Расчет!B2080<2000),Расчет!G2080,0)","v":0},null,null,{"$f":"IF(OR(Расчет!A2080>=2000,Расчет!B2080>=2000),Расчет!J2080,0)","v":0},{"$f":"IF(AND(Расчет!A2080<2000,Расчет!B2080<2000),Расчет!J2080,0)","v":0},null,null,{"$f":"IF(OR(Расчет!A2080>=2000,Расчет!B2080>=2000),Расчет!M2080,0)","v":0},{"$f":"IF(AND(Расчет!A2080<2000,Расчет!B2080<2000),Расчет!M2080,0)","v":0}]
[{"$f":"IF(OR(Расчет!A2081>=2000,Расчет!B2081>=2000),Расчет!G2081,0)","v":0},{"$f":"IF(AND(Расчет!A2081<2000,Расчет!B2081<2000),Расчет!G2081,0)","v":0},null,null,{"$f":"IF(OR(Расчет!A2081>=2000,Расчет!B2081>=2000),Расчет!J2081,0)","v":0},{"$f":"IF(AND(Расчет!A2081<2000,Расчет!B2081<2000),Расчет!J2081,0)","v":0},null,null,{"$f":"IF(OR(Расчет!A2081>=2000,Расчет!B2081>=2000),Расчет!M2081,0)","v":0},{"$f":"IF(AND(Расчет!A2081<2000,Расчет!B2081<2000),Расчет!M2081,0)","v":0}]
[{"$f":"IF(OR(Расчет!A2082>=2000,Расчет!B2082>=2000),Расчет!G2082,0)","v":0},{"$f":"IF(AND(Расчет!A2082<2000,Расчет!B2082<2000),Расчет!G2082,0)","v":0},null,null,{"$f":"IF(OR(Расчет!A2082>=2000,Расчет!B2082>=2000),Расчет!J2082,0)","v":0},{"$f":"IF(AND(Расчет!A2082<2000,Расчет!B2082<2000),Расчет!J2082,0)","v":0},null,null,{"$f":"IF(OR(Расчет!A2082>=2000,Расчет!B2082>=2000),Расчет!M2082,0)","v":0},{"$f":"IF(AND(Расчет!A2082<2000,Расчет!B2082<2000),Расчет!M2082,0)","v":0}]
[{"$f":"IF(OR(Расчет!A2083>=2000,Расчет!B2083>=2000),Расчет!G2083,0)","v":0},{"$f":"IF(AND(Расчет!A2083<2000,Расчет!B2083<2000),Расчет!G2083,0)","v":0},null,null,{"$f":"IF(OR(Расчет!A2083>=2000,Расчет!B2083>=2000),Расчет!J2083,0)","v":0},{"$f":"IF(AND(Расчет!A2083<2000,Расчет!B2083<2000),Расчет!J2083,0)","v":0},null,null,{"$f":"IF(OR(Расчет!A2083>=2000,Расчет!B2083>=2000),Расчет!M2083,0)","v":0},{"$f":"IF(AND(Расчет!A2083<2000,Расчет!B2083<2000),Расчет!M2083,0)","v":0}]
[{"$f":"IF(OR(Расчет!A2084>=2000,Расчет!B2084>=2000),Расчет!G2084,0)","v":0},{"$f":"IF(AND(Расчет!A2084<2000,Расчет!B2084<2000),Расчет!G2084,0)","v":0},null,null,{"$f":"IF(OR(Расчет!A2084>=2000,Расчет!B2084>=2000),Расчет!J2084,0)","v":0},{"$f":"IF(AND(Расчет!A2084<2000,Расчет!B2084<2000),Расчет!J2084,0)","v":0},null,null,{"$f":"IF(OR(Расчет!A2084>=2000,Расчет!B2084>=2000),Расчет!M2084,0)","v":0},{"$f":"IF(AND(Расчет!A2084<2000,Расчет!B2084<2000),Расчет!M2084,0)","v":0}]
[{"$f":"IF(OR(Расчет!A2085>=2000,Расчет!B2085>=2000),Расчет!G2085,0)","v":0},{"$f":"IF(AND(Расчет!A2085<2000,Расчет!B2085<2000),Расчет!G2085,0)","v":0},null,null,{"$f":"IF(OR(Расчет!A2085>=2000,Расчет!B2085>=2000),Расчет!J2085,0)","v":0},{"$f":"IF(AND(Расчет!A2085<2000,Расчет!B2085<2000),Расчет!J2085,0)","v":0},null,null,{"$f":"IF(OR(Расчет!A2085>=2000,Расчет!B2085>=2000),Расчет!M2085,0)","v":0},{"$f":"IF(AND(Расчет!A2085<2000,Расчет!B2085<2000),Расчет!M2085,0)","v":0}]
[{"$f":"IF(OR(Расчет!A2086>=2000,Расчет!B2086>=2000),Расчет!G2086,0)","v":0},{"$f":"IF(AND(Расчет!A2086<2000,Расчет!B2086<2000),Расчет!G2086,0)","v":0},null,null,{"$f":"IF(OR(Расчет!A2086>=2000,Расчет!B2086>=2000),Расчет!J2086,0)","v":0},{"$f":"IF(AND(Расчет!A2086<2000,Расчет!B2086<2000),Расчет!J2086,0)","v":0},null,null,{"$f":"IF(OR(Расчет!A2086>=2000,Расчет!B2086>=2000),Расчет!M2086,0)","v":0},{"$f":"IF(AND(Расчет!A2086<2000,Расчет!B2086<2000),Расчет!M2086,0)","v":0}]
[{"$f":"IF(OR(Расчет!A2087>=2000,Расчет!B2087>=2000),Расчет!G2087,0)","v":0},{"$f":"IF(AND(Расчет!A2087<2000,Расчет!B2087<2000),Расчет!G2087,0)","v":0},null,null,{"$f":"IF(OR(Расчет!A2087>=2000,Расчет!B2087>=2000),Расчет!J2087,0)","v":0},{"$f":"IF(AND(Расчет!A2087<2000,Расчет!B2087<2000),Расчет!J2087,0)","v":0},null,null,{"$f":"IF(OR(Расчет!A2087>=2000,Расчет!B2087>=2000),Расчет!M2087,0)","v":0},{"$f":"IF(AND(Расчет!A2087<2000,Расчет!B2087<2000),Расчет!M2087,0)","v":0}]
[{"$f":"IF(OR(Расчет!A2088>=2000,Расчет!B2088>=2000),Расчет!G2088,0)","v":0},{"$f":"IF(AND(Расчет!A2088<2000,Расчет!B2088<2000),Расчет!G2088,0)","v":0},null,null,{"$f":"IF(OR(Расчет!A2088>=2000,Расчет!B2088>=2000),Расчет!J2088,0)","v":0},{"$f":"IF(AND(Расчет!A2088<2000,Расчет!B2088<2000),Расчет!J2088,0)","v":0},null,null,{"$f":"IF(OR(Расчет!A2088>=2000,Расчет!B2088>=2000),Расчет!M2088,0)","v":0},{"$f":"IF(AND(Расчет!A2088<2000,Расчет!B2088<2000),Расчет!M2088,0)","v":0}]
[{"$f":"IF(OR(Расчет!A2089>=2000,Расчет!B2089>=2000),Расчет!G2089,0)","v":0},{"$f":"IF(AND(Расчет!A2089<2000,Расчет!B2089<2000),Расчет!G2089,0)","v":0},null,null,{"$f":"IF(OR(Расчет!A2089>=2000,Расчет!B2089>=2000),Расчет!J2089,0)","v":0},{"$f":"IF(AND(Расчет!A2089<2000,Расчет!B2089<2000),Расчет!J2089,0)","v":0},null,null,{"$f":"IF(OR(Расчет!A2089>=2000,Расчет!B2089>=2000),Расчет!M2089,0)","v":0},{"$f":"IF(AND(Расчет!A2089<2000,Расчет!B2089<2000),Расчет!M2089,0)","v":0}]
[{"$f":"IF(OR(Расчет!A2090>=2000,Расчет!B2090>=2000),Расчет!G2090,0)","v":0},{"$f":"IF(AND(Расчет!A2090<2000,Расчет!B2090<2000),Расчет!G2090,0)","v":0},null,null,{"$f":"IF(OR(Расчет!A2090>=2000,Расчет!B2090>=2000),Расчет!J2090,0)","v":0},{"$f":"IF(AND(Расчет!A2090<2000,Расчет!B2090<2000),Расчет!J2090,0)","v":0},null,null,{"$f":"IF(OR(Расчет!A2090>=2000,Расчет!B2090>=2000),Расчет!M2090,0)","v":0},{"$f":"IF(AND(Расчет!A2090<2000,Расчет!B2090<2000),Расчет!M2090,0)","v":0}]
[{"$f":"IF(OR(Расчет!A2091>=2000,Расчет!B2091>=2000),Расчет!G2091,0)","v":0},{"$f":"IF(AND(Расчет!A2091<2000,Расчет!B2091<2000),Расчет!G2091,0)","v":0},null,null,{"$f":"IF(OR(Расчет!A2091>=2000,Расчет!B2091>=2000),Расчет!J2091,0)","v":0},{"$f":"IF(AND(Расчет!A2091<2000,Расчет!B2091<2000),Расчет!J2091,0)","v":0},null,null,{"$f":"IF(OR(Расчет!A2091>=2000,Расчет!B2091>=2000),Расчет!M2091,0)","v":0},{"$f":"IF(AND(Расчет!A2091<2000,Расчет!B2091<2000),Расчет!M2091,0)","v":0}]
[{"$f":"IF(OR(Расчет!A2092>=2000,Расчет!B2092>=2000),Расчет!G2092,0)","v":0},{"$f":"IF(AND(Расчет!A2092<2000,Расчет!B2092<2000),Расчет!G2092,0)","v":0},null,null,{"$f":"IF(OR(Расчет!A2092>=2000,Расчет!B2092>=2000),Расчет!J2092,0)","v":0},{"$f":"IF(AND(Расчет!A2092<2000,Расчет!B2092<2000),Расчет!J2092,0)","v":0},null,null,{"$f":"IF(OR(Расчет!A2092>=2000,Расчет!B2092>=2000),Расчет!M2092,0)","v":0},{"$f":"IF(AND(Расчет!A2092<2000,Расчет!B2092<2000),Расчет!M2092,0)","v":0}]
[{"$f":"IF(OR(Расчет!A2093>=2000,Расчет!B2093>=2000),Расчет!G2093,0)","v":0},{"$f":"IF(AND(Расчет!A2093<2000,Расчет!B2093<2000),Расчет!G2093,0)","v":0},null,null,{"$f":"IF(OR(Расчет!A2093>=2000,Расчет!B2093>=2000),Расчет!J2093,0)","v":0},{"$f":"IF(AND(Расчет!A2093<2000,Расчет!B2093<2000),Расчет!J2093,0)","v":0},null,null,{"$f":"IF(OR(Расчет!A2093>=2000,Расчет!B2093>=2000),Расчет!M2093,0)","v":0},{"$f":"IF(AND(Расчет!A2093<2000,Расчет!B2093<2000),Расчет!M2093,0)","v":0}]
[{"$f":"IF(OR(Расчет!A2094>=2000,Расчет!B2094>=2000),Расчет!G2094,0)","v":0},{"$f":"IF(AND(Расчет!A2094<2000,Расчет!B2094<2000),Расчет!G2094,0)","v":0},null,null,{"$f":"IF(OR(Расчет!A2094>=2000,Расчет!B2094>=2000),Расчет!J2094,0)","v":0},{"$f":"IF(AND(Расчет!A2094<2000,Расчет!B2094<2000),Расчет!J2094,0)","v":0},null,null,{"$f":"IF(OR(Расчет!A2094>=2000,Расчет!B2094>=2000),Расчет!M2094,0)","v":0},{"$f":"IF(AND(Расчет!A2094<2000,Расчет!B2094<2000),Расчет!M2094,0)","v":0}]
[{"$f":"IF(OR(Расчет!A2095>=2000,Расчет!B2095>=2000),Расчет!G2095,0)","v":0},{"$f":"IF(AND(Расчет!A2095<2000,Расчет!B2095<2000),Расчет!G2095,0)","v":0},null,null,{"$f":"IF(OR(Расчет!A2095>=2000,Расчет!B2095>=2000),Расчет!J2095,0)","v":0},{"$f":"IF(AND(Расчет!A2095<2000,Расчет!B2095<2000),Расчет!J2095,0)","v":0},null,null,{"$f":"IF(OR(Расчет!A2095>=2000,Расчет!B2095>=2000),Расчет!M2095,0)","v":0},{"$f":"IF(AND(Расчет!A2095<2000,Расчет!B2095<2000),Расчет!M2095,0)","v":0}]
[{"$f":"IF(OR(Расчет!A2096>=2000,Расчет!B2096>=2000),Расчет!G2096,0)","v":0},{"$f":"IF(AND(Расчет!A2096<2000,Расчет!B2096<2000),Расчет!G2096,0)","v":0},null,null,{"$f":"IF(OR(Расчет!A2096>=2000,Расчет!B2096>=2000),Расчет!J2096,0)","v":0},{"$f":"IF(AND(Расчет!A2096<2000,Расчет!B2096<2000),Расчет!J2096,0)","v":0},null,null,{"$f":"IF(OR(Расчет!A2096>=2000,Расчет!B2096>=2000),Расчет!M2096,0)","v":0},{"$f":"IF(AND(Расчет!A2096<2000,Расчет!B2096<2000),Расчет!M2096,0)","v":0}]
[{"$f":"IF(OR(Расчет!A2097>=2000,Расчет!B2097>=2000),Расчет!G2097,0)","v":0},{"$f":"IF(AND(Расчет!A2097<2000,Расчет!B2097<2000),Расчет!G2097,0)","v":0},null,null,{"$f":"IF(OR(Расчет!A2097>=2000,Расчет!B2097>=2000),Расчет!J2097,0)","v":0},{"$f":"IF(AND(Расчет!A2097<2000,Расчет!B2097<2000),Расчет!J2097,0)","v":0},null,null,{"$f":"IF(OR(Расчет!A2097>=2000,Расчет!B2097>=2000),Расчет!M2097,0)","v":0},{"$f":"IF(AND(Расчет!A2097<2000,Расчет!B2097<2000),Расчет!M2097,0)","v":0}]
[{"$f":"IF(OR(Расчет!A2098>=2000,Расчет!B2098>=2000),Расчет!G2098,0)","v":0},{"$f":"IF(AND(Расчет!A2098<2000,Расчет!B2098<2000),Расчет!G2098,0)","v":0},null,null,{"$f":"IF(OR(Расчет!A2098>=2000,Расчет!B2098>=2000),Расчет!J2098,0)","v":0},{"$f":"IF(AND(Расчет!A2098<2000,Расчет!B2098<2000),Расчет!J2098,0)","v":0},null,null,{"$f":"IF(OR(Расчет!A2098>=2000,Расчет!B2098>=2000),Расчет!M2098,0)","v":0},{"$f":"IF(AND(Расчет!A2098<2000,Расчет!B2098<2000),Расчет!M2098,0)","v":0}]
[{"$f":"IF(OR(Расчет!A2099>=2000,Расчет!B2099>=2000),Расчет!G2099,0)","v":0},{"$f":"IF(AND(Расчет!A2099<2000,Расчет!B2099<2000),Расчет!G2099,0)","v":0},null,null,{"$f":"IF(OR(Расчет!A2099>=2000,Расчет!B2099>=2000),Расчет!J2099,0)","v":0},{"$f":"IF(AND(Расчет!A2099<2000,Расчет!B2099<2000),Расчет!J2099,0)","v":0},null,null,{"$f":"IF(OR(Расчет!A2099>=2000,Расчет!B2099>=2000),Расчет!M2099,0)","v":0},{"$f":"IF(AND(Расчет!A2099<2000,Расчет!B2099<2000),Расчет!M2099,0)","v":0}]
[{"$f":"IF(OR(Расчет!A2100>=2000,Расчет!B2100>=2000),Расчет!G2100,0)","v":0},{"$f":"IF(AND(Расчет!A2100<2000,Расчет!B2100<2000),Расчет!G2100,0)","v":0},null,null,{"$f":"IF(OR(Расчет!A2100>=2000,Расчет!B2100>=2000),Расчет!J2100,0)","v":0},{"$f":"IF(AND(Расчет!A2100<2000,Расчет!B2100<2000),Расчет!J2100,0)","v":0},null,null,{"$f":"IF(OR(Расчет!A2100>=2000,Расчет!B2100>=2000),Расчет!M2100,0)","v":0},{"$f":"IF(AND(Расчет!A2100<2000,Расчет!B2100<2000),Расчет!M2100,0)","v":0}]
[{"$f":"IF(OR(Расчет!A2101>=2000,Расчет!B2101>=2000),Расчет!G2101,0)","v":0},{"$f":"IF(AND(Расчет!A2101<2000,Расчет!B2101<2000),Расчет!G2101,0)","v":0},null,null,{"$f":"IF(OR(Расчет!A2101>=2000,Расчет!B2101>=2000),Расчет!J2101,0)","v":0},{"$f":"IF(AND(Расчет!A2101<2000,Расчет!B2101<2000),Расчет!J2101,0)","v":0},null,null,{"$f":"IF(OR(Расчет!A2101>=2000,Расчет!B2101>=2000),Расчет!M2101,0)","v":0},{"$f":"IF(AND(Расчет!A2101<2000,Расчет!B2101<2000),Расчет!M2101,0)","v":0}]
[{"$f":"IF(OR(Расчет!A2102>=2000,Расчет!B2102>=2000),Расчет!G2102,0)","v":0},{"$f":"IF(AND(Расчет!A2102<2000,Расчет!B2102<2000),Расчет!G2102,0)","v":0},null,null,{"$f":"IF(OR(Расчет!A2102>=2000,Расчет!B2102>=2000),Расчет!J2102,0)","v":0},{"$f":"IF(AND(Расчет!A2102<2000,Расчет!B2102<2000),Расчет!J2102,0)","v":0},null,null,{"$f":"IF(OR(Расчет!A2102>=2000,Расчет!B2102>=2000),Расчет!M2102,0)","v":0},{"$f":"IF(AND(Расчет!A2102<2000,Расчет!B2102<2000),Расчет!M2102,0)","v":0}]
[{"$f":"IF(OR(Расчет!A2103>=2000,Расчет!B2103>=2000),Расчет!G2103,0)","v":0},{"$f":"IF(AND(Расчет!A2103<2000,Расчет!B2103<2000),Расчет!G2103,0)","v":0},null,null,{"$f":"IF(OR(Расчет!A2103>=2000,Расчет!B2103>=2000),Расчет!J2103,0)","v":0},{"$f":"IF(AND(Расчет!A2103<2000,Расчет!B2103<2000),Расчет!J2103,0)","v":0},null,null,{"$f":"IF(OR(Расчет!A2103>=2000,Расчет!B2103>=2000),Расчет!M2103,0)","v":0},{"$f":"IF(AND(Расчет!A2103<2000,Расчет!B2103<2000),Расчет!M2103,0)","v":0}]
[{"$f":"IF(OR(Расчет!A2104>=2000,Расчет!B2104>=2000),Расчет!G2104,0)","v":0},{"$f":"IF(AND(Расчет!A2104<2000,Расчет!B2104<2000),Расчет!G2104,0)","v":0},null,null,{"$f":"IF(OR(Расчет!A2104>=2000,Расчет!B2104>=2000),Расчет!J2104,0)","v":0},{"$f":"IF(AND(Расчет!A2104<2000,Расчет!B2104<2000),Расчет!J2104,0)","v":0},null,null,{"$f":"IF(OR(Расчет!A2104>=2000,Расчет!B2104>=2000),Расчет!M2104,0)","v":0},{"$f":"IF(AND(Расчет!A2104<2000,Расчет!B2104<2000),Расчет!M2104,0)","v":0}]
[{"$f":"IF(OR(Расчет!A2105>=2000,Расчет!B2105>=2000),Расчет!G2105,0)","v":0},{"$f":"IF(AND(Расчет!A2105<2000,Расчет!B2105<2000),Расчет!G2105,0)","v":0},null,null,{"$f":"IF(OR(Расчет!A2105>=2000,Расчет!B2105>=2000),Расчет!J2105,0)","v":0},{"$f":"IF(AND(Расчет!A2105<2000,Расчет!B2105<2000),Расчет!J2105,0)","v":0},null,null,{"$f":"IF(OR(Расчет!A2105>=2000,Расчет!B2105>=2000),Расчет!M2105,0)","v":0},{"$f":"IF(AND(Расчет!A2105<2000,Расчет!B2105<2000),Расчет!M2105,0)","v":0}]
[{"$f":"IF(OR(Расчет!A2106>=2000,Расчет!B2106>=2000),Расчет!G2106,0)","v":0},{"$f":"IF(AND(Расчет!A2106<2000,Расчет!B2106<2000),Расчет!G2106,0)","v":0},null,null,{"$f":"IF(OR(Расчет!A2106>=2000,Расчет!B2106>=2000),Расчет!J2106,0)","v":0},{"$f":"IF(AND(Расчет!A2106<2000,Расчет!B2106<2000),Расчет!J2106,0)","v":0},null,null,{"$f":"IF(OR(Расчет!A2106>=2000,Расчет!B2106>=2000),Расчет!M2106,0)","v":0},{"$f":"IF(AND(Расчет!A2106<2000,Расчет!B2106<2000),Расчет!M2106,0)","v":0}]
[{"$f":"IF(OR(Расчет!A2107>=2000,Расчет!B2107>=2000),Расчет!G2107,0)","v":0},{"$f":"IF(AND(Расчет!A2107<2000,Расчет!B2107<2000),Расчет!G2107,0)","v":0},null,null,{"$f":"IF(OR(Расчет!A2107>=2000,Расчет!B2107>=2000),Расчет!J2107,0)","v":0},{"$f":"IF(AND(Расчет!A2107<2000,Расчет!B2107<2000),Расчет!J2107,0)","v":0},null,null,{"$f":"IF(OR(Расчет!A2107>=2000,Расчет!B2107>=2000),Расчет!M2107,0)","v":0},{"$f":"IF(AND(Расчет!A2107<2000,Расчет!B2107<2000),Расчет!M2107,0)","v":0}]
[{"$f":"IF(OR(Расчет!A2108>=2000,Расчет!B2108>=2000),Расчет!G2108,0)","v":0},{"$f":"IF(AND(Расчет!A2108<2000,Расчет!B2108<2000),Расчет!G2108,0)","v":0},null,null,{"$f":"IF(OR(Расчет!A2108>=2000,Расчет!B2108>=2000),Расчет!J2108,0)","v":0},{"$f":"IF(AND(Расчет!A2108<2000,Расчет!B2108<2000),Расчет!J2108,0)","v":0},null,null,{"$f":"IF(OR(Расчет!A2108>=2000,Расчет!B2108>=2000),Расчет!M2108,0)","v":0},{"$f":"IF(AND(Расчет!A2108<2000,Расчет!B2108<2000),Расчет!M2108,0)","v":0}]
[{"$f":"IF(OR(Расчет!A2109>=2000,Расчет!B2109>=2000),Расчет!G2109,0)","v":0},{"$f":"IF(AND(Расчет!A2109<2000,Расчет!B2109<2000),Расчет!G2109,0)","v":0},null,null,{"$f":"IF(OR(Расчет!A2109>=2000,Расчет!B2109>=2000),Расчет!J2109,0)","v":0},{"$f":"IF(AND(Расчет!A2109<2000,Расчет!B2109<2000),Расчет!J2109,0)","v":0},null,null,{"$f":"IF(OR(Расчет!A2109>=2000,Расчет!B2109>=2000),Расчет!M2109,0)","v":0},{"$f":"IF(AND(Расчет!A2109<2000,Расчет!B2109<2000),Расчет!M2109,0)","v":0}]
[{"$f":"IF(OR(Расчет!A2110>=2000,Расчет!B2110>=2000),Расчет!G2110,0)","v":0},{"$f":"IF(AND(Расчет!A2110<2000,Расчет!B2110<2000),Расчет!G2110,0)","v":0},null,null,{"$f":"IF(OR(Расчет!A2110>=2000,Расчет!B2110>=2000),Расчет!J2110,0)","v":0},{"$f":"IF(AND(Расчет!A2110<2000,Расчет!B2110<2000),Расчет!J2110,0)","v":0},null,null,{"$f":"IF(OR(Расчет!A2110>=2000,Расчет!B2110>=2000),Расчет!M2110,0)","v":0},{"$f":"IF(AND(Расчет!A2110<2000,Расчет!B2110<2000),Расчет!M2110,0)","v":0}]
[{"$f":"IF(OR(Расчет!A2111>=2000,Расчет!B2111>=2000),Расчет!G2111,0)","v":0},{"$f":"IF(AND(Расчет!A2111<2000,Расчет!B2111<2000),Расчет!G2111,0)","v":0},null,null,{"$f":"IF(OR(Расчет!A2111>=2000,Расчет!B2111>=2000),Расчет!J2111,0)","v":0},{"$f":"IF(AND(Расчет!A2111<2000,Расчет!B2111<2000),Расчет!J2111,0)","v":0},null,null,{"$f":"IF(OR(Расчет!A2111>=2000,Расчет!B2111>=2000),Расчет!M2111,0)","v":0},{"$f":"IF(AND(Расчет!A2111<2000,Расчет!B2111<2000),Расчет!M2111,0)","v":0}]
[{"$f":"IF(OR(Расчет!A2112>=2000,Расчет!B2112>=2000),Расчет!G2112,0)","v":0},{"$f":"IF(AND(Расчет!A2112<2000,Расчет!B2112<2000),Расчет!G2112,0)","v":0},null,null,{"$f":"IF(OR(Расчет!A2112>=2000,Расчет!B2112>=2000),Расчет!J2112,0)","v":0},{"$f":"IF(AND(Расчет!A2112<2000,Расчет!B2112<2000),Расчет!J2112,0)","v":0},null,null,{"$f":"IF(OR(Расчет!A2112>=2000,Расчет!B2112>=2000),Расчет!M2112,0)","v":0},{"$f":"IF(AND(Расчет!A2112<2000,Расчет!B2112<2000),Расчет!M2112,0)","v":0}]
[{"$f":"IF(OR(Расчет!A2113>=2000,Расчет!B2113>=2000),Расчет!G2113,0)","v":0},{"$f":"IF(AND(Расчет!A2113<2000,Расчет!B2113<2000),Расчет!G2113,0)","v":0},null,null,{"$f":"IF(OR(Расчет!A2113>=2000,Расчет!B2113>=2000),Расчет!J2113,0)","v":0},{"$f":"IF(AND(Расчет!A2113<2000,Расчет!B2113<2000),Расчет!J2113,0)","v":0},null,null,{"$f":"IF(OR(Расчет!A2113>=2000,Расчет!B2113>=2000),Расчет!M2113,0)","v":0},{"$f":"IF(AND(Расчет!A2113<2000,Расчет!B2113<2000),Расчет!M2113,0)","v":0}]
[{"$f":"IF(OR(Расчет!A2114>=2000,Расчет!B2114>=2000),Расчет!G2114,0)","v":0},{"$f":"IF(AND(Расчет!A2114<2000,Расчет!B2114<2000),Расчет!G2114,0)","v":0},null,null,{"$f":"IF(OR(Расчет!A2114>=2000,Расчет!B2114>=2000),Расчет!J2114,0)","v":0},{"$f":"IF(AND(Расчет!A2114<2000,Расчет!B2114<2000),Расчет!J2114,0)","v":0},null,null,{"$f":"IF(OR(Расчет!A2114>=2000,Расчет!B2114>=2000),Расчет!M2114,0)","v":0},{"$f":"IF(AND(Расчет!A2114<2000,Расчет!B2114<2000),Расчет!M2114,0)","v":0}]
[{"$f":"IF(OR(Расчет!A2115>=2000,Расчет!B2115>=2000),Расчет!G2115,0)","v":0},{"$f":"IF(AND(Расчет!A2115<2000,Расчет!B2115<2000),Расчет!G2115,0)","v":0},null,null,{"$f":"IF(OR(Расчет!A2115>=2000,Расчет!B2115>=2000),Расчет!J2115,0)","v":0},{"$f":"IF(AND(Расчет!A2115<2000,Расчет!B2115<2000),Расчет!J2115,0)","v":0},null,null,{"$f":"IF(OR(Расчет!A2115>=2000,Расчет!B2115>=2000),Расчет!M2115,0)","v":0},{"$f":"IF(AND(Расчет!A2115<2000,Расчет!B2115<2000),Расчет!M2115,0)","v":0}]
[{"$f":"IF(OR(Расчет!A2116>=2000,Расчет!B2116>=2000),Расчет!G2116,0)","v":0},{"$f":"IF(AND(Расчет!A2116<2000,Расчет!B2116<2000),Расчет!G2116,0)","v":0},null,null,{"$f":"IF(OR(Расчет!A2116>=2000,Расчет!B2116>=2000),Расчет!J2116,0)","v":0},{"$f":"IF(AND(Расчет!A2116<2000,Расчет!B2116<2000),Расчет!J2116,0)","v":0},null,null,{"$f":"IF(OR(Расчет!A2116>=2000,Расчет!B2116>=2000),Расчет!M2116,0)","v":0},{"$f":"IF(AND(Расчет!A2116<2000,Расчет!B2116<2000),Расчет!M2116,0)","v":0}]
[{"$f":"IF(OR(Расчет!A2117>=2000,Расчет!B2117>=2000),Расчет!G2117,0)","v":0},{"$f":"IF(AND(Расчет!A2117<2000,Расчет!B2117<2000),Расчет!G2117,0)","v":0},null,null,{"$f":"IF(OR(Расчет!A2117>=2000,Расчет!B2117>=2000),Расчет!J2117,0)","v":0},{"$f":"IF(AND(Расчет!A2117<2000,Расчет!B2117<2000),Расчет!J2117,0)","v":0},null,null,{"$f":"IF(OR(Расчет!A2117>=2000,Расчет!B2117>=2000),Расчет!M2117,0)","v":0},{"$f":"IF(AND(Расчет!A2117<2000,Расчет!B2117<2000),Расчет!M2117,0)","v":0}]
[{"$f":"IF(OR(Расчет!A2118>=2000,Расчет!B2118>=2000),Расчет!G2118,0)","v":0},{"$f":"IF(AND(Расчет!A2118<2000,Расчет!B2118<2000),Расчет!G2118,0)","v":0},null,null,{"$f":"IF(OR(Расчет!A2118>=2000,Расчет!B2118>=2000),Расчет!J2118,0)","v":0},{"$f":"IF(AND(Расчет!A2118<2000,Расчет!B2118<2000),Расчет!J2118,0)","v":0},null,null,{"$f":"IF(OR(Расчет!A2118>=2000,Расчет!B2118>=2000),Расчет!M2118,0)","v":0},{"$f":"IF(AND(Расчет!A2118<2000,Расчет!B2118<2000),Расчет!M2118,0)","v":0}]
[{"$f":"IF(OR(Расчет!A2119>=2000,Расчет!B2119>=2000),Расчет!G2119,0)","v":0},{"$f":"IF(AND(Расчет!A2119<2000,Расчет!B2119<2000),Расчет!G2119,0)","v":0},null,null,{"$f":"IF(OR(Расчет!A2119>=2000,Расчет!B2119>=2000),Расчет!J2119,0)","v":0},{"$f":"IF(AND(Расчет!A2119<2000,Расчет!B2119<2000),Расчет!J2119,0)","v":0},null,null,{"$f":"IF(OR(Расчет!A2119>=2000,Расчет!B2119>=2000),Расчет!M2119,0)","v":0},{"$f":"IF(AND(Расчет!A2119<2000,Расчет!B2119<2000),Расчет!M2119,0)","v":0}]
[{"$f":"IF(OR(Расчет!A2120>=2000,Расчет!B2120>=2000),Расчет!G2120,0)","v":0},{"$f":"IF(AND(Расчет!A2120<2000,Расчет!B2120<2000),Расчет!G2120,0)","v":0},null,null,{"$f":"IF(OR(Расчет!A2120>=2000,Расчет!B2120>=2000),Расчет!J2120,0)","v":0},{"$f":"IF(AND(Расчет!A2120<2000,Расчет!B2120<2000),Расчет!J2120,0)","v":0},null,null,{"$f":"IF(OR(Расчет!A2120>=2000,Расчет!B2120>=2000),Расчет!M2120,0)","v":0},{"$f":"IF(AND(Расчет!A2120<2000,Расчет!B2120<2000),Расчет!M2120,0)","v":0}]
[{"$f":"IF(OR(Расчет!A2121>=2000,Расчет!B2121>=2000),Расчет!G2121,0)","v":0},{"$f":"IF(AND(Расчет!A2121<2000,Расчет!B2121<2000),Расчет!G2121,0)","v":0},null,null,{"$f":"IF(OR(Расчет!A2121>=2000,Расчет!B2121>=2000),Расчет!J2121,0)","v":0},{"$f":"IF(AND(Расчет!A2121<2000,Расчет!B2121<2000),Расчет!J2121,0)","v":0},null,null,{"$f":"IF(OR(Расчет!A2121>=2000,Расчет!B2121>=2000),Расчет!M2121,0)","v":0},{"$f":"IF(AND(Расчет!A2121<2000,Расчет!B2121<2000),Расчет!M2121,0)","v":0}]
[{"$f":"IF(OR(Расчет!A2122>=2000,Расчет!B2122>=2000),Расчет!G2122,0)","v":0},{"$f":"IF(AND(Расчет!A2122<2000,Расчет!B2122<2000),Расчет!G2122,0)","v":0},null,null,{"$f":"IF(OR(Расчет!A2122>=2000,Расчет!B2122>=2000),Расчет!J2122,0)","v":0},{"$f":"IF(AND(Расчет!A2122<2000,Расчет!B2122<2000),Расчет!J2122,0)","v":0},null,null,{"$f":"IF(OR(Расчет!A2122>=2000,Расчет!B2122>=2000),Расчет!M2122,0)","v":0},{"$f":"IF(AND(Расчет!A2122<2000,Расчет!B2122<2000),Расчет!M2122,0)","v":0}]
[{"$f":"IF(OR(Расчет!A2123>=2000,Расчет!B2123>=2000),Расчет!G2123,0)","v":0},{"$f":"IF(AND(Расчет!A2123<2000,Расчет!B2123<2000),Расчет!G2123,0)","v":0},null,null,{"$f":"IF(OR(Расчет!A2123>=2000,Расчет!B2123>=2000),Расчет!J2123,0)","v":0},{"$f":"IF(AND(Расчет!A2123<2000,Расчет!B2123<2000),Расчет!J2123,0)","v":0},null,null,{"$f":"IF(OR(Расчет!A2123>=2000,Расчет!B2123>=2000),Расчет!M2123,0)","v":0},{"$f":"IF(AND(Расчет!A2123<2000,Расчет!B2123<2000),Расчет!M2123,0)","v":0}]
[{"$f":"IF(OR(Расчет!A2124>=2000,Расчет!B2124>=2000),Расчет!G2124,0)","v":0},{"$f":"IF(AND(Расчет!A2124<2000,Расчет!B2124<2000),Расчет!G2124,0)","v":0},null,null,{"$f":"IF(OR(Расчет!A2124>=2000,Расчет!B2124>=2000),Расчет!J2124,0)","v":0},{"$f":"IF(AND(Расчет!A2124<2000,Расчет!B2124<2000),Расчет!J2124,0)","v":0},null,null,{"$f":"IF(OR(Расчет!A2124>=2000,Расчет!B2124>=2000),Расчет!M2124,0)","v":0},{"$f":"IF(AND(Расчет!A2124<2000,Расчет!B2124<2000),Расчет!M2124,0)","v":0}]
[{"$f":"IF(OR(Расчет!A2125>=2000,Расчет!B2125>=2000),Расчет!G2125,0)","v":0},{"$f":"IF(AND(Расчет!A2125<2000,Расчет!B2125<2000),Расчет!G2125,0)","v":0},null,null,{"$f":"IF(OR(Расчет!A2125>=2000,Расчет!B2125>=2000),Расчет!J2125,0)","v":0},{"$f":"IF(AND(Расчет!A2125<2000,Расчет!B2125<2000),Расчет!J2125,0)","v":0},null,null,{"$f":"IF(OR(Расчет!A2125>=2000,Расчет!B2125>=2000),Расчет!M2125,0)","v":0},{"$f":"IF(AND(Расчет!A2125<2000,Расчет!B2125<2000),Расчет!M2125,0)","v":0}]
[{"$f":"IF(OR(Расчет!A2126>=2000,Расчет!B2126>=2000),Расчет!G2126,0)","v":0},{"$f":"IF(AND(Расчет!A2126<2000,Расчет!B2126<2000),Расчет!G2126,0)","v":0},null,null,{"$f":"IF(OR(Расчет!A2126>=2000,Расчет!B2126>=2000),Расчет!J2126,0)","v":0},{"$f":"IF(AND(Расчет!A2126<2000,Расчет!B2126<2000),Расчет!J2126,0)","v":0},null,null,{"$f":"IF(OR(Расчет!A2126>=2000,Расчет!B2126>=2000),Расчет!M2126,0)","v":0},{"$f":"IF(AND(Расчет!A2126<2000,Расчет!B2126<2000),Расчет!M2126,0)","v":0}]
[{"$f":"IF(OR(Расчет!A2127>=2000,Расчет!B2127>=2000),Расчет!G2127,0)","v":0},{"$f":"IF(AND(Расчет!A2127<2000,Расчет!B2127<2000),Расчет!G2127,0)","v":0},null,null,{"$f":"IF(OR(Расчет!A2127>=2000,Расчет!B2127>=2000),Расчет!J2127,0)","v":0},{"$f":"IF(AND(Расчет!A2127<2000,Расчет!B2127<2000),Расчет!J2127,0)","v":0},null,null,{"$f":"IF(OR(Расчет!A2127>=2000,Расчет!B2127>=2000),Расчет!M2127,0)","v":0},{"$f":"IF(AND(Расчет!A2127<2000,Расчет!B2127<2000),Расчет!M2127,0)","v":0}]
[{"$f":"IF(OR(Расчет!A2128>=2000,Расчет!B2128>=2000),Расчет!G2128,0)","v":0},{"$f":"IF(AND(Расчет!A2128<2000,Расчет!B2128<2000),Расчет!G2128,0)","v":0},null,null,{"$f":"IF(OR(Расчет!A2128>=2000,Расчет!B2128>=2000),Расчет!J2128,0)","v":0},{"$f":"IF(AND(Расчет!A2128<2000,Расчет!B2128<2000),Расчет!J2128,0)","v":0},null,null,{"$f":"IF(OR(Расчет!A2128>=2000,Расчет!B2128>=2000),Расчет!M2128,0)","v":0},{"$f":"IF(AND(Расчет!A2128<2000,Расчет!B2128<2000),Расчет!M2128,0)","v":0}]
[{"$f":"IF(OR(Расчет!A2129>=2000,Расчет!B2129>=2000),Расчет!G2129,0)","v":0},{"$f":"IF(AND(Расчет!A2129<2000,Расчет!B2129<2000),Расчет!G2129,0)","v":0},null,null,{"$f":"IF(OR(Расчет!A2129>=2000,Расчет!B2129>=2000),Расчет!J2129,0)","v":0},{"$f":"IF(AND(Расчет!A2129<2000,Расчет!B2129<2000),Расчет!J2129,0)","v":0},null,null,{"$f":"IF(OR(Расчет!A2129>=2000,Расчет!B2129>=2000),Расчет!M2129,0)","v":0},{"$f":"IF(AND(Расчет!A2129<2000,Расчет!B2129<2000),Расчет!M2129,0)","v":0}]
[{"$f":"IF(OR(Расчет!A2130>=2000,Расчет!B2130>=2000),Расчет!G2130,0)","v":0},{"$f":"IF(AND(Расчет!A2130<2000,Расчет!B2130<2000),Расчет!G2130,0)","v":0},null,null,{"$f":"IF(OR(Расчет!A2130>=2000,Расчет!B2130>=2000),Расчет!J2130,0)","v":0},{"$f":"IF(AND(Расчет!A2130<2000,Расчет!B2130<2000),Расчет!J2130,0)","v":0},null,null,{"$f":"IF(OR(Расчет!A2130>=2000,Расчет!B2130>=2000),Расчет!M2130,0)","v":0},{"$f":"IF(AND(Расчет!A2130<2000,Расчет!B2130<2000),Расчет!M2130,0)","v":0}]
[{"$f":"IF(OR(Расчет!A2131>=2000,Расчет!B2131>=2000),Расчет!G2131,0)","v":0},{"$f":"IF(AND(Расчет!A2131<2000,Расчет!B2131<2000),Расчет!G2131,0)","v":0},null,null,{"$f":"IF(OR(Расчет!A2131>=2000,Расчет!B2131>=2000),Расчет!J2131,0)","v":0},{"$f":"IF(AND(Расчет!A2131<2000,Расчет!B2131<2000),Расчет!J2131,0)","v":0},null,null,{"$f":"IF(OR(Расчет!A2131>=2000,Расчет!B2131>=2000),Расчет!M2131,0)","v":0},{"$f":"IF(AND(Расчет!A2131<2000,Расчет!B2131<2000),Расчет!M2131,0)","v":0}]
[{"$f":"IF(OR(Расчет!A2132>=2000,Расчет!B2132>=2000),Расчет!G2132,0)","v":0},{"$f":"IF(AND(Расчет!A2132<2000,Расчет!B2132<2000),Расчет!G2132,0)","v":0},null,null,{"$f":"IF(OR(Расчет!A2132>=2000,Расчет!B2132>=2000),Расчет!J2132,0)","v":0},{"$f":"IF(AND(Расчет!A2132<2000,Расчет!B2132<2000),Расчет!J2132,0)","v":0},null,null,{"$f":"IF(OR(Расчет!A2132>=2000,Расчет!B2132>=2000),Расчет!M2132,0)","v":0},{"$f":"IF(AND(Расчет!A2132<2000,Расчет!B2132<2000),Расчет!M2132,0)","v":0}]
[{"$f":"IF(OR(Расчет!A2133>=2000,Расчет!B2133>=2000),Расчет!G2133,0)","v":0},{"$f":"IF(AND(Расчет!A2133<2000,Расчет!B2133<2000),Расчет!G2133,0)","v":0},null,null,{"$f":"IF(OR(Расчет!A2133>=2000,Расчет!B2133>=2000),Расчет!J2133,0)","v":0},{"$f":"IF(AND(Расчет!A2133<2000,Расчет!B2133<2000),Расчет!J2133,0)","v":0},null,null,{"$f":"IF(OR(Расчет!A2133>=2000,Расчет!B2133>=2000),Расчет!M2133,0)","v":0},{"$f":"IF(AND(Расчет!A2133<2000,Расчет!B2133<2000),Расчет!M2133,0)","v":0}]
[{"$f":"IF(OR(Расчет!A2134>=2000,Расчет!B2134>=2000),Расчет!G2134,0)","v":0},{"$f":"IF(AND(Расчет!A2134<2000,Расчет!B2134<2000),Расчет!G2134,0)","v":0},null,null,{"$f":"IF(OR(Расчет!A2134>=2000,Расчет!B2134>=2000),Расчет!J2134,0)","v":0},{"$f":"IF(AND(Расчет!A2134<2000,Расчет!B2134<2000),Расчет!J2134,0)","v":0},null,null,{"$f":"IF(OR(Расчет!A2134>=2000,Расчет!B2134>=2000),Расчет!M2134,0)","v":0},{"$f":"IF(AND(Расчет!A2134<2000,Расчет!B2134<2000),Расчет!M2134,0)","v":0}]
[{"$f":"IF(OR(Расчет!A2135>=2000,Расчет!B2135>=2000),Расчет!G2135,0)","v":0},{"$f":"IF(AND(Расчет!A2135<2000,Расчет!B2135<2000),Расчет!G2135,0)","v":0},null,null,{"$f":"IF(OR(Расчет!A2135>=2000,Расчет!B2135>=2000),Расчет!J2135,0)","v":0},{"$f":"IF(AND(Расчет!A2135<2000,Расчет!B2135<2000),Расчет!J2135,0)","v":0},null,null,{"$f":"IF(OR(Расчет!A2135>=2000,Расчет!B2135>=2000),Расчет!M2135,0)","v":0},{"$f":"IF(AND(Расчет!A2135<2000,Расчет!B2135<2000),Расчет!M2135,0)","v":0}]
[{"$f":"IF(OR(Расчет!A2136>=2000,Расчет!B2136>=2000),Расчет!G2136,0)","v":0},{"$f":"IF(AND(Расчет!A2136<2000,Расчет!B2136<2000),Расчет!G2136,0)","v":0},null,null,{"$f":"IF(OR(Расчет!A2136>=2000,Расчет!B2136>=2000),Расчет!J2136,0)","v":0},{"$f":"IF(AND(Расчет!A2136<2000,Расчет!B2136<2000),Расчет!J2136,0)","v":0},null,null,{"$f":"IF(OR(Расчет!A2136>=2000,Расчет!B2136>=2000),Расчет!M2136,0)","v":0},{"$f":"IF(AND(Расчет!A2136<2000,Расчет!B2136<2000),Расчет!M2136,0)","v":0}]
[{"$f":"IF(OR(Расчет!A2137>=2000,Расчет!B2137>=2000),Расчет!G2137,0)","v":0},{"$f":"IF(AND(Расчет!A2137<2000,Расчет!B2137<2000),Расчет!G2137,0)","v":0},null,null,{"$f":"IF(OR(Расчет!A2137>=2000,Расчет!B2137>=2000),Расчет!J2137,0)","v":0},{"$f":"IF(AND(Расчет!A2137<2000,Расчет!B2137<2000),Расчет!J2137,0)","v":0},null,null,{"$f":"IF(OR(Расчет!A2137>=2000,Расчет!B2137>=2000),Расчет!M2137,0)","v":0},{"$f":"IF(AND(Расчет!A2137<2000,Расчет!B2137<2000),Расчет!M2137,0)","v":0}]
[{"$f":"IF(OR(Расчет!A2138>=2000,Расчет!B2138>=2000),Расчет!G2138,0)","v":0},{"$f":"IF(AND(Расчет!A2138<2000,Расчет!B2138<2000),Расчет!G2138,0)","v":0},null,null,{"$f":"IF(OR(Расчет!A2138>=2000,Расчет!B2138>=2000),Расчет!J2138,0)","v":0},{"$f":"IF(AND(Расчет!A2138<2000,Расчет!B2138<2000),Расчет!J2138,0)","v":0},null,null,{"$f":"IF(OR(Расчет!A2138>=2000,Расчет!B2138>=2000),Расчет!M2138,0)","v":0},{"$f":"IF(AND(Расчет!A2138<2000,Расчет!B2138<2000),Расчет!M2138,0)","v":0}]
[{"$f":"IF(OR(Расчет!A2139>=2000,Расчет!B2139>=2000),Расчет!G2139,0)","v":0},{"$f":"IF(AND(Расчет!A2139<2000,Расчет!B2139<2000),Расчет!G2139,0)","v":0},null,null,{"$f":"IF(OR(Расчет!A2139>=2000,Расчет!B2139>=2000),Расчет!J2139,0)","v":0},{"$f":"IF(AND(Расчет!A2139<2000,Расчет!B2139<2000),Расчет!J2139,0)","v":0},null,null,{"$f":"IF(OR(Расчет!A2139>=2000,Расчет!B2139>=2000),Расчет!M2139,0)","v":0},{"$f":"IF(AND(Расчет!A2139<2000,Расчет!B2139<2000),Расчет!M2139,0)","v":0}]
[{"$f":"IF(OR(Расчет!A2140>=2000,Расчет!B2140>=2000),Расчет!G2140,0)","v":0},{"$f":"IF(AND(Расчет!A2140<2000,Расчет!B2140<2000),Расчет!G2140,0)","v":0},null,null,{"$f":"IF(OR(Расчет!A2140>=2000,Расчет!B2140>=2000),Расчет!J2140,0)","v":0},{"$f":"IF(AND(Расчет!A2140<2000,Расчет!B2140<2000),Расчет!J2140,0)","v":0},null,null,{"$f":"IF(OR(Расчет!A2140>=2000,Расчет!B2140>=2000),Расчет!M2140,0)","v":0},{"$f":"IF(AND(Расчет!A2140<2000,Расчет!B2140<2000),Расчет!M2140,0)","v":0}]
[{"$f":"IF(OR(Расчет!A2141>=2000,Расчет!B2141>=2000),Расчет!G2141,0)","v":0},{"$f":"IF(AND(Расчет!A2141<2000,Расчет!B2141<2000),Расчет!G2141,0)","v":0},null,null,{"$f":"IF(OR(Расчет!A2141>=2000,Расчет!B2141>=2000),Расчет!J2141,0)","v":0},{"$f":"IF(AND(Расчет!A2141<2000,Расчет!B2141<2000),Расчет!J2141,0)","v":0},null,null,{"$f":"IF(OR(Расчет!A2141>=2000,Расчет!B2141>=2000),Расчет!M2141,0)","v":0},{"$f":"IF(AND(Расчет!A2141<2000,Расчет!B2141<2000),Расчет!M2141,0)","v":0}]
[{"$f":"IF(OR(Расчет!A2142>=2000,Расчет!B2142>=2000),Расчет!G2142,0)","v":0},{"$f":"IF(AND(Расчет!A2142<2000,Расчет!B2142<2000),Расчет!G2142,0)","v":0},null,null,{"$f":"IF(OR(Расчет!A2142>=2000,Расчет!B2142>=2000),Расчет!J2142,0)","v":0},{"$f":"IF(AND(Расчет!A2142<2000,Расчет!B2142<2000),Расчет!J2142,0)","v":0},null,null,{"$f":"IF(OR(Расчет!A2142>=2000,Расчет!B2142>=2000),Расчет!M2142,0)","v":0},{"$f":"IF(AND(Расчет!A2142<2000,Расчет!B2142<2000),Расчет!M2142,0)","v":0}]
[{"$f":"IF(OR(Расчет!A2143>=2000,Расчет!B2143>=2000),Расчет!G2143,0)","v":0},{"$f":"IF(AND(Расчет!A2143<2000,Расчет!B2143<2000),Расчет!G2143,0)","v":0},null,null,{"$f":"IF(OR(Расчет!A2143>=2000,Расчет!B2143>=2000),Расчет!J2143,0)","v":0},{"$f":"IF(AND(Расчет!A2143<2000,Расчет!B2143<2000),Расчет!J2143,0)","v":0},null,null,{"$f":"IF(OR(Расчет!A2143>=2000,Расчет!B2143>=2000),Расчет!M2143,0)","v":0},{"$f":"IF(AND(Расчет!A2143<2000,Расчет!B2143<2000),Расчет!M2143,0)","v":0}]
[{"$f":"IF(OR(Расчет!A2144>=2000,Расчет!B2144>=2000),Расчет!G2144,0)","v":0},{"$f":"IF(AND(Расчет!A2144<2000,Расчет!B2144<2000),Расчет!G2144,0)","v":0},null,null,{"$f":"IF(OR(Расчет!A2144>=2000,Расчет!B2144>=2000),Расчет!J2144,0)","v":0},{"$f":"IF(AND(Расчет!A2144<2000,Расчет!B2144<2000),Расчет!J2144,0)","v":0},null,null,{"$f":"IF(OR(Расчет!A2144>=2000,Расчет!B2144>=2000),Расчет!M2144,0)","v":0},{"$f":"IF(AND(Расчет!A2144<2000,Расчет!B2144<2000),Расчет!M2144,0)","v":0}]
[{"$f":"IF(OR(Расчет!A2145>=2000,Расчет!B2145>=2000),Расчет!G2145,0)","v":0},{"$f":"IF(AND(Расчет!A2145<2000,Расчет!B2145<2000),Расчет!G2145,0)","v":0},null,null,{"$f":"IF(OR(Расчет!A2145>=2000,Расчет!B2145>=2000),Расчет!J2145,0)","v":0},{"$f":"IF(AND(Расчет!A2145<2000,Расчет!B2145<2000),Расчет!J2145,0)","v":0},null,null,{"$f":"IF(OR(Расчет!A2145>=2000,Расчет!B2145>=2000),Расчет!M2145,0)","v":0},{"$f":"IF(AND(Расчет!A2145<2000,Расчет!B2145<2000),Расчет!M2145,0)","v":0}]
[{"$f":"IF(OR(Расчет!A2146>=2000,Расчет!B2146>=2000),Расчет!G2146,0)","v":0},{"$f":"IF(AND(Расчет!A2146<2000,Расчет!B2146<2000),Расчет!G2146,0)","v":0},null,null,{"$f":"IF(OR(Расчет!A2146>=2000,Расчет!B2146>=2000),Расчет!J2146,0)","v":0},{"$f":"IF(AND(Расчет!A2146<2000,Расчет!B2146<2000),Расчет!J2146,0)","v":0},null,null,{"$f":"IF(OR(Расчет!A2146>=2000,Расчет!B2146>=2000),Расчет!M2146,0)","v":0},{"$f":"IF(AND(Расчет!A2146<2000,Расчет!B2146<2000),Расчет!M2146,0)","v":0}]
[{"$f":"IF(OR(Расчет!A2147>=2000,Расчет!B2147>=2000),Расчет!G2147,0)","v":0},{"$f":"IF(AND(Расчет!A2147<2000,Расчет!B2147<2000),Расчет!G2147,0)","v":0},null,null,{"$f":"IF(OR(Расчет!A2147>=2000,Расчет!B2147>=2000),Расчет!J2147,0)","v":0},{"$f":"IF(AND(Расчет!A2147<2000,Расчет!B2147<2000),Расчет!J2147,0)","v":0},null,null,{"$f":"IF(OR(Расчет!A2147>=2000,Расчет!B2147>=2000),Расчет!M2147,0)","v":0},{"$f":"IF(AND(Расчет!A2147<2000,Расчет!B2147<2000),Расчет!M2147,0)","v":0}]
[{"$f":"IF(OR(Расчет!A2148>=2000,Расчет!B2148>=2000),Расчет!G2148,0)","v":0},{"$f":"IF(AND(Расчет!A2148<2000,Расчет!B2148<2000),Расчет!G2148,0)","v":0},null,null,{"$f":"IF(OR(Расчет!A2148>=2000,Расчет!B2148>=2000),Расчет!J2148,0)","v":0},{"$f":"IF(AND(Расчет!A2148<2000,Расчет!B2148<2000),Расчет!J2148,0)","v":0},null,null,{"$f":"IF(OR(Расчет!A2148>=2000,Расчет!B2148>=2000),Расчет!M2148,0)","v":0},{"$f":"IF(AND(Расчет!A2148<2000,Расчет!B2148<2000),Расчет!M2148,0)","v":0}]
[{"$f":"IF(OR(Расчет!A2149>=2000,Расчет!B2149>=2000),Расчет!G2149,0)","v":0},{"$f":"IF(AND(Расчет!A2149<2000,Расчет!B2149<2000),Расчет!G2149,0)","v":0},null,null,{"$f":"IF(OR(Расчет!A2149>=2000,Расчет!B2149>=2000),Расчет!J2149,0)","v":0},{"$f":"IF(AND(Расчет!A2149<2000,Расчет!B2149<2000),Расчет!J2149,0)","v":0},null,null,{"$f":"IF(OR(Расчет!A2149>=2000,Расчет!B2149>=2000),Расчет!M2149,0)","v":0},{"$f":"IF(AND(Расчет!A2149<2000,Расчет!B2149<2000),Расчет!M2149,0)","v":0}]
[{"$f":"IF(OR(Расчет!A2150>=2000,Расчет!B2150>=2000),Расчет!G2150,0)","v":0},{"$f":"IF(AND(Расчет!A2150<2000,Расчет!B2150<2000),Расчет!G2150,0)","v":0},null,null,{"$f":"IF(OR(Расчет!A2150>=2000,Расчет!B2150>=2000),Расчет!J2150,0)","v":0},{"$f":"IF(AND(Расчет!A2150<2000,Расчет!B2150<2000),Расчет!J2150,0)","v":0},null,null,{"$f":"IF(OR(Расчет!A2150>=2000,Расчет!B2150>=2000),Расчет!M2150,0)","v":0},{"$f":"IF(AND(Расчет!A2150<2000,Расчет!B2150<2000),Расчет!M2150,0)","v":0}]
[{"$f":"IF(OR(Расчет!A2151>=2000,Расчет!B2151>=2000),Расчет!G2151,0)","v":0},{"$f":"IF(AND(Расчет!A2151<2000,Расчет!B2151<2000),Расчет!G2151,0)","v":0},null,null,{"$f":"IF(OR(Расчет!A2151>=2000,Расчет!B2151>=2000),Расчет!J2151,0)","v":0},{"$f":"IF(AND(Расчет!A2151<2000,Расчет!B2151<2000),Расчет!J2151,0)","v":0},null,null,{"$f":"IF(OR(Расчет!A2151>=2000,Расчет!B2151>=2000),Расчет!M2151,0)","v":0},{"$f":"IF(AND(Расчет!A2151<2000,Расчет!B2151<2000),Расчет!M2151,0)","v":0}]
[{"$f":"IF(OR(Расчет!A2152>=2000,Расчет!B2152>=2000),Расчет!G2152,0)","v":0},{"$f":"IF(AND(Расчет!A2152<2000,Расчет!B2152<2000),Расчет!G2152,0)","v":0},null,null,{"$f":"IF(OR(Расчет!A2152>=2000,Расчет!B2152>=2000),Расчет!J2152,0)","v":0},{"$f":"IF(AND(Расчет!A2152<2000,Расчет!B2152<2000),Расчет!J2152,0)","v":0},null,null,{"$f":"IF(OR(Расчет!A2152>=2000,Расчет!B2152>=2000),Расчет!M2152,0)","v":0},{"$f":"IF(AND(Расчет!A2152<2000,Расчет!B2152<2000),Расчет!M2152,0)","v":0}]
[{"$f":"IF(OR(Расчет!A2153>=2000,Расчет!B2153>=2000),Расчет!G2153,0)","v":0},{"$f":"IF(AND(Расчет!A2153<2000,Расчет!B2153<2000),Расчет!G2153,0)","v":0},null,null,{"$f":"IF(OR(Расчет!A2153>=2000,Расчет!B2153>=2000),Расчет!J2153,0)","v":0},{"$f":"IF(AND(Расчет!A2153<2000,Расчет!B2153<2000),Расчет!J2153,0)","v":0},null,null,{"$f":"IF(OR(Расчет!A2153>=2000,Расчет!B2153>=2000),Расчет!M2153,0)","v":0},{"$f":"IF(AND(Расчет!A2153<2000,Расчет!B2153<2000),Расчет!M2153,0)","v":0}]
[{"$f":"IF(OR(Расчет!A2154>=2000,Расчет!B2154>=2000),Расчет!G2154,0)","v":0},{"$f":"IF(AND(Расчет!A2154<2000,Расчет!B2154<2000),Расчет!G2154,0)","v":0},null,null,{"$f":"IF(OR(Расчет!A2154>=2000,Расчет!B2154>=2000),Расчет!J2154,0)","v":0},{"$f":"IF(AND(Расчет!A2154<2000,Расчет!B2154<2000),Расчет!J2154,0)","v":0},null,null,{"$f":"IF(OR(Расчет!A2154>=2000,Расчет!B2154>=2000),Расчет!M2154,0)","v":0},{"$f":"IF(AND(Расчет!A2154<2000,Расчет!B2154<2000),Расчет!M2154,0)","v":0}]
[{"$f":"IF(OR(Расчет!A2155>=2000,Расчет!B2155>=2000),Расчет!G2155,0)","v":0},{"$f":"IF(AND(Расчет!A2155<2000,Расчет!B2155<2000),Расчет!G2155,0)","v":0},null,null,{"$f":"IF(OR(Расчет!A2155>=2000,Расчет!B2155>=2000),Расчет!J2155,0)","v":0},{"$f":"IF(AND(Расчет!A2155<2000,Расчет!B2155<2000),Расчет!J2155,0)","v":0},null,null,{"$f":"IF(OR(Расчет!A2155>=2000,Расчет!B2155>=2000),Расчет!M2155,0)","v":0},{"$f":"IF(AND(Расчет!A2155<2000,Расчет!B2155<2000),Расчет!M2155,0)","v":0}]
[{"$f":"IF(OR(Расчет!A2156>=2000,Расчет!B2156>=2000),Расчет!G2156,0)","v":0},{"$f":"IF(AND(Расчет!A2156<2000,Расчет!B2156<2000),Расчет!G2156,0)","v":0},null,null,{"$f":"IF(OR(Расчет!A2156>=2000,Расчет!B2156>=2000),Расчет!J2156,0)","v":0},{"$f":"IF(AND(Расчет!A2156<2000,Расчет!B2156<2000),Расчет!J2156,0)","v":0},null,null,{"$f":"IF(OR(Расчет!A2156>=2000,Расчет!B2156>=2000),Расчет!M2156,0)","v":0},{"$f":"IF(AND(Расчет!A2156<2000,Расчет!B2156<2000),Расчет!M2156,0)","v":0}]
[{"$f":"IF(OR(Расчет!A2157>=2000,Расчет!B2157>=2000),Расчет!G2157,0)","v":0},{"$f":"IF(AND(Расчет!A2157<2000,Расчет!B2157<2000),Расчет!G2157,0)","v":0},null,null,{"$f":"IF(OR(Расчет!A2157>=2000,Расчет!B2157>=2000),Расчет!J2157,0)","v":0},{"$f":"IF(AND(Расчет!A2157<2000,Расчет!B2157<2000),Расчет!J2157,0)","v":0},null,null,{"$f":"IF(OR(Расчет!A2157>=2000,Расчет!B2157>=2000),Расчет!M2157,0)","v":0},{"$f":"IF(AND(Расчет!A2157<2000,Расчет!B2157<2000),Расчет!M2157,0)","v":0}]
[{"$f":"IF(OR(Расчет!A2158>=2000,Расчет!B2158>=2000),Расчет!G2158,0)","v":0},{"$f":"IF(AND(Расчет!A2158<2000,Расчет!B2158<2000),Расчет!G2158,0)","v":0},null,null,{"$f":"IF(OR(Расчет!A2158>=2000,Расчет!B2158>=2000),Расчет!J2158,0)","v":0},{"$f":"IF(AND(Расчет!A2158<2000,Расчет!B2158<2000),Расчет!J2158,0)","v":0},null,null,{"$f":"IF(OR(Расчет!A2158>=2000,Расчет!B2158>=2000),Расчет!M2158,0)","v":0},{"$f":"IF(AND(Расчет!A2158<2000,Расчет!B2158<2000),Расчет!M2158,0)","v":0}]
[{"$f":"IF(OR(Расчет!A2159>=2000,Расчет!B2159>=2000),Расчет!G2159,0)","v":0},{"$f":"IF(AND(Расчет!A2159<2000,Расчет!B2159<2000),Расчет!G2159,0)","v":0},null,null,{"$f":"IF(OR(Расчет!A2159>=2000,Расчет!B2159>=2000),Расчет!J2159,0)","v":0},{"$f":"IF(AND(Расчет!A2159<2000,Расчет!B2159<2000),Расчет!J2159,0)","v":0},null,null,{"$f":"IF(OR(Расчет!A2159>=2000,Расчет!B2159>=2000),Расчет!M2159,0)","v":0},{"$f":"IF(AND(Расчет!A2159<2000,Расчет!B2159<2000),Расчет!M2159,0)","v":0}]
[{"$f":"IF(OR(Расчет!A2160>=2000,Расчет!B2160>=2000),Расчет!G2160,0)","v":0},{"$f":"IF(AND(Расчет!A2160<2000,Расчет!B2160<2000),Расчет!G2160,0)","v":0},null,null,{"$f":"IF(OR(Расчет!A2160>=2000,Расчет!B2160>=2000),Расчет!J2160,0)","v":0},{"$f":"IF(AND(Расчет!A2160<2000,Расчет!B2160<2000),Расчет!J2160,0)","v":0},null,null,{"$f":"IF(OR(Расчет!A2160>=2000,Расчет!B2160>=2000),Расчет!M2160,0)","v":0},{"$f":"IF(AND(Расчет!A2160<2000,Расчет!B2160<2000),Расчет!M2160,0)","v":0}]
[{"$f":"IF(OR(Расчет!A2161>=2000,Расчет!B2161>=2000),Расчет!G2161,0)","v":0},{"$f":"IF(AND(Расчет!A2161<2000,Расчет!B2161<2000),Расчет!G2161,0)","v":0},null,null,{"$f":"IF(OR(Расчет!A2161>=2000,Расчет!B2161>=2000),Расчет!J2161,0)","v":0},{"$f":"IF(AND(Расчет!A2161<2000,Расчет!B2161<2000),Расчет!J2161,0)","v":0},null,null,{"$f":"IF(OR(Расчет!A2161>=2000,Расчет!B2161>=2000),Расчет!M2161,0)","v":0},{"$f":"IF(AND(Расчет!A2161<2000,Расчет!B2161<2000),Расчет!M2161,0)","v":0}]
[{"$f":"IF(OR(Расчет!A2162>=2000,Расчет!B2162>=2000),Расчет!G2162,0)","v":0},{"$f":"IF(AND(Расчет!A2162<2000,Расчет!B2162<2000),Расчет!G2162,0)","v":0},null,null,{"$f":"IF(OR(Расчет!A2162>=2000,Расчет!B2162>=2000),Расчет!J2162,0)","v":0},{"$f":"IF(AND(Расчет!A2162<2000,Расчет!B2162<2000),Расчет!J2162,0)","v":0},null,null,{"$f":"IF(OR(Расчет!A2162>=2000,Расчет!B2162>=2000),Расчет!M2162,0)","v":0},{"$f":"IF(AND(Расчет!A2162<2000,Расчет!B2162<2000),Расчет!M2162,0)","v":0}]
[{"$f":"IF(OR(Расчет!A2163>=2000,Расчет!B2163>=2000),Расчет!G2163,0)","v":0},{"$f":"IF(AND(Расчет!A2163<2000,Расчет!B2163<2000),Расчет!G2163,0)","v":0},null,null,{"$f":"IF(OR(Расчет!A2163>=2000,Расчет!B2163>=2000),Расчет!J2163,0)","v":0},{"$f":"IF(AND(Расчет!A2163<2000,Расчет!B2163<2000),Расчет!J2163,0)","v":0},null,null,{"$f":"IF(OR(Расчет!A2163>=2000,Расчет!B2163>=2000),Расчет!M2163,0)","v":0},{"$f":"IF(AND(Расчет!A2163<2000,Расчет!B2163<2000),Расчет!M2163,0)","v":0}]
[{"$f":"IF(OR(Расчет!A2164>=2000,Расчет!B2164>=2000),Расчет!G2164,0)","v":0},{"$f":"IF(AND(Расчет!A2164<2000,Расчет!B2164<2000),Расчет!G2164,0)","v":0},null,null,{"$f":"IF(OR(Расчет!A2164>=2000,Расчет!B2164>=2000),Расчет!J2164,0)","v":0},{"$f":"IF(AND(Расчет!A2164<2000,Расчет!B2164<2000),Расчет!J2164,0)","v":0},null,null,{"$f":"IF(OR(Расчет!A2164>=2000,Расчет!B2164>=2000),Расчет!M2164,0)","v":0},{"$f":"IF(AND(Расчет!A2164<2000,Расчет!B2164<2000),Расчет!M2164,0)","v":0}]
[{"$f":"IF(OR(Расчет!A2165>=2000,Расчет!B2165>=2000),Расчет!G2165,0)","v":0},{"$f":"IF(AND(Расчет!A2165<2000,Расчет!B2165<2000),Расчет!G2165,0)","v":0},null,null,{"$f":"IF(OR(Расчет!A2165>=2000,Расчет!B2165>=2000),Расчет!J2165,0)","v":0},{"$f":"IF(AND(Расчет!A2165<2000,Расчет!B2165<2000),Расчет!J2165,0)","v":0},null,null,{"$f":"IF(OR(Расчет!A2165>=2000,Расчет!B2165>=2000),Расчет!M2165,0)","v":0},{"$f":"IF(AND(Расчет!A2165<2000,Расчет!B2165<2000),Расчет!M2165,0)","v":0}]
[{"$f":"IF(OR(Расчет!A2166>=2000,Расчет!B2166>=2000),Расчет!G2166,0)","v":0},{"$f":"IF(AND(Расчет!A2166<2000,Расчет!B2166<2000),Расчет!G2166,0)","v":0},null,null,{"$f":"IF(OR(Расчет!A2166>=2000,Расчет!B2166>=2000),Расчет!J2166,0)","v":0},{"$f":"IF(AND(Расчет!A2166<2000,Расчет!B2166<2000),Расчет!J2166,0)","v":0},null,null,{"$f":"IF(OR(Расчет!A2166>=2000,Расчет!B2166>=2000),Расчет!M2166,0)","v":0},{"$f":"IF(AND(Расчет!A2166<2000,Расчет!B2166<2000),Расчет!M2166,0)","v":0}]
[{"$f":"IF(OR(Расчет!A2167>=2000,Расчет!B2167>=2000),Расчет!G2167,0)","v":0},{"$f":"IF(AND(Расчет!A2167<2000,Расчет!B2167<2000),Расчет!G2167,0)","v":0},null,null,{"$f":"IF(OR(Расчет!A2167>=2000,Расчет!B2167>=2000),Расчет!J2167,0)","v":0},{"$f":"IF(AND(Расчет!A2167<2000,Расчет!B2167<2000),Расчет!J2167,0)","v":0},null,null,{"$f":"IF(OR(Расчет!A2167>=2000,Расчет!B2167>=2000),Расчет!M2167,0)","v":0},{"$f":"IF(AND(Расчет!A2167<2000,Расчет!B2167<2000),Расчет!M2167,0)","v":0}]
[{"$f":"IF(OR(Расчет!A2168>=2000,Расчет!B2168>=2000),Расчет!G2168,0)","v":0},{"$f":"IF(AND(Расчет!A2168<2000,Расчет!B2168<2000),Расчет!G2168,0)","v":0},null,null,{"$f":"IF(OR(Расчет!A2168>=2000,Расчет!B2168>=2000),Расчет!J2168,0)","v":0},{"$f":"IF(AND(Расчет!A2168<2000,Расчет!B2168<2000),Расчет!J2168,0)","v":0},null,null,{"$f":"IF(OR(Расчет!A2168>=2000,Расчет!B2168>=2000),Расчет!M2168,0)","v":0},{"$f":"IF(AND(Расчет!A2168<2000,Расчет!B2168<2000),Расчет!M2168,0)","v":0}]
[{"$f":"IF(OR(Расчет!A2169>=2000,Расчет!B2169>=2000),Расчет!G2169,0)","v":0},{"$f":"IF(AND(Расчет!A2169<2000,Расчет!B2169<2000),Расчет!G2169,0)","v":0},null,null,{"$f":"IF(OR(Расчет!A2169>=2000,Расчет!B2169>=2000),Расчет!J2169,0)","v":0},{"$f":"IF(AND(Расчет!A2169<2000,Расчет!B2169<2000),Расчет!J2169,0)","v":0},null,null,{"$f":"IF(OR(Расчет!A2169>=2000,Расчет!B2169>=2000),Расчет!M2169,0)","v":0},{"$f":"IF(AND(Расчет!A2169<2000,Расчет!B2169<2000),Расчет!M2169,0)","v":0}]
[{"$f":"IF(OR(Расчет!A2170>=2000,Расчет!B2170>=2000),Расчет!G2170,0)","v":0},{"$f":"IF(AND(Расчет!A2170<2000,Расчет!B2170<2000),Расчет!G2170,0)","v":0},null,null,{"$f":"IF(OR(Расчет!A2170>=2000,Расчет!B2170>=2000),Расчет!J2170,0)","v":0},{"$f":"IF(AND(Расчет!A2170<2000,Расчет!B2170<2000),Расчет!J2170,0)","v":0},null,null,{"$f":"IF(OR(Расчет!A2170>=2000,Расчет!B2170>=2000),Расчет!M2170,0)","v":0},{"$f":"IF(AND(Расчет!A2170<2000,Расчет!B2170<2000),Расчет!M2170,0)","v":0}]
[{"$f":"IF(OR(Расчет!A2171>=2000,Расчет!B2171>=2000),Расчет!G2171,0)","v":0},{"$f":"IF(AND(Расчет!A2171<2000,Расчет!B2171<2000),Расчет!G2171,0)","v":0},null,null,{"$f":"IF(OR(Расчет!A2171>=2000,Расчет!B2171>=2000),Расчет!J2171,0)","v":0},{"$f":"IF(AND(Расчет!A2171<2000,Расчет!B2171<2000),Расчет!J2171,0)","v":0},null,null,{"$f":"IF(OR(Расчет!A2171>=2000,Расчет!B2171>=2000),Расчет!M2171,0)","v":0},{"$f":"IF(AND(Расчет!A2171<2000,Расчет!B2171<2000),Расчет!M2171,0)","v":0}]
[{"$f":"IF(OR(Расчет!A2172>=2000,Расчет!B2172>=2000),Расчет!G2172,0)","v":0},{"$f":"IF(AND(Расчет!A2172<2000,Расчет!B2172<2000),Расчет!G2172,0)","v":0},null,null,{"$f":"IF(OR(Расчет!A2172>=2000,Расчет!B2172>=2000),Расчет!J2172,0)","v":0},{"$f":"IF(AND(Расчет!A2172<2000,Расчет!B2172<2000),Расчет!J2172,0)","v":0},null,null,{"$f":"IF(OR(Расчет!A2172>=2000,Расчет!B2172>=2000),Расчет!M2172,0)","v":0},{"$f":"IF(AND(Расчет!A2172<2000,Расчет!B2172<2000),Расчет!M2172,0)","v":0}]
[{"$f":"IF(OR(Расчет!A2173>=2000,Расчет!B2173>=2000),Расчет!G2173,0)","v":0},{"$f":"IF(AND(Расчет!A2173<2000,Расчет!B2173<2000),Расчет!G2173,0)","v":0},null,null,{"$f":"IF(OR(Расчет!A2173>=2000,Расчет!B2173>=2000),Расчет!J2173,0)","v":0},{"$f":"IF(AND(Расчет!A2173<2000,Расчет!B2173<2000),Расчет!J2173,0)","v":0},null,null,{"$f":"IF(OR(Расчет!A2173>=2000,Расчет!B2173>=2000),Расчет!M2173,0)","v":0},{"$f":"IF(AND(Расчет!A2173<2000,Расчет!B2173<2000),Расчет!M2173,0)","v":0}]
[{"$f":"IF(OR(Расчет!A2174>=2000,Расчет!B2174>=2000),Расчет!G2174,0)","v":0},{"$f":"IF(AND(Расчет!A2174<2000,Расчет!B2174<2000),Расчет!G2174,0)","v":0},null,null,{"$f":"IF(OR(Расчет!A2174>=2000,Расчет!B2174>=2000),Расчет!J2174,0)","v":0},{"$f":"IF(AND(Расчет!A2174<2000,Расчет!B2174<2000),Расчет!J2174,0)","v":0},null,null,{"$f":"IF(OR(Расчет!A2174>=2000,Расчет!B2174>=2000),Расчет!M2174,0)","v":0},{"$f":"IF(AND(Расчет!A2174<2000,Расчет!B2174<2000),Расчет!M2174,0)","v":0}]
[{"$f":"IF(OR(Расчет!A2175>=2000,Расчет!B2175>=2000),Расчет!G2175,0)","v":0},{"$f":"IF(AND(Расчет!A2175<2000,Расчет!B2175<2000),Расчет!G2175,0)","v":0},null,null,{"$f":"IF(OR(Расчет!A2175>=2000,Расчет!B2175>=2000),Расчет!J2175,0)","v":0},{"$f":"IF(AND(Расчет!A2175<2000,Расчет!B2175<2000),Расчет!J2175,0)","v":0},null,null,{"$f":"IF(OR(Расчет!A2175>=2000,Расчет!B2175>=2000),Расчет!M2175,0)","v":0},{"$f":"IF(AND(Расчет!A2175<2000,Расчет!B2175<2000),Расчет!M2175,0)","v":0}]
[{"$f":"IF(OR(Расчет!A2176>=2000,Расчет!B2176>=2000),Расчет!G2176,0)","v":0},{"$f":"IF(AND(Расчет!A2176<2000,Расчет!B2176<2000),Расчет!G2176,0)","v":0},null,null,{"$f":"IF(OR(Расчет!A2176>=2000,Расчет!B2176>=2000),Расчет!J2176,0)","v":0},{"$f":"IF(AND(Расчет!A2176<2000,Расчет!B2176<2000),Расчет!J2176,0)","v":0},null,null,{"$f":"IF(OR(Расчет!A2176>=2000,Расчет!B2176>=2000),Расчет!M2176,0)","v":0},{"$f":"IF(AND(Расчет!A2176<2000,Расчет!B2176<2000),Расчет!M2176,0)","v":0}]
[{"$f":"IF(OR(Расчет!A2177>=2000,Расчет!B2177>=2000),Расчет!G2177,0)","v":0},{"$f":"IF(AND(Расчет!A2177<2000,Расчет!B2177<2000),Расчет!G2177,0)","v":0},null,null,{"$f":"IF(OR(Расчет!A2177>=2000,Расчет!B2177>=2000),Расчет!J2177,0)","v":0},{"$f":"IF(AND(Расчет!A2177<2000,Расчет!B2177<2000),Расчет!J2177,0)","v":0},null,null,{"$f":"IF(OR(Расчет!A2177>=2000,Расчет!B2177>=2000),Расчет!M2177,0)","v":0},{"$f":"IF(AND(Расчет!A2177<2000,Расчет!B2177<2000),Расчет!M2177,0)","v":0}]
[{"$f":"IF(OR(Расчет!A2178>=2000,Расчет!B2178>=2000),Расчет!G2178,0)","v":0},{"$f":"IF(AND(Расчет!A2178<2000,Расчет!B2178<2000),Расчет!G2178,0)","v":0},null,null,{"$f":"IF(OR(Расчет!A2178>=2000,Расчет!B2178>=2000),Расчет!J2178,0)","v":0},{"$f":"IF(AND(Расчет!A2178<2000,Расчет!B2178<2000),Расчет!J2178,0)","v":0},null,null,{"$f":"IF(OR(Расчет!A2178>=2000,Расчет!B2178>=2000),Расчет!M2178,0)","v":0},{"$f":"IF(AND(Расчет!A2178<2000,Расчет!B2178<2000),Расчет!M2178,0)","v":0}]
[{"$f":"IF(OR(Расчет!A2179>=2000,Расчет!B2179>=2000),Расчет!G2179,0)","v":0},{"$f":"IF(AND(Расчет!A2179<2000,Расчет!B2179<2000),Расчет!G2179,0)","v":0},null,null,{"$f":"IF(OR(Расчет!A2179>=2000,Расчет!B2179>=2000),Расчет!J2179,0)","v":0},{"$f":"IF(AND(Расчет!A2179<2000,Расчет!B2179<2000),Расчет!J2179,0)","v":0},null,null,{"$f":"IF(OR(Расчет!A2179>=2000,Расчет!B2179>=2000),Расчет!M2179,0)","v":0},{"$f":"IF(AND(Расчет!A2179<2000,Расчет!B2179<2000),Расчет!M2179,0)","v":0}]
[{"$f":"IF(OR(Расчет!A2180>=2000,Расчет!B2180>=2000),Расчет!G2180,0)","v":0},{"$f":"IF(AND(Расчет!A2180<2000,Расчет!B2180<2000),Расчет!G2180,0)","v":0},null,null,{"$f":"IF(OR(Расчет!A2180>=2000,Расчет!B2180>=2000),Расчет!J2180,0)","v":0},{"$f":"IF(AND(Расчет!A2180<2000,Расчет!B2180<2000),Расчет!J2180,0)","v":0},null,null,{"$f":"IF(OR(Расчет!A2180>=2000,Расчет!B2180>=2000),Расчет!M2180,0)","v":0},{"$f":"IF(AND(Расчет!A2180<2000,Расчет!B2180<2000),Расчет!M2180,0)","v":0}]
[{"$f":"IF(OR(Расчет!A2181>=2000,Расчет!B2181>=2000),Расчет!G2181,0)","v":0},{"$f":"IF(AND(Расчет!A2181<2000,Расчет!B2181<2000),Расчет!G2181,0)","v":0},null,null,{"$f":"IF(OR(Расчет!A2181>=2000,Расчет!B2181>=2000),Расчет!J2181,0)","v":0},{"$f":"IF(AND(Расчет!A2181<2000,Расчет!B2181<2000),Расчет!J2181,0)","v":0},null,null,{"$f":"IF(OR(Расчет!A2181>=2000,Расчет!B2181>=2000),Расчет!M2181,0)","v":0},{"$f":"IF(AND(Расчет!A2181<2000,Расчет!B2181<2000),Расчет!M2181,0)","v":0}]
[{"$f":"IF(OR(Расчет!A2182>=2000,Расчет!B2182>=2000),Расчет!G2182,0)","v":0},{"$f":"IF(AND(Расчет!A2182<2000,Расчет!B2182<2000),Расчет!G2182,0)","v":0},null,null,{"$f":"IF(OR(Расчет!A2182>=2000,Расчет!B2182>=2000),Расчет!J2182,0)","v":0},{"$f":"IF(AND(Расчет!A2182<2000,Расчет!B2182<2000),Расчет!J2182,0)","v":0},null,null,{"$f":"IF(OR(Расчет!A2182>=2000,Расчет!B2182>=2000),Расчет!M2182,0)","v":0},{"$f":"IF(AND(Расчет!A2182<2000,Расчет!B2182<2000),Расчет!M2182,0)","v":0}]
[{"$f":"IF(OR(Расчет!A2183>=2000,Расчет!B2183>=2000),Расчет!G2183,0)","v":0},{"$f":"IF(AND(Расчет!A2183<2000,Расчет!B2183<2000),Расчет!G2183,0)","v":0},null,null,{"$f":"IF(OR(Расчет!A2183>=2000,Расчет!B2183>=2000),Расчет!J2183,0)","v":0},{"$f":"IF(AND(Расчет!A2183<2000,Расчет!B2183<2000),Расчет!J2183,0)","v":0},null,null,{"$f":"IF(OR(Расчет!A2183>=2000,Расчет!B2183>=2000),Расчет!M2183,0)","v":0},{"$f":"IF(AND(Расчет!A2183<2000,Расчет!B2183<2000),Расчет!M2183,0)","v":0}]
[{"$f":"IF(OR(Расчет!A2184>=2000,Расчет!B2184>=2000),Расчет!G2184,0)","v":0},{"$f":"IF(AND(Расчет!A2184<2000,Расчет!B2184<2000),Расчет!G2184,0)","v":0},null,null,{"$f":"IF(OR(Расчет!A2184>=2000,Расчет!B2184>=2000),Расчет!J2184,0)","v":0},{"$f":"IF(AND(Расчет!A2184<2000,Расчет!B2184<2000),Расчет!J2184,0)","v":0},null,null,{"$f":"IF(OR(Расчет!A2184>=2000,Расчет!B2184>=2000),Расчет!M2184,0)","v":0},{"$f":"IF(AND(Расчет!A2184<2000,Расчет!B2184<2000),Расчет!M2184,0)","v":0}]
[{"$f":"IF(OR(Расчет!A2185>=2000,Расчет!B2185>=2000),Расчет!G2185,0)","v":0},{"$f":"IF(AND(Расчет!A2185<2000,Расчет!B2185<2000),Расчет!G2185,0)","v":0},null,null,{"$f":"IF(OR(Расчет!A2185>=2000,Расчет!B2185>=2000),Расчет!J2185,0)","v":0},{"$f":"IF(AND(Расчет!A2185<2000,Расчет!B2185<2000),Расчет!J2185,0)","v":0},null,null,{"$f":"IF(OR(Расчет!A2185>=2000,Расчет!B2185>=2000),Расчет!M2185,0)","v":0},{"$f":"IF(AND(Расчет!A2185<2000,Расчет!B2185<2000),Расчет!M2185,0)","v":0}]
[{"$f":"IF(OR(Расчет!A2186>=2000,Расчет!B2186>=2000),Расчет!G2186,0)","v":0},{"$f":"IF(AND(Расчет!A2186<2000,Расчет!B2186<2000),Расчет!G2186,0)","v":0},null,null,{"$f":"IF(OR(Расчет!A2186>=2000,Расчет!B2186>=2000),Расчет!J2186,0)","v":0},{"$f":"IF(AND(Расчет!A2186<2000,Расчет!B2186<2000),Расчет!J2186,0)","v":0},null,null,{"$f":"IF(OR(Расчет!A2186>=2000,Расчет!B2186>=2000),Расчет!M2186,0)","v":0},{"$f":"IF(AND(Расчет!A2186<2000,Расчет!B2186<2000),Расчет!M2186,0)","v":0}]
[{"$f":"IF(OR(Расчет!A2187>=2000,Расчет!B2187>=2000),Расчет!G2187,0)","v":0},{"$f":"IF(AND(Расчет!A2187<2000,Расчет!B2187<2000),Расчет!G2187,0)","v":0},null,null,{"$f":"IF(OR(Расчет!A2187>=2000,Расчет!B2187>=2000),Расчет!J2187,0)","v":0},{"$f":"IF(AND(Расчет!A2187<2000,Расчет!B2187<2000),Расчет!J2187,0)","v":0},null,null,{"$f":"IF(OR(Расчет!A2187>=2000,Расчет!B2187>=2000),Расчет!M2187,0)","v":0},{"$f":"IF(AND(Расчет!A2187<2000,Расчет!B2187<2000),Расчет!M2187,0)","v":0}]
[{"$f":"IF(OR(Расчет!A2188>=2000,Расчет!B2188>=2000),Расчет!G2188,0)","v":0},{"$f":"IF(AND(Расчет!A2188<2000,Расчет!B2188<2000),Расчет!G2188,0)","v":0},null,null,{"$f":"IF(OR(Расчет!A2188>=2000,Расчет!B2188>=2000),Расчет!J2188,0)","v":0},{"$f":"IF(AND(Расчет!A2188<2000,Расчет!B2188<2000),Расчет!J2188,0)","v":0},null,null,{"$f":"IF(OR(Расчет!A2188>=2000,Расчет!B2188>=2000),Расчет!M2188,0)","v":0},{"$f":"IF(AND(Расчет!A2188<2000,Расчет!B2188<2000),Расчет!M2188,0)","v":0}]
[{"$f":"IF(OR(Расчет!A2189>=2000,Расчет!B2189>=2000),Расчет!G2189,0)","v":0},{"$f":"IF(AND(Расчет!A2189<2000,Расчет!B2189<2000),Расчет!G2189,0)","v":0},null,null,{"$f":"IF(OR(Расчет!A2189>=2000,Расчет!B2189>=2000),Расчет!J2189,0)","v":0},{"$f":"IF(AND(Расчет!A2189<2000,Расчет!B2189<2000),Расчет!J2189,0)","v":0},null,null,{"$f":"IF(OR(Расчет!A2189>=2000,Расчет!B2189>=2000),Расчет!M2189,0)","v":0},{"$f":"IF(AND(Расчет!A2189<2000,Расчет!B2189<2000),Расчет!M2189,0)","v":0}]
[{"$f":"IF(OR(Расчет!A2190>=2000,Расчет!B2190>=2000),Расчет!G2190,0)","v":0},{"$f":"IF(AND(Расчет!A2190<2000,Расчет!B2190<2000),Расчет!G2190,0)","v":0},null,null,{"$f":"IF(OR(Расчет!A2190>=2000,Расчет!B2190>=2000),Расчет!J2190,0)","v":0},{"$f":"IF(AND(Расчет!A2190<2000,Расчет!B2190<2000),Расчет!J2190,0)","v":0},null,null,{"$f":"IF(OR(Расчет!A2190>=2000,Расчет!B2190>=2000),Расчет!M2190,0)","v":0},{"$f":"IF(AND(Расчет!A2190<2000,Расчет!B2190<2000),Расчет!M2190,0)","v":0}]
[{"$f":"IF(OR(Расчет!A2191>=2000,Расчет!B2191>=2000),Расчет!G2191,0)","v":0},{"$f":"IF(AND(Расчет!A2191<2000,Расчет!B2191<2000),Расчет!G2191,0)","v":0},null,null,{"$f":"IF(OR(Расчет!A2191>=2000,Расчет!B2191>=2000),Расчет!J2191,0)","v":0},{"$f":"IF(AND(Расчет!A2191<2000,Расчет!B2191<2000),Расчет!J2191,0)","v":0},null,null,{"$f":"IF(OR(Расчет!A2191>=2000,Расчет!B2191>=2000),Расчет!M2191,0)","v":0},{"$f":"IF(AND(Расчет!A2191<2000,Расчет!B2191<2000),Расчет!M2191,0)","v":0}]
[{"$f":"IF(OR(Расчет!A2192>=2000,Расчет!B2192>=2000),Расчет!G2192,0)","v":0},{"$f":"IF(AND(Расчет!A2192<2000,Расчет!B2192<2000),Расчет!G2192,0)","v":0},null,null,{"$f":"IF(OR(Расчет!A2192>=2000,Расчет!B2192>=2000),Расчет!J2192,0)","v":0},{"$f":"IF(AND(Расчет!A2192<2000,Расчет!B2192<2000),Расчет!J2192,0)","v":0},null,null,{"$f":"IF(OR(Расчет!A2192>=2000,Расчет!B2192>=2000),Расчет!M2192,0)","v":0},{"$f":"IF(AND(Расчет!A2192<2000,Расчет!B2192<2000),Расчет!M2192,0)","v":0}]
[{"$f":"IF(OR(Расчет!A2193>=2000,Расчет!B2193>=2000),Расчет!G2193,0)","v":0},{"$f":"IF(AND(Расчет!A2193<2000,Расчет!B2193<2000),Расчет!G2193,0)","v":0},null,null,{"$f":"IF(OR(Расчет!A2193>=2000,Расчет!B2193>=2000),Расчет!J2193,0)","v":0},{"$f":"IF(AND(Расчет!A2193<2000,Расчет!B2193<2000),Расчет!J2193,0)","v":0},null,null,{"$f":"IF(OR(Расчет!A2193>=2000,Расчет!B2193>=2000),Расчет!M2193,0)","v":0},{"$f":"IF(AND(Расчет!A2193<2000,Расчет!B2193<2000),Расчет!M2193,0)","v":0}]
[{"$f":"IF(OR(Расчет!A2194>=2000,Расчет!B2194>=2000),Расчет!G2194,0)","v":0},{"$f":"IF(AND(Расчет!A2194<2000,Расчет!B2194<2000),Расчет!G2194,0)","v":0},null,null,{"$f":"IF(OR(Расчет!A2194>=2000,Расчет!B2194>=2000),Расчет!J2194,0)","v":0},{"$f":"IF(AND(Расчет!A2194<2000,Расчет!B2194<2000),Расчет!J2194,0)","v":0},null,null,{"$f":"IF(OR(Расчет!A2194>=2000,Расчет!B2194>=2000),Расчет!M2194,0)","v":0},{"$f":"IF(AND(Расчет!A2194<2000,Расчет!B2194<2000),Расчет!M2194,0)","v":0}]
[{"$f":"IF(OR(Расчет!A2195>=2000,Расчет!B2195>=2000),Расчет!G2195,0)","v":0},{"$f":"IF(AND(Расчет!A2195<2000,Расчет!B2195<2000),Расчет!G2195,0)","v":0},null,null,{"$f":"IF(OR(Расчет!A2195>=2000,Расчет!B2195>=2000),Расчет!J2195,0)","v":0},{"$f":"IF(AND(Расчет!A2195<2000,Расчет!B2195<2000),Расчет!J2195,0)","v":0},null,null,{"$f":"IF(OR(Расчет!A2195>=2000,Расчет!B2195>=2000),Расчет!M2195,0)","v":0},{"$f":"IF(AND(Расчет!A2195<2000,Расчет!B2195<2000),Расчет!M2195,0)","v":0}]
[{"$f":"IF(OR(Расчет!A2196>=2000,Расчет!B2196>=2000),Расчет!G2196,0)","v":0},{"$f":"IF(AND(Расчет!A2196<2000,Расчет!B2196<2000),Расчет!G2196,0)","v":0},null,null,{"$f":"IF(OR(Расчет!A2196>=2000,Расчет!B2196>=2000),Расчет!J2196,0)","v":0},{"$f":"IF(AND(Расчет!A2196<2000,Расчет!B2196<2000),Расчет!J2196,0)","v":0},null,null,{"$f":"IF(OR(Расчет!A2196>=2000,Расчет!B2196>=2000),Расчет!M2196,0)","v":0},{"$f":"IF(AND(Расчет!A2196<2000,Расчет!B2196<2000),Расчет!M2196,0)","v":0}]
[{"$f":"IF(OR(Расчет!A2197>=2000,Расчет!B2197>=2000),Расчет!G2197,0)","v":0},{"$f":"IF(AND(Расчет!A2197<2000,Расчет!B2197<2000),Расчет!G2197,0)","v":0},null,null,{"$f":"IF(OR(Расчет!A2197>=2000,Расчет!B2197>=2000),Расчет!J2197,0)","v":0},{"$f":"IF(AND(Расчет!A2197<2000,Расчет!B2197<2000),Расчет!J2197,0)","v":0},null,null,{"$f":"IF(OR(Расчет!A2197>=2000,Расчет!B2197>=2000),Расчет!M2197,0)","v":0},{"$f":"IF(AND(Расчет!A2197<2000,Расчет!B2197<2000),Расчет!M2197,0)","v":0}]
[{"$f":"IF(OR(Расчет!A2198>=2000,Расчет!B2198>=2000),Расчет!G2198,0)","v":0},{"$f":"IF(AND(Расчет!A2198<2000,Расчет!B2198<2000),Расчет!G2198,0)","v":0},null,null,{"$f":"IF(OR(Расчет!A2198>=2000,Расчет!B2198>=2000),Расчет!J2198,0)","v":0},{"$f":"IF(AND(Расчет!A2198<2000,Расчет!B2198<2000),Расчет!J2198,0)","v":0},null,null,{"$f":"IF(OR(Расчет!A2198>=2000,Расчет!B2198>=2000),Расчет!M2198,0)","v":0},{"$f":"IF(AND(Расчет!A2198<2000,Расчет!B2198<2000),Расчет!M2198,0)","v":0}]
[{"$f":"IF(OR(Расчет!A2199>=2000,Расчет!B2199>=2000),Расчет!G2199,0)","v":0},{"$f":"IF(AND(Расчет!A2199<2000,Расчет!B2199<2000),Расчет!G2199,0)","v":0},null,null,{"$f":"IF(OR(Расчет!A2199>=2000,Расчет!B2199>=2000),Расчет!J2199,0)","v":0},{"$f":"IF(AND(Расчет!A2199<2000,Расчет!B2199<2000),Расчет!J2199,0)","v":0},null,null,{"$f":"IF(OR(Расчет!A2199>=2000,Расчет!B2199>=2000),Расчет!M2199,0)","v":0},{"$f":"IF(AND(Расчет!A2199<2000,Расчет!B2199<2000),Расчет!M2199,0)","v":0}]
[{"$f":"IF(OR(Расчет!A2200>=2000,Расчет!B2200>=2000),Расчет!G2200,0)","v":0},{"$f":"IF(AND(Расчет!A2200<2000,Расчет!B2200<2000),Расчет!G2200,0)","v":0},null,null,{"$f":"IF(OR(Расчет!A2200>=2000,Расчет!B2200>=2000),Расчет!J2200,0)","v":0},{"$f":"IF(AND(Расчет!A2200<2000,Расчет!B2200<2000),Расчет!J2200,0)","v":0},null,null,{"$f":"IF(OR(Расчет!A2200>=2000,Расчет!B2200>=2000),Расчет!M2200,0)","v":0},{"$f":"IF(AND(Расчет!A2200<2000,Расчет!B2200<2000),Расчет!M2200,0)","v":0}]
[{"$f":"IF(OR(Расчет!A2201>=2000,Расчет!B2201>=2000),Расчет!G2201,0)","v":0},{"$f":"IF(AND(Расчет!A2201<2000,Расчет!B2201<2000),Расчет!G2201,0)","v":0},null,null,{"$f":"IF(OR(Расчет!A2201>=2000,Расчет!B2201>=2000),Расчет!J2201,0)","v":0},{"$f":"IF(AND(Расчет!A2201<2000,Расчет!B2201<2000),Расчет!J2201,0)","v":0},null,null,{"$f":"IF(OR(Расчет!A2201>=2000,Расчет!B2201>=2000),Расчет!M2201,0)","v":0},{"$f":"IF(AND(Расчет!A2201<2000,Расчет!B2201<2000),Расчет!M2201,0)","v":0}]
[{"$f":"IF(OR(Расчет!A2202>=2000,Расчет!B2202>=2000),Расчет!G2202,0)","v":0},{"$f":"IF(AND(Расчет!A2202<2000,Расчет!B2202<2000),Расчет!G2202,0)","v":0},null,null,{"$f":"IF(OR(Расчет!A2202>=2000,Расчет!B2202>=2000),Расчет!J2202,0)","v":0},{"$f":"IF(AND(Расчет!A2202<2000,Расчет!B2202<2000),Расчет!J2202,0)","v":0},null,null,{"$f":"IF(OR(Расчет!A2202>=2000,Расчет!B2202>=2000),Расчет!M2202,0)","v":0},{"$f":"IF(AND(Расчет!A2202<2000,Расчет!B2202<2000),Расчет!M2202,0)","v":0}]
[{"$f":"IF(OR(Расчет!A2203>=2000,Расчет!B2203>=2000),Расчет!G2203,0)","v":0},{"$f":"IF(AND(Расчет!A2203<2000,Расчет!B2203<2000),Расчет!G2203,0)","v":0},null,null,{"$f":"IF(OR(Расчет!A2203>=2000,Расчет!B2203>=2000),Расчет!J2203,0)","v":0},{"$f":"IF(AND(Расчет!A2203<2000,Расчет!B2203<2000),Расчет!J2203,0)","v":0},null,null,{"$f":"IF(OR(Расчет!A2203>=2000,Расчет!B2203>=2000),Расчет!M2203,0)","v":0},{"$f":"IF(AND(Расчет!A2203<2000,Расчет!B2203<2000),Расчет!M2203,0)","v":0}]
[{"$f":"IF(OR(Расчет!A2204>=2000,Расчет!B2204>=2000),Расчет!G2204,0)","v":0},{"$f":"IF(AND(Расчет!A2204<2000,Расчет!B2204<2000),Расчет!G2204,0)","v":0},null,null,{"$f":"IF(OR(Расчет!A2204>=2000,Расчет!B2204>=2000),Расчет!J2204,0)","v":0},{"$f":"IF(AND(Расчет!A2204<2000,Расчет!B2204<2000),Расчет!J2204,0)","v":0},null,null,{"$f":"IF(OR(Расчет!A2204>=2000,Расчет!B2204>=2000),Расчет!M2204,0)","v":0},{"$f":"IF(AND(Расчет!A2204<2000,Расчет!B2204<2000),Расчет!M2204,0)","v":0}]
[{"$f":"IF(OR(Расчет!A2205>=2000,Расчет!B2205>=2000),Расчет!G2205,0)","v":0},{"$f":"IF(AND(Расчет!A2205<2000,Расчет!B2205<2000),Расчет!G2205,0)","v":0},null,null,{"$f":"IF(OR(Расчет!A2205>=2000,Расчет!B2205>=2000),Расчет!J2205,0)","v":0},{"$f":"IF(AND(Расчет!A2205<2000,Расчет!B2205<2000),Расчет!J2205,0)","v":0},null,null,{"$f":"IF(OR(Расчет!A2205>=2000,Расчет!B2205>=2000),Расчет!M2205,0)","v":0},{"$f":"IF(AND(Расчет!A2205<2000,Расчет!B2205<2000),Расчет!M2205,0)","v":0}]
[{"$f":"IF(OR(Расчет!A2206>=2000,Расчет!B2206>=2000),Расчет!G2206,0)","v":0},{"$f":"IF(AND(Расчет!A2206<2000,Расчет!B2206<2000),Расчет!G2206,0)","v":0},null,null,{"$f":"IF(OR(Расчет!A2206>=2000,Расчет!B2206>=2000),Расчет!J2206,0)","v":0},{"$f":"IF(AND(Расчет!A2206<2000,Расчет!B2206<2000),Расчет!J2206,0)","v":0},null,null,{"$f":"IF(OR(Расчет!A2206>=2000,Расчет!B2206>=2000),Расчет!M2206,0)","v":0},{"$f":"IF(AND(Расчет!A2206<2000,Расчет!B2206<2000),Расчет!M2206,0)","v":0}]
[{"$f":"IF(OR(Расчет!A2207>=2000,Расчет!B2207>=2000),Расчет!G2207,0)","v":0},{"$f":"IF(AND(Расчет!A2207<2000,Расчет!B2207<2000),Расчет!G2207,0)","v":0},null,null,{"$f":"IF(OR(Расчет!A2207>=2000,Расчет!B2207>=2000),Расчет!J2207,0)","v":0},{"$f":"IF(AND(Расчет!A2207<2000,Расчет!B2207<2000),Расчет!J2207,0)","v":0},null,null,{"$f":"IF(OR(Расчет!A2207>=2000,Расчет!B2207>=2000),Расчет!M2207,0)","v":0},{"$f":"IF(AND(Расчет!A2207<2000,Расчет!B2207<2000),Расчет!M2207,0)","v":0}]
[{"$f":"IF(OR(Расчет!A2208>=2000,Расчет!B2208>=2000),Расчет!G2208,0)","v":0},{"$f":"IF(AND(Расчет!A2208<2000,Расчет!B2208<2000),Расчет!G2208,0)","v":0},null,null,{"$f":"IF(OR(Расчет!A2208>=2000,Расчет!B2208>=2000),Расчет!J2208,0)","v":0},{"$f":"IF(AND(Расчет!A2208<2000,Расчет!B2208<2000),Расчет!J2208,0)","v":0},null,null,{"$f":"IF(OR(Расчет!A2208>=2000,Расчет!B2208>=2000),Расчет!M2208,0)","v":0},{"$f":"IF(AND(Расчет!A2208<2000,Расчет!B2208<2000),Расчет!M2208,0)","v":0}]
[{"$f":"IF(OR(Расчет!A2209>=2000,Расчет!B2209>=2000),Расчет!G2209,0)","v":0},{"$f":"IF(AND(Расчет!A2209<2000,Расчет!B2209<2000),Расчет!G2209,0)","v":0},null,null,{"$f":"IF(OR(Расчет!A2209>=2000,Расчет!B2209>=2000),Расчет!J2209,0)","v":0},{"$f":"IF(AND(Расчет!A2209<2000,Расчет!B2209<2000),Расчет!J2209,0)","v":0},null,null,{"$f":"IF(OR(Расчет!A2209>=2000,Расчет!B2209>=2000),Расчет!M2209,0)","v":0},{"$f":"IF(AND(Расчет!A2209<2000,Расчет!B2209<2000),Расчет!M2209,0)","v":0}]
[{"$f":"IF(OR(Расчет!A2210>=2000,Расчет!B2210>=2000),Расчет!G2210,0)","v":0},{"$f":"IF(AND(Расчет!A2210<2000,Расчет!B2210<2000),Расчет!G2210,0)","v":0},null,null,{"$f":"IF(OR(Расчет!A2210>=2000,Расчет!B2210>=2000),Расчет!J2210,0)","v":0},{"$f":"IF(AND(Расчет!A2210<2000,Расчет!B2210<2000),Расчет!J2210,0)","v":0},null,null,{"$f":"IF(OR(Расчет!A2210>=2000,Расчет!B2210>=2000),Расчет!M2210,0)","v":0},{"$f":"IF(AND(Расчет!A2210<2000,Расчет!B2210<2000),Расчет!M2210,0)","v":0}]
[{"$f":"IF(OR(Расчет!A2211>=2000,Расчет!B2211>=2000),Расчет!G2211,0)","v":0},{"$f":"IF(AND(Расчет!A2211<2000,Расчет!B2211<2000),Расчет!G2211,0)","v":0},null,null,{"$f":"IF(OR(Расчет!A2211>=2000,Расчет!B2211>=2000),Расчет!J2211,0)","v":0},{"$f":"IF(AND(Расчет!A2211<2000,Расчет!B2211<2000),Расчет!J2211,0)","v":0},null,null,{"$f":"IF(OR(Расчет!A2211>=2000,Расчет!B2211>=2000),Расчет!M2211,0)","v":0},{"$f":"IF(AND(Расчет!A2211<2000,Расчет!B2211<2000),Расчет!M2211,0)","v":0}]
[{"$f":"IF(OR(Расчет!A2212>=2000,Расчет!B2212>=2000),Расчет!G2212,0)","v":0},{"$f":"IF(AND(Расчет!A2212<2000,Расчет!B2212<2000),Расчет!G2212,0)","v":0},null,null,{"$f":"IF(OR(Расчет!A2212>=2000,Расчет!B2212>=2000),Расчет!J2212,0)","v":0},{"$f":"IF(AND(Расчет!A2212<2000,Расчет!B2212<2000),Расчет!J2212,0)","v":0},null,null,{"$f":"IF(OR(Расчет!A2212>=2000,Расчет!B2212>=2000),Расчет!M2212,0)","v":0},{"$f":"IF(AND(Расчет!A2212<2000,Расчет!B2212<2000),Расчет!M2212,0)","v":0}]
[{"$f":"IF(OR(Расчет!A2213>=2000,Расчет!B2213>=2000),Расчет!G2213,0)","v":0},{"$f":"IF(AND(Расчет!A2213<2000,Расчет!B2213<2000),Расчет!G2213,0)","v":0},null,null,{"$f":"IF(OR(Расчет!A2213>=2000,Расчет!B2213>=2000),Расчет!J2213,0)","v":0},{"$f":"IF(AND(Расчет!A2213<2000,Расчет!B2213<2000),Расчет!J2213,0)","v":0},null,null,{"$f":"IF(OR(Расчет!A2213>=2000,Расчет!B2213>=2000),Расчет!M2213,0)","v":0},{"$f":"IF(AND(Расчет!A2213<2000,Расчет!B2213<2000),Расчет!M2213,0)","v":0}]
[{"$f":"IF(OR(Расчет!A2214>=2000,Расчет!B2214>=2000),Расчет!G2214,0)","v":0},{"$f":"IF(AND(Расчет!A2214<2000,Расчет!B2214<2000),Расчет!G2214,0)","v":0},null,null,{"$f":"IF(OR(Расчет!A2214>=2000,Расчет!B2214>=2000),Расчет!J2214,0)","v":0},{"$f":"IF(AND(Расчет!A2214<2000,Расчет!B2214<2000),Расчет!J2214,0)","v":0},null,null,{"$f":"IF(OR(Расчет!A2214>=2000,Расчет!B2214>=2000),Расчет!M2214,0)","v":0},{"$f":"IF(AND(Расчет!A2214<2000,Расчет!B2214<2000),Расчет!M2214,0)","v":0}]
[{"$f":"IF(OR(Расчет!A2215>=2000,Расчет!B2215>=2000),Расчет!G2215,0)","v":0},{"$f":"IF(AND(Расчет!A2215<2000,Расчет!B2215<2000),Расчет!G2215,0)","v":0},null,null,{"$f":"IF(OR(Расчет!A2215>=2000,Расчет!B2215>=2000),Расчет!J2215,0)","v":0},{"$f":"IF(AND(Расчет!A2215<2000,Расчет!B2215<2000),Расчет!J2215,0)","v":0},null,null,{"$f":"IF(OR(Расчет!A2215>=2000,Расчет!B2215>=2000),Расчет!M2215,0)","v":0},{"$f":"IF(AND(Расчет!A2215<2000,Расчет!B2215<2000),Расчет!M2215,0)","v":0}]
[{"$f":"IF(OR(Расчет!A2216>=2000,Расчет!B2216>=2000),Расчет!G2216,0)","v":0},{"$f":"IF(AND(Расчет!A2216<2000,Расчет!B2216<2000),Расчет!G2216,0)","v":0},null,null,{"$f":"IF(OR(Расчет!A2216>=2000,Расчет!B2216>=2000),Расчет!J2216,0)","v":0},{"$f":"IF(AND(Расчет!A2216<2000,Расчет!B2216<2000),Расчет!J2216,0)","v":0},null,null,{"$f":"IF(OR(Расчет!A2216>=2000,Расчет!B2216>=2000),Расчет!M2216,0)","v":0},{"$f":"IF(AND(Расчет!A2216<2000,Расчет!B2216<2000),Расчет!M2216,0)","v":0}]
[{"$f":"IF(OR(Расчет!A2217>=2000,Расчет!B2217>=2000),Расчет!G2217,0)","v":0},{"$f":"IF(AND(Расчет!A2217<2000,Расчет!B2217<2000),Расчет!G2217,0)","v":0},null,null,{"$f":"IF(OR(Расчет!A2217>=2000,Расчет!B2217>=2000),Расчет!J2217,0)","v":0},{"$f":"IF(AND(Расчет!A2217<2000,Расчет!B2217<2000),Расчет!J2217,0)","v":0},null,null,{"$f":"IF(OR(Расчет!A2217>=2000,Расчет!B2217>=2000),Расчет!M2217,0)","v":0},{"$f":"IF(AND(Расчет!A2217<2000,Расчет!B2217<2000),Расчет!M2217,0)","v":0}]
[{"$f":"IF(OR(Расчет!A2218>=2000,Расчет!B2218>=2000),Расчет!G2218,0)","v":0},{"$f":"IF(AND(Расчет!A2218<2000,Расчет!B2218<2000),Расчет!G2218,0)","v":0},null,null,{"$f":"IF(OR(Расчет!A2218>=2000,Расчет!B2218>=2000),Расчет!J2218,0)","v":0},{"$f":"IF(AND(Расчет!A2218<2000,Расчет!B2218<2000),Расчет!J2218,0)","v":0},null,null,{"$f":"IF(OR(Расчет!A2218>=2000,Расчет!B2218>=2000),Расчет!M2218,0)","v":0},{"$f":"IF(AND(Расчет!A2218<2000,Расчет!B2218<2000),Расчет!M2218,0)","v":0}]
[{"$f":"IF(OR(Расчет!A2219>=2000,Расчет!B2219>=2000),Расчет!G2219,0)","v":0},{"$f":"IF(AND(Расчет!A2219<2000,Расчет!B2219<2000),Расчет!G2219,0)","v":0},null,null,{"$f":"IF(OR(Расчет!A2219>=2000,Расчет!B2219>=2000),Расчет!J2219,0)","v":0},{"$f":"IF(AND(Расчет!A2219<2000,Расчет!B2219<2000),Расчет!J2219,0)","v":0},null,null,{"$f":"IF(OR(Расчет!A2219>=2000,Расчет!B2219>=2000),Расчет!M2219,0)","v":0},{"$f":"IF(AND(Расчет!A2219<2000,Расчет!B2219<2000),Расчет!M2219,0)","v":0}]
[{"$f":"IF(OR(Расчет!A2220>=2000,Расчет!B2220>=2000),Расчет!G2220,0)","v":0},{"$f":"IF(AND(Расчет!A2220<2000,Расчет!B2220<2000),Расчет!G2220,0)","v":0},null,null,{"$f":"IF(OR(Расчет!A2220>=2000,Расчет!B2220>=2000),Расчет!J2220,0)","v":0},{"$f":"IF(AND(Расчет!A2220<2000,Расчет!B2220<2000),Расчет!J2220,0)","v":0},null,null,{"$f":"IF(OR(Расчет!A2220>=2000,Расчет!B2220>=2000),Расчет!M2220,0)","v":0},{"$f":"IF(AND(Расчет!A2220<2000,Расчет!B2220<2000),Расчет!M2220,0)","v":0}]
[{"$f":"IF(OR(Расчет!A2221>=2000,Расчет!B2221>=2000),Расчет!G2221,0)","v":0},{"$f":"IF(AND(Расчет!A2221<2000,Расчет!B2221<2000),Расчет!G2221,0)","v":0},null,null,{"$f":"IF(OR(Расчет!A2221>=2000,Расчет!B2221>=2000),Расчет!J2221,0)","v":0},{"$f":"IF(AND(Расчет!A2221<2000,Расчет!B2221<2000),Расчет!J2221,0)","v":0},null,null,{"$f":"IF(OR(Расчет!A2221>=2000,Расчет!B2221>=2000),Расчет!M2221,0)","v":0},{"$f":"IF(AND(Расчет!A2221<2000,Расчет!B2221<2000),Расчет!M2221,0)","v":0}]
[{"$f":"IF(OR(Расчет!A2222>=2000,Расчет!B2222>=2000),Расчет!G2222,0)","v":0},{"$f":"IF(AND(Расчет!A2222<2000,Расчет!B2222<2000),Расчет!G2222,0)","v":0},null,null,{"$f":"IF(OR(Расчет!A2222>=2000,Расчет!B2222>=2000),Расчет!J2222,0)","v":0},{"$f":"IF(AND(Расчет!A2222<2000,Расчет!B2222<2000),Расчет!J2222,0)","v":0},null,null,{"$f":"IF(OR(Расчет!A2222>=2000,Расчет!B2222>=2000),Расчет!M2222,0)","v":0},{"$f":"IF(AND(Расчет!A2222<2000,Расчет!B2222<2000),Расчет!M2222,0)","v":0}]
[{"$f":"IF(OR(Расчет!A2223>=2000,Расчет!B2223>=2000),Расчет!G2223,0)","v":0},{"$f":"IF(AND(Расчет!A2223<2000,Расчет!B2223<2000),Расчет!G2223,0)","v":0},null,null,{"$f":"IF(OR(Расчет!A2223>=2000,Расчет!B2223>=2000),Расчет!J2223,0)","v":0},{"$f":"IF(AND(Расчет!A2223<2000,Расчет!B2223<2000),Расчет!J2223,0)","v":0},null,null,{"$f":"IF(OR(Расчет!A2223>=2000,Расчет!B2223>=2000),Расчет!M2223,0)","v":0},{"$f":"IF(AND(Расчет!A2223<2000,Расчет!B2223<2000),Расчет!M2223,0)","v":0}]
[{"$f":"IF(OR(Расчет!A2224>=2000,Расчет!B2224>=2000),Расчет!G2224,0)","v":0},{"$f":"IF(AND(Расчет!A2224<2000,Расчет!B2224<2000),Расчет!G2224,0)","v":0},null,null,{"$f":"IF(OR(Расчет!A2224>=2000,Расчет!B2224>=2000),Расчет!J2224,0)","v":0},{"$f":"IF(AND(Расчет!A2224<2000,Расчет!B2224<2000),Расчет!J2224,0)","v":0},null,null,{"$f":"IF(OR(Расчет!A2224>=2000,Расчет!B2224>=2000),Расчет!M2224,0)","v":0},{"$f":"IF(AND(Расчет!A2224<2000,Расчет!B2224<2000),Расчет!M2224,0)","v":0}]
[{"$f":"IF(OR(Расчет!A2225>=2000,Расчет!B2225>=2000),Расчет!G2225,0)","v":0},{"$f":"IF(AND(Расчет!A2225<2000,Расчет!B2225<2000),Расчет!G2225,0)","v":0},null,null,{"$f":"IF(OR(Расчет!A2225>=2000,Расчет!B2225>=2000),Расчет!J2225,0)","v":0},{"$f":"IF(AND(Расчет!A2225<2000,Расчет!B2225<2000),Расчет!J2225,0)","v":0},null,null,{"$f":"IF(OR(Расчет!A2225>=2000,Расчет!B2225>=2000),Расчет!M2225,0)","v":0},{"$f":"IF(AND(Расчет!A2225<2000,Расчет!B2225<2000),Расчет!M2225,0)","v":0}]
[{"$f":"IF(OR(Расчет!A2226>=2000,Расчет!B2226>=2000),Расчет!G2226,0)","v":0},{"$f":"IF(AND(Расчет!A2226<2000,Расчет!B2226<2000),Расчет!G2226,0)","v":0},null,null,{"$f":"IF(OR(Расчет!A2226>=2000,Расчет!B2226>=2000),Расчет!J2226,0)","v":0},{"$f":"IF(AND(Расчет!A2226<2000,Расчет!B2226<2000),Расчет!J2226,0)","v":0},null,null,{"$f":"IF(OR(Расчет!A2226>=2000,Расчет!B2226>=2000),Расчет!M2226,0)","v":0},{"$f":"IF(AND(Расчет!A2226<2000,Расчет!B2226<2000),Расчет!M2226,0)","v":0}]
[{"$f":"IF(OR(Расчет!A2227>=2000,Расчет!B2227>=2000),Расчет!G2227,0)","v":0},{"$f":"IF(AND(Расчет!A2227<2000,Расчет!B2227<2000),Расчет!G2227,0)","v":0},null,null,{"$f":"IF(OR(Расчет!A2227>=2000,Расчет!B2227>=2000),Расчет!J2227,0)","v":0},{"$f":"IF(AND(Расчет!A2227<2000,Расчет!B2227<2000),Расчет!J2227,0)","v":0},null,null,{"$f":"IF(OR(Расчет!A2227>=2000,Расчет!B2227>=2000),Расчет!M2227,0)","v":0},{"$f":"IF(AND(Расчет!A2227<2000,Расчет!B2227<2000),Расчет!M2227,0)","v":0}]
[{"$f":"IF(OR(Расчет!A2228>=2000,Расчет!B2228>=2000),Расчет!G2228,0)","v":0},{"$f":"IF(AND(Расчет!A2228<2000,Расчет!B2228<2000),Расчет!G2228,0)","v":0},null,null,{"$f":"IF(OR(Расчет!A2228>=2000,Расчет!B2228>=2000),Расчет!J2228,0)","v":0},{"$f":"IF(AND(Расчет!A2228<2000,Расчет!B2228<2000),Расчет!J2228,0)","v":0},null,null,{"$f":"IF(OR(Расчет!A2228>=2000,Расчет!B2228>=2000),Расчет!M2228,0)","v":0},{"$f":"IF(AND(Расчет!A2228<2000,Расчет!B2228<2000),Расчет!M2228,0)","v":0}]
[{"$f":"IF(OR(Расчет!A2229>=2000,Расчет!B2229>=2000),Расчет!G2229,0)","v":0},{"$f":"IF(AND(Расчет!A2229<2000,Расчет!B2229<2000),Расчет!G2229,0)","v":0},null,null,{"$f":"IF(OR(Расчет!A2229>=2000,Расчет!B2229>=2000),Расчет!J2229,0)","v":0},{"$f":"IF(AND(Расчет!A2229<2000,Расчет!B2229<2000),Расчет!J2229,0)","v":0},null,null,{"$f":"IF(OR(Расчет!A2229>=2000,Расчет!B2229>=2000),Расчет!M2229,0)","v":0},{"$f":"IF(AND(Расчет!A2229<2000,Расчет!B2229<2000),Расчет!M2229,0)","v":0}]
[{"$f":"IF(OR(Расчет!A2230>=2000,Расчет!B2230>=2000),Расчет!G2230,0)","v":0},{"$f":"IF(AND(Расчет!A2230<2000,Расчет!B2230<2000),Расчет!G2230,0)","v":0},null,null,{"$f":"IF(OR(Расчет!A2230>=2000,Расчет!B2230>=2000),Расчет!J2230,0)","v":0},{"$f":"IF(AND(Расчет!A2230<2000,Расчет!B2230<2000),Расчет!J2230,0)","v":0},null,null,{"$f":"IF(OR(Расчет!A2230>=2000,Расчет!B2230>=2000),Расчет!M2230,0)","v":0},{"$f":"IF(AND(Расчет!A2230<2000,Расчет!B2230<2000),Расчет!M2230,0)","v":0}]
[{"$f":"IF(OR(Расчет!A2231>=2000,Расчет!B2231>=2000),Расчет!G2231,0)","v":0},{"$f":"IF(AND(Расчет!A2231<2000,Расчет!B2231<2000),Расчет!G2231,0)","v":0},null,null,{"$f":"IF(OR(Расчет!A2231>=2000,Расчет!B2231>=2000),Расчет!J2231,0)","v":0},{"$f":"IF(AND(Расчет!A2231<2000,Расчет!B2231<2000),Расчет!J2231,0)","v":0},null,null,{"$f":"IF(OR(Расчет!A2231>=2000,Расчет!B2231>=2000),Расчет!M2231,0)","v":0},{"$f":"IF(AND(Расчет!A2231<2000,Расчет!B2231<2000),Расчет!M2231,0)","v":0}]
[{"$f":"IF(OR(Расчет!A2232>=2000,Расчет!B2232>=2000),Расчет!G2232,0)","v":0},{"$f":"IF(AND(Расчет!A2232<2000,Расчет!B2232<2000),Расчет!G2232,0)","v":0},null,null,{"$f":"IF(OR(Расчет!A2232>=2000,Расчет!B2232>=2000),Расчет!J2232,0)","v":0},{"$f":"IF(AND(Расчет!A2232<2000,Расчет!B2232<2000),Расчет!J2232,0)","v":0},null,null,{"$f":"IF(OR(Расчет!A2232>=2000,Расчет!B2232>=2000),Расчет!M2232,0)","v":0},{"$f":"IF(AND(Расчет!A2232<2000,Расчет!B2232<2000),Расчет!M2232,0)","v":0}]
[{"$f":"IF(OR(Расчет!A2233>=2000,Расчет!B2233>=2000),Расчет!G2233,0)","v":0},{"$f":"IF(AND(Расчет!A2233<2000,Расчет!B2233<2000),Расчет!G2233,0)","v":0},null,null,{"$f":"IF(OR(Расчет!A2233>=2000,Расчет!B2233>=2000),Расчет!J2233,0)","v":0},{"$f":"IF(AND(Расчет!A2233<2000,Расчет!B2233<2000),Расчет!J2233,0)","v":0},null,null,{"$f":"IF(OR(Расчет!A2233>=2000,Расчет!B2233>=2000),Расчет!M2233,0)","v":0},{"$f":"IF(AND(Расчет!A2233<2000,Расчет!B2233<2000),Расчет!M2233,0)","v":0}]
[{"$f":"IF(OR(Расчет!A2234>=2000,Расчет!B2234>=2000),Расчет!G2234,0)","v":0},{"$f":"IF(AND(Расчет!A2234<2000,Расчет!B2234<2000),Расчет!G2234,0)","v":0},null,null,{"$f":"IF(OR(Расчет!A2234>=2000,Расчет!B2234>=2000),Расчет!J2234,0)","v":0},{"$f":"IF(AND(Расчет!A2234<2000,Расчет!B2234<2000),Расчет!J2234,0)","v":0},null,null,{"$f":"IF(OR(Расчет!A2234>=2000,Расчет!B2234>=2000),Расчет!M2234,0)","v":0},{"$f":"IF(AND(Расчет!A2234<2000,Расчет!B2234<2000),Расчет!M2234,0)","v":0}]
[{"$f":"IF(OR(Расчет!A2235>=2000,Расчет!B2235>=2000),Расчет!G2235,0)","v":0},{"$f":"IF(AND(Расчет!A2235<2000,Расчет!B2235<2000),Расчет!G2235,0)","v":0},null,null,{"$f":"IF(OR(Расчет!A2235>=2000,Расчет!B2235>=2000),Расчет!J2235,0)","v":0},{"$f":"IF(AND(Расчет!A2235<2000,Расчет!B2235<2000),Расчет!J2235,0)","v":0},null,null,{"$f":"IF(OR(Расчет!A2235>=2000,Расчет!B2235>=2000),Расчет!M2235,0)","v":0},{"$f":"IF(AND(Расчет!A2235<2000,Расчет!B2235<2000),Расчет!M2235,0)","v":0}]
[{"$f":"IF(OR(Расчет!A2236>=2000,Расчет!B2236>=2000),Расчет!G2236,0)","v":0},{"$f":"IF(AND(Расчет!A2236<2000,Расчет!B2236<2000),Расчет!G2236,0)","v":0},null,null,{"$f":"IF(OR(Расчет!A2236>=2000,Расчет!B2236>=2000),Расчет!J2236,0)","v":0},{"$f":"IF(AND(Расчет!A2236<2000,Расчет!B2236<2000),Расчет!J2236,0)","v":0},null,null,{"$f":"IF(OR(Расчет!A2236>=2000,Расчет!B2236>=2000),Расчет!M2236,0)","v":0},{"$f":"IF(AND(Расчет!A2236<2000,Расчет!B2236<2000),Расчет!M2236,0)","v":0}]
[{"$f":"IF(OR(Расчет!A2237>=2000,Расчет!B2237>=2000),Расчет!G2237,0)","v":0},{"$f":"IF(AND(Расчет!A2237<2000,Расчет!B2237<2000),Расчет!G2237,0)","v":0},null,null,{"$f":"IF(OR(Расчет!A2237>=2000,Расчет!B2237>=2000),Расчет!J2237,0)","v":0},{"$f":"IF(AND(Расчет!A2237<2000,Расчет!B2237<2000),Расчет!J2237,0)","v":0},null,null,{"$f":"IF(OR(Расчет!A2237>=2000,Расчет!B2237>=2000),Расчет!M2237,0)","v":0},{"$f":"IF(AND(Расчет!A2237<2000,Расчет!B2237<2000),Расчет!M2237,0)","v":0}]
[{"$f":"IF(OR(Расчет!A2238>=2000,Расчет!B2238>=2000),Расчет!G2238,0)","v":0},{"$f":"IF(AND(Расчет!A2238<2000,Расчет!B2238<2000),Расчет!G2238,0)","v":0},null,null,{"$f":"IF(OR(Расчет!A2238>=2000,Расчет!B2238>=2000),Расчет!J2238,0)","v":0},{"$f":"IF(AND(Расчет!A2238<2000,Расчет!B2238<2000),Расчет!J2238,0)","v":0},null,null,{"$f":"IF(OR(Расчет!A2238>=2000,Расчет!B2238>=2000),Расчет!M2238,0)","v":0},{"$f":"IF(AND(Расчет!A2238<2000,Расчет!B2238<2000),Расчет!M2238,0)","v":0}]
[{"$f":"IF(OR(Расчет!A2239>=2000,Расчет!B2239>=2000),Расчет!G2239,0)","v":0},{"$f":"IF(AND(Расчет!A2239<2000,Расчет!B2239<2000),Расчет!G2239,0)","v":0},null,null,{"$f":"IF(OR(Расчет!A2239>=2000,Расчет!B2239>=2000),Расчет!J2239,0)","v":0},{"$f":"IF(AND(Расчет!A2239<2000,Расчет!B2239<2000),Расчет!J2239,0)","v":0},null,null,{"$f":"IF(OR(Расчет!A2239>=2000,Расчет!B2239>=2000),Расчет!M2239,0)","v":0},{"$f":"IF(AND(Расчет!A2239<2000,Расчет!B2239<2000),Расчет!M2239,0)","v":0}]
[{"$f":"IF(OR(Расчет!A2240>=2000,Расчет!B2240>=2000),Расчет!G2240,0)","v":0},{"$f":"IF(AND(Расчет!A2240<2000,Расчет!B2240<2000),Расчет!G2240,0)","v":0},null,null,{"$f":"IF(OR(Расчет!A2240>=2000,Расчет!B2240>=2000),Расчет!J2240,0)","v":0},{"$f":"IF(AND(Расчет!A2240<2000,Расчет!B2240<2000),Расчет!J2240,0)","v":0},null,null,{"$f":"IF(OR(Расчет!A2240>=2000,Расчет!B2240>=2000),Расчет!M2240,0)","v":0},{"$f":"IF(AND(Расчет!A2240<2000,Расчет!B2240<2000),Расчет!M2240,0)","v":0}]
[{"$f":"IF(OR(Расчет!A2241>=2000,Расчет!B2241>=2000),Расчет!G2241,0)","v":0},{"$f":"IF(AND(Расчет!A2241<2000,Расчет!B2241<2000),Расчет!G2241,0)","v":0},null,null,{"$f":"IF(OR(Расчет!A2241>=2000,Расчет!B2241>=2000),Расчет!J2241,0)","v":0},{"$f":"IF(AND(Расчет!A2241<2000,Расчет!B2241<2000),Расчет!J2241,0)","v":0},null,null,{"$f":"IF(OR(Расчет!A2241>=2000,Расчет!B2241>=2000),Расчет!M2241,0)","v":0},{"$f":"IF(AND(Расчет!A2241<2000,Расчет!B2241<2000),Расчет!M2241,0)","v":0}]
[{"$f":"IF(OR(Расчет!A2242>=2000,Расчет!B2242>=2000),Расчет!G2242,0)","v":0},{"$f":"IF(AND(Расчет!A2242<2000,Расчет!B2242<2000),Расчет!G2242,0)","v":0},null,null,{"$f":"IF(OR(Расчет!A2242>=2000,Расчет!B2242>=2000),Расчет!J2242,0)","v":0},{"$f":"IF(AND(Расчет!A2242<2000,Расчет!B2242<2000),Расчет!J2242,0)","v":0},null,null,{"$f":"IF(OR(Расчет!A2242>=2000,Расчет!B2242>=2000),Расчет!M2242,0)","v":0},{"$f":"IF(AND(Расчет!A2242<2000,Расчет!B2242<2000),Расчет!M2242,0)","v":0}]
[{"$f":"IF(OR(Расчет!A2243>=2000,Расчет!B2243>=2000),Расчет!G2243,0)","v":0},{"$f":"IF(AND(Расчет!A2243<2000,Расчет!B2243<2000),Расчет!G2243,0)","v":0},null,null,{"$f":"IF(OR(Расчет!A2243>=2000,Расчет!B2243>=2000),Расчет!J2243,0)","v":0},{"$f":"IF(AND(Расчет!A2243<2000,Расчет!B2243<2000),Расчет!J2243,0)","v":0},null,null,{"$f":"IF(OR(Расчет!A2243>=2000,Расчет!B2243>=2000),Расчет!M2243,0)","v":0},{"$f":"IF(AND(Расчет!A2243<2000,Расчет!B2243<2000),Расчет!M2243,0)","v":0}]
[{"$f":"IF(OR(Расчет!A2244>=2000,Расчет!B2244>=2000),Расчет!G2244,0)","v":0},{"$f":"IF(AND(Расчет!A2244<2000,Расчет!B2244<2000),Расчет!G2244,0)","v":0},null,null,{"$f":"IF(OR(Расчет!A2244>=2000,Расчет!B2244>=2000),Расчет!J2244,0)","v":0},{"$f":"IF(AND(Расчет!A2244<2000,Расчет!B2244<2000),Расчет!J2244,0)","v":0},null,null,{"$f":"IF(OR(Расчет!A2244>=2000,Расчет!B2244>=2000),Расчет!M2244,0)","v":0},{"$f":"IF(AND(Расчет!A2244<2000,Расчет!B2244<2000),Расчет!M2244,0)","v":0}]
[{"$f":"IF(OR(Расчет!A2245>=2000,Расчет!B2245>=2000),Расчет!G2245,0)","v":0},{"$f":"IF(AND(Расчет!A2245<2000,Расчет!B2245<2000),Расчет!G2245,0)","v":0},null,null,{"$f":"IF(OR(Расчет!A2245>=2000,Расчет!B2245>=2000),Расчет!J2245,0)","v":0},{"$f":"IF(AND(Расчет!A2245<2000,Расчет!B2245<2000),Расчет!J2245,0)","v":0},null,null,{"$f":"IF(OR(Расчет!A2245>=2000,Расчет!B2245>=2000),Расчет!M2245,0)","v":0},{"$f":"IF(AND(Расчет!A2245<2000,Расчет!B2245<2000),Расчет!M2245,0)","v":0}]
[{"$f":"IF(OR(Расчет!A2246>=2000,Расчет!B2246>=2000),Расчет!G2246,0)","v":0},{"$f":"IF(AND(Расчет!A2246<2000,Расчет!B2246<2000),Расчет!G2246,0)","v":0},null,null,{"$f":"IF(OR(Расчет!A2246>=2000,Расчет!B2246>=2000),Расчет!J2246,0)","v":0},{"$f":"IF(AND(Расчет!A2246<2000,Расчет!B2246<2000),Расчет!J2246,0)","v":0},null,null,{"$f":"IF(OR(Расчет!A2246>=2000,Расчет!B2246>=2000),Расчет!M2246,0)","v":0},{"$f":"IF(AND(Расчет!A2246<2000,Расчет!B2246<2000),Расчет!M2246,0)","v":0}]
[{"$f":"IF(OR(Расчет!A2247>=2000,Расчет!B2247>=2000),Расчет!G2247,0)","v":0},{"$f":"IF(AND(Расчет!A2247<2000,Расчет!B2247<2000),Расчет!G2247,0)","v":0},null,null,{"$f":"IF(OR(Расчет!A2247>=2000,Расчет!B2247>=2000),Расчет!J2247,0)","v":0},{"$f":"IF(AND(Расчет!A2247<2000,Расчет!B2247<2000),Расчет!J2247,0)","v":0},null,null,{"$f":"IF(OR(Расчет!A2247>=2000,Расчет!B2247>=2000),Расчет!M2247,0)","v":0},{"$f":"IF(AND(Расчет!A2247<2000,Расчет!B2247<2000),Расчет!M2247,0)","v":0}]
[{"$f":"IF(OR(Расчет!A2248>=2000,Расчет!B2248>=2000),Расчет!G2248,0)","v":0},{"$f":"IF(AND(Расчет!A2248<2000,Расчет!B2248<2000),Расчет!G2248,0)","v":0},null,null,{"$f":"IF(OR(Расчет!A2248>=2000,Расчет!B2248>=2000),Расчет!J2248,0)","v":0},{"$f":"IF(AND(Расчет!A2248<2000,Расчет!B2248<2000),Расчет!J2248,0)","v":0},null,null,{"$f":"IF(OR(Расчет!A2248>=2000,Расчет!B2248>=2000),Расчет!M2248,0)","v":0},{"$f":"IF(AND(Расчет!A2248<2000,Расчет!B2248<2000),Расчет!M2248,0)","v":0}]
[{"$f":"IF(OR(Расчет!A2249>=2000,Расчет!B2249>=2000),Расчет!G2249,0)","v":0},{"$f":"IF(AND(Расчет!A2249<2000,Расчет!B2249<2000),Расчет!G2249,0)","v":0},null,null,{"$f":"IF(OR(Расчет!A2249>=2000,Расчет!B2249>=2000),Расчет!J2249,0)","v":0},{"$f":"IF(AND(Расчет!A2249<2000,Расчет!B2249<2000),Расчет!J2249,0)","v":0},null,null,{"$f":"IF(OR(Расчет!A2249>=2000,Расчет!B2249>=2000),Расчет!M2249,0)","v":0},{"$f":"IF(AND(Расчет!A2249<2000,Расчет!B2249<2000),Расчет!M2249,0)","v":0}]
[{"$f":"IF(OR(Расчет!A2250>=2000,Расчет!B2250>=2000),Расчет!G2250,0)","v":0},{"$f":"IF(AND(Расчет!A2250<2000,Расчет!B2250<2000),Расчет!G2250,0)","v":0},null,null,{"$f":"IF(OR(Расчет!A2250>=2000,Расчет!B2250>=2000),Расчет!J2250,0)","v":0},{"$f":"IF(AND(Расчет!A2250<2000,Расчет!B2250<2000),Расчет!J2250,0)","v":0},null,null,{"$f":"IF(OR(Расчет!A2250>=2000,Расчет!B2250>=2000),Расчет!M2250,0)","v":0},{"$f":"IF(AND(Расчет!A2250<2000,Расчет!B2250<2000),Расчет!M2250,0)","v":0}]
[{"$f":"IF(OR(Расчет!A2251>=2000,Расчет!B2251>=2000),Расчет!G2251,0)","v":0},{"$f":"IF(AND(Расчет!A2251<2000,Расчет!B2251<2000),Расчет!G2251,0)","v":0},null,null,{"$f":"IF(OR(Расчет!A2251>=2000,Расчет!B2251>=2000),Расчет!J2251,0)","v":0},{"$f":"IF(AND(Расчет!A2251<2000,Расчет!B2251<2000),Расчет!J2251,0)","v":0},null,null,{"$f":"IF(OR(Расчет!A2251>=2000,Расчет!B2251>=2000),Расчет!M2251,0)","v":0},{"$f":"IF(AND(Расчет!A2251<2000,Расчет!B2251<2000),Расчет!M2251,0)","v":0}]
[{"$f":"IF(OR(Расчет!A2252>=2000,Расчет!B2252>=2000),Расчет!G2252,0)","v":0},{"$f":"IF(AND(Расчет!A2252<2000,Расчет!B2252<2000),Расчет!G2252,0)","v":0},null,null,{"$f":"IF(OR(Расчет!A2252>=2000,Расчет!B2252>=2000),Расчет!J2252,0)","v":0},{"$f":"IF(AND(Расчет!A2252<2000,Расчет!B2252<2000),Расчет!J2252,0)","v":0},null,null,{"$f":"IF(OR(Расчет!A2252>=2000,Расчет!B2252>=2000),Расчет!M2252,0)","v":0},{"$f":"IF(AND(Расчет!A2252<2000,Расчет!B2252<2000),Расчет!M2252,0)","v":0}]
[{"$f":"IF(OR(Расчет!A2253>=2000,Расчет!B2253>=2000),Расчет!G2253,0)","v":0},{"$f":"IF(AND(Расчет!A2253<2000,Расчет!B2253<2000),Расчет!G2253,0)","v":0},null,null,{"$f":"IF(OR(Расчет!A2253>=2000,Расчет!B2253>=2000),Расчет!J2253,0)","v":0},{"$f":"IF(AND(Расчет!A2253<2000,Расчет!B2253<2000),Расчет!J2253,0)","v":0},null,null,{"$f":"IF(OR(Расчет!A2253>=2000,Расчет!B2253>=2000),Расчет!M2253,0)","v":0},{"$f":"IF(AND(Расчет!A2253<2000,Расчет!B2253<2000),Расчет!M2253,0)","v":0}]
[{"$f":"IF(OR(Расчет!A2254>=2000,Расчет!B2254>=2000),Расчет!G2254,0)","v":0},{"$f":"IF(AND(Расчет!A2254<2000,Расчет!B2254<2000),Расчет!G2254,0)","v":0},null,null,{"$f":"IF(OR(Расчет!A2254>=2000,Расчет!B2254>=2000),Расчет!J2254,0)","v":0},{"$f":"IF(AND(Расчет!A2254<2000,Расчет!B2254<2000),Расчет!J2254,0)","v":0},null,null,{"$f":"IF(OR(Расчет!A2254>=2000,Расчет!B2254>=2000),Расчет!M2254,0)","v":0},{"$f":"IF(AND(Расчет!A2254<2000,Расчет!B2254<2000),Расчет!M2254,0)","v":0}]
[{"$f":"IF(OR(Расчет!A2255>=2000,Расчет!B2255>=2000),Расчет!G2255,0)","v":0},{"$f":"IF(AND(Расчет!A2255<2000,Расчет!B2255<2000),Расчет!G2255,0)","v":0},null,null,{"$f":"IF(OR(Расчет!A2255>=2000,Расчет!B2255>=2000),Расчет!J2255,0)","v":0},{"$f":"IF(AND(Расчет!A2255<2000,Расчет!B2255<2000),Расчет!J2255,0)","v":0},null,null,{"$f":"IF(OR(Расчет!A2255>=2000,Расчет!B2255>=2000),Расчет!M2255,0)","v":0},{"$f":"IF(AND(Расчет!A2255<2000,Расчет!B2255<2000),Расчет!M2255,0)","v":0}]
[{"$f":"IF(OR(Расчет!A2256>=2000,Расчет!B2256>=2000),Расчет!G2256,0)","v":0},{"$f":"IF(AND(Расчет!A2256<2000,Расчет!B2256<2000),Расчет!G2256,0)","v":0},null,null,{"$f":"IF(OR(Расчет!A2256>=2000,Расчет!B2256>=2000),Расчет!J2256,0)","v":0},{"$f":"IF(AND(Расчет!A2256<2000,Расчет!B2256<2000),Расчет!J2256,0)","v":0},null,null,{"$f":"IF(OR(Расчет!A2256>=2000,Расчет!B2256>=2000),Расчет!M2256,0)","v":0},{"$f":"IF(AND(Расчет!A2256<2000,Расчет!B2256<2000),Расчет!M2256,0)","v":0}]
[{"$f":"IF(OR(Расчет!A2257>=2000,Расчет!B2257>=2000),Расчет!G2257,0)","v":0},{"$f":"IF(AND(Расчет!A2257<2000,Расчет!B2257<2000),Расчет!G2257,0)","v":0},null,null,{"$f":"IF(OR(Расчет!A2257>=2000,Расчет!B2257>=2000),Расчет!J2257,0)","v":0},{"$f":"IF(AND(Расчет!A2257<2000,Расчет!B2257<2000),Расчет!J2257,0)","v":0},null,null,{"$f":"IF(OR(Расчет!A2257>=2000,Расчет!B2257>=2000),Расчет!M2257,0)","v":0},{"$f":"IF(AND(Расчет!A2257<2000,Расчет!B2257<2000),Расчет!M2257,0)","v":0}]
[{"$f":"IF(OR(Расчет!A2258>=2000,Расчет!B2258>=2000),Расчет!G2258,0)","v":0},{"$f":"IF(AND(Расчет!A2258<2000,Расчет!B2258<2000),Расчет!G2258,0)","v":0},null,null,{"$f":"IF(OR(Расчет!A2258>=2000,Расчет!B2258>=2000),Расчет!J2258,0)","v":0},{"$f":"IF(AND(Расчет!A2258<2000,Расчет!B2258<2000),Расчет!J2258,0)","v":0},null,null,{"$f":"IF(OR(Расчет!A2258>=2000,Расчет!B2258>=2000),Расчет!M2258,0)","v":0},{"$f":"IF(AND(Расчет!A2258<2000,Расчет!B2258<2000),Расчет!M2258,0)","v":0}]
[{"$f":"IF(OR(Расчет!A2259>=2000,Расчет!B2259>=2000),Расчет!G2259,0)","v":0},{"$f":"IF(AND(Расчет!A2259<2000,Расчет!B2259<2000),Расчет!G2259,0)","v":0},null,null,{"$f":"IF(OR(Расчет!A2259>=2000,Расчет!B2259>=2000),Расчет!J2259,0)","v":0},{"$f":"IF(AND(Расчет!A2259<2000,Расчет!B2259<2000),Расчет!J2259,0)","v":0},null,null,{"$f":"IF(OR(Расчет!A2259>=2000,Расчет!B2259>=2000),Расчет!M2259,0)","v":0},{"$f":"IF(AND(Расчет!A2259<2000,Расчет!B2259<2000),Расчет!M2259,0)","v":0}]
[{"$f":"IF(OR(Расчет!A2260>=2000,Расчет!B2260>=2000),Расчет!G2260,0)","v":0},{"$f":"IF(AND(Расчет!A2260<2000,Расчет!B2260<2000),Расчет!G2260,0)","v":0},null,null,{"$f":"IF(OR(Расчет!A2260>=2000,Расчет!B2260>=2000),Расчет!J2260,0)","v":0},{"$f":"IF(AND(Расчет!A2260<2000,Расчет!B2260<2000),Расчет!J2260,0)","v":0},null,null,{"$f":"IF(OR(Расчет!A2260>=2000,Расчет!B2260>=2000),Расчет!M2260,0)","v":0},{"$f":"IF(AND(Расчет!A2260<2000,Расчет!B2260<2000),Расчет!M2260,0)","v":0}]
[{"$f":"IF(OR(Расчет!A2261>=2000,Расчет!B2261>=2000),Расчет!G2261,0)","v":0},{"$f":"IF(AND(Расчет!A2261<2000,Расчет!B2261<2000),Расчет!G2261,0)","v":0},null,null,{"$f":"IF(OR(Расчет!A2261>=2000,Расчет!B2261>=2000),Расчет!J2261,0)","v":0},{"$f":"IF(AND(Расчет!A2261<2000,Расчет!B2261<2000),Расчет!J2261,0)","v":0},null,null,{"$f":"IF(OR(Расчет!A2261>=2000,Расчет!B2261>=2000),Расчет!M2261,0)","v":0},{"$f":"IF(AND(Расчет!A2261<2000,Расчет!B2261<2000),Расчет!M2261,0)","v":0}]
[{"$f":"IF(OR(Расчет!A2262>=2000,Расчет!B2262>=2000),Расчет!G2262,0)","v":0},{"$f":"IF(AND(Расчет!A2262<2000,Расчет!B2262<2000),Расчет!G2262,0)","v":0},null,null,{"$f":"IF(OR(Расчет!A2262>=2000,Расчет!B2262>=2000),Расчет!J2262,0)","v":0},{"$f":"IF(AND(Расчет!A2262<2000,Расчет!B2262<2000),Расчет!J2262,0)","v":0},null,null,{"$f":"IF(OR(Расчет!A2262>=2000,Расчет!B2262>=2000),Расчет!M2262,0)","v":0},{"$f":"IF(AND(Расчет!A2262<2000,Расчет!B2262<2000),Расчет!M2262,0)","v":0}]
[{"$f":"IF(OR(Расчет!A2263>=2000,Расчет!B2263>=2000),Расчет!G2263,0)","v":0},{"$f":"IF(AND(Расчет!A2263<2000,Расчет!B2263<2000),Расчет!G2263,0)","v":0},null,null,{"$f":"IF(OR(Расчет!A2263>=2000,Расчет!B2263>=2000),Расчет!J2263,0)","v":0},{"$f":"IF(AND(Расчет!A2263<2000,Расчет!B2263<2000),Расчет!J2263,0)","v":0},null,null,{"$f":"IF(OR(Расчет!A2263>=2000,Расчет!B2263>=2000),Расчет!M2263,0)","v":0},{"$f":"IF(AND(Расчет!A2263<2000,Расчет!B2263<2000),Расчет!M2263,0)","v":0}]
[{"$f":"IF(OR(Расчет!A2264>=2000,Расчет!B2264>=2000),Расчет!G2264,0)","v":0},{"$f":"IF(AND(Расчет!A2264<2000,Расчет!B2264<2000),Расчет!G2264,0)","v":0},null,null,{"$f":"IF(OR(Расчет!A2264>=2000,Расчет!B2264>=2000),Расчет!J2264,0)","v":0},{"$f":"IF(AND(Расчет!A2264<2000,Расчет!B2264<2000),Расчет!J2264,0)","v":0},null,null,{"$f":"IF(OR(Расчет!A2264>=2000,Расчет!B2264>=2000),Расчет!M2264,0)","v":0},{"$f":"IF(AND(Расчет!A2264<2000,Расчет!B2264<2000),Расчет!M2264,0)","v":0}]
[{"$f":"IF(OR(Расчет!A2265>=2000,Расчет!B2265>=2000),Расчет!G2265,0)","v":0},{"$f":"IF(AND(Расчет!A2265<2000,Расчет!B2265<2000),Расчет!G2265,0)","v":0},null,null,{"$f":"IF(OR(Расчет!A2265>=2000,Расчет!B2265>=2000),Расчет!J2265,0)","v":0},{"$f":"IF(AND(Расчет!A2265<2000,Расчет!B2265<2000),Расчет!J2265,0)","v":0},null,null,{"$f":"IF(OR(Расчет!A2265>=2000,Расчет!B2265>=2000),Расчет!M2265,0)","v":0},{"$f":"IF(AND(Расчет!A2265<2000,Расчет!B2265<2000),Расчет!M2265,0)","v":0}]
[{"$f":"IF(OR(Расчет!A2266>=2000,Расчет!B2266>=2000),Расчет!G2266,0)","v":0},{"$f":"IF(AND(Расчет!A2266<2000,Расчет!B2266<2000),Расчет!G2266,0)","v":0},null,null,{"$f":"IF(OR(Расчет!A2266>=2000,Расчет!B2266>=2000),Расчет!J2266,0)","v":0},{"$f":"IF(AND(Расчет!A2266<2000,Расчет!B2266<2000),Расчет!J2266,0)","v":0},null,null,{"$f":"IF(OR(Расчет!A2266>=2000,Расчет!B2266>=2000),Расчет!M2266,0)","v":0},{"$f":"IF(AND(Расчет!A2266<2000,Расчет!B2266<2000),Расчет!M2266,0)","v":0}]
[{"$f":"IF(OR(Расчет!A2267>=2000,Расчет!B2267>=2000),Расчет!G2267,0)","v":0},{"$f":"IF(AND(Расчет!A2267<2000,Расчет!B2267<2000),Расчет!G2267,0)","v":0},null,null,{"$f":"IF(OR(Расчет!A2267>=2000,Расчет!B2267>=2000),Расчет!J2267,0)","v":0},{"$f":"IF(AND(Расчет!A2267<2000,Расчет!B2267<2000),Расчет!J2267,0)","v":0},null,null,{"$f":"IF(OR(Расчет!A2267>=2000,Расчет!B2267>=2000),Расчет!M2267,0)","v":0},{"$f":"IF(AND(Расчет!A2267<2000,Расчет!B2267<2000),Расчет!M2267,0)","v":0}]
[{"$f":"IF(OR(Расчет!A2268>=2000,Расчет!B2268>=2000),Расчет!G2268,0)","v":0},{"$f":"IF(AND(Расчет!A2268<2000,Расчет!B2268<2000),Расчет!G2268,0)","v":0},null,null,{"$f":"IF(OR(Расчет!A2268>=2000,Расчет!B2268>=2000),Расчет!J2268,0)","v":0},{"$f":"IF(AND(Расчет!A2268<2000,Расчет!B2268<2000),Расчет!J2268,0)","v":0},null,null,{"$f":"IF(OR(Расчет!A2268>=2000,Расчет!B2268>=2000),Расчет!M2268,0)","v":0},{"$f":"IF(AND(Расчет!A2268<2000,Расчет!B2268<2000),Расчет!M2268,0)","v":0}]
[{"$f":"IF(OR(Расчет!A2269>=2000,Расчет!B2269>=2000),Расчет!G2269,0)","v":0},{"$f":"IF(AND(Расчет!A2269<2000,Расчет!B2269<2000),Расчет!G2269,0)","v":0},null,null,{"$f":"IF(OR(Расчет!A2269>=2000,Расчет!B2269>=2000),Расчет!J2269,0)","v":0},{"$f":"IF(AND(Расчет!A2269<2000,Расчет!B2269<2000),Расчет!J2269,0)","v":0},null,null,{"$f":"IF(OR(Расчет!A2269>=2000,Расчет!B2269>=2000),Расчет!M2269,0)","v":0},{"$f":"IF(AND(Расчет!A2269<2000,Расчет!B2269<2000),Расчет!M2269,0)","v":0}]
[{"$f":"IF(OR(Расчет!A2270>=2000,Расчет!B2270>=2000),Расчет!G2270,0)","v":0},{"$f":"IF(AND(Расчет!A2270<2000,Расчет!B2270<2000),Расчет!G2270,0)","v":0},null,null,{"$f":"IF(OR(Расчет!A2270>=2000,Расчет!B2270>=2000),Расчет!J2270,0)","v":0},{"$f":"IF(AND(Расчет!A2270<2000,Расчет!B2270<2000),Расчет!J2270,0)","v":0},null,null,{"$f":"IF(OR(Расчет!A2270>=2000,Расчет!B2270>=2000),Расчет!M2270,0)","v":0},{"$f":"IF(AND(Расчет!A2270<2000,Расчет!B2270<2000),Расчет!M2270,0)","v":0}]
[{"$f":"IF(OR(Расчет!A2271>=2000,Расчет!B2271>=2000),Расчет!G2271,0)","v":0},{"$f":"IF(AND(Расчет!A2271<2000,Расчет!B2271<2000),Расчет!G2271,0)","v":0},null,null,{"$f":"IF(OR(Расчет!A2271>=2000,Расчет!B2271>=2000),Расчет!J2271,0)","v":0},{"$f":"IF(AND(Расчет!A2271<2000,Расчет!B2271<2000),Расчет!J2271,0)","v":0},null,null,{"$f":"IF(OR(Расчет!A2271>=2000,Расчет!B2271>=2000),Расчет!M2271,0)","v":0},{"$f":"IF(AND(Расчет!A2271<2000,Расчет!B2271<2000),Расчет!M2271,0)","v":0}]
[{"$f":"IF(OR(Расчет!A2272>=2000,Расчет!B2272>=2000),Расчет!G2272,0)","v":0},{"$f":"IF(AND(Расчет!A2272<2000,Расчет!B2272<2000),Расчет!G2272,0)","v":0},null,null,{"$f":"IF(OR(Расчет!A2272>=2000,Расчет!B2272>=2000),Расчет!J2272,0)","v":0},{"$f":"IF(AND(Расчет!A2272<2000,Расчет!B2272<2000),Расчет!J2272,0)","v":0},null,null,{"$f":"IF(OR(Расчет!A2272>=2000,Расчет!B2272>=2000),Расчет!M2272,0)","v":0},{"$f":"IF(AND(Расчет!A2272<2000,Расчет!B2272<2000),Расчет!M2272,0)","v":0}]
[{"$f":"IF(OR(Расчет!A2273>=2000,Расчет!B2273>=2000),Расчет!G2273,0)","v":0},{"$f":"IF(AND(Расчет!A2273<2000,Расчет!B2273<2000),Расчет!G2273,0)","v":0},null,null,{"$f":"IF(OR(Расчет!A2273>=2000,Расчет!B2273>=2000),Расчет!J2273,0)","v":0},{"$f":"IF(AND(Расчет!A2273<2000,Расчет!B2273<2000),Расчет!J2273,0)","v":0},null,null,{"$f":"IF(OR(Расчет!A2273>=2000,Расчет!B2273>=2000),Расчет!M2273,0)","v":0},{"$f":"IF(AND(Расчет!A2273<2000,Расчет!B2273<2000),Расчет!M2273,0)","v":0}]
[{"$f":"IF(OR(Расчет!A2274>=2000,Расчет!B2274>=2000),Расчет!G2274,0)","v":0},{"$f":"IF(AND(Расчет!A2274<2000,Расчет!B2274<2000),Расчет!G2274,0)","v":0},null,null,{"$f":"IF(OR(Расчет!A2274>=2000,Расчет!B2274>=2000),Расчет!J2274,0)","v":0},{"$f":"IF(AND(Расчет!A2274<2000,Расчет!B2274<2000),Расчет!J2274,0)","v":0},null,null,{"$f":"IF(OR(Расчет!A2274>=2000,Расчет!B2274>=2000),Расчет!M2274,0)","v":0},{"$f":"IF(AND(Расчет!A2274<2000,Расчет!B2274<2000),Расчет!M2274,0)","v":0}]
[{"$f":"IF(OR(Расчет!A2275>=2000,Расчет!B2275>=2000),Расчет!G2275,0)","v":0},{"$f":"IF(AND(Расчет!A2275<2000,Расчет!B2275<2000),Расчет!G2275,0)","v":0},null,null,{"$f":"IF(OR(Расчет!A2275>=2000,Расчет!B2275>=2000),Расчет!J2275,0)","v":0},{"$f":"IF(AND(Расчет!A2275<2000,Расчет!B2275<2000),Расчет!J2275,0)","v":0},null,null,{"$f":"IF(OR(Расчет!A2275>=2000,Расчет!B2275>=2000),Расчет!M2275,0)","v":0},{"$f":"IF(AND(Расчет!A2275<2000,Расчет!B2275<2000),Расчет!M2275,0)","v":0}]
[{"$f":"IF(OR(Расчет!A2276>=2000,Расчет!B2276>=2000),Расчет!G2276,0)","v":0},{"$f":"IF(AND(Расчет!A2276<2000,Расчет!B2276<2000),Расчет!G2276,0)","v":0},null,null,{"$f":"IF(OR(Расчет!A2276>=2000,Расчет!B2276>=2000),Расчет!J2276,0)","v":0},{"$f":"IF(AND(Расчет!A2276<2000,Расчет!B2276<2000),Расчет!J2276,0)","v":0},null,null,{"$f":"IF(OR(Расчет!A2276>=2000,Расчет!B2276>=2000),Расчет!M2276,0)","v":0},{"$f":"IF(AND(Расчет!A2276<2000,Расчет!B2276<2000),Расчет!M2276,0)","v":0}]
[{"$f":"IF(OR(Расчет!A2277>=2000,Расчет!B2277>=2000),Расчет!G2277,0)","v":0},{"$f":"IF(AND(Расчет!A2277<2000,Расчет!B2277<2000),Расчет!G2277,0)","v":0},null,null,{"$f":"IF(OR(Расчет!A2277>=2000,Расчет!B2277>=2000),Расчет!J2277,0)","v":0},{"$f":"IF(AND(Расчет!A2277<2000,Расчет!B2277<2000),Расчет!J2277,0)","v":0},null,null,{"$f":"IF(OR(Расчет!A2277>=2000,Расчет!B2277>=2000),Расчет!M2277,0)","v":0},{"$f":"IF(AND(Расчет!A2277<2000,Расчет!B2277<2000),Расчет!M2277,0)","v":0}]
[{"$f":"IF(OR(Расчет!A2278>=2000,Расчет!B2278>=2000),Расчет!G2278,0)","v":0},{"$f":"IF(AND(Расчет!A2278<2000,Расчет!B2278<2000),Расчет!G2278,0)","v":0},null,null,{"$f":"IF(OR(Расчет!A2278>=2000,Расчет!B2278>=2000),Расчет!J2278,0)","v":0},{"$f":"IF(AND(Расчет!A2278<2000,Расчет!B2278<2000),Расчет!J2278,0)","v":0},null,null,{"$f":"IF(OR(Расчет!A2278>=2000,Расчет!B2278>=2000),Расчет!M2278,0)","v":0},{"$f":"IF(AND(Расчет!A2278<2000,Расчет!B2278<2000),Расчет!M2278,0)","v":0}]
[{"$f":"IF(OR(Расчет!A2279>=2000,Расчет!B2279>=2000),Расчет!G2279,0)","v":0},{"$f":"IF(AND(Расчет!A2279<2000,Расчет!B2279<2000),Расчет!G2279,0)","v":0},null,null,{"$f":"IF(OR(Расчет!A2279>=2000,Расчет!B2279>=2000),Расчет!J2279,0)","v":0},{"$f":"IF(AND(Расчет!A2279<2000,Расчет!B2279<2000),Расчет!J2279,0)","v":0},null,null,{"$f":"IF(OR(Расчет!A2279>=2000,Расчет!B2279>=2000),Расчет!M2279,0)","v":0},{"$f":"IF(AND(Расчет!A2279<2000,Расчет!B2279<2000),Расчет!M2279,0)","v":0}]
[{"$f":"IF(OR(Расчет!A2280>=2000,Расчет!B2280>=2000),Расчет!G2280,0)","v":0},{"$f":"IF(AND(Расчет!A2280<2000,Расчет!B2280<2000),Расчет!G2280,0)","v":0},null,null,{"$f":"IF(OR(Расчет!A2280>=2000,Расчет!B2280>=2000),Расчет!J2280,0)","v":0},{"$f":"IF(AND(Расчет!A2280<2000,Расчет!B2280<2000),Расчет!J2280,0)","v":0},null,null,{"$f":"IF(OR(Расчет!A2280>=2000,Расчет!B2280>=2000),Расчет!M2280,0)","v":0},{"$f":"IF(AND(Расчет!A2280<2000,Расчет!B2280<2000),Расчет!M2280,0)","v":0}]
[{"$f":"IF(OR(Расчет!A2281>=2000,Расчет!B2281>=2000),Расчет!G2281,0)","v":0},{"$f":"IF(AND(Расчет!A2281<2000,Расчет!B2281<2000),Расчет!G2281,0)","v":0},null,null,{"$f":"IF(OR(Расчет!A2281>=2000,Расчет!B2281>=2000),Расчет!J2281,0)","v":0},{"$f":"IF(AND(Расчет!A2281<2000,Расчет!B2281<2000),Расчет!J2281,0)","v":0},null,null,{"$f":"IF(OR(Расчет!A2281>=2000,Расчет!B2281>=2000),Расчет!M2281,0)","v":0},{"$f":"IF(AND(Расчет!A2281<2000,Расчет!B2281<2000),Расчет!M2281,0)","v":0}]
[{"$f":"IF(OR(Расчет!A2282>=2000,Расчет!B2282>=2000),Расчет!G2282,0)","v":0},{"$f":"IF(AND(Расчет!A2282<2000,Расчет!B2282<2000),Расчет!G2282,0)","v":0},null,null,{"$f":"IF(OR(Расчет!A2282>=2000,Расчет!B2282>=2000),Расчет!J2282,0)","v":0},{"$f":"IF(AND(Расчет!A2282<2000,Расчет!B2282<2000),Расчет!J2282,0)","v":0},null,null,{"$f":"IF(OR(Расчет!A2282>=2000,Расчет!B2282>=2000),Расчет!M2282,0)","v":0},{"$f":"IF(AND(Расчет!A2282<2000,Расчет!B2282<2000),Расчет!M2282,0)","v":0}]
[{"$f":"IF(OR(Расчет!A2283>=2000,Расчет!B2283>=2000),Расчет!G2283,0)","v":0},{"$f":"IF(AND(Расчет!A2283<2000,Расчет!B2283<2000),Расчет!G2283,0)","v":0},null,null,{"$f":"IF(OR(Расчет!A2283>=2000,Расчет!B2283>=2000),Расчет!J2283,0)","v":0},{"$f":"IF(AND(Расчет!A2283<2000,Расчет!B2283<2000),Расчет!J2283,0)","v":0},null,null,{"$f":"IF(OR(Расчет!A2283>=2000,Расчет!B2283>=2000),Расчет!M2283,0)","v":0},{"$f":"IF(AND(Расчет!A2283<2000,Расчет!B2283<2000),Расчет!M2283,0)","v":0}]
[{"$f":"IF(OR(Расчет!A2284>=2000,Расчет!B2284>=2000),Расчет!G2284,0)","v":0},{"$f":"IF(AND(Расчет!A2284<2000,Расчет!B2284<2000),Расчет!G2284,0)","v":0},null,null,{"$f":"IF(OR(Расчет!A2284>=2000,Расчет!B2284>=2000),Расчет!J2284,0)","v":0},{"$f":"IF(AND(Расчет!A2284<2000,Расчет!B2284<2000),Расчет!J2284,0)","v":0},null,null,{"$f":"IF(OR(Расчет!A2284>=2000,Расчет!B2284>=2000),Расчет!M2284,0)","v":0},{"$f":"IF(AND(Расчет!A2284<2000,Расчет!B2284<2000),Расчет!M2284,0)","v":0}]
[{"$f":"IF(OR(Расчет!A2285>=2000,Расчет!B2285>=2000),Расчет!G2285,0)","v":0},{"$f":"IF(AND(Расчет!A2285<2000,Расчет!B2285<2000),Расчет!G2285,0)","v":0},null,null,{"$f":"IF(OR(Расчет!A2285>=2000,Расчет!B2285>=2000),Расчет!J2285,0)","v":0},{"$f":"IF(AND(Расчет!A2285<2000,Расчет!B2285<2000),Расчет!J2285,0)","v":0},null,null,{"$f":"IF(OR(Расчет!A2285>=2000,Расчет!B2285>=2000),Расчет!M2285,0)","v":0},{"$f":"IF(AND(Расчет!A2285<2000,Расчет!B2285<2000),Расчет!M2285,0)","v":0}]
[{"$f":"IF(OR(Расчет!A2286>=2000,Расчет!B2286>=2000),Расчет!G2286,0)","v":0},{"$f":"IF(AND(Расчет!A2286<2000,Расчет!B2286<2000),Расчет!G2286,0)","v":0},null,null,{"$f":"IF(OR(Расчет!A2286>=2000,Расчет!B2286>=2000),Расчет!J2286,0)","v":0},{"$f":"IF(AND(Расчет!A2286<2000,Расчет!B2286<2000),Расчет!J2286,0)","v":0},null,null,{"$f":"IF(OR(Расчет!A2286>=2000,Расчет!B2286>=2000),Расчет!M2286,0)","v":0},{"$f":"IF(AND(Расчет!A2286<2000,Расчет!B2286<2000),Расчет!M2286,0)","v":0}]
[{"$f":"IF(OR(Расчет!A2287>=2000,Расчет!B2287>=2000),Расчет!G2287,0)","v":0},{"$f":"IF(AND(Расчет!A2287<2000,Расчет!B2287<2000),Расчет!G2287,0)","v":0},null,null,{"$f":"IF(OR(Расчет!A2287>=2000,Расчет!B2287>=2000),Расчет!J2287,0)","v":0},{"$f":"IF(AND(Расчет!A2287<2000,Расчет!B2287<2000),Расчет!J2287,0)","v":0},null,null,{"$f":"IF(OR(Расчет!A2287>=2000,Расчет!B2287>=2000),Расчет!M2287,0)","v":0},{"$f":"IF(AND(Расчет!A2287<2000,Расчет!B2287<2000),Расчет!M2287,0)","v":0}]
[{"$f":"IF(OR(Расчет!A2288>=2000,Расчет!B2288>=2000),Расчет!G2288,0)","v":0},{"$f":"IF(AND(Расчет!A2288<2000,Расчет!B2288<2000),Расчет!G2288,0)","v":0},null,null,{"$f":"IF(OR(Расчет!A2288>=2000,Расчет!B2288>=2000),Расчет!J2288,0)","v":0},{"$f":"IF(AND(Расчет!A2288<2000,Расчет!B2288<2000),Расчет!J2288,0)","v":0},null,null,{"$f":"IF(OR(Расчет!A2288>=2000,Расчет!B2288>=2000),Расчет!M2288,0)","v":0},{"$f":"IF(AND(Расчет!A2288<2000,Расчет!B2288<2000),Расчет!M2288,0)","v":0}]
[{"$f":"IF(OR(Расчет!A2289>=2000,Расчет!B2289>=2000),Расчет!G2289,0)","v":0},{"$f":"IF(AND(Расчет!A2289<2000,Расчет!B2289<2000),Расчет!G2289,0)","v":0},null,null,{"$f":"IF(OR(Расчет!A2289>=2000,Расчет!B2289>=2000),Расчет!J2289,0)","v":0},{"$f":"IF(AND(Расчет!A2289<2000,Расчет!B2289<2000),Расчет!J2289,0)","v":0},null,null,{"$f":"IF(OR(Расчет!A2289>=2000,Расчет!B2289>=2000),Расчет!M2289,0)","v":0},{"$f":"IF(AND(Расчет!A2289<2000,Расчет!B2289<2000),Расчет!M2289,0)","v":0}]
[{"$f":"IF(OR(Расчет!A2290>=2000,Расчет!B2290>=2000),Расчет!G2290,0)","v":0},{"$f":"IF(AND(Расчет!A2290<2000,Расчет!B2290<2000),Расчет!G2290,0)","v":0},null,null,{"$f":"IF(OR(Расчет!A2290>=2000,Расчет!B2290>=2000),Расчет!J2290,0)","v":0},{"$f":"IF(AND(Расчет!A2290<2000,Расчет!B2290<2000),Расчет!J2290,0)","v":0},null,null,{"$f":"IF(OR(Расчет!A2290>=2000,Расчет!B2290>=2000),Расчет!M2290,0)","v":0},{"$f":"IF(AND(Расчет!A2290<2000,Расчет!B2290<2000),Расчет!M2290,0)","v":0}]
[{"$f":"IF(OR(Расчет!A2291>=2000,Расчет!B2291>=2000),Расчет!G2291,0)","v":0},{"$f":"IF(AND(Расчет!A2291<2000,Расчет!B2291<2000),Расчет!G2291,0)","v":0},null,null,{"$f":"IF(OR(Расчет!A2291>=2000,Расчет!B2291>=2000),Расчет!J2291,0)","v":0},{"$f":"IF(AND(Расчет!A2291<2000,Расчет!B2291<2000),Расчет!J2291,0)","v":0},null,null,{"$f":"IF(OR(Расчет!A2291>=2000,Расчет!B2291>=2000),Расчет!M2291,0)","v":0},{"$f":"IF(AND(Расчет!A2291<2000,Расчет!B2291<2000),Расчет!M2291,0)","v":0}]
[{"$f":"IF(OR(Расчет!A2292>=2000,Расчет!B2292>=2000),Расчет!G2292,0)","v":0},{"$f":"IF(AND(Расчет!A2292<2000,Расчет!B2292<2000),Расчет!G2292,0)","v":0},null,null,{"$f":"IF(OR(Расчет!A2292>=2000,Расчет!B2292>=2000),Расчет!J2292,0)","v":0},{"$f":"IF(AND(Расчет!A2292<2000,Расчет!B2292<2000),Расчет!J2292,0)","v":0},null,null,{"$f":"IF(OR(Расчет!A2292>=2000,Расчет!B2292>=2000),Расчет!M2292,0)","v":0},{"$f":"IF(AND(Расчет!A2292<2000,Расчет!B2292<2000),Расчет!M2292,0)","v":0}]
[{"$f":"IF(OR(Расчет!A2293>=2000,Расчет!B2293>=2000),Расчет!G2293,0)","v":0},{"$f":"IF(AND(Расчет!A2293<2000,Расчет!B2293<2000),Расчет!G2293,0)","v":0},null,null,{"$f":"IF(OR(Расчет!A2293>=2000,Расчет!B2293>=2000),Расчет!J2293,0)","v":0},{"$f":"IF(AND(Расчет!A2293<2000,Расчет!B2293<2000),Расчет!J2293,0)","v":0},null,null,{"$f":"IF(OR(Расчет!A2293>=2000,Расчет!B2293>=2000),Расчет!M2293,0)","v":0},{"$f":"IF(AND(Расчет!A2293<2000,Расчет!B2293<2000),Расчет!M2293,0)","v":0}]
[{"$f":"IF(OR(Расчет!A2294>=2000,Расчет!B2294>=2000),Расчет!G2294,0)","v":0},{"$f":"IF(AND(Расчет!A2294<2000,Расчет!B2294<2000),Расчет!G2294,0)","v":0},null,null,{"$f":"IF(OR(Расчет!A2294>=2000,Расчет!B2294>=2000),Расчет!J2294,0)","v":0},{"$f":"IF(AND(Расчет!A2294<2000,Расчет!B2294<2000),Расчет!J2294,0)","v":0},null,null,{"$f":"IF(OR(Расчет!A2294>=2000,Расчет!B2294>=2000),Расчет!M2294,0)","v":0},{"$f":"IF(AND(Расчет!A2294<2000,Расчет!B2294<2000),Расчет!M2294,0)","v":0}]
[{"$f":"IF(OR(Расчет!A2295>=2000,Расчет!B2295>=2000),Расчет!G2295,0)","v":0},{"$f":"IF(AND(Расчет!A2295<2000,Расчет!B2295<2000),Расчет!G2295,0)","v":0},null,null,{"$f":"IF(OR(Расчет!A2295>=2000,Расчет!B2295>=2000),Расчет!J2295,0)","v":0},{"$f":"IF(AND(Расчет!A2295<2000,Расчет!B2295<2000),Расчет!J2295,0)","v":0},null,null,{"$f":"IF(OR(Расчет!A2295>=2000,Расчет!B2295>=2000),Расчет!M2295,0)","v":0},{"$f":"IF(AND(Расчет!A2295<2000,Расчет!B2295<2000),Расчет!M2295,0)","v":0}]
[{"$f":"IF(OR(Расчет!A2296>=2000,Расчет!B2296>=2000),Расчет!G2296,0)","v":0},{"$f":"IF(AND(Расчет!A2296<2000,Расчет!B2296<2000),Расчет!G2296,0)","v":0},null,null,{"$f":"IF(OR(Расчет!A2296>=2000,Расчет!B2296>=2000),Расчет!J2296,0)","v":0},{"$f":"IF(AND(Расчет!A2296<2000,Расчет!B2296<2000),Расчет!J2296,0)","v":0},null,null,{"$f":"IF(OR(Расчет!A2296>=2000,Расчет!B2296>=2000),Расчет!M2296,0)","v":0},{"$f":"IF(AND(Расчет!A2296<2000,Расчет!B2296<2000),Расчет!M2296,0)","v":0}]
[{"$f":"IF(OR(Расчет!A2297>=2000,Расчет!B2297>=2000),Расчет!G2297,0)","v":0},{"$f":"IF(AND(Расчет!A2297<2000,Расчет!B2297<2000),Расчет!G2297,0)","v":0},null,null,{"$f":"IF(OR(Расчет!A2297>=2000,Расчет!B2297>=2000),Расчет!J2297,0)","v":0},{"$f":"IF(AND(Расчет!A2297<2000,Расчет!B2297<2000),Расчет!J2297,0)","v":0},null,null,{"$f":"IF(OR(Расчет!A2297>=2000,Расчет!B2297>=2000),Расчет!M2297,0)","v":0},{"$f":"IF(AND(Расчет!A2297<2000,Расчет!B2297<2000),Расчет!M2297,0)","v":0}]
[{"$f":"IF(OR(Расчет!A2298>=2000,Расчет!B2298>=2000),Расчет!G2298,0)","v":0},{"$f":"IF(AND(Расчет!A2298<2000,Расчет!B2298<2000),Расчет!G2298,0)","v":0},null,null,{"$f":"IF(OR(Расчет!A2298>=2000,Расчет!B2298>=2000),Расчет!J2298,0)","v":0},{"$f":"IF(AND(Расчет!A2298<2000,Расчет!B2298<2000),Расчет!J2298,0)","v":0},null,null,{"$f":"IF(OR(Расчет!A2298>=2000,Расчет!B2298>=2000),Расчет!M2298,0)","v":0},{"$f":"IF(AND(Расчет!A2298<2000,Расчет!B2298<2000),Расчет!M2298,0)","v":0}]
[{"$f":"IF(OR(Расчет!A2299>=2000,Расчет!B2299>=2000),Расчет!G2299,0)","v":0},{"$f":"IF(AND(Расчет!A2299<2000,Расчет!B2299<2000),Расчет!G2299,0)","v":0},null,null,{"$f":"IF(OR(Расчет!A2299>=2000,Расчет!B2299>=2000),Расчет!J2299,0)","v":0},{"$f":"IF(AND(Расчет!A2299<2000,Расчет!B2299<2000),Расчет!J2299,0)","v":0},null,null,{"$f":"IF(OR(Расчет!A2299>=2000,Расчет!B2299>=2000),Расчет!M2299,0)","v":0},{"$f":"IF(AND(Расчет!A2299<2000,Расчет!B2299<2000),Расчет!M2299,0)","v":0}]
[{"$f":"IF(OR(Расчет!A2300>=2000,Расчет!B2300>=2000),Расчет!G2300,0)","v":0},{"$f":"IF(AND(Расчет!A2300<2000,Расчет!B2300<2000),Расчет!G2300,0)","v":0},null,null,{"$f":"IF(OR(Расчет!A2300>=2000,Расчет!B2300>=2000),Расчет!J2300,0)","v":0},{"$f":"IF(AND(Расчет!A2300<2000,Расчет!B2300<2000),Расчет!J2300,0)","v":0},null,null,{"$f":"IF(OR(Расчет!A2300>=2000,Расчет!B2300>=2000),Расчет!M2300,0)","v":0},{"$f":"IF(AND(Расчет!A2300<2000,Расчет!B2300<2000),Расчет!M2300,0)","v":0}]
[{"$f":"IF(OR(Расчет!A2301>=2000,Расчет!B2301>=2000),Расчет!G2301,0)","v":0},{"$f":"IF(AND(Расчет!A2301<2000,Расчет!B2301<2000),Расчет!G2301,0)","v":0},null,null,{"$f":"IF(OR(Расчет!A2301>=2000,Расчет!B2301>=2000),Расчет!J2301,0)","v":0},{"$f":"IF(AND(Расчет!A2301<2000,Расчет!B2301<2000),Расчет!J2301,0)","v":0},null,null,{"$f":"IF(OR(Расчет!A2301>=2000,Расчет!B2301>=2000),Расчет!M2301,0)","v":0},{"$f":"IF(AND(Расчет!A2301<2000,Расчет!B2301<2000),Расчет!M2301,0)","v":0}]
[{"$f":"IF(OR(Расчет!A2302>=2000,Расчет!B2302>=2000),Расчет!G2302,0)","v":0},{"$f":"IF(AND(Расчет!A2302<2000,Расчет!B2302<2000),Расчет!G2302,0)","v":0},null,null,{"$f":"IF(OR(Расчет!A2302>=2000,Расчет!B2302>=2000),Расчет!J2302,0)","v":0},{"$f":"IF(AND(Расчет!A2302<2000,Расчет!B2302<2000),Расчет!J2302,0)","v":0},null,null,{"$f":"IF(OR(Расчет!A2302>=2000,Расчет!B2302>=2000),Расчет!M2302,0)","v":0},{"$f":"IF(AND(Расчет!A2302<2000,Расчет!B2302<2000),Расчет!M2302,0)","v":0}]
[{"$f":"IF(OR(Расчет!A2303>=2000,Расчет!B2303>=2000),Расчет!G2303,0)","v":0},{"$f":"IF(AND(Расчет!A2303<2000,Расчет!B2303<2000),Расчет!G2303,0)","v":0},null,null,{"$f":"IF(OR(Расчет!A2303>=2000,Расчет!B2303>=2000),Расчет!J2303,0)","v":0},{"$f":"IF(AND(Расчет!A2303<2000,Расчет!B2303<2000),Расчет!J2303,0)","v":0},null,null,{"$f":"IF(OR(Расчет!A2303>=2000,Расчет!B2303>=2000),Расчет!M2303,0)","v":0},{"$f":"IF(AND(Расчет!A2303<2000,Расчет!B2303<2000),Расчет!M2303,0)","v":0}]
[{"$f":"IF(OR(Расчет!A2304>=2000,Расчет!B2304>=2000),Расчет!G2304,0)","v":0},{"$f":"IF(AND(Расчет!A2304<2000,Расчет!B2304<2000),Расчет!G2304,0)","v":0},null,null,{"$f":"IF(OR(Расчет!A2304>=2000,Расчет!B2304>=2000),Расчет!J2304,0)","v":0},{"$f":"IF(AND(Расчет!A2304<2000,Расчет!B2304<2000),Расчет!J2304,0)","v":0},null,null,{"$f":"IF(OR(Расчет!A2304>=2000,Расчет!B2304>=2000),Расчет!M2304,0)","v":0},{"$f":"IF(AND(Расчет!A2304<2000,Расчет!B2304<2000),Расчет!M2304,0)","v":0}]
[{"$f":"IF(OR(Расчет!A2305>=2000,Расчет!B2305>=2000),Расчет!G2305,0)","v":0},{"$f":"IF(AND(Расчет!A2305<2000,Расчет!B2305<2000),Расчет!G2305,0)","v":0},null,null,{"$f":"IF(OR(Расчет!A2305>=2000,Расчет!B2305>=2000),Расчет!J2305,0)","v":0},{"$f":"IF(AND(Расчет!A2305<2000,Расчет!B2305<2000),Расчет!J2305,0)","v":0},null,null,{"$f":"IF(OR(Расчет!A2305>=2000,Расчет!B2305>=2000),Расчет!M2305,0)","v":0},{"$f":"IF(AND(Расчет!A2305<2000,Расчет!B2305<2000),Расчет!M2305,0)","v":0}]
[{"$f":"IF(OR(Расчет!A2306>=2000,Расчет!B2306>=2000),Расчет!G2306,0)","v":0},{"$f":"IF(AND(Расчет!A2306<2000,Расчет!B2306<2000),Расчет!G2306,0)","v":0},null,null,{"$f":"IF(OR(Расчет!A2306>=2000,Расчет!B2306>=2000),Расчет!J2306,0)","v":0},{"$f":"IF(AND(Расчет!A2306<2000,Расчет!B2306<2000),Расчет!J2306,0)","v":0},null,null,{"$f":"IF(OR(Расчет!A2306>=2000,Расчет!B2306>=2000),Расчет!M2306,0)","v":0},{"$f":"IF(AND(Расчет!A2306<2000,Расчет!B2306<2000),Расчет!M2306,0)","v":0}]
[{"$f":"IF(OR(Расчет!A2307>=2000,Расчет!B2307>=2000),Расчет!G2307,0)","v":0},{"$f":"IF(AND(Расчет!A2307<2000,Расчет!B2307<2000),Расчет!G2307,0)","v":0},null,null,{"$f":"IF(OR(Расчет!A2307>=2000,Расчет!B2307>=2000),Расчет!J2307,0)","v":0},{"$f":"IF(AND(Расчет!A2307<2000,Расчет!B2307<2000),Расчет!J2307,0)","v":0},null,null,{"$f":"IF(OR(Расчет!A2307>=2000,Расчет!B2307>=2000),Расчет!M2307,0)","v":0},{"$f":"IF(AND(Расчет!A2307<2000,Расчет!B2307<2000),Расчет!M2307,0)","v":0}]
[{"$f":"IF(OR(Расчет!A2308>=2000,Расчет!B2308>=2000),Расчет!G2308,0)","v":0},{"$f":"IF(AND(Расчет!A2308<2000,Расчет!B2308<2000),Расчет!G2308,0)","v":0},null,null,{"$f":"IF(OR(Расчет!A2308>=2000,Расчет!B2308>=2000),Расчет!J2308,0)","v":0},{"$f":"IF(AND(Расчет!A2308<2000,Расчет!B2308<2000),Расчет!J2308,0)","v":0},null,null,{"$f":"IF(OR(Расчет!A2308>=2000,Расчет!B2308>=2000),Расчет!M2308,0)","v":0},{"$f":"IF(AND(Расчет!A2308<2000,Расчет!B2308<2000),Расчет!M2308,0)","v":0}]
[{"$f":"IF(OR(Расчет!A2309>=2000,Расчет!B2309>=2000),Расчет!G2309,0)","v":0},{"$f":"IF(AND(Расчет!A2309<2000,Расчет!B2309<2000),Расчет!G2309,0)","v":0},null,null,{"$f":"IF(OR(Расчет!A2309>=2000,Расчет!B2309>=2000),Расчет!J2309,0)","v":0},{"$f":"IF(AND(Расчет!A2309<2000,Расчет!B2309<2000),Расчет!J2309,0)","v":0},null,null,{"$f":"IF(OR(Расчет!A2309>=2000,Расчет!B2309>=2000),Расчет!M2309,0)","v":0},{"$f":"IF(AND(Расчет!A2309<2000,Расчет!B2309<2000),Расчет!M2309,0)","v":0}]
[{"$f":"IF(OR(Расчет!A2310>=2000,Расчет!B2310>=2000),Расчет!G2310,0)","v":0},{"$f":"IF(AND(Расчет!A2310<2000,Расчет!B2310<2000),Расчет!G2310,0)","v":0},null,null,{"$f":"IF(OR(Расчет!A2310>=2000,Расчет!B2310>=2000),Расчет!J2310,0)","v":0},{"$f":"IF(AND(Расчет!A2310<2000,Расчет!B2310<2000),Расчет!J2310,0)","v":0},null,null,{"$f":"IF(OR(Расчет!A2310>=2000,Расчет!B2310>=2000),Расчет!M2310,0)","v":0},{"$f":"IF(AND(Расчет!A2310<2000,Расчет!B2310<2000),Расчет!M2310,0)","v":0}]
[{"$f":"IF(OR(Расчет!A2311>=2000,Расчет!B2311>=2000),Расчет!G2311,0)","v":0},{"$f":"IF(AND(Расчет!A2311<2000,Расчет!B2311<2000),Расчет!G2311,0)","v":0},null,null,{"$f":"IF(OR(Расчет!A2311>=2000,Расчет!B2311>=2000),Расчет!J2311,0)","v":0},{"$f":"IF(AND(Расчет!A2311<2000,Расчет!B2311<2000),Расчет!J2311,0)","v":0},null,null,{"$f":"IF(OR(Расчет!A2311>=2000,Расчет!B2311>=2000),Расчет!M2311,0)","v":0},{"$f":"IF(AND(Расчет!A2311<2000,Расчет!B2311<2000),Расчет!M2311,0)","v":0}]
[{"$f":"IF(OR(Расчет!A2312>=2000,Расчет!B2312>=2000),Расчет!G2312,0)","v":0},{"$f":"IF(AND(Расчет!A2312<2000,Расчет!B2312<2000),Расчет!G2312,0)","v":0},null,null,{"$f":"IF(OR(Расчет!A2312>=2000,Расчет!B2312>=2000),Расчет!J2312,0)","v":0},{"$f":"IF(AND(Расчет!A2312<2000,Расчет!B2312<2000),Расчет!J2312,0)","v":0},null,null,{"$f":"IF(OR(Расчет!A2312>=2000,Расчет!B2312>=2000),Расчет!M2312,0)","v":0},{"$f":"IF(AND(Расчет!A2312<2000,Расчет!B2312<2000),Расчет!M2312,0)","v":0}]
[{"$f":"IF(OR(Расчет!A2313>=2000,Расчет!B2313>=2000),Расчет!G2313,0)","v":0},{"$f":"IF(AND(Расчет!A2313<2000,Расчет!B2313<2000),Расчет!G2313,0)","v":0},null,null,{"$f":"IF(OR(Расчет!A2313>=2000,Расчет!B2313>=2000),Расчет!J2313,0)","v":0},{"$f":"IF(AND(Расчет!A2313<2000,Расчет!B2313<2000),Расчет!J2313,0)","v":0},null,null,{"$f":"IF(OR(Расчет!A2313>=2000,Расчет!B2313>=2000),Расчет!M2313,0)","v":0},{"$f":"IF(AND(Расчет!A2313<2000,Расчет!B2313<2000),Расчет!M2313,0)","v":0}]
[{"$f":"IF(OR(Расчет!A2314>=2000,Расчет!B2314>=2000),Расчет!G2314,0)","v":0},{"$f":"IF(AND(Расчет!A2314<2000,Расчет!B2314<2000),Расчет!G2314,0)","v":0},null,null,{"$f":"IF(OR(Расчет!A2314>=2000,Расчет!B2314>=2000),Расчет!J2314,0)","v":0},{"$f":"IF(AND(Расчет!A2314<2000,Расчет!B2314<2000),Расчет!J2314,0)","v":0},null,null,{"$f":"IF(OR(Расчет!A2314>=2000,Расчет!B2314>=2000),Расчет!M2314,0)","v":0},{"$f":"IF(AND(Расчет!A2314<2000,Расчет!B2314<2000),Расчет!M2314,0)","v":0}]
[{"$f":"IF(OR(Расчет!A2315>=2000,Расчет!B2315>=2000),Расчет!G2315,0)","v":0},{"$f":"IF(AND(Расчет!A2315<2000,Расчет!B2315<2000),Расчет!G2315,0)","v":0},null,null,{"$f":"IF(OR(Расчет!A2315>=2000,Расчет!B2315>=2000),Расчет!J2315,0)","v":0},{"$f":"IF(AND(Расчет!A2315<2000,Расчет!B2315<2000),Расчет!J2315,0)","v":0},null,null,{"$f":"IF(OR(Расчет!A2315>=2000,Расчет!B2315>=2000),Расчет!M2315,0)","v":0},{"$f":"IF(AND(Расчет!A2315<2000,Расчет!B2315<2000),Расчет!M2315,0)","v":0}]
[{"$f":"IF(OR(Расчет!A2316>=2000,Расчет!B2316>=2000),Расчет!G2316,0)","v":0},{"$f":"IF(AND(Расчет!A2316<2000,Расчет!B2316<2000),Расчет!G2316,0)","v":0},null,null,{"$f":"IF(OR(Расчет!A2316>=2000,Расчет!B2316>=2000),Расчет!J2316,0)","v":0},{"$f":"IF(AND(Расчет!A2316<2000,Расчет!B2316<2000),Расчет!J2316,0)","v":0},null,null,{"$f":"IF(OR(Расчет!A2316>=2000,Расчет!B2316>=2000),Расчет!M2316,0)","v":0},{"$f":"IF(AND(Расчет!A2316<2000,Расчет!B2316<2000),Расчет!M2316,0)","v":0}]
[{"$f":"IF(OR(Расчет!A2317>=2000,Расчет!B2317>=2000),Расчет!G2317,0)","v":0},{"$f":"IF(AND(Расчет!A2317<2000,Расчет!B2317<2000),Расчет!G2317,0)","v":0},null,null,{"$f":"IF(OR(Расчет!A2317>=2000,Расчет!B2317>=2000),Расчет!J2317,0)","v":0},{"$f":"IF(AND(Расчет!A2317<2000,Расчет!B2317<2000),Расчет!J2317,0)","v":0},null,null,{"$f":"IF(OR(Расчет!A2317>=2000,Расчет!B2317>=2000),Расчет!M2317,0)","v":0},{"$f":"IF(AND(Расчет!A2317<2000,Расчет!B2317<2000),Расчет!M2317,0)","v":0}]
[{"$f":"IF(OR(Расчет!A2318>=2000,Расчет!B2318>=2000),Расчет!G2318,0)","v":0},{"$f":"IF(AND(Расчет!A2318<2000,Расчет!B2318<2000),Расчет!G2318,0)","v":0},null,null,{"$f":"IF(OR(Расчет!A2318>=2000,Расчет!B2318>=2000),Расчет!J2318,0)","v":0},{"$f":"IF(AND(Расчет!A2318<2000,Расчет!B2318<2000),Расчет!J2318,0)","v":0},null,null,{"$f":"IF(OR(Расчет!A2318>=2000,Расчет!B2318>=2000),Расчет!M2318,0)","v":0},{"$f":"IF(AND(Расчет!A2318<2000,Расчет!B2318<2000),Расчет!M2318,0)","v":0}]
[{"$f":"IF(OR(Расчет!A2319>=2000,Расчет!B2319>=2000),Расчет!G2319,0)","v":0},{"$f":"IF(AND(Расчет!A2319<2000,Расчет!B2319<2000),Расчет!G2319,0)","v":0},null,null,{"$f":"IF(OR(Расчет!A2319>=2000,Расчет!B2319>=2000),Расчет!J2319,0)","v":0},{"$f":"IF(AND(Расчет!A2319<2000,Расчет!B2319<2000),Расчет!J2319,0)","v":0},null,null,{"$f":"IF(OR(Расчет!A2319>=2000,Расчет!B2319>=2000),Расчет!M2319,0)","v":0},{"$f":"IF(AND(Расчет!A2319<2000,Расчет!B2319<2000),Расчет!M2319,0)","v":0}]
[{"$f":"IF(OR(Расчет!A2320>=2000,Расчет!B2320>=2000),Расчет!G2320,0)","v":0},{"$f":"IF(AND(Расчет!A2320<2000,Расчет!B2320<2000),Расчет!G2320,0)","v":0},null,null,{"$f":"IF(OR(Расчет!A2320>=2000,Расчет!B2320>=2000),Расчет!J2320,0)","v":0},{"$f":"IF(AND(Расчет!A2320<2000,Расчет!B2320<2000),Расчет!J2320,0)","v":0},null,null,{"$f":"IF(OR(Расчет!A2320>=2000,Расчет!B2320>=2000),Расчет!M2320,0)","v":0},{"$f":"IF(AND(Расчет!A2320<2000,Расчет!B2320<2000),Расчет!M2320,0)","v":0}]
[{"$f":"IF(OR(Расчет!A2321>=2000,Расчет!B2321>=2000),Расчет!G2321,0)","v":0},{"$f":"IF(AND(Расчет!A2321<2000,Расчет!B2321<2000),Расчет!G2321,0)","v":0},null,null,{"$f":"IF(OR(Расчет!A2321>=2000,Расчет!B2321>=2000),Расчет!J2321,0)","v":0},{"$f":"IF(AND(Расчет!A2321<2000,Расчет!B2321<2000),Расчет!J2321,0)","v":0},null,null,{"$f":"IF(OR(Расчет!A2321>=2000,Расчет!B2321>=2000),Расчет!M2321,0)","v":0},{"$f":"IF(AND(Расчет!A2321<2000,Расчет!B2321<2000),Расчет!M2321,0)","v":0}]
[{"$f":"IF(OR(Расчет!A2322>=2000,Расчет!B2322>=2000),Расчет!G2322,0)","v":0},{"$f":"IF(AND(Расчет!A2322<2000,Расчет!B2322<2000),Расчет!G2322,0)","v":0},null,null,{"$f":"IF(OR(Расчет!A2322>=2000,Расчет!B2322>=2000),Расчет!J2322,0)","v":0},{"$f":"IF(AND(Расчет!A2322<2000,Расчет!B2322<2000),Расчет!J2322,0)","v":0},null,null,{"$f":"IF(OR(Расчет!A2322>=2000,Расчет!B2322>=2000),Расчет!M2322,0)","v":0},{"$f":"IF(AND(Расчет!A2322<2000,Расчет!B2322<2000),Расчет!M2322,0)","v":0}]
[{"$f":"IF(OR(Расчет!A2323>=2000,Расчет!B2323>=2000),Расчет!G2323,0)","v":0},{"$f":"IF(AND(Расчет!A2323<2000,Расчет!B2323<2000),Расчет!G2323,0)","v":0},null,null,{"$f":"IF(OR(Расчет!A2323>=2000,Расчет!B2323>=2000),Расчет!J2323,0)","v":0},{"$f":"IF(AND(Расчет!A2323<2000,Расчет!B2323<2000),Расчет!J2323,0)","v":0},null,null,{"$f":"IF(OR(Расчет!A2323>=2000,Расчет!B2323>=2000),Расчет!M2323,0)","v":0},{"$f":"IF(AND(Расчет!A2323<2000,Расчет!B2323<2000),Расчет!M2323,0)","v":0}]
[{"$f":"IF(OR(Расчет!A2324>=2000,Расчет!B2324>=2000),Расчет!G2324,0)","v":0},{"$f":"IF(AND(Расчет!A2324<2000,Расчет!B2324<2000),Расчет!G2324,0)","v":0},null,null,{"$f":"IF(OR(Расчет!A2324>=2000,Расчет!B2324>=2000),Расчет!J2324,0)","v":0},{"$f":"IF(AND(Расчет!A2324<2000,Расчет!B2324<2000),Расчет!J2324,0)","v":0},null,null,{"$f":"IF(OR(Расчет!A2324>=2000,Расчет!B2324>=2000),Расчет!M2324,0)","v":0},{"$f":"IF(AND(Расчет!A2324<2000,Расчет!B2324<2000),Расчет!M2324,0)","v":0}]
[{"$f":"IF(OR(Расчет!A2325>=2000,Расчет!B2325>=2000),Расчет!G2325,0)","v":0},{"$f":"IF(AND(Расчет!A2325<2000,Расчет!B2325<2000),Расчет!G2325,0)","v":0},null,null,{"$f":"IF(OR(Расчет!A2325>=2000,Расчет!B2325>=2000),Расчет!J2325,0)","v":0},{"$f":"IF(AND(Расчет!A2325<2000,Расчет!B2325<2000),Расчет!J2325,0)","v":0},null,null,{"$f":"IF(OR(Расчет!A2325>=2000,Расчет!B2325>=2000),Расчет!M2325,0)","v":0},{"$f":"IF(AND(Расчет!A2325<2000,Расчет!B2325<2000),Расчет!M2325,0)","v":0}]
[{"$f":"IF(OR(Расчет!A2326>=2000,Расчет!B2326>=2000),Расчет!G2326,0)","v":0},{"$f":"IF(AND(Расчет!A2326<2000,Расчет!B2326<2000),Расчет!G2326,0)","v":0},null,null,{"$f":"IF(OR(Расчет!A2326>=2000,Расчет!B2326>=2000),Расчет!J2326,0)","v":0},{"$f":"IF(AND(Расчет!A2326<2000,Расчет!B2326<2000),Расчет!J2326,0)","v":0},null,null,{"$f":"IF(OR(Расчет!A2326>=2000,Расчет!B2326>=2000),Расчет!M2326,0)","v":0},{"$f":"IF(AND(Расчет!A2326<2000,Расчет!B2326<2000),Расчет!M2326,0)","v":0}]
[{"$f":"IF(OR(Расчет!A2327>=2000,Расчет!B2327>=2000),Расчет!G2327,0)","v":0},{"$f":"IF(AND(Расчет!A2327<2000,Расчет!B2327<2000),Расчет!G2327,0)","v":0},null,null,{"$f":"IF(OR(Расчет!A2327>=2000,Расчет!B2327>=2000),Расчет!J2327,0)","v":0},{"$f":"IF(AND(Расчет!A2327<2000,Расчет!B2327<2000),Расчет!J2327,0)","v":0},null,null,{"$f":"IF(OR(Расчет!A2327>=2000,Расчет!B2327>=2000),Расчет!M2327,0)","v":0},{"$f":"IF(AND(Расчет!A2327<2000,Расчет!B2327<2000),Расчет!M2327,0)","v":0}]
[{"$f":"IF(OR(Расчет!A2328>=2000,Расчет!B2328>=2000),Расчет!G2328,0)","v":0},{"$f":"IF(AND(Расчет!A2328<2000,Расчет!B2328<2000),Расчет!G2328,0)","v":0},null,null,{"$f":"IF(OR(Расчет!A2328>=2000,Расчет!B2328>=2000),Расчет!J2328,0)","v":0},{"$f":"IF(AND(Расчет!A2328<2000,Расчет!B2328<2000),Расчет!J2328,0)","v":0},null,null,{"$f":"IF(OR(Расчет!A2328>=2000,Расчет!B2328>=2000),Расчет!M2328,0)","v":0},{"$f":"IF(AND(Расчет!A2328<2000,Расчет!B2328<2000),Расчет!M2328,0)","v":0}]
[{"$f":"IF(OR(Расчет!A2329>=2000,Расчет!B2329>=2000),Расчет!G2329,0)","v":0},{"$f":"IF(AND(Расчет!A2329<2000,Расчет!B2329<2000),Расчет!G2329,0)","v":0},null,null,{"$f":"IF(OR(Расчет!A2329>=2000,Расчет!B2329>=2000),Расчет!J2329,0)","v":0},{"$f":"IF(AND(Расчет!A2329<2000,Расчет!B2329<2000),Расчет!J2329,0)","v":0},null,null,{"$f":"IF(OR(Расчет!A2329>=2000,Расчет!B2329>=2000),Расчет!M2329,0)","v":0},{"$f":"IF(AND(Расчет!A2329<2000,Расчет!B2329<2000),Расчет!M2329,0)","v":0}]
[{"$f":"IF(OR(Расчет!A2330>=2000,Расчет!B2330>=2000),Расчет!G2330,0)","v":0},{"$f":"IF(AND(Расчет!A2330<2000,Расчет!B2330<2000),Расчет!G2330,0)","v":0},null,null,{"$f":"IF(OR(Расчет!A2330>=2000,Расчет!B2330>=2000),Расчет!J2330,0)","v":0},{"$f":"IF(AND(Расчет!A2330<2000,Расчет!B2330<2000),Расчет!J2330,0)","v":0},null,null,{"$f":"IF(OR(Расчет!A2330>=2000,Расчет!B2330>=2000),Расчет!M2330,0)","v":0},{"$f":"IF(AND(Расчет!A2330<2000,Расчет!B2330<2000),Расчет!M2330,0)","v":0}]
[{"$f":"IF(OR(Расчет!A2331>=2000,Расчет!B2331>=2000),Расчет!G2331,0)","v":0},{"$f":"IF(AND(Расчет!A2331<2000,Расчет!B2331<2000),Расчет!G2331,0)","v":0},null,null,{"$f":"IF(OR(Расчет!A2331>=2000,Расчет!B2331>=2000),Расчет!J2331,0)","v":0},{"$f":"IF(AND(Расчет!A2331<2000,Расчет!B2331<2000),Расчет!J2331,0)","v":0},null,null,{"$f":"IF(OR(Расчет!A2331>=2000,Расчет!B2331>=2000),Расчет!M2331,0)","v":0},{"$f":"IF(AND(Расчет!A2331<2000,Расчет!B2331<2000),Расчет!M2331,0)","v":0}]
[{"$f":"IF(OR(Расчет!A2332>=2000,Расчет!B2332>=2000),Расчет!G2332,0)","v":0},{"$f":"IF(AND(Расчет!A2332<2000,Расчет!B2332<2000),Расчет!G2332,0)","v":0},null,null,{"$f":"IF(OR(Расчет!A2332>=2000,Расчет!B2332>=2000),Расчет!J2332,0)","v":0},{"$f":"IF(AND(Расчет!A2332<2000,Расчет!B2332<2000),Расчет!J2332,0)","v":0},null,null,{"$f":"IF(OR(Расчет!A2332>=2000,Расчет!B2332>=2000),Расчет!M2332,0)","v":0},{"$f":"IF(AND(Расчет!A2332<2000,Расчет!B2332<2000),Расчет!M2332,0)","v":0}]
[{"$f":"IF(OR(Расчет!A2333>=2000,Расчет!B2333>=2000),Расчет!G2333,0)","v":0},{"$f":"IF(AND(Расчет!A2333<2000,Расчет!B2333<2000),Расчет!G2333,0)","v":0},null,null,{"$f":"IF(OR(Расчет!A2333>=2000,Расчет!B2333>=2000),Расчет!J2333,0)","v":0},{"$f":"IF(AND(Расчет!A2333<2000,Расчет!B2333<2000),Расчет!J2333,0)","v":0},null,null,{"$f":"IF(OR(Расчет!A2333>=2000,Расчет!B2333>=2000),Расчет!M2333,0)","v":0},{"$f":"IF(AND(Расчет!A2333<2000,Расчет!B2333<2000),Расчет!M2333,0)","v":0}]
[{"$f":"IF(OR(Расчет!A2334>=2000,Расчет!B2334>=2000),Расчет!G2334,0)","v":0},{"$f":"IF(AND(Расчет!A2334<2000,Расчет!B2334<2000),Расчет!G2334,0)","v":0},null,null,{"$f":"IF(OR(Расчет!A2334>=2000,Расчет!B2334>=2000),Расчет!J2334,0)","v":0},{"$f":"IF(AND(Расчет!A2334<2000,Расчет!B2334<2000),Расчет!J2334,0)","v":0},null,null,{"$f":"IF(OR(Расчет!A2334>=2000,Расчет!B2334>=2000),Расчет!M2334,0)","v":0},{"$f":"IF(AND(Расчет!A2334<2000,Расчет!B2334<2000),Расчет!M2334,0)","v":0}]
[{"$f":"IF(OR(Расчет!A2335>=2000,Расчет!B2335>=2000),Расчет!G2335,0)","v":0},{"$f":"IF(AND(Расчет!A2335<2000,Расчет!B2335<2000),Расчет!G2335,0)","v":0},null,null,{"$f":"IF(OR(Расчет!A2335>=2000,Расчет!B2335>=2000),Расчет!J2335,0)","v":0},{"$f":"IF(AND(Расчет!A2335<2000,Расчет!B2335<2000),Расчет!J2335,0)","v":0},null,null,{"$f":"IF(OR(Расчет!A2335>=2000,Расчет!B2335>=2000),Расчет!M2335,0)","v":0},{"$f":"IF(AND(Расчет!A2335<2000,Расчет!B2335<2000),Расчет!M2335,0)","v":0}]
[{"$f":"IF(OR(Расчет!A2336>=2000,Расчет!B2336>=2000),Расчет!G2336,0)","v":0},{"$f":"IF(AND(Расчет!A2336<2000,Расчет!B2336<2000),Расчет!G2336,0)","v":0},null,null,{"$f":"IF(OR(Расчет!A2336>=2000,Расчет!B2336>=2000),Расчет!J2336,0)","v":0},{"$f":"IF(AND(Расчет!A2336<2000,Расчет!B2336<2000),Расчет!J2336,0)","v":0},null,null,{"$f":"IF(OR(Расчет!A2336>=2000,Расчет!B2336>=2000),Расчет!M2336,0)","v":0},{"$f":"IF(AND(Расчет!A2336<2000,Расчет!B2336<2000),Расчет!M2336,0)","v":0}]
[{"$f":"IF(OR(Расчет!A2337>=2000,Расчет!B2337>=2000),Расчет!G2337,0)","v":0},{"$f":"IF(AND(Расчет!A2337<2000,Расчет!B2337<2000),Расчет!G2337,0)","v":0},null,null,{"$f":"IF(OR(Расчет!A2337>=2000,Расчет!B2337>=2000),Расчет!J2337,0)","v":0},{"$f":"IF(AND(Расчет!A2337<2000,Расчет!B2337<2000),Расчет!J2337,0)","v":0},null,null,{"$f":"IF(OR(Расчет!A2337>=2000,Расчет!B2337>=2000),Расчет!M2337,0)","v":0},{"$f":"IF(AND(Расчет!A2337<2000,Расчет!B2337<2000),Расчет!M2337,0)","v":0}]
[{"$f":"IF(OR(Расчет!A2338>=2000,Расчет!B2338>=2000),Расчет!G2338,0)","v":0},{"$f":"IF(AND(Расчет!A2338<2000,Расчет!B2338<2000),Расчет!G2338,0)","v":0},null,null,{"$f":"IF(OR(Расчет!A2338>=2000,Расчет!B2338>=2000),Расчет!J2338,0)","v":0},{"$f":"IF(AND(Расчет!A2338<2000,Расчет!B2338<2000),Расчет!J2338,0)","v":0},null,null,{"$f":"IF(OR(Расчет!A2338>=2000,Расчет!B2338>=2000),Расчет!M2338,0)","v":0},{"$f":"IF(AND(Расчет!A2338<2000,Расчет!B2338<2000),Расчет!M2338,0)","v":0}]
[{"$f":"IF(OR(Расчет!A2339>=2000,Расчет!B2339>=2000),Расчет!G2339,0)","v":0},{"$f":"IF(AND(Расчет!A2339<2000,Расчет!B2339<2000),Расчет!G2339,0)","v":0},null,null,{"$f":"IF(OR(Расчет!A2339>=2000,Расчет!B2339>=2000),Расчет!J2339,0)","v":0},{"$f":"IF(AND(Расчет!A2339<2000,Расчет!B2339<2000),Расчет!J2339,0)","v":0},null,null,{"$f":"IF(OR(Расчет!A2339>=2000,Расчет!B2339>=2000),Расчет!M2339,0)","v":0},{"$f":"IF(AND(Расчет!A2339<2000,Расчет!B2339<2000),Расчет!M2339,0)","v":0}]
[{"$f":"IF(OR(Расчет!A2340>=2000,Расчет!B2340>=2000),Расчет!G2340,0)","v":0},{"$f":"IF(AND(Расчет!A2340<2000,Расчет!B2340<2000),Расчет!G2340,0)","v":0},null,null,{"$f":"IF(OR(Расчет!A2340>=2000,Расчет!B2340>=2000),Расчет!J2340,0)","v":0},{"$f":"IF(AND(Расчет!A2340<2000,Расчет!B2340<2000),Расчет!J2340,0)","v":0},null,null,{"$f":"IF(OR(Расчет!A2340>=2000,Расчет!B2340>=2000),Расчет!M2340,0)","v":0},{"$f":"IF(AND(Расчет!A2340<2000,Расчет!B2340<2000),Расчет!M2340,0)","v":0}]
[{"$f":"IF(OR(Расчет!A2341>=2000,Расчет!B2341>=2000),Расчет!G2341,0)","v":0},{"$f":"IF(AND(Расчет!A2341<2000,Расчет!B2341<2000),Расчет!G2341,0)","v":0},null,null,{"$f":"IF(OR(Расчет!A2341>=2000,Расчет!B2341>=2000),Расчет!J2341,0)","v":0},{"$f":"IF(AND(Расчет!A2341<2000,Расчет!B2341<2000),Расчет!J2341,0)","v":0},null,null,{"$f":"IF(OR(Расчет!A2341>=2000,Расчет!B2341>=2000),Расчет!M2341,0)","v":0},{"$f":"IF(AND(Расчет!A2341<2000,Расчет!B2341<2000),Расчет!M2341,0)","v":0}]
[{"$f":"IF(OR(Расчет!A2342>=2000,Расчет!B2342>=2000),Расчет!G2342,0)","v":0},{"$f":"IF(AND(Расчет!A2342<2000,Расчет!B2342<2000),Расчет!G2342,0)","v":0},null,null,{"$f":"IF(OR(Расчет!A2342>=2000,Расчет!B2342>=2000),Расчет!J2342,0)","v":0},{"$f":"IF(AND(Расчет!A2342<2000,Расчет!B2342<2000),Расчет!J2342,0)","v":0},null,null,{"$f":"IF(OR(Расчет!A2342>=2000,Расчет!B2342>=2000),Расчет!M2342,0)","v":0},{"$f":"IF(AND(Расчет!A2342<2000,Расчет!B2342<2000),Расчет!M2342,0)","v":0}]
[{"$f":"IF(OR(Расчет!A2343>=2000,Расчет!B2343>=2000),Расчет!G2343,0)","v":0},{"$f":"IF(AND(Расчет!A2343<2000,Расчет!B2343<2000),Расчет!G2343,0)","v":0},null,null,{"$f":"IF(OR(Расчет!A2343>=2000,Расчет!B2343>=2000),Расчет!J2343,0)","v":0},{"$f":"IF(AND(Расчет!A2343<2000,Расчет!B2343<2000),Расчет!J2343,0)","v":0},null,null,{"$f":"IF(OR(Расчет!A2343>=2000,Расчет!B2343>=2000),Расчет!M2343,0)","v":0},{"$f":"IF(AND(Расчет!A2343<2000,Расчет!B2343<2000),Расчет!M2343,0)","v":0}]
[{"$f":"IF(OR(Расчет!A2344>=2000,Расчет!B2344>=2000),Расчет!G2344,0)","v":0},{"$f":"IF(AND(Расчет!A2344<2000,Расчет!B2344<2000),Расчет!G2344,0)","v":0},null,null,{"$f":"IF(OR(Расчет!A2344>=2000,Расчет!B2344>=2000),Расчет!J2344,0)","v":0},{"$f":"IF(AND(Расчет!A2344<2000,Расчет!B2344<2000),Расчет!J2344,0)","v":0},null,null,{"$f":"IF(OR(Расчет!A2344>=2000,Расчет!B2344>=2000),Расчет!M2344,0)","v":0},{"$f":"IF(AND(Расчет!A2344<2000,Расчет!B2344<2000),Расчет!M2344,0)","v":0}]
[{"$f":"IF(OR(Расчет!A2345>=2000,Расчет!B2345>=2000),Расчет!G2345,0)","v":0},{"$f":"IF(AND(Расчет!A2345<2000,Расчет!B2345<2000),Расчет!G2345,0)","v":0},null,null,{"$f":"IF(OR(Расчет!A2345>=2000,Расчет!B2345>=2000),Расчет!J2345,0)","v":0},{"$f":"IF(AND(Расчет!A2345<2000,Расчет!B2345<2000),Расчет!J2345,0)","v":0},null,null,{"$f":"IF(OR(Расчет!A2345>=2000,Расчет!B2345>=2000),Расчет!M2345,0)","v":0},{"$f":"IF(AND(Расчет!A2345<2000,Расчет!B2345<2000),Расчет!M2345,0)","v":0}]
[{"$f":"IF(OR(Расчет!A2346>=2000,Расчет!B2346>=2000),Расчет!G2346,0)","v":0},{"$f":"IF(AND(Расчет!A2346<2000,Расчет!B2346<2000),Расчет!G2346,0)","v":0},null,null,{"$f":"IF(OR(Расчет!A2346>=2000,Расчет!B2346>=2000),Расчет!J2346,0)","v":0},{"$f":"IF(AND(Расчет!A2346<2000,Расчет!B2346<2000),Расчет!J2346,0)","v":0},null,null,{"$f":"IF(OR(Расчет!A2346>=2000,Расчет!B2346>=2000),Расчет!M2346,0)","v":0},{"$f":"IF(AND(Расчет!A2346<2000,Расчет!B2346<2000),Расчет!M2346,0)","v":0}]
[{"$f":"IF(OR(Расчет!A2347>=2000,Расчет!B2347>=2000),Расчет!G2347,0)","v":0},{"$f":"IF(AND(Расчет!A2347<2000,Расчет!B2347<2000),Расчет!G2347,0)","v":0},null,null,{"$f":"IF(OR(Расчет!A2347>=2000,Расчет!B2347>=2000),Расчет!J2347,0)","v":0},{"$f":"IF(AND(Расчет!A2347<2000,Расчет!B2347<2000),Расчет!J2347,0)","v":0},null,null,{"$f":"IF(OR(Расчет!A2347>=2000,Расчет!B2347>=2000),Расчет!M2347,0)","v":0},{"$f":"IF(AND(Расчет!A2347<2000,Расчет!B2347<2000),Расчет!M2347,0)","v":0}]
[{"$f":"IF(OR(Расчет!A2348>=2000,Расчет!B2348>=2000),Расчет!G2348,0)","v":0},{"$f":"IF(AND(Расчет!A2348<2000,Расчет!B2348<2000),Расчет!G2348,0)","v":0},null,null,{"$f":"IF(OR(Расчет!A2348>=2000,Расчет!B2348>=2000),Расчет!J2348,0)","v":0},{"$f":"IF(AND(Расчет!A2348<2000,Расчет!B2348<2000),Расчет!J2348,0)","v":0},null,null,{"$f":"IF(OR(Расчет!A2348>=2000,Расчет!B2348>=2000),Расчет!M2348,0)","v":0},{"$f":"IF(AND(Расчет!A2348<2000,Расчет!B2348<2000),Расчет!M2348,0)","v":0}]
[{"$f":"IF(OR(Расчет!A2349>=2000,Расчет!B2349>=2000),Расчет!G2349,0)","v":0},{"$f":"IF(AND(Расчет!A2349<2000,Расчет!B2349<2000),Расчет!G2349,0)","v":0},null,null,{"$f":"IF(OR(Расчет!A2349>=2000,Расчет!B2349>=2000),Расчет!J2349,0)","v":0},{"$f":"IF(AND(Расчет!A2349<2000,Расчет!B2349<2000),Расчет!J2349,0)","v":0},null,null,{"$f":"IF(OR(Расчет!A2349>=2000,Расчет!B2349>=2000),Расчет!M2349,0)","v":0},{"$f":"IF(AND(Расчет!A2349<2000,Расчет!B2349<2000),Расчет!M2349,0)","v":0}]
[{"$f":"IF(OR(Расчет!A2350>=2000,Расчет!B2350>=2000),Расчет!G2350,0)","v":0},{"$f":"IF(AND(Расчет!A2350<2000,Расчет!B2350<2000),Расчет!G2350,0)","v":0},null,null,{"$f":"IF(OR(Расчет!A2350>=2000,Расчет!B2350>=2000),Расчет!J2350,0)","v":0},{"$f":"IF(AND(Расчет!A2350<2000,Расчет!B2350<2000),Расчет!J2350,0)","v":0},null,null,{"$f":"IF(OR(Расчет!A2350>=2000,Расчет!B2350>=2000),Расчет!M2350,0)","v":0},{"$f":"IF(AND(Расчет!A2350<2000,Расчет!B2350<2000),Расчет!M2350,0)","v":0}]
[{"$f":"IF(OR(Расчет!A2351>=2000,Расчет!B2351>=2000),Расчет!G2351,0)","v":0},{"$f":"IF(AND(Расчет!A2351<2000,Расчет!B2351<2000),Расчет!G2351,0)","v":0},null,null,{"$f":"IF(OR(Расчет!A2351>=2000,Расчет!B2351>=2000),Расчет!J2351,0)","v":0},{"$f":"IF(AND(Расчет!A2351<2000,Расчет!B2351<2000),Расчет!J2351,0)","v":0},null,null,{"$f":"IF(OR(Расчет!A2351>=2000,Расчет!B2351>=2000),Расчет!M2351,0)","v":0},{"$f":"IF(AND(Расчет!A2351<2000,Расчет!B2351<2000),Расчет!M2351,0)","v":0}]
[{"$f":"IF(OR(Расчет!A2352>=2000,Расчет!B2352>=2000),Расчет!G2352,0)","v":0},{"$f":"IF(AND(Расчет!A2352<2000,Расчет!B2352<2000),Расчет!G2352,0)","v":0},null,null,{"$f":"IF(OR(Расчет!A2352>=2000,Расчет!B2352>=2000),Расчет!J2352,0)","v":0},{"$f":"IF(AND(Расчет!A2352<2000,Расчет!B2352<2000),Расчет!J2352,0)","v":0},null,null,{"$f":"IF(OR(Расчет!A2352>=2000,Расчет!B2352>=2000),Расчет!M2352,0)","v":0},{"$f":"IF(AND(Расчет!A2352<2000,Расчет!B2352<2000),Расчет!M2352,0)","v":0}]
[{"$f":"IF(OR(Расчет!A2353>=2000,Расчет!B2353>=2000),Расчет!G2353,0)","v":0},{"$f":"IF(AND(Расчет!A2353<2000,Расчет!B2353<2000),Расчет!G2353,0)","v":0},null,null,{"$f":"IF(OR(Расчет!A2353>=2000,Расчет!B2353>=2000),Расчет!J2353,0)","v":0},{"$f":"IF(AND(Расчет!A2353<2000,Расчет!B2353<2000),Расчет!J2353,0)","v":0},null,null,{"$f":"IF(OR(Расчет!A2353>=2000,Расчет!B2353>=2000),Расчет!M2353,0)","v":0},{"$f":"IF(AND(Расчет!A2353<2000,Расчет!B2353<2000),Расчет!M2353,0)","v":0}]
[{"$f":"IF(OR(Расчет!A2354>=2000,Расчет!B2354>=2000),Расчет!G2354,0)","v":0},{"$f":"IF(AND(Расчет!A2354<2000,Расчет!B2354<2000),Расчет!G2354,0)","v":0},null,null,{"$f":"IF(OR(Расчет!A2354>=2000,Расчет!B2354>=2000),Расчет!J2354,0)","v":0},{"$f":"IF(AND(Расчет!A2354<2000,Расчет!B2354<2000),Расчет!J2354,0)","v":0},null,null,{"$f":"IF(OR(Расчет!A2354>=2000,Расчет!B2354>=2000),Расчет!M2354,0)","v":0},{"$f":"IF(AND(Расчет!A2354<2000,Расчет!B2354<2000),Расчет!M2354,0)","v":0}]
[{"$f":"IF(OR(Расчет!A2355>=2000,Расчет!B2355>=2000),Расчет!G2355,0)","v":0},{"$f":"IF(AND(Расчет!A2355<2000,Расчет!B2355<2000),Расчет!G2355,0)","v":0},null,null,{"$f":"IF(OR(Расчет!A2355>=2000,Расчет!B2355>=2000),Расчет!J2355,0)","v":0},{"$f":"IF(AND(Расчет!A2355<2000,Расчет!B2355<2000),Расчет!J2355,0)","v":0},null,null,{"$f":"IF(OR(Расчет!A2355>=2000,Расчет!B2355>=2000),Расчет!M2355,0)","v":0},{"$f":"IF(AND(Расчет!A2355<2000,Расчет!B2355<2000),Расчет!M2355,0)","v":0}]
[{"$f":"IF(OR(Расчет!A2356>=2000,Расчет!B2356>=2000),Расчет!G2356,0)","v":0},{"$f":"IF(AND(Расчет!A2356<2000,Расчет!B2356<2000),Расчет!G2356,0)","v":0},null,null,{"$f":"IF(OR(Расчет!A2356>=2000,Расчет!B2356>=2000),Расчет!J2356,0)","v":0},{"$f":"IF(AND(Расчет!A2356<2000,Расчет!B2356<2000),Расчет!J2356,0)","v":0},null,null,{"$f":"IF(OR(Расчет!A2356>=2000,Расчет!B2356>=2000),Расчет!M2356,0)","v":0},{"$f":"IF(AND(Расчет!A2356<2000,Расчет!B2356<2000),Расчет!M2356,0)","v":0}]
[{"$f":"IF(OR(Расчет!A2357>=2000,Расчет!B2357>=2000),Расчет!G2357,0)","v":0},{"$f":"IF(AND(Расчет!A2357<2000,Расчет!B2357<2000),Расчет!G2357,0)","v":0},null,null,{"$f":"IF(OR(Расчет!A2357>=2000,Расчет!B2357>=2000),Расчет!J2357,0)","v":0},{"$f":"IF(AND(Расчет!A2357<2000,Расчет!B2357<2000),Расчет!J2357,0)","v":0},null,null,{"$f":"IF(OR(Расчет!A2357>=2000,Расчет!B2357>=2000),Расчет!M2357,0)","v":0},{"$f":"IF(AND(Расчет!A2357<2000,Расчет!B2357<2000),Расчет!M2357,0)","v":0}]
[{"$f":"IF(OR(Расчет!A2358>=2000,Расчет!B2358>=2000),Расчет!G2358,0)","v":0},{"$f":"IF(AND(Расчет!A2358<2000,Расчет!B2358<2000),Расчет!G2358,0)","v":0},null,null,{"$f":"IF(OR(Расчет!A2358>=2000,Расчет!B2358>=2000),Расчет!J2358,0)","v":0},{"$f":"IF(AND(Расчет!A2358<2000,Расчет!B2358<2000),Расчет!J2358,0)","v":0},null,null,{"$f":"IF(OR(Расчет!A2358>=2000,Расчет!B2358>=2000),Расчет!M2358,0)","v":0},{"$f":"IF(AND(Расчет!A2358<2000,Расчет!B2358<2000),Расчет!M2358,0)","v":0}]
[{"$f":"IF(OR(Расчет!A2359>=2000,Расчет!B2359>=2000),Расчет!G2359,0)","v":0},{"$f":"IF(AND(Расчет!A2359<2000,Расчет!B2359<2000),Расчет!G2359,0)","v":0},null,null,{"$f":"IF(OR(Расчет!A2359>=2000,Расчет!B2359>=2000),Расчет!J2359,0)","v":0},{"$f":"IF(AND(Расчет!A2359<2000,Расчет!B2359<2000),Расчет!J2359,0)","v":0},null,null,{"$f":"IF(OR(Расчет!A2359>=2000,Расчет!B2359>=2000),Расчет!M2359,0)","v":0},{"$f":"IF(AND(Расчет!A2359<2000,Расчет!B2359<2000),Расчет!M2359,0)","v":0}]
[{"$f":"IF(OR(Расчет!A2360>=2000,Расчет!B2360>=2000),Расчет!G2360,0)","v":0},{"$f":"IF(AND(Расчет!A2360<2000,Расчет!B2360<2000),Расчет!G2360,0)","v":0},null,null,{"$f":"IF(OR(Расчет!A2360>=2000,Расчет!B2360>=2000),Расчет!J2360,0)","v":0},{"$f":"IF(AND(Расчет!A2360<2000,Расчет!B2360<2000),Расчет!J2360,0)","v":0},null,null,{"$f":"IF(OR(Расчет!A2360>=2000,Расчет!B2360>=2000),Расчет!M2360,0)","v":0},{"$f":"IF(AND(Расчет!A2360<2000,Расчет!B2360<2000),Расчет!M2360,0)","v":0}]
[{"$f":"IF(OR(Расчет!A2361>=2000,Расчет!B2361>=2000),Расчет!G2361,0)","v":0},{"$f":"IF(AND(Расчет!A2361<2000,Расчет!B2361<2000),Расчет!G2361,0)","v":0},null,null,{"$f":"IF(OR(Расчет!A2361>=2000,Расчет!B2361>=2000),Расчет!J2361,0)","v":0},{"$f":"IF(AND(Расчет!A2361<2000,Расчет!B2361<2000),Расчет!J2361,0)","v":0},null,null,{"$f":"IF(OR(Расчет!A2361>=2000,Расчет!B2361>=2000),Расчет!M2361,0)","v":0},{"$f":"IF(AND(Расчет!A2361<2000,Расчет!B2361<2000),Расчет!M2361,0)","v":0}]
[{"$f":"IF(OR(Расчет!A2362>=2000,Расчет!B2362>=2000),Расчет!G2362,0)","v":0},{"$f":"IF(AND(Расчет!A2362<2000,Расчет!B2362<2000),Расчет!G2362,0)","v":0},null,null,{"$f":"IF(OR(Расчет!A2362>=2000,Расчет!B2362>=2000),Расчет!J2362,0)","v":0},{"$f":"IF(AND(Расчет!A2362<2000,Расчет!B2362<2000),Расчет!J2362,0)","v":0},null,null,{"$f":"IF(OR(Расчет!A2362>=2000,Расчет!B2362>=2000),Расчет!M2362,0)","v":0},{"$f":"IF(AND(Расчет!A2362<2000,Расчет!B2362<2000),Расчет!M2362,0)","v":0}]
[{"$f":"IF(OR(Расчет!A2363>=2000,Расчет!B2363>=2000),Расчет!G2363,0)","v":0},{"$f":"IF(AND(Расчет!A2363<2000,Расчет!B2363<2000),Расчет!G2363,0)","v":0},null,null,{"$f":"IF(OR(Расчет!A2363>=2000,Расчет!B2363>=2000),Расчет!J2363,0)","v":0},{"$f":"IF(AND(Расчет!A2363<2000,Расчет!B2363<2000),Расчет!J2363,0)","v":0},null,null,{"$f":"IF(OR(Расчет!A2363>=2000,Расчет!B2363>=2000),Расчет!M2363,0)","v":0},{"$f":"IF(AND(Расчет!A2363<2000,Расчет!B2363<2000),Расчет!M2363,0)","v":0}]
[{"$f":"IF(OR(Расчет!A2364>=2000,Расчет!B2364>=2000),Расчет!G2364,0)","v":0},{"$f":"IF(AND(Расчет!A2364<2000,Расчет!B2364<2000),Расчет!G2364,0)","v":0},null,null,{"$f":"IF(OR(Расчет!A2364>=2000,Расчет!B2364>=2000),Расчет!J2364,0)","v":0},{"$f":"IF(AND(Расчет!A2364<2000,Расчет!B2364<2000),Расчет!J2364,0)","v":0},null,null,{"$f":"IF(OR(Расчет!A2364>=2000,Расчет!B2364>=2000),Расчет!M2364,0)","v":0},{"$f":"IF(AND(Расчет!A2364<2000,Расчет!B2364<2000),Расчет!M2364,0)","v":0}]
[{"$f":"IF(OR(Расчет!A2365>=2000,Расчет!B2365>=2000),Расчет!G2365,0)","v":0},{"$f":"IF(AND(Расчет!A2365<2000,Расчет!B2365<2000),Расчет!G2365,0)","v":0},null,null,{"$f":"IF(OR(Расчет!A2365>=2000,Расчет!B2365>=2000),Расчет!J2365,0)","v":0},{"$f":"IF(AND(Расчет!A2365<2000,Расчет!B2365<2000),Расчет!J2365,0)","v":0},null,null,{"$f":"IF(OR(Расчет!A2365>=2000,Расчет!B2365>=2000),Расчет!M2365,0)","v":0},{"$f":"IF(AND(Расчет!A2365<2000,Расчет!B2365<2000),Расчет!M2365,0)","v":0}]
[{"$f":"IF(OR(Расчет!A2366>=2000,Расчет!B2366>=2000),Расчет!G2366,0)","v":0},{"$f":"IF(AND(Расчет!A2366<2000,Расчет!B2366<2000),Расчет!G2366,0)","v":0},null,null,{"$f":"IF(OR(Расчет!A2366>=2000,Расчет!B2366>=2000),Расчет!J2366,0)","v":0},{"$f":"IF(AND(Расчет!A2366<2000,Расчет!B2366<2000),Расчет!J2366,0)","v":0},null,null,{"$f":"IF(OR(Расчет!A2366>=2000,Расчет!B2366>=2000),Расчет!M2366,0)","v":0},{"$f":"IF(AND(Расчет!A2366<2000,Расчет!B2366<2000),Расчет!M2366,0)","v":0}]
[{"$f":"IF(OR(Расчет!A2367>=2000,Расчет!B2367>=2000),Расчет!G2367,0)","v":0},{"$f":"IF(AND(Расчет!A2367<2000,Расчет!B2367<2000),Расчет!G2367,0)","v":0},null,null,{"$f":"IF(OR(Расчет!A2367>=2000,Расчет!B2367>=2000),Расчет!J2367,0)","v":0},{"$f":"IF(AND(Расчет!A2367<2000,Расчет!B2367<2000),Расчет!J2367,0)","v":0},null,null,{"$f":"IF(OR(Расчет!A2367>=2000,Расчет!B2367>=2000),Расчет!M2367,0)","v":0},{"$f":"IF(AND(Расчет!A2367<2000,Расчет!B2367<2000),Расчет!M2367,0)","v":0}]
[{"$f":"IF(OR(Расчет!A2368>=2000,Расчет!B2368>=2000),Расчет!G2368,0)","v":0},{"$f":"IF(AND(Расчет!A2368<2000,Расчет!B2368<2000),Расчет!G2368,0)","v":0},null,null,{"$f":"IF(OR(Расчет!A2368>=2000,Расчет!B2368>=2000),Расчет!J2368,0)","v":0},{"$f":"IF(AND(Расчет!A2368<2000,Расчет!B2368<2000),Расчет!J2368,0)","v":0},null,null,{"$f":"IF(OR(Расчет!A2368>=2000,Расчет!B2368>=2000),Расчет!M2368,0)","v":0},{"$f":"IF(AND(Расчет!A2368<2000,Расчет!B2368<2000),Расчет!M2368,0)","v":0}]
[{"$f":"IF(OR(Расчет!A2369>=2000,Расчет!B2369>=2000),Расчет!G2369,0)","v":0},{"$f":"IF(AND(Расчет!A2369<2000,Расчет!B2369<2000),Расчет!G2369,0)","v":0},null,null,{"$f":"IF(OR(Расчет!A2369>=2000,Расчет!B2369>=2000),Расчет!J2369,0)","v":0},{"$f":"IF(AND(Расчет!A2369<2000,Расчет!B2369<2000),Расчет!J2369,0)","v":0},null,null,{"$f":"IF(OR(Расчет!A2369>=2000,Расчет!B2369>=2000),Расчет!M2369,0)","v":0},{"$f":"IF(AND(Расчет!A2369<2000,Расчет!B2369<2000),Расчет!M2369,0)","v":0}]
[{"$f":"IF(OR(Расчет!A2370>=2000,Расчет!B2370>=2000),Расчет!G2370,0)","v":0},{"$f":"IF(AND(Расчет!A2370<2000,Расчет!B2370<2000),Расчет!G2370,0)","v":0},null,null,{"$f":"IF(OR(Расчет!A2370>=2000,Расчет!B2370>=2000),Расчет!J2370,0)","v":0},{"$f":"IF(AND(Расчет!A2370<2000,Расчет!B2370<2000),Расчет!J2370,0)","v":0},null,null,{"$f":"IF(OR(Расчет!A2370>=2000,Расчет!B2370>=2000),Расчет!M2370,0)","v":0},{"$f":"IF(AND(Расчет!A2370<2000,Расчет!B2370<2000),Расчет!M2370,0)","v":0}]
[{"$f":"IF(OR(Расчет!A2371>=2000,Расчет!B2371>=2000),Расчет!G2371,0)","v":0},{"$f":"IF(AND(Расчет!A2371<2000,Расчет!B2371<2000),Расчет!G2371,0)","v":0},null,null,{"$f":"IF(OR(Расчет!A2371>=2000,Расчет!B2371>=2000),Расчет!J2371,0)","v":0},{"$f":"IF(AND(Расчет!A2371<2000,Расчет!B2371<2000),Расчет!J2371,0)","v":0},null,null,{"$f":"IF(OR(Расчет!A2371>=2000,Расчет!B2371>=2000),Расчет!M2371,0)","v":0},{"$f":"IF(AND(Расчет!A2371<2000,Расчет!B2371<2000),Расчет!M2371,0)","v":0}]
[{"$f":"IF(OR(Расчет!A2372>=2000,Расчет!B2372>=2000),Расчет!G2372,0)","v":0},{"$f":"IF(AND(Расчет!A2372<2000,Расчет!B2372<2000),Расчет!G2372,0)","v":0},null,null,{"$f":"IF(OR(Расчет!A2372>=2000,Расчет!B2372>=2000),Расчет!J2372,0)","v":0},{"$f":"IF(AND(Расчет!A2372<2000,Расчет!B2372<2000),Расчет!J2372,0)","v":0},null,null,{"$f":"IF(OR(Расчет!A2372>=2000,Расчет!B2372>=2000),Расчет!M2372,0)","v":0},{"$f":"IF(AND(Расчет!A2372<2000,Расчет!B2372<2000),Расчет!M2372,0)","v":0}]
[{"$f":"IF(OR(Расчет!A2373>=2000,Расчет!B2373>=2000),Расчет!G2373,0)","v":0},{"$f":"IF(AND(Расчет!A2373<2000,Расчет!B2373<2000),Расчет!G2373,0)","v":0},null,null,{"$f":"IF(OR(Расчет!A2373>=2000,Расчет!B2373>=2000),Расчет!J2373,0)","v":0},{"$f":"IF(AND(Расчет!A2373<2000,Расчет!B2373<2000),Расчет!J2373,0)","v":0},null,null,{"$f":"IF(OR(Расчет!A2373>=2000,Расчет!B2373>=2000),Расчет!M2373,0)","v":0},{"$f":"IF(AND(Расчет!A2373<2000,Расчет!B2373<2000),Расчет!M2373,0)","v":0}]
[{"$f":"IF(OR(Расчет!A2374>=2000,Расчет!B2374>=2000),Расчет!G2374,0)","v":0},{"$f":"IF(AND(Расчет!A2374<2000,Расчет!B2374<2000),Расчет!G2374,0)","v":0},null,null,{"$f":"IF(OR(Расчет!A2374>=2000,Расчет!B2374>=2000),Расчет!J2374,0)","v":0},{"$f":"IF(AND(Расчет!A2374<2000,Расчет!B2374<2000),Расчет!J2374,0)","v":0},null,null,{"$f":"IF(OR(Расчет!A2374>=2000,Расчет!B2374>=2000),Расчет!M2374,0)","v":0},{"$f":"IF(AND(Расчет!A2374<2000,Расчет!B2374<2000),Расчет!M2374,0)","v":0}]
[{"$f":"IF(OR(Расчет!A2375>=2000,Расчет!B2375>=2000),Расчет!G2375,0)","v":0},{"$f":"IF(AND(Расчет!A2375<2000,Расчет!B2375<2000),Расчет!G2375,0)","v":0},null,null,{"$f":"IF(OR(Расчет!A2375>=2000,Расчет!B2375>=2000),Расчет!J2375,0)","v":0},{"$f":"IF(AND(Расчет!A2375<2000,Расчет!B2375<2000),Расчет!J2375,0)","v":0},null,null,{"$f":"IF(OR(Расчет!A2375>=2000,Расчет!B2375>=2000),Расчет!M2375,0)","v":0},{"$f":"IF(AND(Расчет!A2375<2000,Расчет!B2375<2000),Расчет!M2375,0)","v":0}]
[{"$f":"IF(OR(Расчет!A2376>=2000,Расчет!B2376>=2000),Расчет!G2376,0)","v":0},{"$f":"IF(AND(Расчет!A2376<2000,Расчет!B2376<2000),Расчет!G2376,0)","v":0},null,null,{"$f":"IF(OR(Расчет!A2376>=2000,Расчет!B2376>=2000),Расчет!J2376,0)","v":0},{"$f":"IF(AND(Расчет!A2376<2000,Расчет!B2376<2000),Расчет!J2376,0)","v":0},null,null,{"$f":"IF(OR(Расчет!A2376>=2000,Расчет!B2376>=2000),Расчет!M2376,0)","v":0},{"$f":"IF(AND(Расчет!A2376<2000,Расчет!B2376<2000),Расчет!M2376,0)","v":0}]
[{"$f":"IF(OR(Расчет!A2377>=2000,Расчет!B2377>=2000),Расчет!G2377,0)","v":0},{"$f":"IF(AND(Расчет!A2377<2000,Расчет!B2377<2000),Расчет!G2377,0)","v":0},null,null,{"$f":"IF(OR(Расчет!A2377>=2000,Расчет!B2377>=2000),Расчет!J2377,0)","v":0},{"$f":"IF(AND(Расчет!A2377<2000,Расчет!B2377<2000),Расчет!J2377,0)","v":0},null,null,{"$f":"IF(OR(Расчет!A2377>=2000,Расчет!B2377>=2000),Расчет!M2377,0)","v":0},{"$f":"IF(AND(Расчет!A2377<2000,Расчет!B2377<2000),Расчет!M2377,0)","v":0}]
[{"$f":"IF(OR(Расчет!A2378>=2000,Расчет!B2378>=2000),Расчет!G2378,0)","v":0},{"$f":"IF(AND(Расчет!A2378<2000,Расчет!B2378<2000),Расчет!G2378,0)","v":0},null,null,{"$f":"IF(OR(Расчет!A2378>=2000,Расчет!B2378>=2000),Расчет!J2378,0)","v":0},{"$f":"IF(AND(Расчет!A2378<2000,Расчет!B2378<2000),Расчет!J2378,0)","v":0},null,null,{"$f":"IF(OR(Расчет!A2378>=2000,Расчет!B2378>=2000),Расчет!M2378,0)","v":0},{"$f":"IF(AND(Расчет!A2378<2000,Расчет!B2378<2000),Расчет!M2378,0)","v":0}]
[{"$f":"IF(OR(Расчет!A2379>=2000,Расчет!B2379>=2000),Расчет!G2379,0)","v":0},{"$f":"IF(AND(Расчет!A2379<2000,Расчет!B2379<2000),Расчет!G2379,0)","v":0},null,null,{"$f":"IF(OR(Расчет!A2379>=2000,Расчет!B2379>=2000),Расчет!J2379,0)","v":0},{"$f":"IF(AND(Расчет!A2379<2000,Расчет!B2379<2000),Расчет!J2379,0)","v":0},null,null,{"$f":"IF(OR(Расчет!A2379>=2000,Расчет!B2379>=2000),Расчет!M2379,0)","v":0},{"$f":"IF(AND(Расчет!A2379<2000,Расчет!B2379<2000),Расчет!M2379,0)","v":0}]
[{"$f":"IF(OR(Расчет!A2380>=2000,Расчет!B2380>=2000),Расчет!G2380,0)","v":0},{"$f":"IF(AND(Расчет!A2380<2000,Расчет!B2380<2000),Расчет!G2380,0)","v":0},null,null,{"$f":"IF(OR(Расчет!A2380>=2000,Расчет!B2380>=2000),Расчет!J2380,0)","v":0},{"$f":"IF(AND(Расчет!A2380<2000,Расчет!B2380<2000),Расчет!J2380,0)","v":0},null,null,{"$f":"IF(OR(Расчет!A2380>=2000,Расчет!B2380>=2000),Расчет!M2380,0)","v":0},{"$f":"IF(AND(Расчет!A2380<2000,Расчет!B2380<2000),Расчет!M2380,0)","v":0}]
[{"$f":"IF(OR(Расчет!A2381>=2000,Расчет!B2381>=2000),Расчет!G2381,0)","v":0},{"$f":"IF(AND(Расчет!A2381<2000,Расчет!B2381<2000),Расчет!G2381,0)","v":0},null,null,{"$f":"IF(OR(Расчет!A2381>=2000,Расчет!B2381>=2000),Расчет!J2381,0)","v":0},{"$f":"IF(AND(Расчет!A2381<2000,Расчет!B2381<2000),Расчет!J2381,0)","v":0},null,null,{"$f":"IF(OR(Расчет!A2381>=2000,Расчет!B2381>=2000),Расчет!M2381,0)","v":0},{"$f":"IF(AND(Расчет!A2381<2000,Расчет!B2381<2000),Расчет!M2381,0)","v":0}]
[{"$f":"IF(OR(Расчет!A2382>=2000,Расчет!B2382>=2000),Расчет!G2382,0)","v":0},{"$f":"IF(AND(Расчет!A2382<2000,Расчет!B2382<2000),Расчет!G2382,0)","v":0},null,null,{"$f":"IF(OR(Расчет!A2382>=2000,Расчет!B2382>=2000),Расчет!J2382,0)","v":0},{"$f":"IF(AND(Расчет!A2382<2000,Расчет!B2382<2000),Расчет!J2382,0)","v":0},null,null,{"$f":"IF(OR(Расчет!A2382>=2000,Расчет!B2382>=2000),Расчет!M2382,0)","v":0},{"$f":"IF(AND(Расчет!A2382<2000,Расчет!B2382<2000),Расчет!M2382,0)","v":0}]
[{"$f":"IF(OR(Расчет!A2383>=2000,Расчет!B2383>=2000),Расчет!G2383,0)","v":0},{"$f":"IF(AND(Расчет!A2383<2000,Расчет!B2383<2000),Расчет!G2383,0)","v":0},null,null,{"$f":"IF(OR(Расчет!A2383>=2000,Расчет!B2383>=2000),Расчет!J2383,0)","v":0},{"$f":"IF(AND(Расчет!A2383<2000,Расчет!B2383<2000),Расчет!J2383,0)","v":0},null,null,{"$f":"IF(OR(Расчет!A2383>=2000,Расчет!B2383>=2000),Расчет!M2383,0)","v":0},{"$f":"IF(AND(Расчет!A2383<2000,Расчет!B2383<2000),Расчет!M2383,0)","v":0}]
[{"$f":"IF(OR(Расчет!A2384>=2000,Расчет!B2384>=2000),Расчет!G2384,0)","v":0},{"$f":"IF(AND(Расчет!A2384<2000,Расчет!B2384<2000),Расчет!G2384,0)","v":0},null,null,{"$f":"IF(OR(Расчет!A2384>=2000,Расчет!B2384>=2000),Расчет!J2384,0)","v":0},{"$f":"IF(AND(Расчет!A2384<2000,Расчет!B2384<2000),Расчет!J2384,0)","v":0},null,null,{"$f":"IF(OR(Расчет!A2384>=2000,Расчет!B2384>=2000),Расчет!M2384,0)","v":0},{"$f":"IF(AND(Расчет!A2384<2000,Расчет!B2384<2000),Расчет!M2384,0)","v":0}]
[{"$f":"IF(OR(Расчет!A2385>=2000,Расчет!B2385>=2000),Расчет!G2385,0)","v":0},{"$f":"IF(AND(Расчет!A2385<2000,Расчет!B2385<2000),Расчет!G2385,0)","v":0},null,null,{"$f":"IF(OR(Расчет!A2385>=2000,Расчет!B2385>=2000),Расчет!J2385,0)","v":0},{"$f":"IF(AND(Расчет!A2385<2000,Расчет!B2385<2000),Расчет!J2385,0)","v":0},null,null,{"$f":"IF(OR(Расчет!A2385>=2000,Расчет!B2385>=2000),Расчет!M2385,0)","v":0},{"$f":"IF(AND(Расчет!A2385<2000,Расчет!B2385<2000),Расчет!M2385,0)","v":0}]
[{"$f":"IF(OR(Расчет!A2386>=2000,Расчет!B2386>=2000),Расчет!G2386,0)","v":0},{"$f":"IF(AND(Расчет!A2386<2000,Расчет!B2386<2000),Расчет!G2386,0)","v":0},null,null,{"$f":"IF(OR(Расчет!A2386>=2000,Расчет!B2386>=2000),Расчет!J2386,0)","v":0},{"$f":"IF(AND(Расчет!A2386<2000,Расчет!B2386<2000),Расчет!J2386,0)","v":0},null,null,{"$f":"IF(OR(Расчет!A2386>=2000,Расчет!B2386>=2000),Расчет!M2386,0)","v":0},{"$f":"IF(AND(Расчет!A2386<2000,Расчет!B2386<2000),Расчет!M2386,0)","v":0}]
[{"$f":"IF(OR(Расчет!A2387>=2000,Расчет!B2387>=2000),Расчет!G2387,0)","v":0},{"$f":"IF(AND(Расчет!A2387<2000,Расчет!B2387<2000),Расчет!G2387,0)","v":0},null,null,{"$f":"IF(OR(Расчет!A2387>=2000,Расчет!B2387>=2000),Расчет!J2387,0)","v":0},{"$f":"IF(AND(Расчет!A2387<2000,Расчет!B2387<2000),Расчет!J2387,0)","v":0},null,null,{"$f":"IF(OR(Расчет!A2387>=2000,Расчет!B2387>=2000),Расчет!M2387,0)","v":0},{"$f":"IF(AND(Расчет!A2387<2000,Расчет!B2387<2000),Расчет!M2387,0)","v":0}]
[{"$f":"IF(OR(Расчет!A2388>=2000,Расчет!B2388>=2000),Расчет!G2388,0)","v":0},{"$f":"IF(AND(Расчет!A2388<2000,Расчет!B2388<2000),Расчет!G2388,0)","v":0},null,null,{"$f":"IF(OR(Расчет!A2388>=2000,Расчет!B2388>=2000),Расчет!J2388,0)","v":0},{"$f":"IF(AND(Расчет!A2388<2000,Расчет!B2388<2000),Расчет!J2388,0)","v":0},null,null,{"$f":"IF(OR(Расчет!A2388>=2000,Расчет!B2388>=2000),Расчет!M2388,0)","v":0},{"$f":"IF(AND(Расчет!A2388<2000,Расчет!B2388<2000),Расчет!M2388,0)","v":0}]
[{"$f":"IF(OR(Расчет!A2389>=2000,Расчет!B2389>=2000),Расчет!G2389,0)","v":0},{"$f":"IF(AND(Расчет!A2389<2000,Расчет!B2389<2000),Расчет!G2389,0)","v":0},null,null,{"$f":"IF(OR(Расчет!A2389>=2000,Расчет!B2389>=2000),Расчет!J2389,0)","v":0},{"$f":"IF(AND(Расчет!A2389<2000,Расчет!B2389<2000),Расчет!J2389,0)","v":0},null,null,{"$f":"IF(OR(Расчет!A2389>=2000,Расчет!B2389>=2000),Расчет!M2389,0)","v":0},{"$f":"IF(AND(Расчет!A2389<2000,Расчет!B2389<2000),Расчет!M2389,0)","v":0}]
[{"$f":"IF(OR(Расчет!A2390>=2000,Расчет!B2390>=2000),Расчет!G2390,0)","v":0},{"$f":"IF(AND(Расчет!A2390<2000,Расчет!B2390<2000),Расчет!G2390,0)","v":0},null,null,{"$f":"IF(OR(Расчет!A2390>=2000,Расчет!B2390>=2000),Расчет!J2390,0)","v":0},{"$f":"IF(AND(Расчет!A2390<2000,Расчет!B2390<2000),Расчет!J2390,0)","v":0},null,null,{"$f":"IF(OR(Расчет!A2390>=2000,Расчет!B2390>=2000),Расчет!M2390,0)","v":0},{"$f":"IF(AND(Расчет!A2390<2000,Расчет!B2390<2000),Расчет!M2390,0)","v":0}]
[{"$f":"IF(OR(Расчет!A2391>=2000,Расчет!B2391>=2000),Расчет!G2391,0)","v":0},{"$f":"IF(AND(Расчет!A2391<2000,Расчет!B2391<2000),Расчет!G2391,0)","v":0},null,null,{"$f":"IF(OR(Расчет!A2391>=2000,Расчет!B2391>=2000),Расчет!J2391,0)","v":0},{"$f":"IF(AND(Расчет!A2391<2000,Расчет!B2391<2000),Расчет!J2391,0)","v":0},null,null,{"$f":"IF(OR(Расчет!A2391>=2000,Расчет!B2391>=2000),Расчет!M2391,0)","v":0},{"$f":"IF(AND(Расчет!A2391<2000,Расчет!B2391<2000),Расчет!M2391,0)","v":0}]
[{"$f":"IF(OR(Расчет!A2392>=2000,Расчет!B2392>=2000),Расчет!G2392,0)","v":0},{"$f":"IF(AND(Расчет!A2392<2000,Расчет!B2392<2000),Расчет!G2392,0)","v":0},null,null,{"$f":"IF(OR(Расчет!A2392>=2000,Расчет!B2392>=2000),Расчет!J2392,0)","v":0},{"$f":"IF(AND(Расчет!A2392<2000,Расчет!B2392<2000),Расчет!J2392,0)","v":0},null,null,{"$f":"IF(OR(Расчет!A2392>=2000,Расчет!B2392>=2000),Расчет!M2392,0)","v":0},{"$f":"IF(AND(Расчет!A2392<2000,Расчет!B2392<2000),Расчет!M2392,0)","v":0}]
[{"$f":"IF(OR(Расчет!A2393>=2000,Расчет!B2393>=2000),Расчет!G2393,0)","v":0},{"$f":"IF(AND(Расчет!A2393<2000,Расчет!B2393<2000),Расчет!G2393,0)","v":0},null,null,{"$f":"IF(OR(Расчет!A2393>=2000,Расчет!B2393>=2000),Расчет!J2393,0)","v":0},{"$f":"IF(AND(Расчет!A2393<2000,Расчет!B2393<2000),Расчет!J2393,0)","v":0},null,null,{"$f":"IF(OR(Расчет!A2393>=2000,Расчет!B2393>=2000),Расчет!M2393,0)","v":0},{"$f":"IF(AND(Расчет!A2393<2000,Расчет!B2393<2000),Расчет!M2393,0)","v":0}]
[{"$f":"IF(OR(Расчет!A2394>=2000,Расчет!B2394>=2000),Расчет!G2394,0)","v":0},{"$f":"IF(AND(Расчет!A2394<2000,Расчет!B2394<2000),Расчет!G2394,0)","v":0},null,null,{"$f":"IF(OR(Расчет!A2394>=2000,Расчет!B2394>=2000),Расчет!J2394,0)","v":0},{"$f":"IF(AND(Расчет!A2394<2000,Расчет!B2394<2000),Расчет!J2394,0)","v":0},null,null,{"$f":"IF(OR(Расчет!A2394>=2000,Расчет!B2394>=2000),Расчет!M2394,0)","v":0},{"$f":"IF(AND(Расчет!A2394<2000,Расчет!B2394<2000),Расчет!M2394,0)","v":0}]
[{"$f":"IF(OR(Расчет!A2395>=2000,Расчет!B2395>=2000),Расчет!G2395,0)","v":0},{"$f":"IF(AND(Расчет!A2395<2000,Расчет!B2395<2000),Расчет!G2395,0)","v":0},null,null,{"$f":"IF(OR(Расчет!A2395>=2000,Расчет!B2395>=2000),Расчет!J2395,0)","v":0},{"$f":"IF(AND(Расчет!A2395<2000,Расчет!B2395<2000),Расчет!J2395,0)","v":0},null,null,{"$f":"IF(OR(Расчет!A2395>=2000,Расчет!B2395>=2000),Расчет!M2395,0)","v":0},{"$f":"IF(AND(Расчет!A2395<2000,Расчет!B2395<2000),Расчет!M2395,0)","v":0}]
[{"$f":"IF(OR(Расчет!A2396>=2000,Расчет!B2396>=2000),Расчет!G2396,0)","v":0},{"$f":"IF(AND(Расчет!A2396<2000,Расчет!B2396<2000),Расчет!G2396,0)","v":0},null,null,{"$f":"IF(OR(Расчет!A2396>=2000,Расчет!B2396>=2000),Расчет!J2396,0)","v":0},{"$f":"IF(AND(Расчет!A2396<2000,Расчет!B2396<2000),Расчет!J2396,0)","v":0},null,null,{"$f":"IF(OR(Расчет!A2396>=2000,Расчет!B2396>=2000),Расчет!M2396,0)","v":0},{"$f":"IF(AND(Расчет!A2396<2000,Расчет!B2396<2000),Расчет!M2396,0)","v":0}]
[{"$f":"IF(OR(Расчет!A2397>=2000,Расчет!B2397>=2000),Расчет!G2397,0)","v":0},{"$f":"IF(AND(Расчет!A2397<2000,Расчет!B2397<2000),Расчет!G2397,0)","v":0},null,null,{"$f":"IF(OR(Расчет!A2397>=2000,Расчет!B2397>=2000),Расчет!J2397,0)","v":0},{"$f":"IF(AND(Расчет!A2397<2000,Расчет!B2397<2000),Расчет!J2397,0)","v":0},null,null,{"$f":"IF(OR(Расчет!A2397>=2000,Расчет!B2397>=2000),Расчет!M2397,0)","v":0},{"$f":"IF(AND(Расчет!A2397<2000,Расчет!B2397<2000),Расчет!M2397,0)","v":0}]
[{"$f":"IF(OR(Расчет!A2398>=2000,Расчет!B2398>=2000),Расчет!G2398,0)","v":0},{"$f":"IF(AND(Расчет!A2398<2000,Расчет!B2398<2000),Расчет!G2398,0)","v":0},null,null,{"$f":"IF(OR(Расчет!A2398>=2000,Расчет!B2398>=2000),Расчет!J2398,0)","v":0},{"$f":"IF(AND(Расчет!A2398<2000,Расчет!B2398<2000),Расчет!J2398,0)","v":0},null,null,{"$f":"IF(OR(Расчет!A2398>=2000,Расчет!B2398>=2000),Расчет!M2398,0)","v":0},{"$f":"IF(AND(Расчет!A2398<2000,Расчет!B2398<2000),Расчет!M2398,0)","v":0}]
[{"$f":"IF(OR(Расчет!A2399>=2000,Расчет!B2399>=2000),Расчет!G2399,0)","v":0},{"$f":"IF(AND(Расчет!A2399<2000,Расчет!B2399<2000),Расчет!G2399,0)","v":0},null,null,{"$f":"IF(OR(Расчет!A2399>=2000,Расчет!B2399>=2000),Расчет!J2399,0)","v":0},{"$f":"IF(AND(Расчет!A2399<2000,Расчет!B2399<2000),Расчет!J2399,0)","v":0},null,null,{"$f":"IF(OR(Расчет!A2399>=2000,Расчет!B2399>=2000),Расчет!M2399,0)","v":0},{"$f":"IF(AND(Расчет!A2399<2000,Расчет!B2399<2000),Расчет!M2399,0)","v":0}]
[{"$f":"IF(OR(Расчет!A2400>=2000,Расчет!B2400>=2000),Расчет!G2400,0)","v":0},{"$f":"IF(AND(Расчет!A2400<2000,Расчет!B2400<2000),Расчет!G2400,0)","v":0},null,null,{"$f":"IF(OR(Расчет!A2400>=2000,Расчет!B2400>=2000),Расчет!J2400,0)","v":0},{"$f":"IF(AND(Расчет!A2400<2000,Расчет!B2400<2000),Расчет!J2400,0)","v":0},null,null,{"$f":"IF(OR(Расчет!A2400>=2000,Расчет!B2400>=2000),Расчет!M2400,0)","v":0},{"$f":"IF(AND(Расчет!A2400<2000,Расчет!B2400<2000),Расчет!M2400,0)","v":0}]
[{"$f":"IF(OR(Расчет!A2401>=2000,Расчет!B2401>=2000),Расчет!G2401,0)","v":0},{"$f":"IF(AND(Расчет!A2401<2000,Расчет!B2401<2000),Расчет!G2401,0)","v":0},null,null,{"$f":"IF(OR(Расчет!A2401>=2000,Расчет!B2401>=2000),Расчет!J2401,0)","v":0},{"$f":"IF(AND(Расчет!A2401<2000,Расчет!B2401<2000),Расчет!J2401,0)","v":0},null,null,{"$f":"IF(OR(Расчет!A2401>=2000,Расчет!B2401>=2000),Расчет!M2401,0)","v":0},{"$f":"IF(AND(Расчет!A2401<2000,Расчет!B2401<2000),Расчет!M2401,0)","v":0}]
[{"$f":"IF(OR(Расчет!A2402>=2000,Расчет!B2402>=2000),Расчет!G2402,0)","v":0},{"$f":"IF(AND(Расчет!A2402<2000,Расчет!B2402<2000),Расчет!G2402,0)","v":0},null,null,{"$f":"IF(OR(Расчет!A2402>=2000,Расчет!B2402>=2000),Расчет!J2402,0)","v":0},{"$f":"IF(AND(Расчет!A2402<2000,Расчет!B2402<2000),Расчет!J2402,0)","v":0},null,null,{"$f":"IF(OR(Расчет!A2402>=2000,Расчет!B2402>=2000),Расчет!M2402,0)","v":0},{"$f":"IF(AND(Расчет!A2402<2000,Расчет!B2402<2000),Расчет!M2402,0)","v":0}]
[{"$f":"IF(OR(Расчет!A2403>=2000,Расчет!B2403>=2000),Расчет!G2403,0)","v":0},{"$f":"IF(AND(Расчет!A2403<2000,Расчет!B2403<2000),Расчет!G2403,0)","v":0},null,null,{"$f":"IF(OR(Расчет!A2403>=2000,Расчет!B2403>=2000),Расчет!J2403,0)","v":0},{"$f":"IF(AND(Расчет!A2403<2000,Расчет!B2403<2000),Расчет!J2403,0)","v":0},null,null,{"$f":"IF(OR(Расчет!A2403>=2000,Расчет!B2403>=2000),Расчет!M2403,0)","v":0},{"$f":"IF(AND(Расчет!A2403<2000,Расчет!B2403<2000),Расчет!M2403,0)","v":0}]
[{"$f":"IF(OR(Расчет!A2404>=2000,Расчет!B2404>=2000),Расчет!G2404,0)","v":0},{"$f":"IF(AND(Расчет!A2404<2000,Расчет!B2404<2000),Расчет!G2404,0)","v":0},null,null,{"$f":"IF(OR(Расчет!A2404>=2000,Расчет!B2404>=2000),Расчет!J2404,0)","v":0},{"$f":"IF(AND(Расчет!A2404<2000,Расчет!B2404<2000),Расчет!J2404,0)","v":0},null,null,{"$f":"IF(OR(Расчет!A2404>=2000,Расчет!B2404>=2000),Расчет!M2404,0)","v":0},{"$f":"IF(AND(Расчет!A2404<2000,Расчет!B2404<2000),Расчет!M2404,0)","v":0}]
[{"$f":"IF(OR(Расчет!A2405>=2000,Расчет!B2405>=2000),Расчет!G2405,0)","v":0},{"$f":"IF(AND(Расчет!A2405<2000,Расчет!B2405<2000),Расчет!G2405,0)","v":0},null,null,{"$f":"IF(OR(Расчет!A2405>=2000,Расчет!B2405>=2000),Расчет!J2405,0)","v":0},{"$f":"IF(AND(Расчет!A2405<2000,Расчет!B2405<2000),Расчет!J2405,0)","v":0},null,null,{"$f":"IF(OR(Расчет!A2405>=2000,Расчет!B2405>=2000),Расчет!M2405,0)","v":0},{"$f":"IF(AND(Расчет!A2405<2000,Расчет!B2405<2000),Расчет!M2405,0)","v":0}]
[{"$f":"IF(OR(Расчет!A2406>=2000,Расчет!B2406>=2000),Расчет!G2406,0)","v":0},{"$f":"IF(AND(Расчет!A2406<2000,Расчет!B2406<2000),Расчет!G2406,0)","v":0},null,null,{"$f":"IF(OR(Расчет!A2406>=2000,Расчет!B2406>=2000),Расчет!J2406,0)","v":0},{"$f":"IF(AND(Расчет!A2406<2000,Расчет!B2406<2000),Расчет!J2406,0)","v":0},null,null,{"$f":"IF(OR(Расчет!A2406>=2000,Расчет!B2406>=2000),Расчет!M2406,0)","v":0},{"$f":"IF(AND(Расчет!A2406<2000,Расчет!B2406<2000),Расчет!M2406,0)","v":0}]
[{"$f":"IF(OR(Расчет!A2407>=2000,Расчет!B2407>=2000),Расчет!G2407,0)","v":0},{"$f":"IF(AND(Расчет!A2407<2000,Расчет!B2407<2000),Расчет!G2407,0)","v":0},null,null,{"$f":"IF(OR(Расчет!A2407>=2000,Расчет!B2407>=2000),Расчет!J2407,0)","v":0},{"$f":"IF(AND(Расчет!A2407<2000,Расчет!B2407<2000),Расчет!J2407,0)","v":0},null,null,{"$f":"IF(OR(Расчет!A2407>=2000,Расчет!B2407>=2000),Расчет!M2407,0)","v":0},{"$f":"IF(AND(Расчет!A2407<2000,Расчет!B2407<2000),Расчет!M2407,0)","v":0}]
[{"$f":"IF(OR(Расчет!A2408>=2000,Расчет!B2408>=2000),Расчет!G2408,0)","v":0},{"$f":"IF(AND(Расчет!A2408<2000,Расчет!B2408<2000),Расчет!G2408,0)","v":0},null,null,{"$f":"IF(OR(Расчет!A2408>=2000,Расчет!B2408>=2000),Расчет!J2408,0)","v":0},{"$f":"IF(AND(Расчет!A2408<2000,Расчет!B2408<2000),Расчет!J2408,0)","v":0},null,null,{"$f":"IF(OR(Расчет!A2408>=2000,Расчет!B2408>=2000),Расчет!M2408,0)","v":0},{"$f":"IF(AND(Расчет!A2408<2000,Расчет!B2408<2000),Расчет!M2408,0)","v":0}]
[{"$f":"IF(OR(Расчет!A2409>=2000,Расчет!B2409>=2000),Расчет!G2409,0)","v":0},{"$f":"IF(AND(Расчет!A2409<2000,Расчет!B2409<2000),Расчет!G2409,0)","v":0},null,null,{"$f":"IF(OR(Расчет!A2409>=2000,Расчет!B2409>=2000),Расчет!J2409,0)","v":0},{"$f":"IF(AND(Расчет!A2409<2000,Расчет!B2409<2000),Расчет!J2409,0)","v":0},null,null,{"$f":"IF(OR(Расчет!A2409>=2000,Расчет!B2409>=2000),Расчет!M2409,0)","v":0},{"$f":"IF(AND(Расчет!A2409<2000,Расчет!B2409<2000),Расчет!M2409,0)","v":0}]
[{"$f":"IF(OR(Расчет!A2410>=2000,Расчет!B2410>=2000),Расчет!G2410,0)","v":0},{"$f":"IF(AND(Расчет!A2410<2000,Расчет!B2410<2000),Расчет!G2410,0)","v":0},null,null,{"$f":"IF(OR(Расчет!A2410>=2000,Расчет!B2410>=2000),Расчет!J2410,0)","v":0},{"$f":"IF(AND(Расчет!A2410<2000,Расчет!B2410<2000),Расчет!J2410,0)","v":0},null,null,{"$f":"IF(OR(Расчет!A2410>=2000,Расчет!B2410>=2000),Расчет!M2410,0)","v":0},{"$f":"IF(AND(Расчет!A2410<2000,Расчет!B2410<2000),Расчет!M2410,0)","v":0}]
[{"$f":"IF(OR(Расчет!A2411>=2000,Расчет!B2411>=2000),Расчет!G2411,0)","v":0},{"$f":"IF(AND(Расчет!A2411<2000,Расчет!B2411<2000),Расчет!G2411,0)","v":0},null,null,{"$f":"IF(OR(Расчет!A2411>=2000,Расчет!B2411>=2000),Расчет!J2411,0)","v":0},{"$f":"IF(AND(Расчет!A2411<2000,Расчет!B2411<2000),Расчет!J2411,0)","v":0},null,null,{"$f":"IF(OR(Расчет!A2411>=2000,Расчет!B2411>=2000),Расчет!M2411,0)","v":0},{"$f":"IF(AND(Расчет!A2411<2000,Расчет!B2411<2000),Расчет!M2411,0)","v":0}]
[{"$f":"IF(OR(Расчет!A2412>=2000,Расчет!B2412>=2000),Расчет!G2412,0)","v":0},{"$f":"IF(AND(Расчет!A2412<2000,Расчет!B2412<2000),Расчет!G2412,0)","v":0},null,null,{"$f":"IF(OR(Расчет!A2412>=2000,Расчет!B2412>=2000),Расчет!J2412,0)","v":0},{"$f":"IF(AND(Расчет!A2412<2000,Расчет!B2412<2000),Расчет!J2412,0)","v":0},null,null,{"$f":"IF(OR(Расчет!A2412>=2000,Расчет!B2412>=2000),Расчет!M2412,0)","v":0},{"$f":"IF(AND(Расчет!A2412<2000,Расчет!B2412<2000),Расчет!M2412,0)","v":0}]
[{"$f":"IF(OR(Расчет!A2413>=2000,Расчет!B2413>=2000),Расчет!G2413,0)","v":0},{"$f":"IF(AND(Расчет!A2413<2000,Расчет!B2413<2000),Расчет!G2413,0)","v":0},null,null,{"$f":"IF(OR(Расчет!A2413>=2000,Расчет!B2413>=2000),Расчет!J2413,0)","v":0},{"$f":"IF(AND(Расчет!A2413<2000,Расчет!B2413<2000),Расчет!J2413,0)","v":0},null,null,{"$f":"IF(OR(Расчет!A2413>=2000,Расчет!B2413>=2000),Расчет!M2413,0)","v":0},{"$f":"IF(AND(Расчет!A2413<2000,Расчет!B2413<2000),Расчет!M2413,0)","v":0}]
[{"$f":"IF(OR(Расчет!A2414>=2000,Расчет!B2414>=2000),Расчет!G2414,0)","v":0},{"$f":"IF(AND(Расчет!A2414<2000,Расчет!B2414<2000),Расчет!G2414,0)","v":0},null,null,{"$f":"IF(OR(Расчет!A2414>=2000,Расчет!B2414>=2000),Расчет!J2414,0)","v":0},{"$f":"IF(AND(Расчет!A2414<2000,Расчет!B2414<2000),Расчет!J2414,0)","v":0},null,null,{"$f":"IF(OR(Расчет!A2414>=2000,Расчет!B2414>=2000),Расчет!M2414,0)","v":0},{"$f":"IF(AND(Расчет!A2414<2000,Расчет!B2414<2000),Расчет!M2414,0)","v":0}]
[{"$f":"IF(OR(Расчет!A2415>=2000,Расчет!B2415>=2000),Расчет!G2415,0)","v":0},{"$f":"IF(AND(Расчет!A2415<2000,Расчет!B2415<2000),Расчет!G2415,0)","v":0},null,null,{"$f":"IF(OR(Расчет!A2415>=2000,Расчет!B2415>=2000),Расчет!J2415,0)","v":0},{"$f":"IF(AND(Расчет!A2415<2000,Расчет!B2415<2000),Расчет!J2415,0)","v":0},null,null,{"$f":"IF(OR(Расчет!A2415>=2000,Расчет!B2415>=2000),Расчет!M2415,0)","v":0},{"$f":"IF(AND(Расчет!A2415<2000,Расчет!B2415<2000),Расчет!M2415,0)","v":0}]
[{"$f":"IF(OR(Расчет!A2416>=2000,Расчет!B2416>=2000),Расчет!G2416,0)","v":0},{"$f":"IF(AND(Расчет!A2416<2000,Расчет!B2416<2000),Расчет!G2416,0)","v":0},null,null,{"$f":"IF(OR(Расчет!A2416>=2000,Расчет!B2416>=2000),Расчет!J2416,0)","v":0},{"$f":"IF(AND(Расчет!A2416<2000,Расчет!B2416<2000),Расчет!J2416,0)","v":0},null,null,{"$f":"IF(OR(Расчет!A2416>=2000,Расчет!B2416>=2000),Расчет!M2416,0)","v":0},{"$f":"IF(AND(Расчет!A2416<2000,Расчет!B2416<2000),Расчет!M2416,0)","v":0}]
[{"$f":"IF(OR(Расчет!A2417>=2000,Расчет!B2417>=2000),Расчет!G2417,0)","v":0},{"$f":"IF(AND(Расчет!A2417<2000,Расчет!B2417<2000),Расчет!G2417,0)","v":0},null,null,{"$f":"IF(OR(Расчет!A2417>=2000,Расчет!B2417>=2000),Расчет!J2417,0)","v":0},{"$f":"IF(AND(Расчет!A2417<2000,Расчет!B2417<2000),Расчет!J2417,0)","v":0},null,null,{"$f":"IF(OR(Расчет!A2417>=2000,Расчет!B2417>=2000),Расчет!M2417,0)","v":0},{"$f":"IF(AND(Расчет!A2417<2000,Расчет!B2417<2000),Расчет!M2417,0)","v":0}]
[{"$f":"IF(OR(Расчет!A2418>=2000,Расчет!B2418>=2000),Расчет!G2418,0)","v":0},{"$f":"IF(AND(Расчет!A2418<2000,Расчет!B2418<2000),Расчет!G2418,0)","v":0},null,null,{"$f":"IF(OR(Расчет!A2418>=2000,Расчет!B2418>=2000),Расчет!J2418,0)","v":0},{"$f":"IF(AND(Расчет!A2418<2000,Расчет!B2418<2000),Расчет!J2418,0)","v":0},null,null,{"$f":"IF(OR(Расчет!A2418>=2000,Расчет!B2418>=2000),Расчет!M2418,0)","v":0},{"$f":"IF(AND(Расчет!A2418<2000,Расчет!B2418<2000),Расчет!M2418,0)","v":0}]
[{"$f":"IF(OR(Расчет!A2419>=2000,Расчет!B2419>=2000),Расчет!G2419,0)","v":0},{"$f":"IF(AND(Расчет!A2419<2000,Расчет!B2419<2000),Расчет!G2419,0)","v":0},null,null,{"$f":"IF(OR(Расчет!A2419>=2000,Расчет!B2419>=2000),Расчет!J2419,0)","v":0},{"$f":"IF(AND(Расчет!A2419<2000,Расчет!B2419<2000),Расчет!J2419,0)","v":0},null,null,{"$f":"IF(OR(Расчет!A2419>=2000,Расчет!B2419>=2000),Расчет!M2419,0)","v":0},{"$f":"IF(AND(Расчет!A2419<2000,Расчет!B2419<2000),Расчет!M2419,0)","v":0}]
[{"$f":"IF(OR(Расчет!A2420>=2000,Расчет!B2420>=2000),Расчет!G2420,0)","v":0},{"$f":"IF(AND(Расчет!A2420<2000,Расчет!B2420<2000),Расчет!G2420,0)","v":0},null,null,{"$f":"IF(OR(Расчет!A2420>=2000,Расчет!B2420>=2000),Расчет!J2420,0)","v":0},{"$f":"IF(AND(Расчет!A2420<2000,Расчет!B2420<2000),Расчет!J2420,0)","v":0},null,null,{"$f":"IF(OR(Расчет!A2420>=2000,Расчет!B2420>=2000),Расчет!M2420,0)","v":0},{"$f":"IF(AND(Расчет!A2420<2000,Расчет!B2420<2000),Расчет!M2420,0)","v":0}]
[{"$f":"IF(OR(Расчет!A2421>=2000,Расчет!B2421>=2000),Расчет!G2421,0)","v":0},{"$f":"IF(AND(Расчет!A2421<2000,Расчет!B2421<2000),Расчет!G2421,0)","v":0},null,null,{"$f":"IF(OR(Расчет!A2421>=2000,Расчет!B2421>=2000),Расчет!J2421,0)","v":0},{"$f":"IF(AND(Расчет!A2421<2000,Расчет!B2421<2000),Расчет!J2421,0)","v":0},null,null,{"$f":"IF(OR(Расчет!A2421>=2000,Расчет!B2421>=2000),Расчет!M2421,0)","v":0},{"$f":"IF(AND(Расчет!A2421<2000,Расчет!B2421<2000),Расчет!M2421,0)","v":0}]
[{"$f":"IF(OR(Расчет!A2422>=2000,Расчет!B2422>=2000),Расчет!G2422,0)","v":0},{"$f":"IF(AND(Расчет!A2422<2000,Расчет!B2422<2000),Расчет!G2422,0)","v":0},null,null,{"$f":"IF(OR(Расчет!A2422>=2000,Расчет!B2422>=2000),Расчет!J2422,0)","v":0},{"$f":"IF(AND(Расчет!A2422<2000,Расчет!B2422<2000),Расчет!J2422,0)","v":0},null,null,{"$f":"IF(OR(Расчет!A2422>=2000,Расчет!B2422>=2000),Расчет!M2422,0)","v":0},{"$f":"IF(AND(Расчет!A2422<2000,Расчет!B2422<2000),Расчет!M2422,0)","v":0}]
[{"$f":"IF(OR(Расчет!A2423>=2000,Расчет!B2423>=2000),Расчет!G2423,0)","v":0},{"$f":"IF(AND(Расчет!A2423<2000,Расчет!B2423<2000),Расчет!G2423,0)","v":0},null,null,{"$f":"IF(OR(Расчет!A2423>=2000,Расчет!B2423>=2000),Расчет!J2423,0)","v":0},{"$f":"IF(AND(Расчет!A2423<2000,Расчет!B2423<2000),Расчет!J2423,0)","v":0},null,null,{"$f":"IF(OR(Расчет!A2423>=2000,Расчет!B2423>=2000),Расчет!M2423,0)","v":0},{"$f":"IF(AND(Расчет!A2423<2000,Расчет!B2423<2000),Расчет!M2423,0)","v":0}]
[{"$f":"IF(OR(Расчет!A2424>=2000,Расчет!B2424>=2000),Расчет!G2424,0)","v":0},{"$f":"IF(AND(Расчет!A2424<2000,Расчет!B2424<2000),Расчет!G2424,0)","v":0},null,null,{"$f":"IF(OR(Расчет!A2424>=2000,Расчет!B2424>=2000),Расчет!J2424,0)","v":0},{"$f":"IF(AND(Расчет!A2424<2000,Расчет!B2424<2000),Расчет!J2424,0)","v":0},null,null,{"$f":"IF(OR(Расчет!A2424>=2000,Расчет!B2424>=2000),Расчет!M2424,0)","v":0},{"$f":"IF(AND(Расчет!A2424<2000,Расчет!B2424<2000),Расчет!M2424,0)","v":0}]
[{"$f":"IF(OR(Расчет!A2425>=2000,Расчет!B2425>=2000),Расчет!G2425,0)","v":0},{"$f":"IF(AND(Расчет!A2425<2000,Расчет!B2425<2000),Расчет!G2425,0)","v":0},null,null,{"$f":"IF(OR(Расчет!A2425>=2000,Расчет!B2425>=2000),Расчет!J2425,0)","v":0},{"$f":"IF(AND(Расчет!A2425<2000,Расчет!B2425<2000),Расчет!J2425,0)","v":0},null,null,{"$f":"IF(OR(Расчет!A2425>=2000,Расчет!B2425>=2000),Расчет!M2425,0)","v":0},{"$f":"IF(AND(Расчет!A2425<2000,Расчет!B2425<2000),Расчет!M2425,0)","v":0}]
[{"$f":"IF(OR(Расчет!A2426>=2000,Расчет!B2426>=2000),Расчет!G2426,0)","v":0},{"$f":"IF(AND(Расчет!A2426<2000,Расчет!B2426<2000),Расчет!G2426,0)","v":0},null,null,{"$f":"IF(OR(Расчет!A2426>=2000,Расчет!B2426>=2000),Расчет!J2426,0)","v":0},{"$f":"IF(AND(Расчет!A2426<2000,Расчет!B2426<2000),Расчет!J2426,0)","v":0},null,null,{"$f":"IF(OR(Расчет!A2426>=2000,Расчет!B2426>=2000),Расчет!M2426,0)","v":0},{"$f":"IF(AND(Расчет!A2426<2000,Расчет!B2426<2000),Расчет!M2426,0)","v":0}]
[{"$f":"IF(OR(Расчет!A2427>=2000,Расчет!B2427>=2000),Расчет!G2427,0)","v":0},{"$f":"IF(AND(Расчет!A2427<2000,Расчет!B2427<2000),Расчет!G2427,0)","v":0},null,null,{"$f":"IF(OR(Расчет!A2427>=2000,Расчет!B2427>=2000),Расчет!J2427,0)","v":0},{"$f":"IF(AND(Расчет!A2427<2000,Расчет!B2427<2000),Расчет!J2427,0)","v":0},null,null,{"$f":"IF(OR(Расчет!A2427>=2000,Расчет!B2427>=2000),Расчет!M2427,0)","v":0},{"$f":"IF(AND(Расчет!A2427<2000,Расчет!B2427<2000),Расчет!M2427,0)","v":0}]
[{"$f":"IF(OR(Расчет!A2428>=2000,Расчет!B2428>=2000),Расчет!G2428,0)","v":0},{"$f":"IF(AND(Расчет!A2428<2000,Расчет!B2428<2000),Расчет!G2428,0)","v":0},null,null,{"$f":"IF(OR(Расчет!A2428>=2000,Расчет!B2428>=2000),Расчет!J2428,0)","v":0},{"$f":"IF(AND(Расчет!A2428<2000,Расчет!B2428<2000),Расчет!J2428,0)","v":0},null,null,{"$f":"IF(OR(Расчет!A2428>=2000,Расчет!B2428>=2000),Расчет!M2428,0)","v":0},{"$f":"IF(AND(Расчет!A2428<2000,Расчет!B2428<2000),Расчет!M2428,0)","v":0}]
[{"$f":"IF(OR(Расчет!A2429>=2000,Расчет!B2429>=2000),Расчет!G2429,0)","v":0},{"$f":"IF(AND(Расчет!A2429<2000,Расчет!B2429<2000),Расчет!G2429,0)","v":0},null,null,{"$f":"IF(OR(Расчет!A2429>=2000,Расчет!B2429>=2000),Расчет!J2429,0)","v":0},{"$f":"IF(AND(Расчет!A2429<2000,Расчет!B2429<2000),Расчет!J2429,0)","v":0},null,null,{"$f":"IF(OR(Расчет!A2429>=2000,Расчет!B2429>=2000),Расчет!M2429,0)","v":0},{"$f":"IF(AND(Расчет!A2429<2000,Расчет!B2429<2000),Расчет!M2429,0)","v":0}]
[{"$f":"IF(OR(Расчет!A2430>=2000,Расчет!B2430>=2000),Расчет!G2430,0)","v":0},{"$f":"IF(AND(Расчет!A2430<2000,Расчет!B2430<2000),Расчет!G2430,0)","v":0},null,null,{"$f":"IF(OR(Расчет!A2430>=2000,Расчет!B2430>=2000),Расчет!J2430,0)","v":0},{"$f":"IF(AND(Расчет!A2430<2000,Расчет!B2430<2000),Расчет!J2430,0)","v":0},null,null,{"$f":"IF(OR(Расчет!A2430>=2000,Расчет!B2430>=2000),Расчет!M2430,0)","v":0},{"$f":"IF(AND(Расчет!A2430<2000,Расчет!B2430<2000),Расчет!M2430,0)","v":0}]
[{"$f":"IF(OR(Расчет!A2431>=2000,Расчет!B2431>=2000),Расчет!G2431,0)","v":0},{"$f":"IF(AND(Расчет!A2431<2000,Расчет!B2431<2000),Расчет!G2431,0)","v":0},null,null,{"$f":"IF(OR(Расчет!A2431>=2000,Расчет!B2431>=2000),Расчет!J2431,0)","v":0},{"$f":"IF(AND(Расчет!A2431<2000,Расчет!B2431<2000),Расчет!J2431,0)","v":0},null,null,{"$f":"IF(OR(Расчет!A2431>=2000,Расчет!B2431>=2000),Расчет!M2431,0)","v":0},{"$f":"IF(AND(Расчет!A2431<2000,Расчет!B2431<2000),Расчет!M2431,0)","v":0}]
[{"$f":"IF(OR(Расчет!A2432>=2000,Расчет!B2432>=2000),Расчет!G2432,0)","v":0},{"$f":"IF(AND(Расчет!A2432<2000,Расчет!B2432<2000),Расчет!G2432,0)","v":0},null,null,{"$f":"IF(OR(Расчет!A2432>=2000,Расчет!B2432>=2000),Расчет!J2432,0)","v":0},{"$f":"IF(AND(Расчет!A2432<2000,Расчет!B2432<2000),Расчет!J2432,0)","v":0},null,null,{"$f":"IF(OR(Расчет!A2432>=2000,Расчет!B2432>=2000),Расчет!M2432,0)","v":0},{"$f":"IF(AND(Расчет!A2432<2000,Расчет!B2432<2000),Расчет!M2432,0)","v":0}]
[{"$f":"IF(OR(Расчет!A2433>=2000,Расчет!B2433>=2000),Расчет!G2433,0)","v":0},{"$f":"IF(AND(Расчет!A2433<2000,Расчет!B2433<2000),Расчет!G2433,0)","v":0},null,null,{"$f":"IF(OR(Расчет!A2433>=2000,Расчет!B2433>=2000),Расчет!J2433,0)","v":0},{"$f":"IF(AND(Расчет!A2433<2000,Расчет!B2433<2000),Расчет!J2433,0)","v":0},null,null,{"$f":"IF(OR(Расчет!A2433>=2000,Расчет!B2433>=2000),Расчет!M2433,0)","v":0},{"$f":"IF(AND(Расчет!A2433<2000,Расчет!B2433<2000),Расчет!M2433,0)","v":0}]
[{"$f":"IF(OR(Расчет!A2434>=2000,Расчет!B2434>=2000),Расчет!G2434,0)","v":0},{"$f":"IF(AND(Расчет!A2434<2000,Расчет!B2434<2000),Расчет!G2434,0)","v":0},null,null,{"$f":"IF(OR(Расчет!A2434>=2000,Расчет!B2434>=2000),Расчет!J2434,0)","v":0},{"$f":"IF(AND(Расчет!A2434<2000,Расчет!B2434<2000),Расчет!J2434,0)","v":0},null,null,{"$f":"IF(OR(Расчет!A2434>=2000,Расчет!B2434>=2000),Расчет!M2434,0)","v":0},{"$f":"IF(AND(Расчет!A2434<2000,Расчет!B2434<2000),Расчет!M2434,0)","v":0}]
[{"$f":"IF(OR(Расчет!A2435>=2000,Расчет!B2435>=2000),Расчет!G2435,0)","v":0},{"$f":"IF(AND(Расчет!A2435<2000,Расчет!B2435<2000),Расчет!G2435,0)","v":0},null,null,{"$f":"IF(OR(Расчет!A2435>=2000,Расчет!B2435>=2000),Расчет!J2435,0)","v":0},{"$f":"IF(AND(Расчет!A2435<2000,Расчет!B2435<2000),Расчет!J2435,0)","v":0},null,null,{"$f":"IF(OR(Расчет!A2435>=2000,Расчет!B2435>=2000),Расчет!M2435,0)","v":0},{"$f":"IF(AND(Расчет!A2435<2000,Расчет!B2435<2000),Расчет!M2435,0)","v":0}]
[{"$f":"IF(OR(Расчет!A2436>=2000,Расчет!B2436>=2000),Расчет!G2436,0)","v":0},{"$f":"IF(AND(Расчет!A2436<2000,Расчет!B2436<2000),Расчет!G2436,0)","v":0},null,null,{"$f":"IF(OR(Расчет!A2436>=2000,Расчет!B2436>=2000),Расчет!J2436,0)","v":0},{"$f":"IF(AND(Расчет!A2436<2000,Расчет!B2436<2000),Расчет!J2436,0)","v":0},null,null,{"$f":"IF(OR(Расчет!A2436>=2000,Расчет!B2436>=2000),Расчет!M2436,0)","v":0},{"$f":"IF(AND(Расчет!A2436<2000,Расчет!B2436<2000),Расчет!M2436,0)","v":0}]
[{"$f":"IF(OR(Расчет!A2437>=2000,Расчет!B2437>=2000),Расчет!G2437,0)","v":0},{"$f":"IF(AND(Расчет!A2437<2000,Расчет!B2437<2000),Расчет!G2437,0)","v":0},null,null,{"$f":"IF(OR(Расчет!A2437>=2000,Расчет!B2437>=2000),Расчет!J2437,0)","v":0},{"$f":"IF(AND(Расчет!A2437<2000,Расчет!B2437<2000),Расчет!J2437,0)","v":0},null,null,{"$f":"IF(OR(Расчет!A2437>=2000,Расчет!B2437>=2000),Расчет!M2437,0)","v":0},{"$f":"IF(AND(Расчет!A2437<2000,Расчет!B2437<2000),Расчет!M2437,0)","v":0}]
[{"$f":"IF(OR(Расчет!A2438>=2000,Расчет!B2438>=2000),Расчет!G2438,0)","v":0},{"$f":"IF(AND(Расчет!A2438<2000,Расчет!B2438<2000),Расчет!G2438,0)","v":0},null,null,{"$f":"IF(OR(Расчет!A2438>=2000,Расчет!B2438>=2000),Расчет!J2438,0)","v":0},{"$f":"IF(AND(Расчет!A2438<2000,Расчет!B2438<2000),Расчет!J2438,0)","v":0},null,null,{"$f":"IF(OR(Расчет!A2438>=2000,Расчет!B2438>=2000),Расчет!M2438,0)","v":0},{"$f":"IF(AND(Расчет!A2438<2000,Расчет!B2438<2000),Расчет!M2438,0)","v":0}]
[{"$f":"IF(OR(Расчет!A2439>=2000,Расчет!B2439>=2000),Расчет!G2439,0)","v":0},{"$f":"IF(AND(Расчет!A2439<2000,Расчет!B2439<2000),Расчет!G2439,0)","v":0},null,null,{"$f":"IF(OR(Расчет!A2439>=2000,Расчет!B2439>=2000),Расчет!J2439,0)","v":0},{"$f":"IF(AND(Расчет!A2439<2000,Расчет!B2439<2000),Расчет!J2439,0)","v":0},null,null,{"$f":"IF(OR(Расчет!A2439>=2000,Расчет!B2439>=2000),Расчет!M2439,0)","v":0},{"$f":"IF(AND(Расчет!A2439<2000,Расчет!B2439<2000),Расчет!M2439,0)","v":0}]
[{"$f":"IF(OR(Расчет!A2440>=2000,Расчет!B2440>=2000),Расчет!G2440,0)","v":0},{"$f":"IF(AND(Расчет!A2440<2000,Расчет!B2440<2000),Расчет!G2440,0)","v":0},null,null,{"$f":"IF(OR(Расчет!A2440>=2000,Расчет!B2440>=2000),Расчет!J2440,0)","v":0},{"$f":"IF(AND(Расчет!A2440<2000,Расчет!B2440<2000),Расчет!J2440,0)","v":0},null,null,{"$f":"IF(OR(Расчет!A2440>=2000,Расчет!B2440>=2000),Расчет!M2440,0)","v":0},{"$f":"IF(AND(Расчет!A2440<2000,Расчет!B2440<2000),Расчет!M2440,0)","v":0}]
[{"$f":"IF(OR(Расчет!A2441>=2000,Расчет!B2441>=2000),Расчет!G2441,0)","v":0},{"$f":"IF(AND(Расчет!A2441<2000,Расчет!B2441<2000),Расчет!G2441,0)","v":0},null,null,{"$f":"IF(OR(Расчет!A2441>=2000,Расчет!B2441>=2000),Расчет!J2441,0)","v":0},{"$f":"IF(AND(Расчет!A2441<2000,Расчет!B2441<2000),Расчет!J2441,0)","v":0},null,null,{"$f":"IF(OR(Расчет!A2441>=2000,Расчет!B2441>=2000),Расчет!M2441,0)","v":0},{"$f":"IF(AND(Расчет!A2441<2000,Расчет!B2441<2000),Расчет!M2441,0)","v":0}]
[{"$f":"IF(OR(Расчет!A2442>=2000,Расчет!B2442>=2000),Расчет!G2442,0)","v":0},{"$f":"IF(AND(Расчет!A2442<2000,Расчет!B2442<2000),Расчет!G2442,0)","v":0},null,null,{"$f":"IF(OR(Расчет!A2442>=2000,Расчет!B2442>=2000),Расчет!J2442,0)","v":0},{"$f":"IF(AND(Расчет!A2442<2000,Расчет!B2442<2000),Расчет!J2442,0)","v":0},null,null,{"$f":"IF(OR(Расчет!A2442>=2000,Расчет!B2442>=2000),Расчет!M2442,0)","v":0},{"$f":"IF(AND(Расчет!A2442<2000,Расчет!B2442<2000),Расчет!M2442,0)","v":0}]
[{"$f":"IF(OR(Расчет!A2443>=2000,Расчет!B2443>=2000),Расчет!G2443,0)","v":0},{"$f":"IF(AND(Расчет!A2443<2000,Расчет!B2443<2000),Расчет!G2443,0)","v":0},null,null,{"$f":"IF(OR(Расчет!A2443>=2000,Расчет!B2443>=2000),Расчет!J2443,0)","v":0},{"$f":"IF(AND(Расчет!A2443<2000,Расчет!B2443<2000),Расчет!J2443,0)","v":0},null,null,{"$f":"IF(OR(Расчет!A2443>=2000,Расчет!B2443>=2000),Расчет!M2443,0)","v":0},{"$f":"IF(AND(Расчет!A2443<2000,Расчет!B2443<2000),Расчет!M2443,0)","v":0}]
[{"$f":"IF(OR(Расчет!A2444>=2000,Расчет!B2444>=2000),Расчет!G2444,0)","v":0},{"$f":"IF(AND(Расчет!A2444<2000,Расчет!B2444<2000),Расчет!G2444,0)","v":0},null,null,{"$f":"IF(OR(Расчет!A2444>=2000,Расчет!B2444>=2000),Расчет!J2444,0)","v":0},{"$f":"IF(AND(Расчет!A2444<2000,Расчет!B2444<2000),Расчет!J2444,0)","v":0},null,null,{"$f":"IF(OR(Расчет!A2444>=2000,Расчет!B2444>=2000),Расчет!M2444,0)","v":0},{"$f":"IF(AND(Расчет!A2444<2000,Расчет!B2444<2000),Расчет!M2444,0)","v":0}]
[{"$f":"IF(OR(Расчет!A2445>=2000,Расчет!B2445>=2000),Расчет!G2445,0)","v":0},{"$f":"IF(AND(Расчет!A2445<2000,Расчет!B2445<2000),Расчет!G2445,0)","v":0},null,null,{"$f":"IF(OR(Расчет!A2445>=2000,Расчет!B2445>=2000),Расчет!J2445,0)","v":0},{"$f":"IF(AND(Расчет!A2445<2000,Расчет!B2445<2000),Расчет!J2445,0)","v":0},null,null,{"$f":"IF(OR(Расчет!A2445>=2000,Расчет!B2445>=2000),Расчет!M2445,0)","v":0},{"$f":"IF(AND(Расчет!A2445<2000,Расчет!B2445<2000),Расчет!M2445,0)","v":0}]
[{"$f":"IF(OR(Расчет!A2446>=2000,Расчет!B2446>=2000),Расчет!G2446,0)","v":0},{"$f":"IF(AND(Расчет!A2446<2000,Расчет!B2446<2000),Расчет!G2446,0)","v":0},null,null,{"$f":"IF(OR(Расчет!A2446>=2000,Расчет!B2446>=2000),Расчет!J2446,0)","v":0},{"$f":"IF(AND(Расчет!A2446<2000,Расчет!B2446<2000),Расчет!J2446,0)","v":0},null,null,{"$f":"IF(OR(Расчет!A2446>=2000,Расчет!B2446>=2000),Расчет!M2446,0)","v":0},{"$f":"IF(AND(Расчет!A2446<2000,Расчет!B2446<2000),Расчет!M2446,0)","v":0}]
[{"$f":"IF(OR(Расчет!A2447>=2000,Расчет!B2447>=2000),Расчет!G2447,0)","v":0},{"$f":"IF(AND(Расчет!A2447<2000,Расчет!B2447<2000),Расчет!G2447,0)","v":0},null,null,{"$f":"IF(OR(Расчет!A2447>=2000,Расчет!B2447>=2000),Расчет!J2447,0)","v":0},{"$f":"IF(AND(Расчет!A2447<2000,Расчет!B2447<2000),Расчет!J2447,0)","v":0},null,null,{"$f":"IF(OR(Расчет!A2447>=2000,Расчет!B2447>=2000),Расчет!M2447,0)","v":0},{"$f":"IF(AND(Расчет!A2447<2000,Расчет!B2447<2000),Расчет!M2447,0)","v":0}]
[{"$f":"IF(OR(Расчет!A2448>=2000,Расчет!B2448>=2000),Расчет!G2448,0)","v":0},{"$f":"IF(AND(Расчет!A2448<2000,Расчет!B2448<2000),Расчет!G2448,0)","v":0},null,null,{"$f":"IF(OR(Расчет!A2448>=2000,Расчет!B2448>=2000),Расчет!J2448,0)","v":0},{"$f":"IF(AND(Расчет!A2448<2000,Расчет!B2448<2000),Расчет!J2448,0)","v":0},null,null,{"$f":"IF(OR(Расчет!A2448>=2000,Расчет!B2448>=2000),Расчет!M2448,0)","v":0},{"$f":"IF(AND(Расчет!A2448<2000,Расчет!B2448<2000),Расчет!M2448,0)","v":0}]
[{"$f":"IF(OR(Расчет!A2449>=2000,Расчет!B2449>=2000),Расчет!G2449,0)","v":0},{"$f":"IF(AND(Расчет!A2449<2000,Расчет!B2449<2000),Расчет!G2449,0)","v":0},null,null,{"$f":"IF(OR(Расчет!A2449>=2000,Расчет!B2449>=2000),Расчет!J2449,0)","v":0},{"$f":"IF(AND(Расчет!A2449<2000,Расчет!B2449<2000),Расчет!J2449,0)","v":0},null,null,{"$f":"IF(OR(Расчет!A2449>=2000,Расчет!B2449>=2000),Расчет!M2449,0)","v":0},{"$f":"IF(AND(Расчет!A2449<2000,Расчет!B2449<2000),Расчет!M2449,0)","v":0}]
[{"$f":"IF(OR(Расчет!A2450>=2000,Расчет!B2450>=2000),Расчет!G2450,0)","v":0},{"$f":"IF(AND(Расчет!A2450<2000,Расчет!B2450<2000),Расчет!G2450,0)","v":0},null,null,{"$f":"IF(OR(Расчет!A2450>=2000,Расчет!B2450>=2000),Расчет!J2450,0)","v":0},{"$f":"IF(AND(Расчет!A2450<2000,Расчет!B2450<2000),Расчет!J2450,0)","v":0},null,null,{"$f":"IF(OR(Расчет!A2450>=2000,Расчет!B2450>=2000),Расчет!M2450,0)","v":0},{"$f":"IF(AND(Расчет!A2450<2000,Расчет!B2450<2000),Расчет!M2450,0)","v":0}]
[{"$f":"IF(OR(Расчет!A2451>=2000,Расчет!B2451>=2000),Расчет!G2451,0)","v":0},{"$f":"IF(AND(Расчет!A2451<2000,Расчет!B2451<2000),Расчет!G2451,0)","v":0},null,null,{"$f":"IF(OR(Расчет!A2451>=2000,Расчет!B2451>=2000),Расчет!J2451,0)","v":0},{"$f":"IF(AND(Расчет!A2451<2000,Расчет!B2451<2000),Расчет!J2451,0)","v":0},null,null,{"$f":"IF(OR(Расчет!A2451>=2000,Расчет!B2451>=2000),Расчет!M2451,0)","v":0},{"$f":"IF(AND(Расчет!A2451<2000,Расчет!B2451<2000),Расчет!M2451,0)","v":0}]
[{"$f":"IF(OR(Расчет!A2452>=2000,Расчет!B2452>=2000),Расчет!G2452,0)","v":0},{"$f":"IF(AND(Расчет!A2452<2000,Расчет!B2452<2000),Расчет!G2452,0)","v":0},null,null,{"$f":"IF(OR(Расчет!A2452>=2000,Расчет!B2452>=2000),Расчет!J2452,0)","v":0},{"$f":"IF(AND(Расчет!A2452<2000,Расчет!B2452<2000),Расчет!J2452,0)","v":0},null,null,{"$f":"IF(OR(Расчет!A2452>=2000,Расчет!B2452>=2000),Расчет!M2452,0)","v":0},{"$f":"IF(AND(Расчет!A2452<2000,Расчет!B2452<2000),Расчет!M2452,0)","v":0}]
[{"$f":"IF(OR(Расчет!A2453>=2000,Расчет!B2453>=2000),Расчет!G2453,0)","v":0},{"$f":"IF(AND(Расчет!A2453<2000,Расчет!B2453<2000),Расчет!G2453,0)","v":0},null,null,{"$f":"IF(OR(Расчет!A2453>=2000,Расчет!B2453>=2000),Расчет!J2453,0)","v":0},{"$f":"IF(AND(Расчет!A2453<2000,Расчет!B2453<2000),Расчет!J2453,0)","v":0},null,null,{"$f":"IF(OR(Расчет!A2453>=2000,Расчет!B2453>=2000),Расчет!M2453,0)","v":0},{"$f":"IF(AND(Расчет!A2453<2000,Расчет!B2453<2000),Расчет!M2453,0)","v":0}]
[{"$f":"IF(OR(Расчет!A2454>=2000,Расчет!B2454>=2000),Расчет!G2454,0)","v":0},{"$f":"IF(AND(Расчет!A2454<2000,Расчет!B2454<2000),Расчет!G2454,0)","v":0},null,null,{"$f":"IF(OR(Расчет!A2454>=2000,Расчет!B2454>=2000),Расчет!J2454,0)","v":0},{"$f":"IF(AND(Расчет!A2454<2000,Расчет!B2454<2000),Расчет!J2454,0)","v":0},null,null,{"$f":"IF(OR(Расчет!A2454>=2000,Расчет!B2454>=2000),Расчет!M2454,0)","v":0},{"$f":"IF(AND(Расчет!A2454<2000,Расчет!B2454<2000),Расчет!M2454,0)","v":0}]
[{"$f":"IF(OR(Расчет!A2455>=2000,Расчет!B2455>=2000),Расчет!G2455,0)","v":0},{"$f":"IF(AND(Расчет!A2455<2000,Расчет!B2455<2000),Расчет!G2455,0)","v":0},null,null,{"$f":"IF(OR(Расчет!A2455>=2000,Расчет!B2455>=2000),Расчет!J2455,0)","v":0},{"$f":"IF(AND(Расчет!A2455<2000,Расчет!B2455<2000),Расчет!J2455,0)","v":0},null,null,{"$f":"IF(OR(Расчет!A2455>=2000,Расчет!B2455>=2000),Расчет!M2455,0)","v":0},{"$f":"IF(AND(Расчет!A2455<2000,Расчет!B2455<2000),Расчет!M2455,0)","v":0}]
[{"$f":"IF(OR(Расчет!A2456>=2000,Расчет!B2456>=2000),Расчет!G2456,0)","v":0},{"$f":"IF(AND(Расчет!A2456<2000,Расчет!B2456<2000),Расчет!G2456,0)","v":0},null,null,{"$f":"IF(OR(Расчет!A2456>=2000,Расчет!B2456>=2000),Расчет!J2456,0)","v":0},{"$f":"IF(AND(Расчет!A2456<2000,Расчет!B2456<2000),Расчет!J2456,0)","v":0},null,null,{"$f":"IF(OR(Расчет!A2456>=2000,Расчет!B2456>=2000),Расчет!M2456,0)","v":0},{"$f":"IF(AND(Расчет!A2456<2000,Расчет!B2456<2000),Расчет!M2456,0)","v":0}]
[{"$f":"IF(OR(Расчет!A2457>=2000,Расчет!B2457>=2000),Расчет!G2457,0)","v":0},{"$f":"IF(AND(Расчет!A2457<2000,Расчет!B2457<2000),Расчет!G2457,0)","v":0},null,null,{"$f":"IF(OR(Расчет!A2457>=2000,Расчет!B2457>=2000),Расчет!J2457,0)","v":0},{"$f":"IF(AND(Расчет!A2457<2000,Расчет!B2457<2000),Расчет!J2457,0)","v":0},null,null,{"$f":"IF(OR(Расчет!A2457>=2000,Расчет!B2457>=2000),Расчет!M2457,0)","v":0},{"$f":"IF(AND(Расчет!A2457<2000,Расчет!B2457<2000),Расчет!M2457,0)","v":0}]
[{"$f":"IF(OR(Расчет!A2458>=2000,Расчет!B2458>=2000),Расчет!G2458,0)","v":0},{"$f":"IF(AND(Расчет!A2458<2000,Расчет!B2458<2000),Расчет!G2458,0)","v":0},null,null,{"$f":"IF(OR(Расчет!A2458>=2000,Расчет!B2458>=2000),Расчет!J2458,0)","v":0},{"$f":"IF(AND(Расчет!A2458<2000,Расчет!B2458<2000),Расчет!J2458,0)","v":0},null,null,{"$f":"IF(OR(Расчет!A2458>=2000,Расчет!B2458>=2000),Расчет!M2458,0)","v":0},{"$f":"IF(AND(Расчет!A2458<2000,Расчет!B2458<2000),Расчет!M2458,0)","v":0}]
[{"$f":"IF(OR(Расчет!A2459>=2000,Расчет!B2459>=2000),Расчет!G2459,0)","v":0},{"$f":"IF(AND(Расчет!A2459<2000,Расчет!B2459<2000),Расчет!G2459,0)","v":0},null,null,{"$f":"IF(OR(Расчет!A2459>=2000,Расчет!B2459>=2000),Расчет!J2459,0)","v":0},{"$f":"IF(AND(Расчет!A2459<2000,Расчет!B2459<2000),Расчет!J2459,0)","v":0},null,null,{"$f":"IF(OR(Расчет!A2459>=2000,Расчет!B2459>=2000),Расчет!M2459,0)","v":0},{"$f":"IF(AND(Расчет!A2459<2000,Расчет!B2459<2000),Расчет!M2459,0)","v":0}]
[{"$f":"IF(OR(Расчет!A2460>=2000,Расчет!B2460>=2000),Расчет!G2460,0)","v":0},{"$f":"IF(AND(Расчет!A2460<2000,Расчет!B2460<2000),Расчет!G2460,0)","v":0},null,null,{"$f":"IF(OR(Расчет!A2460>=2000,Расчет!B2460>=2000),Расчет!J2460,0)","v":0},{"$f":"IF(AND(Расчет!A2460<2000,Расчет!B2460<2000),Расчет!J2460,0)","v":0},null,null,{"$f":"IF(OR(Расчет!A2460>=2000,Расчет!B2460>=2000),Расчет!M2460,0)","v":0},{"$f":"IF(AND(Расчет!A2460<2000,Расчет!B2460<2000),Расчет!M2460,0)","v":0}]
[{"$f":"IF(OR(Расчет!A2461>=2000,Расчет!B2461>=2000),Расчет!G2461,0)","v":0},{"$f":"IF(AND(Расчет!A2461<2000,Расчет!B2461<2000),Расчет!G2461,0)","v":0},null,null,{"$f":"IF(OR(Расчет!A2461>=2000,Расчет!B2461>=2000),Расчет!J2461,0)","v":0},{"$f":"IF(AND(Расчет!A2461<2000,Расчет!B2461<2000),Расчет!J2461,0)","v":0},null,null,{"$f":"IF(OR(Расчет!A2461>=2000,Расчет!B2461>=2000),Расчет!M2461,0)","v":0},{"$f":"IF(AND(Расчет!A2461<2000,Расчет!B2461<2000),Расчет!M2461,0)","v":0}]
[{"$f":"IF(OR(Расчет!A2462>=2000,Расчет!B2462>=2000),Расчет!G2462,0)","v":0},{"$f":"IF(AND(Расчет!A2462<2000,Расчет!B2462<2000),Расчет!G2462,0)","v":0},null,null,{"$f":"IF(OR(Расчет!A2462>=2000,Расчет!B2462>=2000),Расчет!J2462,0)","v":0},{"$f":"IF(AND(Расчет!A2462<2000,Расчет!B2462<2000),Расчет!J2462,0)","v":0},null,null,{"$f":"IF(OR(Расчет!A2462>=2000,Расчет!B2462>=2000),Расчет!M2462,0)","v":0},{"$f":"IF(AND(Расчет!A2462<2000,Расчет!B2462<2000),Расчет!M2462,0)","v":0}]
[{"$f":"IF(OR(Расчет!A2463>=2000,Расчет!B2463>=2000),Расчет!G2463,0)","v":0},{"$f":"IF(AND(Расчет!A2463<2000,Расчет!B2463<2000),Расчет!G2463,0)","v":0},null,null,{"$f":"IF(OR(Расчет!A2463>=2000,Расчет!B2463>=2000),Расчет!J2463,0)","v":0},{"$f":"IF(AND(Расчет!A2463<2000,Расчет!B2463<2000),Расчет!J2463,0)","v":0},null,null,{"$f":"IF(OR(Расчет!A2463>=2000,Расчет!B2463>=2000),Расчет!M2463,0)","v":0},{"$f":"IF(AND(Расчет!A2463<2000,Расчет!B2463<2000),Расчет!M2463,0)","v":0}]
[{"$f":"IF(OR(Расчет!A2464>=2000,Расчет!B2464>=2000),Расчет!G2464,0)","v":0},{"$f":"IF(AND(Расчет!A2464<2000,Расчет!B2464<2000),Расчет!G2464,0)","v":0},null,null,{"$f":"IF(OR(Расчет!A2464>=2000,Расчет!B2464>=2000),Расчет!J2464,0)","v":0},{"$f":"IF(AND(Расчет!A2464<2000,Расчет!B2464<2000),Расчет!J2464,0)","v":0},null,null,{"$f":"IF(OR(Расчет!A2464>=2000,Расчет!B2464>=2000),Расчет!M2464,0)","v":0},{"$f":"IF(AND(Расчет!A2464<2000,Расчет!B2464<2000),Расчет!M2464,0)","v":0}]
[{"$f":"IF(OR(Расчет!A2465>=2000,Расчет!B2465>=2000),Расчет!G2465,0)","v":0},{"$f":"IF(AND(Расчет!A2465<2000,Расчет!B2465<2000),Расчет!G2465,0)","v":0},null,null,{"$f":"IF(OR(Расчет!A2465>=2000,Расчет!B2465>=2000),Расчет!J2465,0)","v":0},{"$f":"IF(AND(Расчет!A2465<2000,Расчет!B2465<2000),Расчет!J2465,0)","v":0},null,null,{"$f":"IF(OR(Расчет!A2465>=2000,Расчет!B2465>=2000),Расчет!M2465,0)","v":0},{"$f":"IF(AND(Расчет!A2465<2000,Расчет!B2465<2000),Расчет!M2465,0)","v":0}]
[{"$f":"IF(OR(Расчет!A2466>=2000,Расчет!B2466>=2000),Расчет!G2466,0)","v":0},{"$f":"IF(AND(Расчет!A2466<2000,Расчет!B2466<2000),Расчет!G2466,0)","v":0},null,null,{"$f":"IF(OR(Расчет!A2466>=2000,Расчет!B2466>=2000),Расчет!J2466,0)","v":0},{"$f":"IF(AND(Расчет!A2466<2000,Расчет!B2466<2000),Расчет!J2466,0)","v":0},null,null,{"$f":"IF(OR(Расчет!A2466>=2000,Расчет!B2466>=2000),Расчет!M2466,0)","v":0},{"$f":"IF(AND(Расчет!A2466<2000,Расчет!B2466<2000),Расчет!M2466,0)","v":0}]
[{"$f":"IF(OR(Расчет!A2467>=2000,Расчет!B2467>=2000),Расчет!G2467,0)","v":0},{"$f":"IF(AND(Расчет!A2467<2000,Расчет!B2467<2000),Расчет!G2467,0)","v":0},null,null,{"$f":"IF(OR(Расчет!A2467>=2000,Расчет!B2467>=2000),Расчет!J2467,0)","v":0},{"$f":"IF(AND(Расчет!A2467<2000,Расчет!B2467<2000),Расчет!J2467,0)","v":0},null,null,{"$f":"IF(OR(Расчет!A2467>=2000,Расчет!B2467>=2000),Расчет!M2467,0)","v":0},{"$f":"IF(AND(Расчет!A2467<2000,Расчет!B2467<2000),Расчет!M2467,0)","v":0}]
[{"$f":"IF(OR(Расчет!A2468>=2000,Расчет!B2468>=2000),Расчет!G2468,0)","v":0},{"$f":"IF(AND(Расчет!A2468<2000,Расчет!B2468<2000),Расчет!G2468,0)","v":0},null,null,{"$f":"IF(OR(Расчет!A2468>=2000,Расчет!B2468>=2000),Расчет!J2468,0)","v":0},{"$f":"IF(AND(Расчет!A2468<2000,Расчет!B2468<2000),Расчет!J2468,0)","v":0},null,null,{"$f":"IF(OR(Расчет!A2468>=2000,Расчет!B2468>=2000),Расчет!M2468,0)","v":0},{"$f":"IF(AND(Расчет!A2468<2000,Расчет!B2468<2000),Расчет!M2468,0)","v":0}]
[{"$f":"IF(OR(Расчет!A2469>=2000,Расчет!B2469>=2000),Расчет!G2469,0)","v":0},{"$f":"IF(AND(Расчет!A2469<2000,Расчет!B2469<2000),Расчет!G2469,0)","v":0},null,null,{"$f":"IF(OR(Расчет!A2469>=2000,Расчет!B2469>=2000),Расчет!J2469,0)","v":0},{"$f":"IF(AND(Расчет!A2469<2000,Расчет!B2469<2000),Расчет!J2469,0)","v":0},null,null,{"$f":"IF(OR(Расчет!A2469>=2000,Расчет!B2469>=2000),Расчет!M2469,0)","v":0},{"$f":"IF(AND(Расчет!A2469<2000,Расчет!B2469<2000),Расчет!M2469,0)","v":0}]
[{"$f":"IF(OR(Расчет!A2470>=2000,Расчет!B2470>=2000),Расчет!G2470,0)","v":0},{"$f":"IF(AND(Расчет!A2470<2000,Расчет!B2470<2000),Расчет!G2470,0)","v":0},null,null,{"$f":"IF(OR(Расчет!A2470>=2000,Расчет!B2470>=2000),Расчет!J2470,0)","v":0},{"$f":"IF(AND(Расчет!A2470<2000,Расчет!B2470<2000),Расчет!J2470,0)","v":0},null,null,{"$f":"IF(OR(Расчет!A2470>=2000,Расчет!B2470>=2000),Расчет!M2470,0)","v":0},{"$f":"IF(AND(Расчет!A2470<2000,Расчет!B2470<2000),Расчет!M2470,0)","v":0}]
[{"$f":"IF(OR(Расчет!A2471>=2000,Расчет!B2471>=2000),Расчет!G2471,0)","v":0},{"$f":"IF(AND(Расчет!A2471<2000,Расчет!B2471<2000),Расчет!G2471,0)","v":0},null,null,{"$f":"IF(OR(Расчет!A2471>=2000,Расчет!B2471>=2000),Расчет!J2471,0)","v":0},{"$f":"IF(AND(Расчет!A2471<2000,Расчет!B2471<2000),Расчет!J2471,0)","v":0},null,null,{"$f":"IF(OR(Расчет!A2471>=2000,Расчет!B2471>=2000),Расчет!M2471,0)","v":0},{"$f":"IF(AND(Расчет!A2471<2000,Расчет!B2471<2000),Расчет!M2471,0)","v":0}]
[{"$f":"IF(OR(Расчет!A2472>=2000,Расчет!B2472>=2000),Расчет!G2472,0)","v":0},{"$f":"IF(AND(Расчет!A2472<2000,Расчет!B2472<2000),Расчет!G2472,0)","v":0},null,null,{"$f":"IF(OR(Расчет!A2472>=2000,Расчет!B2472>=2000),Расчет!J2472,0)","v":0},{"$f":"IF(AND(Расчет!A2472<2000,Расчет!B2472<2000),Расчет!J2472,0)","v":0},null,null,{"$f":"IF(OR(Расчет!A2472>=2000,Расчет!B2472>=2000),Расчет!M2472,0)","v":0},{"$f":"IF(AND(Расчет!A2472<2000,Расчет!B2472<2000),Расчет!M2472,0)","v":0}]
[{"$f":"IF(OR(Расчет!A2473>=2000,Расчет!B2473>=2000),Расчет!G2473,0)","v":0},{"$f":"IF(AND(Расчет!A2473<2000,Расчет!B2473<2000),Расчет!G2473,0)","v":0},null,null,{"$f":"IF(OR(Расчет!A2473>=2000,Расчет!B2473>=2000),Расчет!J2473,0)","v":0},{"$f":"IF(AND(Расчет!A2473<2000,Расчет!B2473<2000),Расчет!J2473,0)","v":0},null,null,{"$f":"IF(OR(Расчет!A2473>=2000,Расчет!B2473>=2000),Расчет!M2473,0)","v":0},{"$f":"IF(AND(Расчет!A2473<2000,Расчет!B2473<2000),Расчет!M2473,0)","v":0}]
[{"$f":"IF(OR(Расчет!A2474>=2000,Расчет!B2474>=2000),Расчет!G2474,0)","v":0},{"$f":"IF(AND(Расчет!A2474<2000,Расчет!B2474<2000),Расчет!G2474,0)","v":0},null,null,{"$f":"IF(OR(Расчет!A2474>=2000,Расчет!B2474>=2000),Расчет!J2474,0)","v":0},{"$f":"IF(AND(Расчет!A2474<2000,Расчет!B2474<2000),Расчет!J2474,0)","v":0},null,null,{"$f":"IF(OR(Расчет!A2474>=2000,Расчет!B2474>=2000),Расчет!M2474,0)","v":0},{"$f":"IF(AND(Расчет!A2474<2000,Расчет!B2474<2000),Расчет!M2474,0)","v":0}]
[{"$f":"IF(OR(Расчет!A2475>=2000,Расчет!B2475>=2000),Расчет!G2475,0)","v":0},{"$f":"IF(AND(Расчет!A2475<2000,Расчет!B2475<2000),Расчет!G2475,0)","v":0},null,null,{"$f":"IF(OR(Расчет!A2475>=2000,Расчет!B2475>=2000),Расчет!J2475,0)","v":0},{"$f":"IF(AND(Расчет!A2475<2000,Расчет!B2475<2000),Расчет!J2475,0)","v":0},null,null,{"$f":"IF(OR(Расчет!A2475>=2000,Расчет!B2475>=2000),Расчет!M2475,0)","v":0},{"$f":"IF(AND(Расчет!A2475<2000,Расчет!B2475<2000),Расчет!M2475,0)","v":0}]
[{"$f":"IF(OR(Расчет!A2476>=2000,Расчет!B2476>=2000),Расчет!G2476,0)","v":0},{"$f":"IF(AND(Расчет!A2476<2000,Расчет!B2476<2000),Расчет!G2476,0)","v":0},null,null,{"$f":"IF(OR(Расчет!A2476>=2000,Расчет!B2476>=2000),Расчет!J2476,0)","v":0},{"$f":"IF(AND(Расчет!A2476<2000,Расчет!B2476<2000),Расчет!J2476,0)","v":0},null,null,{"$f":"IF(OR(Расчет!A2476>=2000,Расчет!B2476>=2000),Расчет!M2476,0)","v":0},{"$f":"IF(AND(Расчет!A2476<2000,Расчет!B2476<2000),Расчет!M2476,0)","v":0}]
[{"$f":"IF(OR(Расчет!A2477>=2000,Расчет!B2477>=2000),Расчет!G2477,0)","v":0},{"$f":"IF(AND(Расчет!A2477<2000,Расчет!B2477<2000),Расчет!G2477,0)","v":0},null,null,{"$f":"IF(OR(Расчет!A2477>=2000,Расчет!B2477>=2000),Расчет!J2477,0)","v":0},{"$f":"IF(AND(Расчет!A2477<2000,Расчет!B2477<2000),Расчет!J2477,0)","v":0},null,null,{"$f":"IF(OR(Расчет!A2477>=2000,Расчет!B2477>=2000),Расчет!M2477,0)","v":0},{"$f":"IF(AND(Расчет!A2477<2000,Расчет!B2477<2000),Расчет!M2477,0)","v":0}]
[{"$f":"IF(OR(Расчет!A2478>=2000,Расчет!B2478>=2000),Расчет!G2478,0)","v":0},{"$f":"IF(AND(Расчет!A2478<2000,Расчет!B2478<2000),Расчет!G2478,0)","v":0},null,null,{"$f":"IF(OR(Расчет!A2478>=2000,Расчет!B2478>=2000),Расчет!J2478,0)","v":0},{"$f":"IF(AND(Расчет!A2478<2000,Расчет!B2478<2000),Расчет!J2478,0)","v":0},null,null,{"$f":"IF(OR(Расчет!A2478>=2000,Расчет!B2478>=2000),Расчет!M2478,0)","v":0},{"$f":"IF(AND(Расчет!A2478<2000,Расчет!B2478<2000),Расчет!M2478,0)","v":0}]
[{"$f":"IF(OR(Расчет!A2479>=2000,Расчет!B2479>=2000),Расчет!G2479,0)","v":0},{"$f":"IF(AND(Расчет!A2479<2000,Расчет!B2479<2000),Расчет!G2479,0)","v":0},null,null,{"$f":"IF(OR(Расчет!A2479>=2000,Расчет!B2479>=2000),Расчет!J2479,0)","v":0},{"$f":"IF(AND(Расчет!A2479<2000,Расчет!B2479<2000),Расчет!J2479,0)","v":0},null,null,{"$f":"IF(OR(Расчет!A2479>=2000,Расчет!B2479>=2000),Расчет!M2479,0)","v":0},{"$f":"IF(AND(Расчет!A2479<2000,Расчет!B2479<2000),Расчет!M2479,0)","v":0}]
[{"$f":"IF(OR(Расчет!A2480>=2000,Расчет!B2480>=2000),Расчет!G2480,0)","v":0},{"$f":"IF(AND(Расчет!A2480<2000,Расчет!B2480<2000),Расчет!G2480,0)","v":0},null,null,{"$f":"IF(OR(Расчет!A2480>=2000,Расчет!B2480>=2000),Расчет!J2480,0)","v":0},{"$f":"IF(AND(Расчет!A2480<2000,Расчет!B2480<2000),Расчет!J2480,0)","v":0},null,null,{"$f":"IF(OR(Расчет!A2480>=2000,Расчет!B2480>=2000),Расчет!M2480,0)","v":0},{"$f":"IF(AND(Расчет!A2480<2000,Расчет!B2480<2000),Расчет!M2480,0)","v":0}]
[{"$f":"IF(OR(Расчет!A2481>=2000,Расчет!B2481>=2000),Расчет!G2481,0)","v":0},{"$f":"IF(AND(Расчет!A2481<2000,Расчет!B2481<2000),Расчет!G2481,0)","v":0},null,null,{"$f":"IF(OR(Расчет!A2481>=2000,Расчет!B2481>=2000),Расчет!J2481,0)","v":0},{"$f":"IF(AND(Расчет!A2481<2000,Расчет!B2481<2000),Расчет!J2481,0)","v":0},null,null,{"$f":"IF(OR(Расчет!A2481>=2000,Расчет!B2481>=2000),Расчет!M2481,0)","v":0},{"$f":"IF(AND(Расчет!A2481<2000,Расчет!B2481<2000),Расчет!M2481,0)","v":0}]
[{"$f":"IF(OR(Расчет!A2482>=2000,Расчет!B2482>=2000),Расчет!G2482,0)","v":0},{"$f":"IF(AND(Расчет!A2482<2000,Расчет!B2482<2000),Расчет!G2482,0)","v":0},null,null,{"$f":"IF(OR(Расчет!A2482>=2000,Расчет!B2482>=2000),Расчет!J2482,0)","v":0},{"$f":"IF(AND(Расчет!A2482<2000,Расчет!B2482<2000),Расчет!J2482,0)","v":0},null,null,{"$f":"IF(OR(Расчет!A2482>=2000,Расчет!B2482>=2000),Расчет!M2482,0)","v":0},{"$f":"IF(AND(Расчет!A2482<2000,Расчет!B2482<2000),Расчет!M2482,0)","v":0}]
[{"$f":"IF(OR(Расчет!A2483>=2000,Расчет!B2483>=2000),Расчет!G2483,0)","v":0},{"$f":"IF(AND(Расчет!A2483<2000,Расчет!B2483<2000),Расчет!G2483,0)","v":0},null,null,{"$f":"IF(OR(Расчет!A2483>=2000,Расчет!B2483>=2000),Расчет!J2483,0)","v":0},{"$f":"IF(AND(Расчет!A2483<2000,Расчет!B2483<2000),Расчет!J2483,0)","v":0},null,null,{"$f":"IF(OR(Расчет!A2483>=2000,Расчет!B2483>=2000),Расчет!M2483,0)","v":0},{"$f":"IF(AND(Расчет!A2483<2000,Расчет!B2483<2000),Расчет!M2483,0)","v":0}]
[{"$f":"IF(OR(Расчет!A2484>=2000,Расчет!B2484>=2000),Расчет!G2484,0)","v":0},{"$f":"IF(AND(Расчет!A2484<2000,Расчет!B2484<2000),Расчет!G2484,0)","v":0},null,null,{"$f":"IF(OR(Расчет!A2484>=2000,Расчет!B2484>=2000),Расчет!J2484,0)","v":0},{"$f":"IF(AND(Расчет!A2484<2000,Расчет!B2484<2000),Расчет!J2484,0)","v":0},null,null,{"$f":"IF(OR(Расчет!A2484>=2000,Расчет!B2484>=2000),Расчет!M2484,0)","v":0},{"$f":"IF(AND(Расчет!A2484<2000,Расчет!B2484<2000),Расчет!M2484,0)","v":0}]
[{"$f":"IF(OR(Расчет!A2485>=2000,Расчет!B2485>=2000),Расчет!G2485,0)","v":0},{"$f":"IF(AND(Расчет!A2485<2000,Расчет!B2485<2000),Расчет!G2485,0)","v":0},null,null,{"$f":"IF(OR(Расчет!A2485>=2000,Расчет!B2485>=2000),Расчет!J2485,0)","v":0},{"$f":"IF(AND(Расчет!A2485<2000,Расчет!B2485<2000),Расчет!J2485,0)","v":0},null,null,{"$f":"IF(OR(Расчет!A2485>=2000,Расчет!B2485>=2000),Расчет!M2485,0)","v":0},{"$f":"IF(AND(Расчет!A2485<2000,Расчет!B2485<2000),Расчет!M2485,0)","v":0}]
[{"$f":"IF(OR(Расчет!A2486>=2000,Расчет!B2486>=2000),Расчет!G2486,0)","v":0},{"$f":"IF(AND(Расчет!A2486<2000,Расчет!B2486<2000),Расчет!G2486,0)","v":0},null,null,{"$f":"IF(OR(Расчет!A2486>=2000,Расчет!B2486>=2000),Расчет!J2486,0)","v":0},{"$f":"IF(AND(Расчет!A2486<2000,Расчет!B2486<2000),Расчет!J2486,0)","v":0},null,null,{"$f":"IF(OR(Расчет!A2486>=2000,Расчет!B2486>=2000),Расчет!M2486,0)","v":0},{"$f":"IF(AND(Расчет!A2486<2000,Расчет!B2486<2000),Расчет!M2486,0)","v":0}]
[{"$f":"IF(OR(Расчет!A2487>=2000,Расчет!B2487>=2000),Расчет!G2487,0)","v":0},{"$f":"IF(AND(Расчет!A2487<2000,Расчет!B2487<2000),Расчет!G2487,0)","v":0},null,null,{"$f":"IF(OR(Расчет!A2487>=2000,Расчет!B2487>=2000),Расчет!J2487,0)","v":0},{"$f":"IF(AND(Расчет!A2487<2000,Расчет!B2487<2000),Расчет!J2487,0)","v":0},null,null,{"$f":"IF(OR(Расчет!A2487>=2000,Расчет!B2487>=2000),Расчет!M2487,0)","v":0},{"$f":"IF(AND(Расчет!A2487<2000,Расчет!B2487<2000),Расчет!M2487,0)","v":0}]
[{"$f":"IF(OR(Расчет!A2488>=2000,Расчет!B2488>=2000),Расчет!G2488,0)","v":0},{"$f":"IF(AND(Расчет!A2488<2000,Расчет!B2488<2000),Расчет!G2488,0)","v":0},null,null,{"$f":"IF(OR(Расчет!A2488>=2000,Расчет!B2488>=2000),Расчет!J2488,0)","v":0},{"$f":"IF(AND(Расчет!A2488<2000,Расчет!B2488<2000),Расчет!J2488,0)","v":0},null,null,{"$f":"IF(OR(Расчет!A2488>=2000,Расчет!B2488>=2000),Расчет!M2488,0)","v":0},{"$f":"IF(AND(Расчет!A2488<2000,Расчет!B2488<2000),Расчет!M2488,0)","v":0}]
[{"$f":"IF(OR(Расчет!A2489>=2000,Расчет!B2489>=2000),Расчет!G2489,0)","v":0},{"$f":"IF(AND(Расчет!A2489<2000,Расчет!B2489<2000),Расчет!G2489,0)","v":0},null,null,{"$f":"IF(OR(Расчет!A2489>=2000,Расчет!B2489>=2000),Расчет!J2489,0)","v":0},{"$f":"IF(AND(Расчет!A2489<2000,Расчет!B2489<2000),Расчет!J2489,0)","v":0},null,null,{"$f":"IF(OR(Расчет!A2489>=2000,Расчет!B2489>=2000),Расчет!M2489,0)","v":0},{"$f":"IF(AND(Расчет!A2489<2000,Расчет!B2489<2000),Расчет!M2489,0)","v":0}]
[{"$f":"IF(OR(Расчет!A2490>=2000,Расчет!B2490>=2000),Расчет!G2490,0)","v":0},{"$f":"IF(AND(Расчет!A2490<2000,Расчет!B2490<2000),Расчет!G2490,0)","v":0},null,null,{"$f":"IF(OR(Расчет!A2490>=2000,Расчет!B2490>=2000),Расчет!J2490,0)","v":0},{"$f":"IF(AND(Расчет!A2490<2000,Расчет!B2490<2000),Расчет!J2490,0)","v":0},null,null,{"$f":"IF(OR(Расчет!A2490>=2000,Расчет!B2490>=2000),Расчет!M2490,0)","v":0},{"$f":"IF(AND(Расчет!A2490<2000,Расчет!B2490<2000),Расчет!M2490,0)","v":0}]
[{"$f":"IF(OR(Расчет!A2491>=2000,Расчет!B2491>=2000),Расчет!G2491,0)","v":0},{"$f":"IF(AND(Расчет!A2491<2000,Расчет!B2491<2000),Расчет!G2491,0)","v":0},null,null,{"$f":"IF(OR(Расчет!A2491>=2000,Расчет!B2491>=2000),Расчет!J2491,0)","v":0},{"$f":"IF(AND(Расчет!A2491<2000,Расчет!B2491<2000),Расчет!J2491,0)","v":0},null,null,{"$f":"IF(OR(Расчет!A2491>=2000,Расчет!B2491>=2000),Расчет!M2491,0)","v":0},{"$f":"IF(AND(Расчет!A2491<2000,Расчет!B2491<2000),Расчет!M2491,0)","v":0}]
[{"$f":"IF(OR(Расчет!A2492>=2000,Расчет!B2492>=2000),Расчет!G2492,0)","v":0},{"$f":"IF(AND(Расчет!A2492<2000,Расчет!B2492<2000),Расчет!G2492,0)","v":0},null,null,{"$f":"IF(OR(Расчет!A2492>=2000,Расчет!B2492>=2000),Расчет!J2492,0)","v":0},{"$f":"IF(AND(Расчет!A2492<2000,Расчет!B2492<2000),Расчет!J2492,0)","v":0},null,null,{"$f":"IF(OR(Расчет!A2492>=2000,Расчет!B2492>=2000),Расчет!M2492,0)","v":0},{"$f":"IF(AND(Расчет!A2492<2000,Расчет!B2492<2000),Расчет!M2492,0)","v":0}]
[{"$f":"IF(OR(Расчет!A2493>=2000,Расчет!B2493>=2000),Расчет!G2493,0)","v":0},{"$f":"IF(AND(Расчет!A2493<2000,Расчет!B2493<2000),Расчет!G2493,0)","v":0},null,null,{"$f":"IF(OR(Расчет!A2493>=2000,Расчет!B2493>=2000),Расчет!J2493,0)","v":0},{"$f":"IF(AND(Расчет!A2493<2000,Расчет!B2493<2000),Расчет!J2493,0)","v":0},null,null,{"$f":"IF(OR(Расчет!A2493>=2000,Расчет!B2493>=2000),Расчет!M2493,0)","v":0},{"$f":"IF(AND(Расчет!A2493<2000,Расчет!B2493<2000),Расчет!M2493,0)","v":0}]
[{"$f":"IF(OR(Расчет!A2494>=2000,Расчет!B2494>=2000),Расчет!G2494,0)","v":0},{"$f":"IF(AND(Расчет!A2494<2000,Расчет!B2494<2000),Расчет!G2494,0)","v":0},null,null,{"$f":"IF(OR(Расчет!A2494>=2000,Расчет!B2494>=2000),Расчет!J2494,0)","v":0},{"$f":"IF(AND(Расчет!A2494<2000,Расчет!B2494<2000),Расчет!J2494,0)","v":0},null,null,{"$f":"IF(OR(Расчет!A2494>=2000,Расчет!B2494>=2000),Расчет!M2494,0)","v":0},{"$f":"IF(AND(Расчет!A2494<2000,Расчет!B2494<2000),Расчет!M2494,0)","v":0}]
[{"$f":"IF(OR(Расчет!A2495>=2000,Расчет!B2495>=2000),Расчет!G2495,0)","v":0},{"$f":"IF(AND(Расчет!A2495<2000,Расчет!B2495<2000),Расчет!G2495,0)","v":0},null,null,{"$f":"IF(OR(Расчет!A2495>=2000,Расчет!B2495>=2000),Расчет!J2495,0)","v":0},{"$f":"IF(AND(Расчет!A2495<2000,Расчет!B2495<2000),Расчет!J2495,0)","v":0},null,null,{"$f":"IF(OR(Расчет!A2495>=2000,Расчет!B2495>=2000),Расчет!M2495,0)","v":0},{"$f":"IF(AND(Расчет!A2495<2000,Расчет!B2495<2000),Расчет!M2495,0)","v":0}]
[{"$f":"IF(OR(Расчет!A2496>=2000,Расчет!B2496>=2000),Расчет!G2496,0)","v":0},{"$f":"IF(AND(Расчет!A2496<2000,Расчет!B2496<2000),Расчет!G2496,0)","v":0},null,null,{"$f":"IF(OR(Расчет!A2496>=2000,Расчет!B2496>=2000),Расчет!J2496,0)","v":0},{"$f":"IF(AND(Расчет!A2496<2000,Расчет!B2496<2000),Расчет!J2496,0)","v":0},null,null,{"$f":"IF(OR(Расчет!A2496>=2000,Расчет!B2496>=2000),Расчет!M2496,0)","v":0},{"$f":"IF(AND(Расчет!A2496<2000,Расчет!B2496<2000),Расчет!M2496,0)","v":0}]